{"text_format":"1","workbook":"xlsx","n_sheets":172,"sheets":["AgreementSummary","Agreement","AsmntOrg","AsmntRel","AsmntTeam","BidFactorCost","BidFactorEvent","BreakEven","Diag_ProjectID","EOQ","EPQ","EquipmentTOC","ExtendedTerms","FinancialData","IntlPurchTOC","Leverage","PeqFdivQPlusV","PaymentDiscount","PPCalculator","PPMacro","PPMicro","Profitability","RangeQtyBrks","SavingWork","Solvency","SourcingSavingsBy","ExperienceCurve","SpecificQtyBrks","SPI","StanfordB","TheoreticalMinCp","TheoreticalMinUWR","TheoreticalMinWt","TheoreticalMinRebar","ThruPut","ValueIndices","ValueProductivity","EnergyCosts","Z-Scores","MenuItems","Pop_AccountsPayableToSales","Pop_Act_AsmntOrg","Pop_Act_AsmntRel","Pop_Act_AsmntTeam","Pop_Act_BidFactorCost","Pop_Act_BidFactorEvent","Pop_Act_Break Even","Pop_Act_EOQ","Pop_Act_EPQ","Pop_Act_EquipmentTOC","Pop_Act_ExperienceCurve","Pop_Act_FinancialData","Pop_Act_IntlPurchTOC","Pop_Act_LearnCurve","Pop_Act_LearningCurve","Pop_Act_Leverage","Pop_Act_PeqFdivQPlusV","Pop_Act_PaymentDiscount","Pop_Act_PPCalculator","Pop_Act_PPMacro","Pop_Act_PPMicro","Pop_Act_Profitability","Pop_Act_RangeQtyBrks","Pop_Act_SDS_InfoColor","Pop_Act_Solvency","Pop_Act_SourcingSavingsBy","Pop_Act_SpecificQtyBrks","Pop_Act_SPI","Pop_Act_StanfordB","Pop_Act_TheoreticalMinWt","Pop_Act_ThruPut","Pop_Act_ValueIndices","Pop_Act_ValueProductivity","Pop_Act_Z-Scores","Pop_AsmntOrg","Pop_AsmntRel","Pop_AsmntTeam","Pop_AssetsToSales","Pop_BidFactorCost","Pop_BidFactorEvent","Pop_Act_BreakEven","Pop_BreakEven","Pop_CollectionPeriod","Pop_CurrentDebtToEquity","Pop_CurrentLiabilitiesToINV","Pop_CurrentLiabilitiesToNW","Pop_CurrentRatio","Pop_DaysSalesOut","Pop_DebtService","Pop_DebtToEquity","Pop_EOQ","POP_EPQ","Pop_EquipmentToc","Pop_ExperienceCurve","Pop_ExtendedTerms","Pop_TheoreticalMinUWR","Pop_Act_TheoreticalMinUWR","Pop_TheoreticalMinCp","Pop_Act_TheoreticalMinCp","Pop_FinancialData","Pop_FixedAssetsToNW","Pop_InterestCoverage","Pop_IntlPurchTOC","Pop_InventoryTurnover","Pop_LearnCurve","Pop_LearningCurve","Pop_Leverage","Pop_PeqFdivQPlusV","Pop_PaymentDiscount","Pop_PPCalculator","Pop_PPMacro","Pop_PPMicro","Pop_Profitability","Pop_QuickRatio","Pop_RangeQtyBrks","Pop_ReturnOnEquity","Pop_ReturnOnInvestedCapital","Pop_ReturnOnInvestment","Pop_ReturnOnSales","Pop_SalesToInventory","Pop_SalesToNetWC","SDS_InfoColor","Pop_SDS_InfoColor","Pop_Solvency","Pop_SourcingSavingsBy","Pop_SpecificQtyBrks","Pop_SPI","Pop_StanfordB","Pop_TheoreticalMinWt","Pop_ThruPut","Pop_TotalLiabilitiesToNW","Pop_ValueIndices","Pop_ValueProductivity","Pop_X1","Pop_X2","Pop_X3","Pop_Act_ExtendedTerms","Pop_X4","Pop_X5","Pop_Z-Scores","Pop_Z_Score_Private","Pop_EnergyCosts","Pop_Act_EnergyCosts","Pop_Z_Score_Public","LearnCurve","LearningCurve","MenuSheet","SheetProperties","TransferInfo","HelpSteps","NAICS","2007 Econ Census Data","2008-2009 Econ Census Data","2009-2010 Econ Census Data","2010-2011 Econ Census Data","2012 Econ Census Data","2013 Econ Census Data","2014 Econ Census Data","2015 Econ Census Data","2016 Econ Census Data","2017 Econ Census Data","2018 Econ Census Data","2019 Econ Census Data","2020 Econ Census Data","NAICScostComparisons","Pop_Act_TheoreticalMinRebar","Pop_TheoreticalMinRebar","Pop_NAICScostComparisons","Pop_ACT_NAICScostComparisons","EnergyCostComparisons","Pop_EnergyCostComparisons","Pop_Act_EnergyCostComparisons"],"not_rendered":{"charts":17,"images":38,"macros":1,"external_links":3,"defined_names":148,"comments":42,"pivot_tables":0},"unopened":[{"sheet":"Diag_ProjectID","index":8,"reason":"not_a_worksheet"},{"sheet":"Pop_AccountsPayableToSales","index":40,"reason":"not_a_worksheet"},{"sheet":"Pop_Act_AsmntOrg","index":41,"reason":"not_a_worksheet"},{"sheet":"Pop_Act_AsmntRel","index":42,"reason":"not_a_worksheet"},{"sheet":"Pop_Act_AsmntTeam","index":43,"reason":"not_a_worksheet"},{"sheet":"Pop_Act_BidFactorCost","index":44,"reason":"not_a_worksheet"},{"sheet":"Pop_Act_BidFactorEvent","index":45,"reason":"not_a_worksheet"},{"sheet":"Pop_Act_Break Even","index":46,"reason":"not_a_worksheet"},{"sheet":"Pop_Act_EOQ","index":47,"reason":"not_a_worksheet"},{"sheet":"Pop_Act_EPQ","index":48,"reason":"not_a_worksheet"},{"sheet":"Pop_Act_EquipmentTOC","index":49,"reason":"not_a_worksheet"},{"sheet":"Pop_Act_ExperienceCurve","index":50,"reason":"not_a_worksheet"},{"sheet":"Pop_Act_FinancialData","index":51,"reason":"not_a_worksheet"},{"sheet":"Pop_Act_IntlPurchTOC","index":52,"reason":"not_a_worksheet"},{"sheet":"Pop_Act_LearnCurve","index":53,"reason":"not_a_worksheet"},{"sheet":"Pop_Act_LearningCurve","index":54,"reason":"not_a_worksheet"},{"sheet":"Pop_Act_Leverage","index":55,"reason":"not_a_worksheet"},{"sheet":"Pop_Act_PeqFdivQPlusV","index":56,"reason":"not_a_worksheet"},{"sheet":"Pop_Act_PaymentDiscount","index":57,"reason":"not_a_worksheet"},{"sheet":"Pop_Act_PPCalculator","index":58,"reason":"not_a_worksheet"},{"sheet":"Pop_Act_PPMacro","index":59,"reason":"not_a_worksheet"},{"sheet":"Pop_Act_PPMicro","index":60,"reason":"not_a_worksheet"},{"sheet":"Pop_Act_Profitability","index":61,"reason":"not_a_worksheet"},{"sheet":"Pop_Act_RangeQtyBrks","index":62,"reason":"not_a_worksheet"},{"sheet":"Pop_Act_SDS_InfoColor","index":63,"reason":"not_a_worksheet"},{"sheet":"Pop_Act_Solvency","index":64,"reason":"not_a_worksheet"},{"sheet":"Pop_Act_SourcingSavingsBy","index":65,"reason":"not_a_worksheet"},{"sheet":"Pop_Act_SpecificQtyBrks","index":66,"reason":"not_a_worksheet"},{"sheet":"Pop_Act_SPI","index":67,"reason":"not_a_worksheet"},{"sheet":"Pop_Act_StanfordB","index":68,"reason":"not_a_worksheet"},{"sheet":"Pop_Act_TheoreticalMinWt","index":69,"reason":"not_a_worksheet"},{"sheet":"Pop_Act_ThruPut","index":70,"reason":"not_a_worksheet"},{"sheet":"Pop_Act_ValueIndices","index":71,"reason":"not_a_worksheet"},{"sheet":"Pop_Act_ValueProductivity","index":72,"reason":"not_a_worksheet"},{"sheet":"Pop_Act_Z-Scores","index":73,"reason":"not_a_worksheet"},{"sheet":"Pop_AsmntOrg","index":74,"reason":"not_a_worksheet"},{"sheet":"Pop_AsmntRel","index":75,"reason":"not_a_worksheet"},{"sheet":"Pop_AsmntTeam","index":76,"reason":"not_a_worksheet"},{"sheet":"Pop_AssetsToSales","index":77,"reason":"not_a_worksheet"},{"sheet":"Pop_BidFactorCost","index":78,"reason":"not_a_worksheet"},{"sheet":"Pop_BidFactorEvent","index":79,"reason":"not_a_worksheet"},{"sheet":"Pop_Act_BreakEven","index":80,"reason":"not_a_worksheet"},{"sheet":"Pop_BreakEven","index":81,"reason":"not_a_worksheet"},{"sheet":"Pop_CollectionPeriod","index":82,"reason":"not_a_worksheet"},{"sheet":"Pop_CurrentDebtToEquity","index":83,"reason":"not_a_worksheet"},{"sheet":"Pop_CurrentLiabilitiesToINV","index":84,"reason":"not_a_worksheet"},{"sheet":"Pop_CurrentLiabilitiesToNW","index":85,"reason":"not_a_worksheet"},{"sheet":"Pop_CurrentRatio","index":86,"reason":"not_a_worksheet"},{"sheet":"Pop_DaysSalesOut","index":87,"reason":"not_a_worksheet"},{"sheet":"Pop_DebtService","index":88,"reason":"not_a_worksheet"},{"sheet":"Pop_DebtToEquity","index":89,"reason":"not_a_worksheet"},{"sheet":"Pop_EOQ","index":90,"reason":"not_a_worksheet"},{"sheet":"POP_EPQ","index":91,"reason":"not_a_worksheet"},{"sheet":"Pop_EquipmentToc","index":92,"reason":"not_a_worksheet"},{"sheet":"Pop_ExperienceCurve","index":93,"reason":"not_a_worksheet"},{"sheet":"Pop_ExtendedTerms","index":94,"reason":"not_a_worksheet"},{"sheet":"Pop_TheoreticalMinUWR","index":95,"reason":"not_a_worksheet"},{"sheet":"Pop_Act_TheoreticalMinUWR","index":96,"reason":"not_a_worksheet"},{"sheet":"Pop_TheoreticalMinCp","index":97,"reason":"not_a_worksheet"},{"sheet":"Pop_Act_TheoreticalMinCp","index":98,"reason":"not_a_worksheet"},{"sheet":"Pop_FinancialData","index":99,"reason":"not_a_worksheet"},{"sheet":"Pop_FixedAssetsToNW","index":100,"reason":"not_a_worksheet"},{"sheet":"Pop_InterestCoverage","index":101,"reason":"not_a_worksheet"},{"sheet":"Pop_IntlPurchTOC","index":102,"reason":"not_a_worksheet"},{"sheet":"Pop_InventoryTurnover","index":103,"reason":"not_a_worksheet"},{"sheet":"Pop_LearnCurve","index":104,"reason":"not_a_worksheet"},{"sheet":"Pop_LearningCurve","index":105,"reason":"not_a_worksheet"},{"sheet":"Pop_Leverage","index":106,"reason":"not_a_worksheet"},{"sheet":"Pop_PeqFdivQPlusV","index":107,"reason":"not_a_worksheet"},{"sheet":"Pop_PaymentDiscount","index":108,"reason":"not_a_worksheet"},{"sheet":"Pop_PPCalculator","index":109,"reason":"not_a_worksheet"},{"sheet":"Pop_PPMacro","index":110,"reason":"not_a_worksheet"},{"sheet":"Pop_PPMicro","index":111,"reason":"not_a_worksheet"},{"sheet":"Pop_Profitability","index":112,"reason":"not_a_worksheet"},{"sheet":"Pop_QuickRatio","index":113,"reason":"not_a_worksheet"},{"sheet":"Pop_RangeQtyBrks","index":114,"reason":"not_a_worksheet"},{"sheet":"Pop_ReturnOnEquity","index":115,"reason":"not_a_worksheet"},{"sheet":"Pop_ReturnOnInvestedCapital","index":116,"reason":"not_a_worksheet"},{"sheet":"Pop_ReturnOnInvestment","index":117,"reason":"not_a_worksheet"},{"sheet":"Pop_ReturnOnSales","index":118,"reason":"not_a_worksheet"},{"sheet":"Pop_SalesToInventory","index":119,"reason":"not_a_worksheet"},{"sheet":"Pop_SalesToNetWC","index":120,"reason":"not_a_worksheet"},{"sheet":"Pop_SDS_InfoColor","index":122,"reason":"not_a_worksheet"},{"sheet":"Pop_Solvency","index":123,"reason":"not_a_worksheet"},{"sheet":"Pop_SourcingSavingsBy","index":124,"reason":"not_a_worksheet"},{"sheet":"Pop_SpecificQtyBrks","index":125,"reason":"not_a_worksheet"},{"sheet":"Pop_SPI","index":126,"reason":"not_a_worksheet"},{"sheet":"Pop_StanfordB","index":127,"reason":"not_a_worksheet"},{"sheet":"Pop_TheoreticalMinWt","index":128,"reason":"not_a_worksheet"},{"sheet":"Pop_ThruPut","index":129,"reason":"not_a_worksheet"},{"sheet":"Pop_TotalLiabilitiesToNW","index":130,"reason":"not_a_worksheet"},{"sheet":"Pop_ValueIndices","index":131,"reason":"not_a_worksheet"},{"sheet":"Pop_ValueProductivity","index":132,"reason":"not_a_worksheet"},{"sheet":"Pop_X1","index":133,"reason":"not_a_worksheet"},{"sheet":"Pop_X2","index":134,"reason":"not_a_worksheet"},{"sheet":"Pop_X3","index":135,"reason":"not_a_worksheet"},{"sheet":"Pop_Act_ExtendedTerms","index":136,"reason":"not_a_worksheet"},{"sheet":"Pop_X4","index":137,"reason":"not_a_worksheet"},{"sheet":"Pop_X5","index":138,"reason":"not_a_worksheet"},{"sheet":"Pop_Z-Scores","index":139,"reason":"not_a_worksheet"},{"sheet":"Pop_Z_Score_Private","index":140,"reason":"not_a_worksheet"},{"sheet":"Pop_EnergyCosts","index":141,"reason":"not_a_worksheet"},{"sheet":"Pop_Act_EnergyCosts","index":142,"reason":"not_a_worksheet"},{"sheet":"Pop_Z_Score_Public","index":143,"reason":"not_a_worksheet"},{"sheet":"Pop_Act_TheoreticalMinRebar","index":165,"reason":"not_a_worksheet"},{"sheet":"Pop_TheoreticalMinRebar","index":166,"reason":"not_a_worksheet"},{"sheet":"Pop_NAICScostComparisons","index":167,"reason":"not_a_worksheet"},{"sheet":"Pop_ACT_NAICScostComparisons","index":168,"reason":"not_a_worksheet"},{"sheet":"Pop_EnergyCostComparisons","index":170,"reason":"not_a_worksheet"},{"sheet":"Pop_Act_EnergyCostComparisons","index":171,"reason":"not_a_worksheet"}],"bounds":{"document_bytes":16777216,"sheet_cells":100000,"rows_first":2000,"rows_last":500,"rows_between":2000,"halvings":0,"cell_chars":16384,"cell_head_chars":4096},"cells_cut":0,"cells_raw":0,"read":"whole","date_system":"1900"}

{"sheet":"AgreementSummary","index":0,"n_rows":5,"n_cols":1,"rows_kept":5,"cut":false,"hidden":false,"merged":[]}
["2022-02-15"]
[1]
[0]
[]
["AnalyticalSourcingApps Engine Ver16 06/06/2022"]

{"sheet":"Agreement","index":1,"n_rows":5,"n_cols":1,"rows_kept":5,"cut":false,"hidden":false,"merged":[]}
[]
[]
[]
[]
["2002-05-15"]

{"sheet":"AsmntOrg","index":2,"n_rows":37,"n_cols":11,"rows_kept":37,"cut":false,"hidden":false,"merged":[]}
[]
[]
["Enter Name of Organization being Assessed"]
[null,null,"Rigid Behavior",1,2,3,4,5,6,7,"Flexible Behavior"]
[1,null,"People see outcomes in terms of the actions of others (helplessness)","C",null,null,null,null,null,"D","People see outcomes in terms of their actions (cause and effect)"]
[2,null,"All tasks are done perfectly/the best way",null,"C",null,null,"D",null,null,"Admits to not doing things perfectly"]
[3,null,"Rejects advice",null,null,"C",null,null,null,"D","Asks for assistance"]
[4,null,"Defends current practices","C",null,null,null,null,"D",null,"Questions current practices"]
[5,null,"Everything is under control ",null,null,"C",null,null,"D",null,"Acknowledges not all tasks are under control or controllable"]
[6,null,"Our business is unique, and new concepts don't fit","C",null,null,null,"D",null,null,"Adapts new concepts to internal problems or tasks"]
[7,null,"Concerned only with self","C",null,null,null,null,"D",null,"Concern for others"]
[8,null,"Uses value-judging language (should, ought, must)",null,"C",null,null,null,"D",null,"Uses affirming language (appreciate, understand)"]
[9,null,"Always has or knows the answer ",null,null,"C",null,null,"D",null,"Is curious- okay to ask \"Why?\""]
[10,null," Risks are not to be taken",null,null,"C",null,null,"D",null,"Supportive environment"]
[11,null,"Tense silence",null,null,"C",null,null,null,"D","Highly participative"]
[null,null,null,1,2,3,4,5,6,7]
[12,null,"Only able to function with precise instructions",null,null,"C",null,null,"D",null,"Deals well with uncertainty"]
[13,null,"Scripted reactions",null,null,"C",null,null,"D",null,"Spontaneous responses"]
[14,null,"Everything is done by the book",null,null,"C",null,null,"D",null,"Finds creative ways to solve problems"]
[15,null,"Failure is unacceptable (feelings are repressed  or acted out) ","C",null,null,null,null,null,"D","Accepts failures as a normal consequence of  business activity (feel sad/depressed when failure occurs, but processes feelings)"]
[16,null,"Feelings are expressed through acting them out (including silent rage)","C",null,null,null,null,null,"D","Feelings are expressed by talking  about them "]
[17,null,"Problems are secrets not to be shared","C",null,null,null,null,null,"D","Problems are shared openly across functions"]
[18,null,"People are not equal","C",null,null,null,null,null,"D","People are viewed as equals"]
[19,null,"Failure is to be avoided at all costs","C",null,null,null,null,null,"D","Failure is a stepping stone to success"]
[20,null,"Information is used as currency","C",null,null,null,null,null,"D","Information is shared openly and moves through the organization quickly"]
[21,null,"Questions are threatening","C",null,null,null,null,null,"D","Not threatened by questions"]
[22,null,"Praise is generally followed by a \"request\" or threat; i.e., \"you were lucky this time\"",null,null,"C",null,null,null,"D","Praise is accepted and is a cause for celebration"]
[23,null,"Change is agreed to reluctantly and threats are used to manage risk (failure is always the responsibility of the employee)",null,null,"C",null,null,null,"D","Change is encouraged and negative consequences are managed via risk management techniques"]
[null,null,null,1,2,3,4,5,6,7]
["Current Behavior Score=",null,null,null,null,null,"Desired Behavior Score="]
[]
[null,null,null,null,null,"Scoring"]
[null,null,null,"Grand Total",null,null,null,null,null,"Organization Type"]
[null,null,null,"<47",null,null,null,null,null,null,"Rigid (Learned)"]
[null,null,null,"47-81",null,null,null,null,null,null,"Borderline Rigid"]
[null,null,null,"82-133",null,null,null,null,null,null,"Borderline Flexible"]
[null,null,null,">133",null,null,null,null,null,null,"Flexible (Learning)"]

{"sheet":"AsmntRel","index":3,"n_rows":31,"n_cols":11,"rows_kept":31,"cut":false,"hidden":false,"merged":[]}
[]
[]
["Enter Name of Organization Being Assessed"]
[null,null,"Inward Looking Behaviors",1,2,3,4,5,6,7,"Outward Looking Behaviors"]
[1,null,"Focus on current transaction","C",null,null,null,"D",null,null,"Focus on future business"]
[2,null,"Buyer/Seller is expendable",null,null,null,null,"D",null,null,"Buyer/Seller is key part of business"]
[3,null,"Buyer/Seller assumes no risk",null,null,null,null,"C","D",null,"Buyer/Seller shares in the business risk"]
[4,null,"Few face-to-face communications",null,null,"C",null,null,"D",null,"Frequent face-to-face communication"]
[5,null,"No executive interaction",null,null,null,"C",null,"D",null,"Frequent executive interaction"]
[6,null,"Single-point communication",null,null,null,"C",null,"D",null,"Multiple-point communication"]
[7,null,"Do not share forecast usage",null,"C",null,null,null,"D",null,"Share forecast for parts and demand"]
[8,null,"No direct computer-to-computer links",null,null,"C",null,null,"D",null,"Direct computer to computer links"]
[9,null,"Long-term relationship established day by day",null,null,null,"C",null,"D",null,"Long-term relationship is a vision both parties are working towards"]
[10,null,"Little exchange of technical information",null,null,null,null,"C","D",null,"High exchange of technical information"]
[11,null," No joint committees ",null,null,null,"C","D",null,null,"Joint committees on key issues"]
[12,null,"Deal with exceptions by legal mechanisms",null,null,null,null,"C","D",null,"Deal with exceptions by negotiation"]
[13,null,"Detect errors through verification",null,null,null,"C",null,"D",null,"Joint monitoring of processes to prevent errors"]
[14,null,"Agreements have termination dates",null,null,null,"C",null,"D",null,"Agreements are ongoing (evergreen)"]
[15,null,"Low willingness to assist Buyer/Seller in difficult situations",null,null,null,"C",null,"D",null,"High willingness to assist Buyer/Seller in difficult situations"]
[16,null,"Buyer/Seller does not understand application of their product",null,null,null,"C",null,"D",null,"Buyer/Seller understands the application of their product"]
[17,null,"We do not study Buyer/Seller's process",null,null,null,"C",null,"D",null,"We study the Buyer/Seller's process"]
[18,null,"Buyer/Seller is satisfied with their current performance",null,null,null,null,null,null,"S","Buyer/Seller is continuously improving their process"]
[19,null,"The decision to Buyer/Seller was made on the basis of price",null,null,null,null,null,"D",null,"The decision to Buyer/Seller was made on the basis of total value"]
[null,null,null,1,2,3,4,5,6,7]
["Current Behavior Score=",null,null,null,null,null,"Desired Behavior Score="]
[null,null,null,null,null,"Scoring"]
[null,null,null,"Grand Total",null,null,null,null,null,"Organization Type"]
[null,null,null,"<47",null,null,null,null,null,null,"Antagonistic"]
[null,null,null,"47-95",null,null,null,null,null,null,"Adversarial"]
[null,null,null,"96-114",null,null,null,null,null,null,"Cooperative"]
[null,null,null,">114",null,null,null,null,null,null,"Creative"]

{"sheet":"AsmntTeam","index":4,"n_rows":90,"n_cols":13,"rows_kept":90,"cut":false,"hidden":false,"merged":[]}
[]
[]
["Enter Team Description"]
["Maxim 1: Taskwork and teamwork are separate."]
["Observations:"]
[null,"Taskwork is work done by individuals (i.e., autonomously)"]
[null,"Teamwork is work done interactively (i.e. interdependently)"]
["Estimate of team's conformance with the stated maxim:"]
[null,null,0,0.1,0.2,0.3,0.4,0.5,0.6,0.7,0.8,0.9,1]
[null,null,0,1,2,3,4,5,6,7,8,9,10]
[null,null,null,null,null,null,null,null,"X"]
["Maxim 2: Team members observe each other's work."]
["Observations:"]
[null,"Members trust one another"]
[null,"The feeling is we are here to maximize the performance of the team"]
["Estimate of team's conformance with the stated maxim:"]
[null,null,0,0.1,0.2,0.3,0.4,0.5,0.6,0.7,0.8,0.9,1]
[null,null,0,1,2,3,4,5,6,7,8,9,10]
[null,null,null,null,null,null,null,null,null,"X"]
["Maxim 3: Team members provide and accept input from each other."]
["Observations:"]
[null,"Members feel free to provide feedback"]
[null,"Organizational heirarchies do not stand in the way of providing feedback"]
[null,"Members share their strengths and weaknesses"]
[null,"Team leaders demonstrate receptivity to constructive feedback"]
["Estimate of team's conformance with the stated maxim:"]
[null,null,0,0.1,0.2,0.3,0.4,0.5,0.6,0.7,0.8,0.9,1]
[null,null,0,1,2,3,4,5,6,7,8,9,10]
[null,null,null,null,null,null,"X"]
["Maxim 4: Team members' use closed-loop communication to ensure effective communication."]
["Observations:"]
[null,"Closed-loop communication is a message where the sender initiates a message;"]
[null,"the receiver receives the message and acknowledges its receipt; the sender checks"]
[null,"again to ensure that the message that was sent is the message that was received."]
["Estimate of team's conformance with the stated maxim:"]
[null,null,0,0.1,0.2,0.3,0.4,0.5,0.6,0.7,0.8,0.9,1]
[null,null,0,1,2,3,4,5,6,7,8,9,10]
[null,null,null,null,null,null,"X"]
["Maxim 5: Team members provide back-up to each other during task."]
["Observations:"]
[null,"Members jump in and help when needed and accept assistance when offered"]
[null,"Members know the technical tasks of their position and those of other team members"]
["Estimate of team's conformance with the stated maxim:"]
[null,null,0,0.1,0.2,0.3,0.4,0.5,0.6,0.7,0.8,0.9,1]
[null,null,0,1,2,3,4,5,6,7,8,9,10]
[null,null,null,null,null,null,null,null,null,null,"X"]
["Maxim 6: Team members view the \"team\" as an integrated whole."]
["Observations:"]
[null,"Team members share the attitude that they are a team"]
[null,"People on effective teams see themselves as team members first"]
["Estimate of team's conformance with the stated maxim:"]
[null,null,0,0.1,0.2,0.3,0.4,0.5,0.6,0.7,0.8,0.9,1]
[null,null,0,1,2,3,4,5,6,7,8,9,10]
[null,null,null,null,null,null,null,null,"X"]
["Maxim 7: Team members nurture mutual dependence."]
["Observations:"]
[null,"Team members view mutual dependence as a strength"]
[null,"Team members see that their success depends on the success of other team members"]
["Estimate of team's conformance with the stated maxim:"]
[null,null,0,0.1,0.2,0.3,0.4,0.5,0.6,0.7,0.8,0.9,1]
[null,null,0,1,2,3,4,5,6,7,8,9,10]
[null,null,null,null,null,null,null,null,null,null,"X"]
["Maxim 8: A team members' behavior is a function of circumstances."]
["Observations:"]
[null,"Effective teams do not engage in ritualistic behavior (behavior as a practiced rite i.e., ceremonial)"]
[null,"As circumstances dictate members engage in autocratic or democratic behavior"]
[null,"Real teams demonstrate a balance between behaviors that nurture the team cohesiveness and "]
[null,"behaviors that assist in completing the team's objectives"]
["Estimate of team's conformance with the stated maxim:"]
[null,null,0,0.1,0.2,0.3,0.4,0.5,0.6,0.7,0.8,0.9,1]
[null,null,0,1,2,3,4,5,6,7,8,9,10]
[null,null,null,null,null,null,null,"X"]
["Maxim 9: Teams change over time."]
["Observations:"]
[null,"No change in the way a team behaves implies that they are stuck in their development process."]
[null,"Team development stages are:"]
[null,"(1) Individuals ask \"Why am I here?\" and \"What am I supposed to do?\"- (storming)"]
[null,"(2) Members' start communicating (members check with each other and ask questions) - (norming)"]
[null,"(3) Teams exhibit greater coordination in all of their activities - (performing)"]
["Estimate of team's conformance with the stated maxim:"]
[null,null,0,0.1,0.2,0.3,0.4,0.5,0.6,0.7,0.8,0.9,1]
[null,null,0,1,2,3,4,5,6,7,8,9,10]
[null,null,null,null,null,null,null,null,"X"]
[]
[null,null,null,"Team assessment scoring"]
[null,null,null,54,"is this team's score"]
[]
[null,null,"<=",45,"Pseudo Team or Dysfunctional Team (if long standing)"]
[null,null,"46 -",70,"Effective Team"]
[null,null,">=",71,"High Performance Team"]

{"sheet":"BidFactorCost","index":5,"n_rows":21,"n_cols":4,"rows_kept":21,"cut":false,"hidden":false,"merged":[]}
[]
[]
["Supplier Number","#1","#2","# 3"]
["Quoted Price New Item",6.38,6.9,7.1]
["Real Cost of New Item (see below)",{"$f":"B21","v":7.0218280000000002},{"$f":"C21","v":7.4056550000000003},{"$f":"D21","v":7.328383333333333}]
["12 Month History"]
["Dollar Volume",250000,300000,300000]
["Additional Costs"]
["Price Increases",1100,900,200]
["Additional Inspection",500,375,125]
["Scrap, Rework, Rejections",0,0,0]
["Delivery (early/late)",100,500,75]
["Engineering Development Charges",5000,3250,1250]
["Tooling Expenses",9950,6980,5500]
["Expediting Costs",0,0,0]
["Billed Overtime",8500,9980,2500]
["Other",0,0,0]
["Total Additional Costs",{"$f":"SUM(B9:B17)","v":25150},{"$f":"SUM(C9:C17)","v":21985},{"$f":"SUM(D9:D17)","v":9650}]
["Total Cost Including Purchases",{"$f":"B7+B18","v":275150},{"$f":"C7+C18","v":321985},{"$f":"D7+D18","v":309650}]
["Bid Factor to Apply to\n Future Quotations",{"$f":"IF(B7>0,B19/B7,\"NA\")","v":1.1006},{"$f":"IF(C7>0,C19/C7,\"NA\")","v":1.0732833333333334},{"$f":"IF(D7>0,D19/D7,\"NA\")","v":1.0321666666666667}]
["Real Cost of New Item",{"$f":"B4*B20","v":7.0218280000000002},{"$f":"C4*C20","v":7.4056550000000003},{"$f":"D4*D20","v":7.328383333333333}]

{"sheet":"BidFactorEvent","index":6,"n_rows":12,"n_cols":6,"rows_kept":12,"cut":false,"hidden":false,"merged":[]}
[]
[]
[null,null,null,"Supplier"]
["Performance Measurments",null," $ per event","#1","#2","# 3"]
["Quality","Rejections",1000,2,5,7]
["Delivery","Early",100,15,10,12]
[null,"Late",500,24,12,8]
["Quantity","Under",500,25,36,24]
[null,"Over",100,15,35,12]
["            Total Non-Productive Costs",null,null,{"$f":"$C$5*D5+$C$6*D6+$C$7*D7+$C$8*D8+$C$9*D9","v":29500},{"$f":"$C$5*E5+$C$6*E6+$C$7*E7+$C$8*E8+$C$9*E9","v":33500},{"$f":"$C$5*F5+$C$6*F6+$C$7*F7+$C$8*F8+$C$9*F9","v":25400}]
["          Purchases from this supplier",null,null,150000,150000,150000]
["            Bid Factor for this Supplier",null,null,{"$f":"IF(D11>0,(1+ D10/D11),\"N.A.\")","v":1.1966666666666668},{"$f":"IF(E11>0,(1+ E10/E11),\"N.A.\")","v":1.2233333333333334},{"$f":"IF(F11>0,(1+ F10/F11),\"N.A.\")","v":1.1693333333333333}]

{"sheet":"BreakEven","index":7,"n_rows":32,"n_cols":6,"rows_kept":32,"cut":false,"hidden":false,"merged":[]}
[]
[]
["Trial Shown in Graph"]
["Units",50,100,150,200,250]
["Unit Selling Price",8,7,6.8,6.7,6.64]
["Unit Variable Cost Less Profit",5.87,5.87,5.87,5.87,5.87]
["Total Fixed Cost ",60,60,60,60,60]
["Unit Sales for Break-Even",{"$f":"IF((B5-B6)>0,CEILING(B7/(B5-B6),1),\"Not Logical\")","v":29},{"$f":"IF((C5-C6)>0,CEILING(C7/(C5-C6),1),\"Not Logical\")","v":54},{"$f":"IF((D5-D6)>0,CEILING(D7/(D5-D6),1),\"Not Logical\")","v":65},{"$f":"IF((E5-E6)>0,CEILING(E7/(E5-E6),1),\"Not Logical\")","v":73},{"$f":"IF((F5-F6)>0,CEILING(F7/(F5-F6),1),\"Not Logical\")","v":78}]
["Dollar Sales for Break-Even",{"$f":"IF(B8=\"Not Logical\",B8,B5*B8)","v":232},{"$f":"IF(C8=\"Not Logical\",C8,C5*C8)","v":378},{"$f":"IF(D8=\"Not Logical\",D8,D5*D8)","v":442},{"$f":"IF(E8=\"Not Logical\",E8,E5*E8)","v":489.1},{"$f":"IF(F8=\"Not Logical\",F8,F5*F8)","v":517.91999999999996}]
[]
[]
[]
[]
[]
[]
[]
[]
[]
[]
[]
[]
[]
[]
[]
[]
[]
[]
[null,"Graph Creation Information"]
["Units","Fixed Costs","Total Costs","Sales"]
[0,60,60,0]
[65,60,441.55,442]
[130,60,823.1,884]

{"sheet":"EOQ","index":9,"n_rows":125,"n_cols":96,"rows_kept":125,"cut":false,"hidden":false,"merged":[[13,0,13,5],[11,0,12,0]]}
[]
[]
["Trial #",1,2,3,4,5]
["Annual usage in Units",1000,1000,1000,1000,1000]
["Order Costs",50,50,50,50,50]
["Unit Costs",8,7,6.8,6.7,6.64]
["Order Quantity*","50","100","150","200","250"]
["Carrying Cost as % of Inventory",20,20,20,20,20]
["EOQ",{"$f":"IF(B6*B8>0,ROUNDUP((SQRT((2*B4*B5)/(B6*B8/100))),0),\"Not Logical\")","v":250},268,272,274,275]
["Total Annual Cost **",9040,7570,7252,7084,7006]
["Minimum Order Quantity",50,100,150,200,250]
["* May be a range,e.g.  75-125","EOQ not =","EOQ not =","EOQ not =","EOQ not =","EOQ not ="]
[null,"Order Qty","Order Qty","Order Qty","Order Qty","Order Qty"]
["** To see how Total Annual Cost is calculated, Click on Help This Sheet, then click on Theory"]
[]
[]
[]
[]
[]
[]
[]
[]
[]
[]
[]
[]
[]
[]
[]
[]
[]
[]
[]
[]
[]
[]
[]
[]
[]
[]
[]
[]
[]
[]
[]
[]
[]
[]
[]
[]
[]
[]
[]
[]
[]
[]
[]
[]
[]
[]
[]
[]
[]
[]
[]
[]
[]
[]
[]
[]
[]
[]
[]
[]
[]
[]
[]
[]
[]
[]
[]
[]
[]
[]
[]
[]
[]
[]
[]
[]
[]
[]
[]
[]
[]
[]
[]
[]
[]
[]
[]
[]
[]
[]
[]
[]
[]
[]
[]
[]
[]
[]
[]
[]
[]
[]
[]
[]
[]
[]
[]
[]
[]
[]
[null,null,null,null,null,null,null,null,null,null,null,null,null,null,null,null,null,null,null,null,null,null,null,null,null,null,null,null,null,null,null,null,null,null,null,null,null,null,null,null,null,null,null,null,null,null,null,null,null,null,null,null,null,null,null,null,null,null,null,null,null,null,null,null,null,null,null,null,null,null,null,null,null,null,null,null,null,null,null,null,null,null,null,null,null,null,null,null,null,null,null,null,null,null,null," "]

{"sheet":"EPQ","index":10,"n_rows":125,"n_cols":96,"rows_kept":125,"cut":false,"hidden":false,"merged":[]}
[]
[]
["Trial #",1,2,3,4]
["Units to be produced annually",1200,1200,1200,1200]
["Setup Costs in Dollars",100,50,25,4.1500000000000004]
["Unit Production Costs in Dollars",10,10,10,10]
["Order Quantity Needed *","100","100","100","100"]
["Carrying cost as % of production cost",10,10,10,10]
["EPQ",{"$f":"IF(B6*B8>0,ROUNDUP((SQRT((2*B4*B5)/((B8/100)*B6))),0),\"Not Logical\")","v":490},{"$f":"IF(C6*C8>0,ROUNDUP((SQRT((2*C4*C5)/((C8/100)*C6))),0),\"Not Logical\")","v":347},{"$f":"IF(D6*D8>0,ROUNDUP((SQRT((2*D4*D5)/((D8/100)*D6))),0),\"Not Logical\")","v":245},{"$f":"IF(E6*E8>0,ROUNDUP((SQRT((2*E4*E5)/((E8/100)*E6))),0),\"Not Logical\")","v":100}]
["Total Annual Production Cost",13250,12650,12350,12099.8]
["Minimum Production Quantity",100,100,100,100]
["* May be a range,e.g.  75-125","EPQ not =","EPQ not =","EPQ not ="]
[null,"Order Qty","Order Qty","Order Qty"]
[]
[]
[]
[]
[]
[]
[]
[]
[]
[]
[]
[]
[]
[]
[]
[]
[]
[]
[]
[]
[]
[]
[]
[]
[]
[]
[]
[]
[]
[]
[]
[]
[]
[]
[]
[]
[]
[]
[]
[]
[]
[]
[]
[]
[]
[]
[]
[]
[]
[]
[]
[]
[]
[]
[]
[]
[]
[]
[]
[]
[]
[]
[]
[]
[]
[]
[]
[]
[]
[]
[]
[]
[]
[]
[]
[]
[]
[]
[]
[]
[]
[]
[]
[]
[]
[]
[]
[]
[]
[]
[]
[]
[]
[]
[]
[]
[]
[]
[]
[]
[]
[]
[]
[]
[]
[]
[]
[]
[]
[]
[]
[null,null,null,null,null,null,null,null,null,null,null,null,null,null,null,null,null,null,null,null,null,null,null,null,null,null,null,null,null,null,null,null,null,null,null,null,null,null,null,null,null,null,null,null,null,null,null,null,null,null,null,null,null,null,null,null,null,null,null,null,null,null,null,null,null,null,null,null,null,null,null,null,null,null,null,null,null,null,null,null,null,null,null,null,null,null,null,null,null,null,null,null,null,null,null," "]

{"sheet":"EquipmentTOC","index":11,"n_rows":26,"n_cols":4,"rows_kept":26,"cut":false,"hidden":false,"merged":[]}
[]
[]
["Suppliers","#1","#2","#3"]
["Acquistion Costs"]
["Price Quoted",1500000,2000000,1600000]
["End of life Value(usually negative)",-50000,-60000,-35000]
["Cost Associated with Payment",135000,135000,125000]
["Other",0,0,0]
["Total Acquisition Costs ",{"$f":"SUM(B5:B8)","v":1585000},{"$f":"SUM(C5:C8)","v":2075000},{"$f":"SUM(D5:D8)","v":1690000}]
["Non-Recurring Acquisition Costs"]
["Transportation",2500,2000,1500]
["Rigging",5000,5000,5000]
["Installation",10000,8000,7500]
["Training(operator & maintenance)",1500,1500,1500]
["Other",0,0,0]
["Total Non-recurring Acquisition Costs",{"$f":"SUM(B11:B15)","v":19000},{"$f":"SUM(C11:C15)","v":16500},{"$f":"SUM(D11:D15)","v":15500}]
["Ongoing Expenses"]
["Preventive maintenance",75000,85000,1250000]
["Consumable supplies",3000000,3600000,4250000]
["Spare parts",37500,50000,40000]
["Other",0,0,0]
["Total Ongoing Expenses",{"$f":"SUM(B18:B21)","v":3112500},{"$f":"SUM(C18:C21)","v":3735000},{"$f":"SUM(D18:D21)","v":5540000}]
["Total Cost of Ownership",{"$f":"B9+B16+B22","v":4716500},{"$f":"C9+C16+C22","v":5826500},{"$f":"D9+D16+D22","v":7245500}]
["Useful life (years)",15,15,15]
["Annual Production Quantity (units)",4000000,4000000,4000000]
["Cost per unit over life of equipment",{"$f":"IF((B24*B25)>0,B23/(B24*B25),\"NA\")","v":7.8608333333333336E-2},{"$f":"IF((C24*C25)>0,C23/(C24*C25),\"NA\")","v":9.7108333333333338E-2},{"$f":"IF((D24*D25)>0,D23/(D24*D25),\"NA\")","v":0.12075833333333333}]

{"sheet":"ExtendedTerms","index":12,"n_rows":10,"n_cols":6,"rows_kept":10,"cut":false,"hidden":false,"merged":[]}
[]
[]
[null,"#1","#2","#3","# 4","# 5"]
["Quoted Net Payment Due (in days)",30,40,30,30,30]
["Number of Days Payment is Extended",15,15,15,15,15]
["Cost of Capital (percent)",8,9,10,11,12]
["Payment Amount in Dollars",100000,100000,100000,100000,100000]
["Dollar Value of this Extended Payment*",{"$f":"((B6*B7)/100)*(B5/360)","v":333.33333333333331},{"$f":"((C6*C7)/100)*(C5/360)","v":375},{"$f":"((D6*D7)/100)*(D5/360)","v":416.66666666666663},{"$f":"((E6*E7)/100)*(E5/360)","v":458.33333333333331},{"$f":"((F6*F7)/100)*(F5/360)","v":500}]
["Annual Value (assume event occurs monthly)",{"$f":"B8*12","v":4000},{"$f":"C8*12","v":4500},{"$f":"D8*12","v":5000},{"$f":"E8*12","v":5500},{"$f":"F8*12","v":6000}]
["*360 day year is used for calculations"]

{"sheet":"FinancialData","index":13,"n_rows":106,"n_cols":7,"rows_kept":106,"cut":false,"hidden":false,"merged":[[34,1,34,8]]}
[]
[]
[null,"Check box to include in following charts"]
[null,"Values in Millions","Supplier #1 \n20xx","Supplier #1 \n20xx-1","Supplier #2 \n20xx","Supplier #2 \n20xx-1","Industry Norm \n20xx"]
[null,"Cash",238,930,260,212,140.4]
[null,"Accounts Receivable",1445,1529,2250,1521,396.5]
[null,"Notes Receivable"]
[null,"Inventory",1996,1871,1950,756,450]
[null,"Other Current Assets",450,588,280,168,57.9]
[null," Total Current Assets",{"$f":"SUM(C5:C9)","v":4129},{"$f":"SUM(D5:D9)","v":4918},{"$f":"SUM(E5:E9)","v":4740},{"$f":"SUM(F5:F9)","v":2657},{"$f":"SUM(G5:G9)","v":1044.8}]
[null,"Fixed Assets",{"$f":"3638+1099","v":4737},{"$f":"3897+1048","v":4945},1690,435,257.60000000000002]
[null,"Other non-Current Assets",{"$f":"1179+337","v":1516},{"$f":"446+446","v":892},420,140,141.80000000000001]
[null,"Total Assets",{"$f":"C10+C11+C12","v":10382},{"$f":"D10+D11+D12","v":10755},{"$f":"E10+E11+E12","v":6850},{"$f":"F10+F11+F12","v":3232},{"$f":"G10+G11+G12","v":1444.2}]
[null,"Accounts Payable",{"$f":"1073","v":1073},1221,1300,1328,215.6]
[null,"Principal Due Next Year",{"$f":"473+145","v":618},{"$f":"150+182","v":332},8,7,11.6]
[null,"Short term portion of notes payable","in above","in above",100,57,57.9]
[null,"Other Current Liabilities",{"$f":"1649+263","v":1912},{"$f":"1948+4","v":1952},520,319,196.8]
[null," Total Current Liabilities",{"$f":"SUM(C14:C17)","v":3603},{"$f":"SUM(D14:D17)","v":3505},{"$f":"SUM(E14:E17)","v":1928},{"$f":"SUM(F14:F17)","v":1711},{"$f":"SUM(G14:G17)","v":481.9}]
[null,"Long Term Debt",1914,1777,1000,454,195.3]
[null,"Other Long Term Liabilities",1289,{"$f":"1148+1663","v":2811},15,4.5999999999999996,0]
[null,"Deferred Credits",593,412,30,6,0]
[null,"Net Worth",{"$f":"C13-(C18+C19+C20+C21)","v":2983},{"$f":"D13-(D18+D19+D20+D21)","v":2250},{"$f":"E13-(E18+E19+E20+E21)","v":3877},{"$f":"F13-(F18+F19+F20+F21)","v":1056.4000000000001},{"$f":"G13-(G18+G19+G20+G21)","v":767}]
[null,"Total Liabilities & Net Worth",{"$f":"C18+SUM(C19:C22)","v":10382},{"$f":"D18+SUM(D19:D22)","v":10755},{"$f":"E18+SUM(E19:E22)","v":6850},{"$f":"F18+SUM(F19:F22)","v":3232},{"$f":"G18+SUM(G19:G22)","v":1444.1999999999998}]
[null,"Net Sales",11831,15560,18000,3703.8,3191.779]
[null,"Income Before Interest & Taxes",{"$f":"11831-9912","v":1919},{"$f":"12042-9923","v":2119},4000,1066.7,1227.9000000000001]
[null,"Net Profit after Tax & Adjustments",-273,-712,600,192.6,74.355000000000004]
[null,"Before tax Profit",-291,702,610,250,76]
[null,"Working Capital",{"$f":"C10-C18","v":526},{"$f":"D10-D18","v":1413},{"$f":"E10-E18","v":2812},{"$f":"F10-F18","v":946},{"$f":"G10-G18","v":562.9}]
[null,"Depreciation",504,529,130,270,134.59899999999999]
[null,"Interest Expenses",257,220,102,57,21.405999999999999]
[null,"Retained Earnings",747,1594,888,1300,61.707999999999998]
[null,"MktValue Common Stock",{"$f":"((45+25.88)/2)*(115/0.83)","v":4910.3614457831318},{"$f":"((62+40.88)/2)*(138/0.98)","v":7243.591836734694},5500,100,200]
[null,"MktValue Preffered Stock",0,0,380,34,12]
[null,"MktValue Other Stock1",0,0,0,45,6]
[null,"Note 1: Enter Book Value of Equity in this row for a Private Company"]
[]
[]
[]
[]
[]
[]
[]
[]
[]
[]
[]
[]
[]
[]
[]
[]
[]
[]
[]
[]
[]
[]
[]
[]
[]
[]
[]
[]
[]
[]
[]
[]
[]
[]
[]
[]
[]
[]
[]
[]
[]
[]
[]
[]
[]
[]
[]
[]
[]
[]
[]
[]
[]
[]
[]
[]
[]
[]
[]
[]
[]
[]
[]
[5,"C","D","E","F","G"]
[null,"Values in Millions","Supplier #1 \n20xx","Supplier #1 \n20xx-1","Supplier #2 \n20xx","Supplier #2 \n20xx-1","Industry Norm \n20xx"]
[null," Total Current Assets",4129,4918,4740,2657,1044.8]
[null,"Total Assets",10382,10755,6850,3232,1444.2]
[null," Total Current Liabilities",3603,3505,1928,1711,481.9]
[null,"Total Liabilities & Net Worth",10382,10755,6850,3232,1444.2]
[null,"Total Liabilities & Net Worth",10755,6850,3232,1444.2,1444.2]
[null,"MktValue Other Stock1",0,0,45,6,6]

{"sheet":"IntlPurchTOC","index":14,"n_rows":36,"n_cols":4,"rows_kept":36,"cut":false,"hidden":false,"merged":[]}
[]
[]
["Suppliers","San Ramos","Bleeker Ltd.","Lee Ho Ltd."]
["Base Price or Unit Price",46.88,49.5,43.5]
["Quantity to be Sourced Internationally",100000,100000,100000]
["Number of Shipments per year",12,12,12]
["Shipment Costs"]
["Packaging",102000,90000,86800]
["Inspection Fees (if at export)",9600,8400,10200]
["Transportation Cost to Port of Entry",195800,504000,522000]
["Letter of Credit Costs",0,0,21750]
["Cost of paying earlier than standard terms",0,0,0]
["Marine Insurance",0,25000,25000]
["Tooling",75000,100000,50000]
["Exchange rate Hedging",0,0,0]
["Other Costs",0,0,0]
["Total Shipment Costs",{"$f":"SUM(B8:B16)","v":382400},{"$f":"SUM(C8:C16)","v":727400},{"$f":"SUM(D8:D16)","v":715750}]
["Port of Entry Costs"]
["Customs Duties",0,90000,87000]
["Duty Drawback (negative number)",0,-45000,-43500]
["Customs Brokerage Fees",3000,9000,9000]
["Customs Bond (pro-rated if applicable)",0,0,0]
["Freight from port of entry to destination",326400,225000,340000]
["Inspection fees (if at port)",0,0,0]
["U.S. Port Terminal & Handling Fees",0,5880,5880]
["Other costs ",0,0,0]
["Total Port of Entry Costs",{"$f":"SUM(B19:B26)","v":329400},{"$f":"SUM(C19:C26)","v":284880},{"$f":"SUM(D19:D26)","v":398380}]
["Additional Internal Costs"]
["Additional Inventory Costs",0,18562.5,37125]
["Additional Administrative Costs",0,0,0]
["Additional Travel Costs",2000,4000,8000]
["Additional Communication Costs",0,500,1000]
["Other Costs",0,0,0]
["Total Internal Expenses",{"$f":"SUM(B29:B33)","v":2000},{"$f":"SUM(C29:C33)","v":23062.5},{"$f":"SUM(D29:D33)","v":46125}]
["Total Costs",{"$f":"B4*B5 +(B17+B27+B34)","v":5401800},{"$f":"C4*C5 +(C17+C27+C34)","v":5985342.5},{"$f":"D4*D5 +(D17+D27+D34)","v":5510255}]
["Unit Cost \n(including all costs above)",{"$f":"IF(B5>0,B35/B5,\"NA\")","v":54.018000000000001},{"$f":"IF(C5>0,C35/C5,\"NA\")","v":59.853425000000001},{"$f":"IF(D5>0,D35/D5,\"NA\")","v":55.102550000000001}]

{"sheet":"Leverage","index":15,"n_rows":11,"n_cols":7,"rows_kept":11,"cut":false,"hidden":false,"merged":[]}
[]
["Ratios","Method of Calculation",{"$f":"FinancialData!C4","v":"Supplier #1 \n20xx"},{"$f":"FinancialData!D4","v":"Supplier #1 \n20xx-1"},{"$f":"FinancialData!E4","v":"Supplier #2 \n20xx"},{"$f":"FinancialData!F4","v":"Supplier #2 \n20xx-1"},{"$f":"FinancialData!G4","v":"Industry Norm \n20xx"}]
["Collection Period",null,{"$f":"IF(FinancialData!C24<>0,(FinancialData!C6*365)/(FinancialData!C24),\"NotKnown\")","v":44.579917166765277},{"$f":"IF(FinancialData!D24<>0,(FinancialData!D6*365)/(FinancialData!D24),\"NotKnown\")","v":35.866645244215938},{"$f":"IF(FinancialData!E24<>0,(FinancialData!E6*365)/(FinancialData!E24),\"NotKnown\")","v":45.625},{"$f":"IF(FinancialData!F24<>0,(FinancialData!F6*365)/(FinancialData!F24),\"NotKnown\")","v":149.89065284302606},45]
["Sales to Inventory",null,{"$f":"IF(FinancialData!C8<>0,FinancialData!C24/FinancialData!C8,\"NotKnown\")","v":5.9273547094188377},{"$f":"IF(FinancialData!D8<>0,FinancialData!D24/FinancialData!D8,\"NotKnown\")","v":8.3164083377872799},{"$f":"IF(FinancialData!E8<>0,FinancialData!E24/FinancialData!E8,\"NotKnown\")","v":9.2307692307692299},{"$f":"IF(FinancialData!F8<>0,FinancialData!F24/FinancialData!F8,\"NotKnown\")","v":4.8992063492063496},{"$f":"IF(FinancialData!G8<>0,FinancialData!G24/FinancialData!G8,\"NotKnown\")","v":7.092842222222222}]
["Assets to Sales",null,{"$f":"IF(FinancialData!C24<>0,FinancialData!C13/FinancialData!C24,\"NotKnown\")","v":0.8775251458033978},{"$f":"IF(FinancialData!D24<>0,FinancialData!D13/FinancialData!D24,\"NotKnown\")","v":0.69119537275064269},{"$f":"IF(FinancialData!E24<>0,FinancialData!E13/FinancialData!E24,\"NotKnown\")","v":0.38055555555555554},{"$f":"IF(FinancialData!F24<>0,FinancialData!F13/FinancialData!F24,\"NotKnown\")","v":0.87261731194988923},{"$f":"IF(FinancialData!G24<>0,FinancialData!G13/FinancialData!G24,\"NotKnown\")","v":0.45247493639127273}]
["Sales to Net Working Capital",null,{"$f":"IF(FinancialData!C28<>0,FinancialData!C24/FinancialData!C28,\"NotKnown\")","v":22.492395437262356},{"$f":"IF(FinancialData!D28<>0,FinancialData!D24/FinancialData!D28,\"NotKnown\")","v":11.012031139419674},{"$f":"IF(FinancialData!E28<>0,FinancialData!E24/FinancialData!E28,\"NotKnown\")","v":6.4011379800853483},{"$f":"IF(FinancialData!F28<>0,FinancialData!F24/FinancialData!F28,\"NotKnown\")","v":3.9152219873150109},{"$f":"IF(FinancialData!G28<>0,FinancialData!G24/FinancialData!G28,\"NotKnown\")","v":5.670241605969089}]
["Accounts Payable to Sales",null,{"$f":"IF(FinancialData!C24<>0,(FinancialData!C14/FinancialData!C24),\"NotKnown\")","v":9.0693939650071845E-2},{"$f":"IF(FinancialData!D24<>0,(FinancialData!D14/FinancialData!D24),\"NotKnown\")","v":7.847043701799486E-2},{"$f":"IF(FinancialData!E24<>0,(FinancialData!E14/FinancialData!E24),\"NotKnown\")","v":7.2222222222222215E-2},{"$f":"IF(FinancialData!F24<>0,(FinancialData!F14/FinancialData!F24),\"NotKnown\")","v":0.35855067768238025},{"$f":"IF(FinancialData!G24<>0,(FinancialData!G14/FinancialData!G24),\"NotKnown\")","v":6.754853641182551E-2}]
["Debt to Equity",null,{"$f":"IF(FinancialData!C22<>0,(FinancialData!C23-FinancialData!C22)/FinancialData!C22,\"NotKnown\")","v":2.480388870264834},{"$f":"IF(FinancialData!D22<>0,(FinancialData!D23-FinancialData!D22)/FinancialData!D22,\"NotKnown\")","v":3.78},{"$f":"IF(FinancialData!E22<>0,(FinancialData!E23-FinancialData!E22)/FinancialData!E22,\"NotKnown\")","v":0.7668300232138251},{"$f":"IF(FinancialData!F22<>0,(FinancialData!F23-FinancialData!F22)/FinancialData!F22,\"NotKnown\")","v":2.059447179098826},{"$f":"IF(FinancialData!G22<>0,(FinancialData!G23-FinancialData!G22)/FinancialData!G22,\"NotKnown\")","v":0.8829204693611471}]
["Current Debt to Equity",null,{"$f":"IF(FinancialData!C22<>0,(FinancialData!C18)/FinancialData!C22,\"NotKnown\")","v":1.2078444518940663},{"$f":"IF(FinancialData!D22<>0,(FinancialData!D18)/FinancialData!D22,\"NotKnown\")","v":1.5577777777777777},{"$f":"IF(FinancialData!E22<>0,(FinancialData!E18)/FinancialData!E22,\"NotKnown\")","v":0.49729172040237296},{"$f":"IF(FinancialData!F22<>0,(FinancialData!F18)/FinancialData!F22,\"NotKnown\")","v":1.6196516471033697},{"$f":"IF(FinancialData!G22<>0,(FinancialData!G18)/FinancialData!G22,\"NotKnown\")","v":0.62829204693611473}]
["Interest Coverage",null,{"$f":"IF(FinancialData!C30<>0,(FinancialData!C27+FinancialData!C30)/FinancialData!C30,\"NotKnown\")","v":-0.13229571984435798},{"$f":"IF(FinancialData!D30<>0,(FinancialData!D27+FinancialData!D30)/FinancialData!D30,\"NotKnown\")","v":4.1909090909090905},{"$f":"IF(FinancialData!E30<>0,(FinancialData!E27+FinancialData!E30)/FinancialData!E30,\"NotKnown\")","v":6.9803921568627452},{"$f":"IF(FinancialData!F30<>0,(FinancialData!F27+FinancialData!F30)/FinancialData!F30,\"NotKnown\")","v":5.3859649122807021},{"$f":"IF(FinancialData!G30<>0,(FinancialData!G27+FinancialData!G30)/FinancialData!G30,\"NotKnown\")","v":4.55040642810427}]
["Debt Service",null,{"$f":"IF((FinancialData!C30+FinancialData!C15)<>0,(FinancialData!C27+FinancialData!C30+FinancialData!C29)/(FinancialData!C30+FinancialData!C15),\"NotKnown\")","v":0.53714285714285714},{"$f":"IF((FinancialData!D30+FinancialData!D15)<>0,(FinancialData!D27+FinancialData!D30+FinancialData!D29)/(FinancialData!D30+FinancialData!D15),\"NotKnown\")","v":2.6286231884057969},{"$f":"IF((FinancialData!E30+FinancialData!E15)<>0,(FinancialData!E27+FinancialData!E30+FinancialData!E29)/(FinancialData!E30+FinancialData!E15),\"NotKnown\")","v":7.6545454545454543},{"$f":"IF((FinancialData!F30+FinancialData!F15)<>0,(FinancialData!F27+FinancialData!F30+FinancialData!F29)/(FinancialData!F30+FinancialData!F15),\"NotKnown\")","v":9.015625},{"$f":"IF((FinancialData!G30+FinancialData!G15)<>0,(FinancialData!G27+FinancialData!G30+FinancialData!G29)/(FinancialData!G30+FinancialData!G15),\"NotKnown\")","v":7.0291765133612065}]

{"sheet":"PeqFdivQPlusV","index":16,"n_rows":125,"n_cols":98,"rows_kept":125,"cut":false,"hidden":false,"merged":[]}
[5]
["Note: Unit Variable Costs include Direct Material, Direct Labor, Manufacturing Overhead, and Profit"]
[null,null,"Quote #",1,2,3,4,5]
[null,null,"Quantity",50,100,150,200,250]
[null,null,"Unit Price",8,7,6.8,6.7,6.64]
[null,null,5,{"$f":"D4","v":50},{"$f":"E4","v":100},{"$f":"F4","v":150},{"$f":"G4","v":200},{"$f":"H4","v":250}]
["\nPricePairs\nFixedCosts\nVarUnitCosts"," 1 & 2\n$100.00\n$6.00",26,8,7,6.666666666666667,6.5,6.4]
["\nPricePairs\nFixedCosts\nVarUnitCosts"," 1 & 3\n$90.00\n$6.20",24.199997234344483,7.9999999809265141,7.1000001335144045,6.8000001843770344,6.6500002098083497,6.5600002250671388]
["\nPricePairs\nFixedCosts\nVarUnitCosts"," 1 & 4\n$86.67\n$6.27",23.600002288818359,8,7.1333332061767578,6.8444442749023438,6.6999998092651367,6.6133331298828129]
["\nPricePairs\nFixedCosts\nVarUnitCosts"," 1 & 5\n$85.00\n$6.30",23.300001239776613,7.999999866485596,7.1499997901916501,6.8666664314270021,6.7249997520446776,6.6399997444152827]
["\nPricePairs\nFixedCosts\nVarUnitCosts"," 2 & 3\n$60.00\n$6.40",18.399989128112793,7.5999994277954102,7,6.8000001907348633,6.7000002861022949,6.6400003433227539]
["\nPricePairs\nFixedCosts\nVarUnitCosts"," 2 & 4\n$60.00\n$6.40",18.400007247924805,7.6000003814697266,7,6.7999998728434248,6.6999998092651367,6.6399997711181644]
["\nPricePairs\nFixedCosts\nVarUnitCosts"," 2 & 5\n$60.00\n$6.40",18.400004196166993,7.600000076293945,6.9999998474121092,6.7999997711181637,6.6999997329711913,6.6399997100830079]
["\nPricePairs\nFixedCosts\nVarUnitCosts"," 3 & 4\n$60.00\n$6.40",18.400044441223145,7.6000032424926758,7.0000009536743164,6.8000001907348633,6.6999998092651367,6.639999580383301]
["\nPricePairs\nFixedCosts\nVarUnitCosts"," 3 & 5\n$60.00\n$6.40",18.400023555755617,7.600001583099365,7.0000003623962401,6.7999999554951982,6.6999997520446781,6.6399996299743655]
["\nPricePairs\nFixedCosts\nVarUnitCosts"," 4 & 5\n$60.00\n$6.40",18.399988651275635,7.599998950958252,6.9999995231628418,6.7999997138977051,6.6999998092651367,6.6399998664855957]
[]
[]
[]
[]
[]
[]
[]
[]
[]
[]
[]
[]
[]
[]
[]
[]
[]
[]
[]
[]
[]
[]
[]
[]
[]
[]
[]
[]
[]
[]
[]
[]
[]
[]
[]
[]
[]
[]
[]
[]
[]
[]
[]
[]
[]
[]
[]
[]
[]
[]
[]
[]
[]
[]
[]
[]
[]
[]
[]
[]
[]
[]
[]
[]
[]
[]
[]
[]
[]
[]
[]
[]
[]
[]
[]
[]
[]
[]
[]
[]
[]
[]
[]
[]
[]
[]
[]
[]
[]
[]
[]
[]
[]
[]
[]
[]
[]
[]
[]
[]
[]
[]
[]
[]
[]
[]
[]
[]
[null,null,null,null,null,null,null,null,null,null,null,null,null,null,null,null,null,null,null,null,null,null,null,null,null,null,null,null,null,null,null,null,null,null,null,null,null,null,null,null,null,null,null,null,null,null,null,null,null,null,null,null,null,null,null,null,null,null,null,null,null,null,null,null,null,null,null,null,null,null,null,null,null,null,null,null,null,null,null,null,null,null,null,null,null,null,null,null,null,null,null,null,null,null,null,null,null," "]

{"sheet":"PaymentDiscount","index":17,"n_rows":10,"n_cols":6,"rows_kept":10,"cut":false,"hidden":false,"merged":[]}
[7]
[]
["Trial#","#1","#2","# 3","# 4","# 5"]
["Percent Discount",1,1.5,2,2.5,1]
["Discount Period in Days",15,15,15,15,15]
["Net Payment Due in Days",30,30,30,30,30]
["Payment Amount in Dollars",100000,100000,100000,100000,100000]
["Effective Annual Rate of Payment Discount*",{"$f":"IF(B6-B5>0,(((360/(B6-B5))*B4)/100),\"Not Logical\")","v":0.24},{"$f":"IF(C6-C5>0,(((360/(C6-C5))*C4)/100),\"error\")","v":0.36},{"$f":"IF(D6-D5>0,(((360/(D6-D5))*D4)/100),\"error\")","v":0.48},{"$f":"IF(E6-E5>0,(((360/(E6-E5))*E4)/100),\"error\")","v":0.6},{"$f":"IF(F6-F5>0,(((360/(F6-F5))*F4)/100),\"error\")","v":0.24}]
["Annual Value (assume event occurs monthly)",{"$f":"(B7)*12*(B4/100)","v":12000},{"$f":"(C7)*12*(C4/100)","v":18000},{"$f":"(D7)*12*(D4/100)","v":24000},{"$f":"(E7)*12*(E4/100)","v":30000},{"$f":"(F7)*12*(F4/100)","v":12000}]
["*360 day year is used for calculations"]

{"sheet":"PPCalculator","index":18,"n_rows":25,"n_cols":4,"rows_kept":25,"cut":false,"hidden":false,"merged":[]}
["b"]
[]
["Each 1% Improvement in","Gives an operating income improvement of"]
["Price",0.111]
["Variable Costs",7.8E-2]
["Volume",3.3000000000000002E-2]
["Fixed Costs",2.3E-2]
[]
["Scenario #1","Variable Cost Impact",null,"Assumptions #1"]
[null,null,{"$f":"B5","v":7.8E-2},"Operating Profit Improvement for each 1% decrease in Variable Costs"]
[null,null,0.24,"Operating Profit Margin"]
[null,null,0.06,"Price Decrease Needed"]
[null,"A Variable Cost Decrease of",{"$f":"IF(AND($C$11<>0,$C$10<>0),$C$12/($C$11*$C$10)/100,\"N.A\")","v":3.2051282051282048E-2},"is required"]
[]
["Scenario #2","Fixed Cost Impact",null,"Assumptions #2"]
[null,null,{"$f":"$B$7","v":2.3E-2},"Operating Profit Improvement for each 1% decrease in Fixed Costs"]
[null,null,0.24,"Operating Profit Margin"]
[null,null,0.06,"Price Decrease Needed"]
[null,"A Fixed Cost Decrease of",{"$f":"IF(AND($C$17<>0,$C$16<>0),$C$18/($C$17*$C$16*100),0)","v":0.10869565217391305},"is required"]
[]
["Scenario #3","Unit Volume Impact",null,"Assumptions #3"]
[null,null,{"$f":"$B$6","v":3.3000000000000002E-2},"Operating Profit Improvement for each 1% increase in Unit Volume"]
[null,null,0.24,"Operating Profit Margin"]
[null,null,0.06,"Price Decrease Needed"]
[null,"A Unit Volume Increase of",{"$f":"IF(AND($C$23<>0,$C$22<>0),$C$24/($C$23*$C$22*100),0)","v":7.5757575757575746E-2},"is required"]

{"sheet":"PPMacro","index":19,"n_rows":13,"n_cols":7,"rows_kept":13,"cut":false,"hidden":false,"merged":[]}
[]
[null,null,null,null,"Changes Table"]
[null,"Changes in","% Change","% Change","% Change","% Change","% Change"]
[null,"Net Sales Billed",0,0,0,0,0]
[null,"Variable Costs",0,0,0,0,0]
[null,"Fixed Costs",0,0,0,0,0]
[null,"Current \nOperations","Results in","Results in","Results in","Results in","Results in"]
["Net Sales Billed",400000,{"$f":"IF(OR(ISNUMBER(C4),ISBLANK(C4)),$B$8+C4*$B$8/100,0)","v":400000},{"$f":"IF(OR(ISNUMBER(D4),ISBLANK(D4)),$B$8+D4*$B$8/100,0)","v":400000},{"$f":"IF(OR(ISNUMBER(E4),ISBLANK(E4)),$B$8+E4*$B$8/100,0)","v":400000},{"$f":"IF(OR(ISNUMBER(F4),ISBLANK(F4)),$B$8+F4*$B$8/100,0)","v":400000},{"$f":"IF(OR(ISNUMBER(G4),ISBLANK(G4)),$B$8+G4*$B$8/100,0)","v":400000}]
["Variable Costs ",260000,{"$f":"IF(OR(ISNUMBER(C5),ISBLANK(C5)),$B$9+C5*$B$9/100,0)","v":260000},{"$f":"IF(OR(ISNUMBER(D5),ISBLANK(D5)),$B$9+D5*$B$9/100,0)","v":260000},{"$f":"IF(OR(ISNUMBER(E5),ISBLANK(E5)),$B$9+E5*$B$9/100,0)","v":260000},{"$f":"IF(OR(ISNUMBER(F5),ISBLANK(F5)),$B$9+F5*$B$9/100,0)","v":260000},{"$f":"IF(OR(ISNUMBER(G5),ISBLANK(G5)),$B$9+G5*$B$9/100,0)","v":260000}]
["Contribution Margin",{"$f":"B8-B9","v":140000},140000,140000,140000,140000,140000]
["Fixed Costs",10000,{"$f":"IF(OR(ISNUMBER(C6),ISBLANK(C6)),$B$11+C6*$B$11/100,0)","v":10000},{"$f":"IF(OR(ISNUMBER(D6),ISBLANK(D6)),$B$11+D6*$B$11/100,0)","v":10000},{"$f":"IF(OR(ISNUMBER(E6),ISBLANK(E6)),$B$11+E6*$B$11/100,0)","v":10000},{"$f":"IF(OR(ISNUMBER(F6),ISBLANK(F6)),$B$11+F6*$B$11/100,0)","v":10000},{"$f":"IF(OR(ISNUMBER(G6),ISBLANK(G6)),$B$11+G6*$B$11/100,0)","v":10000}]
["Operating Income",{"$f":"B10-B11","v":130000},130000,130000,130000,130000,130000]
["Operating Income Changed by ",null,{"$f":"IF($B$12<>0,(((C12-$B$12)/ABS($B$12))),\"OpInc=0\")","v":0},{"$f":"IF($B$12<>0,(((D12-$B$12)/ABS($B$12))),\"OpInc=0\")","v":0},{"$f":"IF($B$12<>0,(((E12-$B$12)/ABS($B$12))),\"OpInc=0\")","v":0},{"$f":"IF($B$12<>0,(((F12-$B$12)/ABS($B$12))),\"OpInc=0\")","v":0},{"$f":"IF($B$12<>0,(((G12-$B$12)/ABS($B$12))),\"OpInc=0\")","v":0}]

{"sheet":"PPMicro","index":20,"n_rows":39,"n_cols":8,"rows_kept":39,"cut":false,"hidden":false,"merged":[[38,0,38,2],[20,0,20,1]]}
[]
[]
[null,null,null,null,"Changes Table"]
[null,null,"Changes in","% Change","% Change","% Change","% Change","% Change"]
[null,null,"Net Sales Billed",0,0,0,0,0]
[null,null,"Direct Material",0.85774225774225776,0,0,0,0]
[null,null,{"$f":"IF(A24>\" \",A24,\"\")","v":"Steel Scrap"},1,0,0,0,0]
[null,null,{"$f":"IF(A25>\" \",A25,\"\")","v":"Ferroalloys"},0,0,0,0,0]
[null,null,"Thermal Energy",0,0,0,0,0]
[null,null,{"$f":"IF(A27>\" \",A27,\"\")","v":"Electricity"},0,0,0,0,0]
[null,null,{"$f":"IF(A28>\" \",A28,\"\")","v":""}]
[null,null,""]
[null,null,""]
[null,null,""]
[null,null,""]
[null,68.33,""]
[null,null,"Direct Labor",0,0,0,0,0]
[null,null,"Variable Overhead",0,0,0,0,0]
[null,null,"Fixed Costs",0,0,0,0,0]
[null,null,"Current \nOperations","Results in","Results in","Results in","Results in","Results in"]
["Unit or Annual Cost",null,9,{"$f":"IF(OR(ISNUMBER(D5),ISBLANK(D5)),$C$21+D5*$C$21/100,0)","v":9},{"$f":"IF(OR(ISNUMBER(E5),ISBLANK(E5)),$C$21+E5*$C$21/100,0)","v":9},{"$f":"IF(OR(ISNUMBER(F5),ISBLANK(F5)),$C$21+F5*$C$21/100,0)","v":9},{"$f":"IF(OR(ISNUMBER(G5),ISBLANK(G5)),$C$21+G5*$C$21/100,0)","v":9},{"$f":"IF(OR(ISNUMBER(H5),ISBLANK(H5)),$C$21+H5*$C$21/100,0)","v":9}]
["Variable Costs (must total 100%)",{"$f":"B23+B34+B35","v":100},{"$f":"C21-C37-C38","v":7.9671000000000003},{"$f":"D23+D34+D35","v":8.0145055041360855},{"$f":"E23+E34+E35","v":7.9671000000000003},{"$f":"F23+F34+F35","v":7.9671000000000003},{"$f":"G23+G34+G35","v":7.9671000000000003},{"$f":"H23+H34+H35","v":7.9671000000000003}]
["Direct Material%",69.37,{"$f":"B23*$C$22/100","v":5.5267772700000002},{"$f":"IF(OR(ISNUMBER(D6),ISBLANK(D6)),$C$23+D6*$C$23/100,0)","v":5.5741827741360845},{"$f":"IF(OR(ISNUMBER(E6),ISBLANK(E6)),$C$23+E6*$C$23/100,0)","v":5.5267772700000002},{"$f":"IF(OR(ISNUMBER(F6),ISBLANK(F6)),$C$23+F6*$C$23/100,0)","v":5.5267772700000002},{"$f":"IF(OR(ISNUMBER(G6),ISBLANK(G6)),$C$23+G6*$C$23/100,0)","v":5.5267772700000002},{"$f":"IF(OR(ISNUMBER(H6),ISBLANK(H6)),$C$23+H6*$C$23/100,0)","v":5.5267772700000002}]
["Steel Scrap",85.86,{"$f":"C23*B24/100","v":4.7452909640220007},{"$f":"$C$24*(100+D7)/100","v":4.7927438736622205},{"$f":"$C$24*(100+E7)/100","v":4.7452909640220007},{"$f":"$C$24*(100+F7)/100","v":4.7452909640220007},{"$f":"$C$24*(100+G7)/100","v":4.7452909640220007},{"$f":"$C$24*(100+H7)/100","v":4.7452909640220007}]
["Ferroalloys",5.31,{"$f":"C23*B25/100","v":0.29347187303700001},{"$f":"$C$25*(100+D8)/100","v":0.29347187303700001},{"$f":"$C$25*(100+E8)/100","v":0.29347187303700001},{"$f":"$C$25*(100+F8)/100","v":0.29347187303700001},{"$f":"$C$25*(100+G8)/100","v":0.29347187303700001},{"$f":"$C$25*(100+H8)/100","v":0.29347187303700001}]
["Thermal Energy",1.33,{"$f":"$C$23*B26/100","v":7.3506137691000006E-2},{"$f":"$C$26*(100+D9)/100","v":7.3506137691000006E-2},{"$f":"$C$26*(100+E9)/100","v":7.3506137691000006E-2},{"$f":"$C$26*(100+F9)/100","v":7.3506137691000006E-2},{"$f":"$C$26*(100+G9)/100","v":7.3506137691000006E-2},{"$f":"$C$26*(100+H9)/100","v":7.3506137691000006E-2}]
["Electricity",7.6,0.42003507252,{"$f":"$C$27*(100+D10)/100","v":0.42003507252},{"$f":"$C$27*(100+E10)/100","v":0.42003507252},{"$f":"$C$27*(100+F10)/100","v":0.42003507252},{"$f":"$C$27*(100+G10)/100","v":0.42003507252},{"$f":"$C$27*(100+H10)/100","v":0.42003507252}]
[null,null,0,{"$f":"$C$28*(100+D11)/100","v":0},{"$f":"$C$28*(100+E11)/100","v":0},{"$f":"$C$28*(100+F11)/100","v":0},{"$f":"$C$28*(100+G11)/100","v":0},{"$f":"$C$28*(100+H11)/100","v":0}]
[null,null,0,{"$f":"$C$29*(100+D12)/100","v":0},{"$f":"$C$29*(100+E12)/100","v":0},{"$f":"$C$29*(100+F12)/100","v":0},{"$f":"$C$29*(100+G12)/100","v":0},{"$f":"$C$29*(100+H12)/100","v":0}]
[null,null,0,{"$f":"$C$30*(100+D13)/100","v":0},{"$f":"$C$30*(100+E13)/100","v":0},{"$f":"$C$30*(100+F13)/100","v":0},{"$f":"$C$30*(100+G13)/100","v":0},{"$f":"$C$30*(100+H13)/100","v":0}]
[null,null,0,{"$f":"$C$31*(100+D14)/100","v":0},{"$f":"$C$31*(100+E14)/100","v":0},{"$f":"$C$31*(100+F14)/100","v":0},{"$f":"$C$31*(100+G14)/100","v":0},{"$f":"$C$31*(100+H14)/100","v":0}]
[null,null,0,{"$f":"$C$32*(100+D15)/100","v":0},{"$f":"$C$32*(100+E15)/100","v":0},{"$f":"$C$32*(100+F15)/100","v":0},{"$f":"$C$32*(100+G15)/100","v":0},{"$f":"$C$32*(100+H15)/100","v":0}]
[null,null,0,{"$f":"$C$33*(100+D16)/100","v":0},{"$f":"$C$33*(100+E16)/100","v":0},{"$f":"$C$33*(100+F16)/100","v":0},{"$f":"$C$33*(100+G16)/100","v":0},{"$f":"$C$33*(100+H16)/100","v":0}]
["Direct Labor%",7.99,{"$f":"B34*$C$22/100","v":0.63657129000000001},{"$f":"IF(OR(ISNUMBER(D17),ISBLANK(D17)),$C$34+D17*$C$34/100,0)","v":0.63657129000000001},{"$f":"IF(OR(ISNUMBER(E17),ISBLANK(E17)),$C$34+E17*$C$34/100,0)","v":0.63657129000000001},{"$f":"IF(OR(ISNUMBER(F17),ISBLANK(F17)),$C$34+F17*$C$34/100,0)","v":0.63657129000000001},{"$f":"IF(OR(ISNUMBER(G17),ISBLANK(G17)),$C$34+G17*$C$34/100,0)","v":0.63657129000000001},{"$f":"IF(OR(ISNUMBER(H17),ISBLANK(H17)),$C$34+H17*$C$34/100,0)","v":0.63657129000000001}]
["Variable Overhead%",22.64,{"$f":"B35*$C$22/100","v":1.8037514400000001},{"$f":"IF(OR(ISNUMBER(D18),ISBLANK(D18)),$C$35+D18*$C$35/100,0)","v":1.8037514400000001},{"$f":"IF(OR(ISNUMBER(E18),ISBLANK(E18)),$C$35+E18*$C$35/100,0)","v":1.8037514400000001},{"$f":"IF(OR(ISNUMBER(F18),ISBLANK(F18)),$C$35+F18*$C$35/100,0)","v":1.8037514400000001},{"$f":"IF(OR(ISNUMBER(G18),ISBLANK(G18)),$C$35+G18*$C$35/100,0)","v":1.8037514400000001},{"$f":"IF(OR(ISNUMBER(H18),ISBLANK(H18)),$C$35+H18*$C$35/100,0)","v":1.8037514400000001}]
[null,"Contribution Margin",{"$f":"C21-C22","v":1.0328999999999997},0.98549449586391447,1.0328999999999997,1.0328999999999997,1.0328999999999997,1.0328999999999997]
[null,"Fixed Costs",0.42,{"$f":"IF(OR(ISNUMBER(D19),ISBLANK(D19)),$C$37+D19*$C$37/100,0)","v":0.42},{"$f":"IF(OR(ISNUMBER(E19),ISBLANK(E19)),$C$37+E19*$C$37/100,0)","v":0.42},{"$f":"IF(OR(ISNUMBER(F19),ISBLANK(F19)),$C$37+F19*$C$37/100,0)","v":0.42},{"$f":"IF(OR(ISNUMBER(G19),ISBLANK(G19)),$C$37+G19*$C$37/100,0)","v":0.42},{"$f":"IF(OR(ISNUMBER(H19),ISBLANK(H19)),$C$37+H19*$C$37/100,0)","v":0.42}]
["Operating Income as % of sales",6.81,{"$f":"B38*C21/100","v":0.6129},{"$f":"D36-D37","v":0.56549449586391454},{"$f":"E36-E37","v":0.61289999999999978},{"$f":"F36-F37","v":0.61289999999999978},{"$f":"G36-G37","v":0.61289999999999978},{"$f":"H36-H37","v":0.61289999999999978}]
["                       Operating Income Changed by",null,null,{"$f":"IF($C$38<>0,(((D38-$C$38)/ABS($C$38))),\"OpInc=0\")","v":-7.7346229623242724E-2},{"$f":"IF($C$38<>0,(((E38-$C$38)/ABS($C$38))),\"OpInc=0\")","v":-3.6228520953668024E-16},{"$f":"IF($C$38<>0,(((F38-$C$38)/ABS($C$38))),\"OpInc=0\")","v":-3.6228520953668024E-16},{"$f":"IF($C$38<>0,(((G38-$C$38)/ABS($C$38))),\"OpInc=0\")","v":-3.6228520953668024E-16},{"$f":"IF($C$38<>0,(((H38-$C$38)/ABS($C$38))),\"OpInc=0\")","v":-3.6228520953668024E-16}]

{"sheet":"Profitability","index":21,"n_rows":6,"n_cols":7,"rows_kept":6,"cut":false,"hidden":false,"merged":[]}
[]
["Ratios","Method of Calculation",{"$f":"FinancialData!C4","v":"Supplier #1 \n20xx"},{"$f":"FinancialData!D4","v":"Supplier #1 \n20xx-1"},{"$f":"FinancialData!E4","v":"Supplier #2 \n20xx"},{"$f":"FinancialData!F4","v":"Supplier #2 \n20xx-1"},{"$f":"FinancialData!G4","v":"Industry Norm \n20xx"}]
["Return on Sales",null,{"$f":"IF(FinancialData!C24<>0,(FinancialData!C26)/(FinancialData!C24),\"NotKnown\")","v":-2.3074972529794607E-2},{"$f":"IF(FinancialData!D24<>0,(FinancialData!D26)/(FinancialData!D24),\"NotKnown\")","v":-4.5758354755784061E-2},{"$f":"IF(FinancialData!E24<>0,(FinancialData!E26)/(FinancialData!E24),\"NotKnown\")","v":3.3333333333333333E-2},{"$f":"IF(FinancialData!F24<>0,(FinancialData!F26)/(FinancialData!F24),\"NotKnown\")","v":5.2000647983152432E-2},{"$f":"IF(FinancialData!G24<>0,(FinancialData!G26)/(FinancialData!G24),\"NotKnown\")","v":2.3295785829783328E-2}]
["Return on Investment",null,{"$f":"IF(FinancialData!C13<>0,FinancialData!C26/FinancialData!C13,\"NotKnown\")","v":-2.6295511462146023E-2},{"$f":"IF(FinancialData!D13<>0,FinancialData!D26/FinancialData!D13,\"NotKnown\")","v":-6.6201766620176655E-2},{"$f":"IF(FinancialData!E13<>0,FinancialData!E26/FinancialData!E13,\"NotKnown\")","v":8.7591240875912413E-2},{"$f":"IF(FinancialData!F13<>0,FinancialData!F26/FinancialData!F13,\"NotKnown\")","v":5.9591584158415839E-2},{"$f":"IF(FinancialData!G13<>0,FinancialData!G26/FinancialData!G13,\"NotKnown\")","v":5.1485251350228502E-2}]
["Return on Equity",null,{"$f":"IF(FinancialData!C22<>0,(FinancialData!C26)/FinancialData!C22,\"NotKnown\")","v":-9.1518605430774391E-2},{"$f":"IF(FinancialData!D22<>0,(FinancialData!D26)/FinancialData!D22,\"NotKnown\")","v":-0.31644444444444442},{"$f":"IF(FinancialData!E22<>0,(FinancialData!E26)/FinancialData!E22,\"NotKnown\")","v":0.15475883415011607},{"$f":"IF(FinancialData!F22<>0,(FinancialData!F26)/FinancialData!F22,\"NotKnown\")","v":0.18231730405149563},{"$f":"IF(FinancialData!G22<>0,(FinancialData!G26)/FinancialData!G22,\"NotKnown\")","v":9.6942633637548903E-2}]
["Return on Invested Capital",null,{"$f":"IF((FinancialData!C22+FinancialData!C19)<>0,(FinancialData!C26)/(FinancialData!C22+FinancialData!C19),\"NotKnown\")","v":-5.5748417398407191E-2},{"$f":"IF((FinancialData!D22+FinancialData!D19)<>0,(FinancialData!D26)/(FinancialData!D22+FinancialData!D19),\"NotKnown\")","v":-0.1768065557486963},{"$f":"IF((FinancialData!E22+FinancialData!E19)<>0,(FinancialData!E26)/(FinancialData!E22+FinancialData!E19),\"NotKnown\")","v":0.12302645068689769},{"$f":"IF((FinancialData!F22+FinancialData!F19)<>0,(FinancialData!F26)/(FinancialData!F22+FinancialData!F19),\"NotKnown\")","v":0.12751588983050846},{"$f":"IF((FinancialData!G22+FinancialData!G19)<>0,(FinancialData!G26)/(FinancialData!G22+FinancialData!G19),\"NotKnown\")","v":7.7268003741037108E-2}]

{"sheet":"RangeQtyBrks","index":22,"n_rows":12,"n_cols":6,"rows_kept":12,"cut":false,"hidden":false,"merged":[]}
[]
[]
["1. Unit ranges (i.e., 1-5  6-10 etc)","1-49","50-99","100-149","150-199","200-250"]
["2. Price per unit",8,7,6.8,6.7,6]
["3. Total price per order",{"$f":"IF(B4<>0,(LEFT(B3,(SEARCH(\"-\",B3,1)-1))*B4),0)","v":8},{"$f":"IF(C4<>0,(LEFT(C3,(SEARCH(\"-\",C3,1)-1))*C4),0)","v":350},{"$f":"IF(D4<>0,(LEFT(D3,(SEARCH(\"-\",D3,1)-1))*D4),0)","v":680},{"$f":"IF(E4<>0,(LEFT(E3,(SEARCH(\"-\",E3,1)-1))*E4),0)","v":1005},{"$f":"IF(F4<>0,(LEFT(F3,(SEARCH(\"-\",F3,1)-1))*F4),0)","v":1200}]
["4. Max units to order",{"$f":"IF(B5>0,INT(C5/B4),0)","v":43},{"$f":"IF(C5>0,INT(D5/C4),0)","v":97},{"$f":"IF(D5>0,INT(E5/D4),0)","v":147},{"$f":"IF(E5>0,INT(F5/E4),0)","v":179},{"$f":"IF(F5>0,INT(G5/F4),0)","v":0}]
["6. Price diff between max order",{"$f":"B4*B6","v":344},{"$f":"C4*C6","v":679},{"$f":"D4*D6","v":999.6},{"$f":"E4*E6","v":1199.3},{"$f":"F4*F6","v":0}]
["7. Qty diff between max units to order",{"$f":"B7","v":344},{"$f":"IF(C7<>0,C7-B7,0)","v":335},{"$f":"IF(D7<>0,D7-C7,0)","v":320.60000000000002},{"$f":"IF(E7<>0,E7-D7,0)","v":199.69999999999993},{"$f":"IF(F7<>0,F7-E7,0)","v":0}]
["8. Price per unit per order qty diff",{"$f":"B6","v":43},{"$f":"IF(C6<>0,C6-B6,0)","v":54},{"$f":"IF(D6<>0,D6-C6,0)","v":50},{"$f":"IF(E6<>0,E6-D6,0)","v":32},{"$f":"IF(F6<>0,F6-E6,0)","v":0}]
["9. Per unit price diff at breaks",{"$f":"IF(B9>0,B8/B9,0)","v":8},{"$f":"IF(C9>0,C8/C9,0)","v":6.2037037037037033},{"$f":"IF(D9>0,D8/D9,0)","v":6.4120000000000008},{"$f":"IF(E9>0,E8/E9,0)","v":6.2406249999999979},{"$f":"IF(F9>0,F8/F9,0)","v":0}]
["10. Percentage price reduction","-",{"$f":"B10-C10","v":1.7962962962962967},{"$f":"C10-D10","v":-0.20829629629629753},{"$f":"D10-E10","v":0.17137500000000294},{"$f":"E10-F10","v":6.2406249999999979}]
[null,"-",{"$f":"IF(B10<>0,(B10-C10)/B10,0)","v":0.22453703703703709},{"$f":"IF(C10<>0,(C10-D10)/C10,0)","v":-3.3576119402985279E-2},{"$f":"IF(D10<>0,(D10-E10)/D10,0)","v":2.6727230193387855E-2},{"$f":"IF(E10<>0,(E10-F10)/E10,0)","v":1}]

{"sheet":"SavingWork","index":23,"n_rows":0,"n_cols":0,"rows_kept":0,"cut":false,"hidden":false,"merged":[]}

{"sheet":"Solvency","index":24,"n_rows":10,"n_cols":7,"rows_kept":10,"cut":false,"hidden":false,"merged":[]}
[]
["Ratios","Method of Calculation",{"$f":"FinancialData!C4","v":"Supplier #1 \n20xx"},{"$f":"FinancialData!D4","v":"Supplier #1 \n20xx-1"},{"$f":"FinancialData!E4","v":"Supplier #2 \n20xx"},{"$f":"FinancialData!F4","v":"Supplier #2 \n20xx-1"},{"$f":"FinancialData!G4","v":"Industry Norm \n20xx"}]
["Quick Ratio",null,{"$f":"IF(FinancialData!C18<>0,(FinancialData!C5+FinancialData!C6)/FinancialData!C18,\"NotKnown\")","v":0.46711074104912575},{"$f":"IF(FinancialData!D18<>0,(FinancialData!D5+FinancialData!D6)/FinancialData!D18,\"NotKnown\")","v":0.70156918687589154},{"$f":"IF(FinancialData!E18<>0,(FinancialData!E5+FinancialData!E6)/FinancialData!E18,\"NotKnown\")","v":1.3018672199170125},{"$f":"IF(FinancialData!F18<>0,(FinancialData!F5+FinancialData!F6)/FinancialData!F18,\"NotKnown\")","v":1.0128579777907656},{"$f":"IF(FinancialData!G18<>0,(FinancialData!G5+FinancialData!G6)/FinancialData!G18,\"NotKnown\")","v":1.1141315625648476}]
["Current Ratio",null,{"$f":"IF(FinancialData!C18<>0,FinancialData!C10/FinancialData!C18,\"NotKnown\")","v":1.1459894532334165},{"$f":"IF(FinancialData!D18<>0,FinancialData!D10/FinancialData!D18,\"NotKnown\")","v":1.4031383737517831},{"$f":"IF(FinancialData!E18<>0,FinancialData!E10/FinancialData!E18,\"NotKnown\")","v":2.4585062240663902},{"$f":"IF(FinancialData!F18<>0,FinancialData!F10/FinancialData!F18,\"NotKnown\")","v":1.5528930450029224},{"$f":"IF(FinancialData!G18<>0,FinancialData!G10/FinancialData!G18,\"NotKnown\")","v":2.1680846648682301}]
["Current Liabilities to Net Worth",null,{"$f":"IF(FinancialData!C22<>0,FinancialData!C18/FinancialData!C22,\"NotKnown\")","v":1.2078444518940663},{"$f":"IF(FinancialData!D22<>0,FinancialData!D18/FinancialData!D22,\"NotKnown\")","v":1.5577777777777777},{"$f":"IF(FinancialData!E22<>0,FinancialData!E18/FinancialData!E22,\"NotKnown\")","v":0.49729172040237296},{"$f":"IF(FinancialData!F22<>0,FinancialData!F18/FinancialData!F22,\"NotKnown\")","v":1.6196516471033697},{"$f":"IF(FinancialData!G22<>0,FinancialData!G18/FinancialData!G22,\"NotKnown\")","v":0.62829204693611473}]
["Current Liabilities to Inventory",null,{"$f":"IF(FinancialData!C8<>0,FinancialData!C18/FinancialData!C8,\"NotKnown\")","v":1.8051102204408818},{"$f":"IF(FinancialData!D8<>0,FinancialData!D18/FinancialData!D8,\"NotKnown\")","v":1.8733297701763763},{"$f":"IF(FinancialData!E8<>0,FinancialData!E18/FinancialData!E8,\"NotKnown\")","v":0.98871794871794871},{"$f":"IF(FinancialData!F8<>0,FinancialData!F18/FinancialData!F8,\"NotKnown\")","v":2.263227513227513},{"$f":"IF(FinancialData!G8<>0,FinancialData!G18/FinancialData!G8,\"NotKnown\")","v":1.0708888888888888}]
["Total Liabilities to Net Worth",null,{"$f":"IF(FinancialData!C22<>0,(FinancialData!C23-FinancialData!C22)/FinancialData!C22,\"NotKnown\")","v":2.480388870264834},{"$f":"IF(FinancialData!D22<>0,(FinancialData!D23-FinancialData!D22)/FinancialData!D22,\"NotKnown\")","v":3.78},{"$f":"IF(FinancialData!E22<>0,(FinancialData!E23-FinancialData!E22)/FinancialData!E22,\"NotKnown\")","v":0.7668300232138251},{"$f":"IF(FinancialData!F22<>0,(FinancialData!F23-FinancialData!F22)/FinancialData!F22,\"NotKnown\")","v":2.059447179098826},{"$f":"IF(FinancialData!G22<>0,(FinancialData!G23-FinancialData!G22)/FinancialData!G22,\"NotKnown\")","v":0.8829204693611471}]
["Fixed Assets to Net Worth",null,{"$f":"IF(FinancialData!C22<>0,(FinancialData!C11)/FinancialData!C22,\"NotKnown\")","v":1.5879986590680524},{"$f":"IF(FinancialData!D22<>0,(FinancialData!D11)/FinancialData!D22,\"NotKnown\")","v":2.1977777777777776},{"$f":"IF(FinancialData!E22<>0,(FinancialData!E11)/FinancialData!E22,\"NotKnown\")","v":0.43590404952282691},{"$f":"IF(FinancialData!F22<>0,(FinancialData!F11)/FinancialData!F22,\"NotKnown\")","v":0.41177584248390758},{"$f":"IF(FinancialData!G22<>0,(FinancialData!G11)/FinancialData!G22,\"NotKnown\")","v":0.33585397653194266}]
["Days' Sales Outstanding",null,{"$f":"IF(FinancialData!C24<>0,(FinancialData!C6*365)/FinancialData!C24,\"NotKnown\")","v":44.579917166765277},{"$f":"IF(FinancialData!D24<>0,(FinancialData!D6*365)/FinancialData!D24,\"NotKnown\")","v":35.866645244215938},{"$f":"IF(FinancialData!E24<>0,(FinancialData!E6*365)/FinancialData!E24,\"NotKnown\")","v":45.625},{"$f":"IF(FinancialData!F24<>0,(FinancialData!F6*365)/FinancialData!F24,\"NotKnown\")","v":149.89065284302606},{"$f":"IF(FinancialData!G24<>0,(FinancialData!G6*365)/FinancialData!G24,\"NotKnown\")","v":45.342268371337738}]
["Inventory Turnover",null,{"$f":"IF(FinancialData!C8<>0,(FinancialData!C24-FinancialData!C25)/FinancialData!C8,\"NotKnown\")","v":4.9659318637274552},{"$f":"IF(FinancialData!D8<>0,(FinancialData!D24-FinancialData!D25)/FinancialData!D8,\"NotKnown\")","v":7.1838588989845},{"$f":"IF(FinancialData!E8<>0,(FinancialData!E24-FinancialData!E25)/FinancialData!E8,\"NotKnown\")","v":7.1794871794871797},{"$f":"IF(FinancialData!F8<>0,(FinancialData!F24-FinancialData!F25)/FinancialData!F8,\"NotKnown\")","v":3.4882275132275136},{"$f":"IF(FinancialData!G8<>0,(FinancialData!G24-FinancialData!G25)/FinancialData!G8,\"NotKnown\")","v":4.3641755555555557}]

{"sheet":"SourcingSavingsBy","index":25,"n_rows":16,"n_cols":4,"rows_kept":16,"cut":false,"hidden":false,"merged":[]}
[]
[]
["Scenario #1","Sourcing Saving in Earnings Per Share"]
[null,null,10500000,"Cost Savings"]
[null,null,400000000,"Number of Shares"]
[null,null,{"$f":"IF(C5>0,C4/C5, \"NA\")","v":2.6249999999999999E-2},"Cost Savings Stated in Earnings per Share (EPS)"]
[]
["Scenario #2","Sourcing Savings in Terms of Return on Investment"]
[null,null,4000000,"Cost Savings"]
[null,null,20000000,"Invested Capital"]
[null,null,{"$f":"IF(C10>0,C9/C10,\"NA\")","v":0.2},"Cost Savings Stated in Return on Investment (ROI)"]
[]
["Scenario #3","Sourcing Savings in Terms of Increased Sales"]
[null,null,500000,"Cost Savings"]
[null,null,8,"Percent Operating Profit"]
[null,null,{"$f":"IF(C15>0,C14/(C15/100),\"NA\")","v":6250000},"Additional sales needed to generate the same operating income as the cost savings."]

{"sheet":"ExperienceCurve","index":26,"n_rows":10,"n_cols":6,"rows_kept":10,"cut":false,"hidden":false,"merged":[]}
[]
[null,"First\nOrder","Potential Order Data Entry Table"]
["Experience Effect Rate (EER)",0.9,"# 1","# 2","# 3","# 4"]
["Cumulative Number of Units",50,100,150,200,250]
["Cumulative Average Unit Price",8,{"$f":"ROUND((($B$5)/(($B$4^(LOG($B$3)/LOG(2)))))*((C4)^(LOG($B$3)/LOG(2))),6)","v":7.2},6.7696480000000001,6.48,6.2638939999999996]
["Total Cost ",{"$f":"B4*B5","v":400},720,1015.4472000000001,1296,1565.9734999999998]
["Total Cost from 1st Quantity",null,{"$f":"$B$4*$B$5","v":400},400,400,400]
["Total Cost for Next Quantity",null,{"$f":"C6-C7","v":320},615.44720000000007,896,1165.9734999999998]
["Incremental Quantity",null,{"$f":"C4-$B$4","v":50},100,150,200]
["Average Price for Next Quantity",null,{"$f":"IF(C9>0,ROUND(C8/C9,2),\"N.A\")","v":6.4},6.15,5.97,5.83]

{"sheet":"SpecificQtyBrks","index":27,"n_rows":10,"n_cols":6,"rows_kept":10,"cut":false,"hidden":false,"merged":[]}
[2]
[]
["1. No. units per order",50,100,150,200,250]
["2. Price per unit",8,7,6.8,6.7,6.64]
["3. Total price per order",{"$f":"B3*B4","v":400},{"$f":"C3*C4","v":700},{"$f":"D3*D4","v":1020},{"$f":"E3*E4","v":1340},{"$f":"F3*F4","v":1660}]
["4. Price diff between orders",{"$f":"B5","v":400},{"$f":"C5-B5","v":300},{"$f":"D5-C5","v":320},{"$f":"E5-D5","v":320},{"$f":"F5-E5","v":320}]
["5. Quantity diff between orders",{"$f":"B3","v":50},{"$f":"C3-B3","v":50},{"$f":"D3-C3","v":50},{"$f":"E3-D3","v":50},{"$f":"F3-E3","v":50}]
["6. Price per unit order qty diff",{"$f":"IF(B7<>0,B6/B7,0)","v":8},{"$f":"IF(C7<>0,C6/C7,0)","v":6},{"$f":"IF(D7<>0,D6/D7,0)","v":6.4},{"$f":"IF(E7<>0,E6/E7,0)","v":6.4},{"$f":"IF(F7<>0,F6/F7,0)","v":6.4}]
["7. Per unit price diff at breaks","-",{"$f":"B8-C8","v":2},{"$f":"C8-D8","v":-0.40000000000000036},{"$f":"D8-E8","v":0},{"$f":"E8-F8","v":0}]
["8. Percentage price reduction","-",{"$f":"IF(B8<>0,(C9/B8),0)","v":0.25},{"$f":"IF(C8<>0,(D9/C8),0)","v":-6.6666666666666721E-2},{"$f":"IF(D8<>0,(E9/D8),0)","v":0},{"$f":"IF(E8<>0,(F9/E8),0)","v":0}]

{"sheet":"SPI","index":28,"n_rows":16,"n_cols":10,"rows_kept":16,"cut":false,"hidden":false,"merged":[]}
[]
[]
["Red Line SPI for this Commodity",null,null,1.25]
[null,null,null,"Suppliers or Measurement Periods 1-7"]
["Perfrmnce Measmnts",null," $ per \nevent",1,2,3,4,5,6,7]
["Quality","Rejections",1000,1,2,1,0,2]
["Delivery","Early",100,30,18,24,26,25]
[null,"Late",500,20,20,15,15,8]
["Quantity","Under",500,5,0,1,1,1]
[null,"Over",100,4,2,1,0,2]
["       Total Non-Productive Costs",null,null,{"$f":"$C$6*D6+$C$7*D7+$C$8*D8+$C$9*D9+$C$10*D10","v":16900},{"$f":"$C$6*E6+$C$7*E7+$C$8*E8+$C$9*E9+$C$10*E10","v":14000},11500,10600,9200,0,0]
["   All Supplier Commmodity Lot Ave.",null,null,18500,19365,18697,19345,16958]
["Specific Supplier Commodity Lot Ave.",null,null,13750,18333,19954,18975,15698]
["Total Value of Lots This supplier",null,null,45000,55000,51000,48750,42800]
[null,"SPI for This Supplier",null,{"$f":"IF(AND(D12>0,D14>0),(D14+D11*(D13/D12))/D14,\"N.A.\")","v":1.2791291291291291},1.2409802126610803,1.2406499102823458,1.213277133825079,1.1989819818727521,"N.A.",{"$f":"IF(AND(J12>0,J14>0),(J14+J11*(J13/J12))/J14,\"N.A.\")","v":"N.A."}]
[null,null,null,{"$f":"$D$3","v":1.25},1.25,1.25,1.25,1.25,1.25]

{"sheet":"StanfordB","index":29,"n_rows":26,"n_cols":12,"rows_kept":26,"cut":false,"hidden":false,"merged":[]}
[]
[]
[null,"Existing Design Data"]
["Learning  Curve ",0.83]
["Number of Units",50]
["Fixed Cost/Unit",0.2]
["Mat'l Cost/Unit",3.83]
["Labor Rate",20.23]
["Ov'hd % D.L.",391.24]
["Profit % T.C.",8.18]
["L.C. Ave Hrs/Unit",3.3845391126890598E-2]
["Unit Price",{"$f":"B13/B5","v":7.99826911999999}]
["Total Price",{"$f":"(((B5)*(B6+B7)+(B8*B11*B5)*(1+(B9/100))))*(1+(B10/100))","v":399.91345599999948}]
[null,1,2,3,4,5,6,7,8,9,10,11]
[null,{"$f":"$B$11/($B$5^(LOG($B$4)/LOG(2)))","v":9.6874873079320814E-2},{"$f":"$B$11/($B$5^(LOG($B$4)/LOG(2)))*(C14^(LOG($B$4)/LOG(2)))","v":8.0406144655836273E-2},7.2102937343469106E-2,6.6737100064344107E-2,6.2851593894708971E-2,5.9845437995079361E-2,5.7416224435858032E-2,5.5391793053405601E-2,5.3665449133537928E-2,5.2166822932608437E-2,5.0847234890123917E-2]
["Units of New Design ",50]
["B-Factor","#1","#2","#3","#4","#5","#6","#7","#8","#9","#10"]
["B-Hours",{"$f":"C15","v":8.0406144655836273E-2},7.2102937343469106E-2,6.6737100064344107E-2,6.2851593894708971E-2,5.9845437995079361E-2,5.7416224435858032E-2,5.5391793053405601E-2,5.3665449133537928E-2,5.2166822932608437E-2,5.0847234890123917E-2]
["B-Ave. Hrs/Unit",{"$f":"B18*($B$16^(LOG($B$4)/LOG(2)))","v":2.8091674635319197E-2},2.5190764521458998E-2,2.3316089947314933E-2,2.1958601964548023E-2,2.0908334552810968E-2,2.0059634777222387E-2,1.9352354656271394E-2,1.8749218018976294E-2,1.8225639630574855E-2,1.776461220411632E-2]
["Fixed Cost/Unit",0.2,0.2,0.2,0.2,0.2,0.2,0.2,0.2,0.2,0.2]
["Mat'l Cost/Unit",3.83,3.83,3.83,3.83,3.83,3.83,3.83,3.83,3.83,3.83]
["Labor Rate",20.23,20.23,20.23,20.23,20.23,20.23,20.23,20.23,20.23,20.23]
["Ov'hd % D.L.",391.24,391.24,391.24,391.24,391.24,391.24,391.24,391.24,391.24,391.24]
["Profit % T.C.",8.18,8.18,8.18,8.18,8.18,8.18,8.18,8.18,8.18,8.18]
["B-Ave Price/Unit",{"$f":"B26/$B$16","v":7.3797045495999916},7.0678365211739207,6.8662959561679928,6.7203565495056319,6.6074454925743531,6.5162043594989658,6.4401668236194345,6.3753254371021351,6.3190371160896737,6.2694734588591361]
["B-Total Price",{"$f":"(($B$16*B21)+(B19*B22*$B$16)*(1+(B23/100))+($B$16*B20))*(1+(B24/100))","v":368.98522747999959},353.39182605869604,343.31479780839965,336.01782747528159,330.37227462871766,325.81021797494827,322.00834118097174,318.76627185510677,315.95185580448367,313.4736729429568]

{"sheet":"TheoreticalMinCp","index":30,"n_rows":14,"n_cols":4,"rows_kept":14,"cut":false,"hidden":false,"merged":[]}
[]
[]
["Tag #","#1","#2","#3"]
["Price per unit weight (tons, lbs, kg, g,...)",0.21,0.21,0.21]
["Density (mass/volume)",0.28360000000000002,0.28360000000000002,0.28360000000000002]
["Actual Length",10800,10800,10800]
["Actual Weight",6875.6,6985.4,6885.2]
["Ordering Data"]
["Width",36,36,36]
["Thickness",0.06,0.06,0.06]
["Theoretical Weight",{"$f":"B6*B9*B10*B5","v":6615.8208000000004},{"$f":"C6*C9*C10*C5","v":6615.8208000000004},{"$f":"D6*D9*D10*D5","v":6615.8208000000004}]
["Theoretical Length",{"$f":"IF((B5*B9*B10)>0,(B7/(B5*B9*B10)),\"NA\")","v":11224.076685994882},{"$f":"IF((C5*C9*C10)>0,(C7/(C5*C9*C10)),\"NA\")","v":11403.319751345138},{"$f":"IF((D5*D9*D10)>0,(D7/(D5*D9*D10)),\"NA\")","v":11239.748210834246}]
["Weight Difference (Theoretical - Actual)",{"$f":"B11-B7","v":-259.77919999999995},{"$f":"C11-C7","v":-369.57919999999922},{"$f":"D11-D7","v":-269.3791999999994}]
["Savings (Premium) per Coil",{"$f":"B13*B4","v":-54.553631999999986},{"$f":"C13*C4","v":-77.61163199999983},{"$f":"D13*D4","v":-56.569631999999871}]

{"sheet":"TheoreticalMinUWR","index":31,"n_rows":13,"n_cols":4,"rows_kept":13,"cut":false,"hidden":false,"merged":[]}
[3]
[]
["Tag #","#1","#2","#3"]
["Price per unit weight (tons, lbs, kg, g,...)",0.26500000000000001,0.26500000000000001,0.26500000000000001]
["Density (mass/volume)",0.28360000000000002,0.28360000000000002,0.28360000000000002]
["Wire/Rod Length",36000,36000,36000]
["Wire/Rod Weight",2158.3000000000002,2098.4,2205.6999999999998]
["Ordering Data"]
["Guage (diameter)",0.5,0.5,0.5]
[]
["Theoretical Weight",{"$f":"B5*B6*(PI()*((B9/2)^2))","v":2004.650272255647},{"$f":"C5*C6*(PI()*((C9/2)^2))","v":2004.650272255647},{"$f":"D5*D6*(PI()*((D9/2)^2))","v":2004.650272255647}]
["Weight Difference (Theoretical - Actual)",{"$f":"B11-B7","v":-153.64972774435319},{"$f":"C11-C7","v":-93.749727744353095},{"$f":"D11-D7","v":-201.04972774435282}]
["Savings (Premium) per Reel",{"$f":"B12*B4","v":-40.717177852253599},{"$f":"C12*C4","v":-24.84367785225357},{"$f":"D12*D4","v":-53.278177852253499}]

{"sheet":"TheoreticalMinWt","index":32,"n_rows":14,"n_cols":4,"rows_kept":14,"cut":false,"hidden":false,"merged":[]}
[7]
[]
["Tag #","# 1","# 2","# 3"]
["Price per unit weight (tons, lbs, kg, g,...)",0.21,0.21,0.21]
["Density (mass/volume)",0.28399999999999997,0.28360000000000002,0.28360000000000002]
["Number of Sheets per Bundle",30,30,30]
["Actual Weight",1258.5,1196.3,1196.3]
["Ordering Data"]
["Thickness",0.06,0.06,0.06]
["Width",36,36,36]
["Length",60,60,60]
["Theoretical Weight",{"$f":"B9*B10*B11*B5*B6","v":1104.192},{"$f":"C9*C10*C11*C5*C6","v":1102.6368000000004},{"$f":"D9*D10*D11*D5*D6","v":1102.6368000000004}]
["Weight Difference (Theoretical- Actual)",{"$f":"B12-B7","v":-154.30799999999999},{"$f":"C12-C7","v":-93.663199999999506},{"$f":"D12-D7","v":-93.663199999999506}]
["Savings (Premium) per Bundle",{"$f":"B13*B4","v":-32.404679999999999},{"$f":"C13*C4","v":-19.669271999999896},{"$f":"D13*D4","v":-19.669271999999896}]

{"sheet":"TheoreticalMinRebar","index":33,"n_rows":13,"n_cols":4,"rows_kept":13,"cut":false,"hidden":false,"merged":[]}
[3]
[]
["Tag #","#1","#2","#3"]
["Price per unit weight (tons, lbs, kg, g,...)",0.4,0.4,0.4]
["Density (mass/volume)",0.28360000000000002,0.28360000000000002,0.28360000000000002]
["Bar/Rebar Length",36000,36000,36000]
["Bar/Rebar Weight",2214,2004.5,1999.75]
["Ordering Data"]
["Guage (diameter)",0.5,0.5,0.5]
[]
["Theoretical Weight",{"$f":"B5*B6*(PI()*((B9/2)^2))","v":2004.650272255647},{"$f":"C5*C6*(PI()*((C9/2)^2))","v":2004.650272255647},{"$f":"D5*D6*(PI()*((D9/2)^2))","v":2004.650272255647}]
["Weight Difference (Theoretical - Actual)",{"$f":"B11-B7","v":-209.349727744353},{"$f":"C11-C7","v":0.1502722556469962},{"$f":"D11-D7","v":4.9002722556469962}]
["Savings (Premium) for Rebar Bundles",{"$f":"B12*B4","v":-83.739891097741207},{"$f":"C12*C4","v":6.0108902258798481E-2},{"$f":"D12*D4","v":1.9601089022587985}]

{"sheet":"ThruPut","index":34,"n_rows":27,"n_cols":8,"rows_kept":27,"cut":false,"hidden":false,"merged":[]}
[]
[]
[null,"#1","#2","#3","#4","# 5","# 6","# 7"]
["SheduledTime",600,600,600,600,600,600,600]
["Units Produced",300,325,340,360,360,360,360]
["DownTime",75,58,49.15,32,32,32,32]
["Number of Defects",50,45,35,18,18,18,18]
["Theoretical Cycle Time",1.5,1.5,1.5,1.5,1.5,1.5,1.5]
["Availability",{"$f":"IF(B4<>0,(B4-B6)/B4,\"NA\")","v":0.875},0.90333333333333332,0.91808333333333336,0.94666666666666666,0.94666666666666666,0.94666666666666666,0.94666666666666666]
["Performance",{"$f":"IF((B4-B6)>0,(B8*B5)/(B4-B6),\"NA\")","v":0.8571428571428571},0.89944649446494462,0.92584188072978124,0.95070422535211263,0.95070422535211263,0.95070422535211263,0.95070422535211263]
["Quality",{"$f":"IF(B5>0,(B5-B7)/B5, \"NA\")","v":0.83333333333333337},0.86153846153846159,0.8970588235294118,0.95,0.95,0.95,0.95]
["Overall Effectiveness",{"$f":"B9*B10*B11","v":0.625},0.70000000000000007,0.76249999999999996,0.85499999999999987,0.85499999999999987,0.85499999999999987,0.85499999999999987]
[]
[]
[]
[]
[]
[]
[]
[]
[]
[]
[]
[]
[]
[]
["Percent"]

{"sheet":"ValueIndices","index":35,"n_rows":14,"n_cols":15,"rows_kept":14,"cut":false,"hidden":false,"merged":[]}
[]
[]
[]
[]
[]
[]
[]
[null,"Period",1,2,3,4,5,6,7,8,9,10,11,12,13]
[null,"Price",7600,6950,6950,6950,6250,6250,6250,6250,6250,6250,6250,6250]
[null,"Quality",1.66,1.66,1.66,2,2,2,2,2,2,2,2,2]
[null,"Cycle Time",0.9,0.9,0.9,0.9,0.9,0.9,0.9,0.9,0.9,0.9,0.9,0.9]
[null,"Value"]
[null,"Value Index",1,1.0935251798561152,1.0935251798561152,1.3175002166941145,1.4650602409638556,1.4650602409638556,1.4650602409638556,1.4650602409638556,1.4650602409638556,1.4650602409638556,1.4650602409638556,1.4650602409638556,0]
[null,null,{"$f":"$C$13","v":1},1,1,1,1,1,1,1,1,1,1,1]

{"sheet":"ValueProductivity","index":36,"n_rows":16,"n_cols":9,"rows_kept":16,"cut":false,"hidden":false,"merged":[]}
[]
[]
[null,null,"Suppliers or Measurement Periods 1-7"]
["Price Productivity",null,1,2,3,4,5,6,7]
[null,"PriceInitial",28,27,26]
[null,"Deflated Prices",24,23,24]
[null,"Supplier Investment",0.5,0.5,10]
[null,"PriceFinal",{"$f":"C6-C7","v":23.5},{"$f":"D6-D7","v":22.5},14,0,0,0,0]
["Value Productivity",null,1,2,3,4,5,6,7]
[null,"Quality Improvement",0.25,0.25,0.25]
[null,"Delivery Improvement",0.1,0.1,0.1]
[null,"Resource Shift",0.05,0.05,0.05]
[null,"Supplier Suggestions",0.25,0.25,0.25]
[null,"Material Usage",1.25,1.25,0]
[null,"Total Supplier Productivity ($)",{"$f":"SUM(C10:C14)","v":1.9},{"$f":"SUM(D10:D14)","v":1.9},0.64999999999999991,0,0,0,0]
[null,"Total Supplier Productivity (%)",{"$f":"IF(C5>0,(1-((C8-C15)/(C5))), 0)","v":0.22857142857142854},0.23703703703703694,0.48653846153846159,0,0,0,0]

{"sheet":"EnergyCosts","index":37,"n_rows":17,"n_cols":4,"rows_kept":17,"cut":false,"hidden":false,"merged":[]}
["b"]
[]
["Scenario #1 Purchased Fuels Consumed *"]
["Scenario #2 Purchased Electricity"]
["Scenario #3 Purchased Fuels * and Electricity"]
["The highlighted 'yellow' cells are obtained from the SourcingApps data base for NAICS code 3231 Printing and related support activities for 2019","Scenario #1\nFuels Consumed","Scenario #2\nElectricity","Scenario #3\nFuels &\nElectricity"]
["Current Unit Price ($)",1,1,1]
["New Unit Price ($) Due to Increased Energy Cost",1.1000000000000001,1.1000000000000001,1.1000000000000001]
["Increased Energy Cost contained in the New Unit Price",{"$f":"IF(B7>0,((B8-B7)/B7),\"N.A.\")","v":0.10000000000000009},{"$f":"IF(C7>0,((C8-C7)/C7),\"N.A.\")","v":0.10000000000000009},{"$f":"IF(D7>0,((D8-D7)/D7),\"N.A.\")","v":0.10000000000000009}]
["Total Value of Shipments-ASM ($1,000's) or Net Sales Billed",81224810,81224810,81224810]
["Purchased Energy-ASM ($1,000's) or Supplier Provided",273451,880014,1153465]
["Energy Costs as a % of Total Value of Shipments or Net Sales ",{"$f":"IF(AND(ISNUMBER(B10),ISNUMBER(B11),B10>0),B11/B10,\"N.A.\")","v":3.3665945171185998E-3},{"$f":"IF(AND(ISNUMBER(C10),ISNUMBER(C11),C10>0),C11/C10,\"N.A.\")","v":1.0834300504981175E-2},{"$f":"IF(AND(ISNUMBER(D10),ISNUMBER(D11),D10>0),D11/D10,\"N.A.\")","v":1.4200895022099775E-2}]
["% Energy Surchage Needed to Offset Increased Energy Costs",{"$f":"IF(AND(ISNUMBER(B9),ISNUMBER(B12)),B9*B12,\"N.A.\")","v":3.366594517118603E-4},{"$f":"IF(AND(ISNUMBER(C9),ISNUMBER(C12)),C9*C12,\"N.A.\")","v":1.0834300504981185E-3},{"$f":"IF(AND(ISNUMBER(D9),ISNUMBER(D12)),D9*D12,\"N.A.\")","v":1.4200895022099787E-3}]
["Unit Price ($) Increase Needed to Offset Increased Energy Cost ",{"$f":"IF(AND(ISNUMBER(B7),ISNUMBER(B13)),B7*B13,\"N.A.\")","v":3.366594517118603E-4},{"$f":"IF(AND(ISNUMBER(C7),ISNUMBER(C13)),C7*C13,\"N.A.\")","v":1.0834300504981185E-3},{"$f":"IF(AND(ISNUMBER(D7),ISNUMBER(D13)),D7*D13,\"N.A.\")","v":1.4200895022099787E-3}]
["Actual Unit Price ($) to cover Increased Energy Cost",{"$f":"IF(AND(ISNUMBER(B7),ISNUMBER(B14)),B7+B14,\"N.A.\")","v":1.0003366594517118},{"$f":"IF(AND(ISNUMBER(C7),ISNUMBER(C14)),C7+C14,\"N.A.\")","v":1.001083430050498},{"$f":"IF(AND(ISNUMBER(D7),ISNUMBER(D14)),D7+D14,\"N.A.\")","v":1.0014200895022101}]
["Cost Avoidance Savings ($) Per Unit “New Price” versus “Actual Price”",{"$f":"IF(AND(ISNUMBER(B8),ISNUMBER(B15)),B8-B15,\"N.A.\")","v":9.9663340548288293E-2},{"$f":"IF(AND(ISNUMBER(C8),ISNUMBER(C15)),C8-C15,\"N.A.\")","v":9.8916569949502042E-2},{"$f":"IF(AND(ISNUMBER(D8),ISNUMBER(D15)),D8-D15,\"N.A.\")","v":9.8579910497790024E-2}]
["* The cost of fuels purchased for generation of heat or power. Excludes fuels that may be used as materials for production (e.g., natural gas feedstock for petrochemical production)."]

{"sheet":"Z-Scores","index":38,"n_rows":9,"n_cols":7,"rows_kept":9,"cut":false,"hidden":false,"merged":[]}
[]
["Ratios","Method of Calculation",{"$f":"FinancialData!C4","v":"Supplier #1 \n20xx"},{"$f":"FinancialData!D4","v":"Supplier #1 \n20xx-1"},{"$f":"FinancialData!E4","v":"Supplier #2 \n20xx"},{"$f":"FinancialData!F4","v":"Supplier #2 \n20xx-1"},{"$f":"FinancialData!G4","v":"Industry Norm \n20xx"}]
["X1",null,{"$f":"IF(FinancialData!C13<>0,(FinancialData!C28)/FinancialData!C13,\"NotKnown\")","v":5.0664611828164133E-2},{"$f":"IF(FinancialData!D13<>0,(FinancialData!D28)/FinancialData!D13,\"NotKnown\")","v":0.13138075313807532},{"$f":"IF(FinancialData!E13<>0,(FinancialData!E28)/FinancialData!E13,\"NotKnown\")","v":0.41051094890510947},{"$f":"IF(FinancialData!F13<>0,(FinancialData!F28)/FinancialData!F13,\"NotKnown\")","v":0.29269801980198018},{"$f":"IF(FinancialData!G13<>0,(FinancialData!G28)/FinancialData!G13,\"NotKnown\")","v":0.38976596039329731}]
["X2",null,{"$f":"IF(FinancialData!C13<>0,FinancialData!C31/FinancialData!C13,\"NotKnown\")","v":7.195145444037758E-2},{"$f":"IF(FinancialData!D13<>0,FinancialData!D31/FinancialData!D13,\"NotKnown\")","v":0.14821013482101347},{"$f":"IF(FinancialData!E13<>0,FinancialData!E31/FinancialData!E13,\"NotKnown\")","v":0.12963503649635036},{"$f":"IF(FinancialData!F13<>0,FinancialData!F31/FinancialData!F13,\"NotKnown\")","v":0.40222772277227725},{"$f":"IF(FinancialData!G13<>0,FinancialData!G31/FinancialData!G13,\"NotKnown\")","v":4.2728153995291507E-2}]
["X3",null,{"$f":"IF(FinancialData!C13<>0,(FinancialData!C25)/FinancialData!C13,\"NotKnown\")","v":0.18483914467347332},{"$f":"IF(FinancialData!D13<>0,(FinancialData!D25)/FinancialData!D13,\"NotKnown\")","v":0.19702463970246398},{"$f":"IF(FinancialData!E13<>0,(FinancialData!E25)/FinancialData!E13,\"NotKnown\")","v":0.58394160583941601},{"$f":"IF(FinancialData!F13<>0,(FinancialData!F25)/FinancialData!F13,\"NotKnown\")","v":0.3300433168316832},{"$f":"IF(FinancialData!G13<>0,(FinancialData!G25)/FinancialData!G13,\"NotKnown\")","v":0.85022850020772744}]
["X4",null,{"$f":"IF((FinancialData!C23-FinancialData!C22)<>0,(FinancialData!C32+FinancialData!C33+FinancialData!C34)/(FinancialData!C23-FinancialData!C22),\"NotKnown\")","v":0.66365204024640245},{"$f":"IF((FinancialData!D23-FinancialData!D22)<>0,(FinancialData!D32+FinancialData!D33+FinancialData!D34)/(FinancialData!D23-FinancialData!D22),\"NotKnown\")","v":0.8516862829788},{"$f":"IF((FinancialData!E23-FinancialData!E22)<>0,(FinancialData!E32+FinancialData!E33+FinancialData!E34)/(FinancialData!E23-FinancialData!E22),\"NotKnown\")","v":1.9778002018163472},{"$f":"IF((FinancialData!F23-FinancialData!F22)<>0,(FinancialData!F32+FinancialData!F33+FinancialData!F34)/(FinancialData!F23-FinancialData!F22),\"NotKnown\")","v":8.227615370472513E-2},{"$f":"IF((FinancialData!G23-FinancialData!G22)<>0,(FinancialData!G32+FinancialData!G33+FinancialData!G34)/(FinancialData!G23-FinancialData!G22),\"NotKnown\")","v":0.32191376255168347}]
["X5",null,{"$f":"IF(FinancialData!C13<>0,(FinancialData!C24)/FinancialData!C13,\"NotKnown\")","v":1.1395684839144673},{"$f":"IF(FinancialData!D13<>0,(FinancialData!D24)/FinancialData!D13,\"NotKnown\")","v":1.4467689446768945},{"$f":"IF(FinancialData!E13<>0,(FinancialData!E24)/FinancialData!E13,\"NotKnown\")","v":2.6277372262773722},{"$f":"IF(FinancialData!F13<>0,(FinancialData!F24)/FinancialData!F13,\"NotKnown\")","v":1.1459777227722774},{"$f":"IF(FinancialData!G13<>0,(FinancialData!G24)/FinancialData!G13,\"NotKnown\")","v":2.2100671652125743}]
["Z-Score Public","1.2X1+1.4X2+3.3X3+.6X4+1X5",{"$f":"1.2*C3+1.4*C4+3.3*C5+0.6*C6+1*C7","v":2.3092584558950962},{"$f":"1.2*D3+1.4*D4+3.3*D5+0.6*D6+1*D7","v":2.9731131179974151},{"$f":"1.2*E3+1.4*E4+3.3*E5+0.6*E6+1*E7","v":6.4155268364182749},{"$f":"1.2*F3+1.4*F4+3.3*F5+0.6*F6+1*F7","v":3.1988427961832313},{"$f":"1.2*G3+1.4*G4+3.3*G5+0.6*G6+1*G7","v":5.7365080414944494}]
["Z-Score Private",".717X1+.847X2+3.107X3+.42X4+.998X5",{"$f":"6.56*C3+3.26*C4+6.72*C5+1.05*C6","v":2.5058752895328507},{"$f":"0.717*D3+0.847*D4+3.107*D5+0.42*D6+0.998*D7","v":2.633473185387591},{"$f":"0.717*E3+0.847*E4+3.107*E5+0.42*E6+0.998*E7","v":5.6716016322081213},{"$f":"0.717*F3+0.847*F4+3.107*F5+0.42*F6+0.998*F7","v":2.7542376986648955},{"$f":"0.717*G3+0.847*G4+3.107*G5+0.42*G6+0.998*G7","v":5.2981637013352714}]

{"sheet":"MenuItems","index":39,"n_rows":43,"n_cols":6,"rows_kept":43,"cut":false,"hidden":false,"merged":[]}
["SDS_MenuBar","SubMenuOne","SubMenuTwo","Macro","SheetName","Include in Demo"]
["SDS-&Quotation Analysis","&Quanity Discount Analysis","&Specific Quanitities","SpecificQtyBreaks","SpecificQtyBrks",1]
[null,null,"&Range Quantities","RangeQtyBreaks","RangeQtyBrks"]
[null,"&Fixed/Variable Cost Calculator",null,"OpenFixed_Variable","PeqFdivQplusV"]
[null,"&Experience Effect",null,"OpenExperienceCurve","ExperienceCurve",1]
[null,"E&conomic Order Quantity",null,"OpenEOQ","EOQ",1]
["SDS-&Cost Analysis","&Fixed/Variable Cost Calculator",null,"OpenFixed_Variable","PeqFdivQplusV"]
[null,"&Price Productivity","&Calculator","PPScenario","PPCalculator",1]
[null,null,"&Macro","PrcProdTable","PPMacro"]
[null,null,"M&icro","OpenPPmicro","PPMicro"]
[null,"&Break-Even Analysis",null,"BreakEven","BreakEven"]
[null,"&Learning Curves","&Typical","Mod_MainControl.LearningCurve","LearningCurve"]
[null,null,"&Learning Curve Analysis","OpenLearningCurveAnalysis","LearnCurve",1]
[null,null,"&Stanford-B Analysis","OpenStanFordB","StanfordB"]
[null,"&Economic Production Quantity",null,"OpenEPQ","EPQ"]
[null,"&Yield Calculators","&Theoretical Minimum Weight","OpenTheoreticalMinWt","TheoreticalMinWt"]
[null,null,"T&heoretical Minimum Length (Coils)","OpenTheoreticalMinCp","TheoreticalMinCp"]
[null,null,"Th&eoretical Minimum Length (Reels)","OpenTheoreticalMinUWR","TheoreticalMinUWR"]
[null,"&Total Cost of Ownership(TOC)","&Cost Build Up Bid Factor for Items","OpenBidFactorCost","BidFactorCost"]
[null,null,"&Event Based Bid Factor for Items","OpenBidFactorEvent","BidFactorEvent"]
[null,null,"E&quipment TOC","OpenEquipmentTOC","EquipmentTOC"]
[null,null,"&International Purchasing TOC","OpenIntlPurchTOC","IntlPurchTOC"]
["SDS-&Performance Analysis","&Supplier Performance Index",null,"OpenSPI","SPI"]
[null,"&Throughput Analysis",null,"OpenThruPut","ThruPut"]
[null,"Value &Indices ",null,"OpenValueIndices","ValueIndices"]
[null,"Total Supplier &Productivity",null,"OpenValueProductivity","ValueProductivity"]
[null,"S&ourcing Performance Calculators","&Sourcing Savings by Earnings Per Share","OpenSourcingSavingsByEPS","SourcingSavingsBy"]
[null,null,"S&ourcing Savings by Return on Invested Capital","OpenSourcingSavingsByROI","SourcingSavingsBy"]
[null,null,"&Increased Sales to generate same savings","OpenSourcingSavingsBySales","SourcingSavingsBy"]
[null,"&Assessments","&Relationship","OpenAsmntRel","AsmntRel",1]
[null,null,"&Organizational","OpenAsmntOrg","AsmntOrg"]
[null,null,"&Team","OpenAsmntTeam","AsmntTeam"]
["SDS-Fi&nancial Analysis","&Payment Terms Calculators","&Payment Discount Calculator","OpenPaymentDiscount","PaymentDiscount",1]
[null,null,"&Extended Payment Terms Calculator","OpenExtendedTerms","ExtendedTerms",1]
[null,"&Financial Source",null,"FinancialData","FinancialData"]
[null,"S&olvency Ratios",null,"Solvency","Solvency"]
[null,"L&everage Ratios",null,"Leverage","Leverage"]
[null,"&Profitability Ratios",null,"Profitability","Profitability"]
[null,"&Z-Score Analysis",null,"Z_Scores","Z-Scores"]
["SDS-I&nfo","&Support Information",null,"About_SDS"]
[null,"&WorkSheet Conventions",null,"SDSInfoColor"]
[null,"&Saving Your Work",null,"SavingWork"]
[null,"S&DS Agreement",null,"AgreementSummary"]

{"sheet":"SDS_InfoColor","index":121,"n_rows":10,"n_cols":6,"rows_kept":10,"cut":false,"hidden":false,"merged":[]}
[2]
[]
["1. No. units per order",1,13,20,50,100]
["2. Price Per Unit",5.49,5.38,5.19,5.09,4.99]
["3. Total Price per Order",{"$f":"B3*B4","v":5.49},{"$f":"C3*C4","v":69.94},{"$f":"D3*D4","v":103.80000000000001},{"$f":"E3*E4","v":254.5},{"$f":"F3*F4","v":499}]
["4. Price diff. between orders",{"$f":"B5","v":5.49},{"$f":"C5-B5","v":64.45},{"$f":"D5-C5","v":33.860000000000014},{"$f":"E5-D5","v":150.69999999999999},{"$f":"F5-E5","v":244.5}]
["5. Quantity diff. between orders",{"$f":"B3","v":1},{"$f":"C3-B3","v":12},{"$f":"D3-C3","v":7},{"$f":"E3-D3","v":30},{"$f":"F3-E3","v":50}]
["6. Price per unit per order qty diff.",{"$f":"IF(B7<>0,B6/B7,0)","v":5.49},{"$f":"IF(C7<>0,C6/C7,0)","v":5.3708333333333336},{"$f":"IF(D7<>0,D6/D7,0)","v":4.837142857142859},{"$f":"IF(E7<>0,E6/E7,0)","v":5.0233333333333325},{"$f":"IF(F7<>0,F6/F7,0)","v":4.8899999999999997}]
["7. Per unit price diff at breaks",null,{"$f":"B8-C8","v":0.11916666666666664},{"$f":"C8-D8","v":0.53369047619047461},{"$f":"D8-E8","v":-0.18619047619047358},{"$f":"E8-F8","v":0.13333333333333286}]
["8. Percentage Price Reduction","-",{"$f":"IF(B8<>0,(C9/B8),0)","v":2.1706132361870061E-2},{"$f":"IF(C8<>0,(D9/C8),0)","v":9.9368281059514271E-2},{"$f":"IF(D8<>0,(E9/D8),0)","v":-3.8491829100216021E-2},{"$f":"IF(E8<>0,(F9/E8),0)","v":2.6542800265427914E-2}]

{"sheet":"LearnCurve","index":144,"n_rows":21,"n_cols":6,"rows_kept":21,"cut":false,"hidden":false,"merged":[]}
[]
[]
["Learning Curve Rate",0.83]
[null,"FirstOrder","# 1","# 2","# 3","# 4"]
["Number of Units",50,100,150,200,250]
["Fixed Costs/Unit",0.2,0.2,0.2,0.2,0.2]
["Mat'l Cost/Unit",3.83,3.83,3.83,3.83,3.83]
["Labor Rate",20.23,20.23,20.23,20.23,20.23]
["Ov'hd % D.L.",391.24,391.24,391.24,391.24,391.24]
["Profit % T.C.",8.18,8.18,8.18,8.18,8.18]
["Ave Cum Hrs",0.03,{"$f":"(($B$11)/(($B$5)^(LOG($B$3)/LOG(2))))*(($B$5+C5)^(LOG($B$3)/LOG(2)))","v":2.2328680818326792E-2},{"$f":"(($B$11)/(($B$5)^(LOG($B$3)/LOG(2))))*(($B$5+D5)^(LOG($B$3)/LOG(2)))","v":2.0666999999999991E-2},{"$f":"(($B$11)/(($B$5)^(LOG($B$3)/LOG(2))))*(($B$5+E5)^(LOG($B$3)/LOG(2)))","v":1.946374490005668E-2},{"$f":"(($B$11)/(($B$5)^(LOG($B$3)/LOG(2))))*(($B$5+F5)^(LOG($B$3)/LOG(2)))","v":1.8532805079211234E-2}]
["Ave Hrs this order",{"$f":"B11","v":0.03},{"$f":"((($B$5+C5)*C11)-($B$5*$B$11))/C5","v":1.8493021227490188E-2},{"$f":"((($B$5+D5)*D11)-($B$5*$B$11))/D5","v":1.7555999999999988E-2},{"$f":"((($B$5+E5)*E11)-($B$5*$B$11))/E5","v":1.6829681125070852E-2},{"$f":"((($B$5+F5)*F11)-($B$5*$B$11))/F5","v":1.6239366095053481E-2}]
[5]
["Units Ordered",{"$f":"B5","v":50},100,{"$f":"D5","v":150},200,250]
["Fixed Costs/Unit",0.2,0.2,0.2,0.2,0.2]
["Unit Mat'l Cost",3.83,3.83,3.83,3.83,3.83]
["Unit Labor Cost",{"$f":"IF($A$13=6,B12*B8,B11*B8)","v":0.6069},{"$f":"IF($A$13=6,C12*C8,C11*C8)","v":0.45170921295475103},{"$f":"IF($A$13=6,D12*D8,D11*D8)","v":0.41809340999999983},{"$f":"IF($A$13=6,E12*E8,E11*E8)","v":0.39375155932814665},{"$f":"IF($A$13=6,F12*F8,F11*F8)","v":0.3749186467524433}]
["Unit Ov'hd Costs",{"$f":"B9*B17/100","v":2.3744355600000002},{"$f":"C9*C17/100","v":1.767267124764168},{"$f":"D9*D17/100","v":1.6357486572839994},{"$f":"E9*E17/100","v":1.5405136007154412},{"$f":"F9*F17/100","v":1.4668317135542592}]
["Total  Unit Costs",{"$f":"(B15+B16+B17+B18)","v":7.0113355600000009},{"$f":"(C15+C16+C17+C18)","v":6.2489763377189194},{"$f":"(D15+D16+D17+D18)","v":6.0838420672839995},{"$f":"(E15+E16+E17+E18)","v":5.9642651600435883},{"$f":"(F15+F16+F17+F18)","v":5.8717503603067032}]
["Profit",{"$f":"B10*B19/100","v":0.57352724880799999},{"$f":"C10*C19/100","v":0.51116626442540758},{"$f":"D10*D19/100","v":0.49765828110383109},{"$f":"E10*E19/100","v":0.48787689009156554},{"$f":"F10*F19/100","v":0.48030917947308827}]
["Purchase Price/Unit",{"$f":"B19+B20","v":7.5848628088080012},{"$f":"C19+C20","v":6.7601426021443274},{"$f":"D19+D20","v":6.5815003483878307},{"$f":"E19+E20","v":6.4521420501351541},{"$f":"F19+F20","v":6.3520595397797912}]

{"sheet":"LearningCurve","index":145,"n_rows":129,"n_cols":7,"rows_kept":129,"cut":false,"hidden":false,"merged":[]}
[]
[]
["Assembly Paced","Machine Paced","Click On\nLearning Curve\nValue","Productivity"]
[95,5,76,24]
[90,10,77,23]
[85,15,78,22]
[80,20,79,21]
[75,25,80,20]
[70,30,81,19]
[65,35,82,18]
[60,40,83,17]
[55,45,84,16]
[50,50,85,15]
[45,55,86,14]
[40,60,87,13]
[35,65,88,12]
[30,70,89,11]
[25,75,90,10]
[20,80,91,9]
[15,85,92,8]
[10,90,93,7]
[5,95,94,6]
[]
[]
[]
[]
[null,null,null,null,null,"yx=axb"]
[null,null,null,null,"a",100]
[null,null,null,null,"LC",0.8]
[null,null,null,null,"b",{"$f":"LOG(F29)/LOG(2)","v":-0.32192809488736229}]
[null,null,null,"y=",1,{"$f":"$F$28*(E31)^$F$30","v":100}]
[null,null,null,null,10,{"$f":"$F$28*(E32)^$F$30","v":47.650987489022448}]
[null,null,null,null,100,22.706166086789739]
[null,null,null,null,1000,10.819712361252842]
[null,null,null,null,10000,5.1556997836088048]
[null,null,null,null,100000,2.4567418588589889]
[null,null,null,null,1000000,1.1706617558024754]
[null,null,null,null,10000000,0.55783188679620765]
[null,null,null,null,256,16.777216000000006]
[]
[]
[]
[]
[]
[]
[]
[]
[]
[]
[]
[]
[]
[]
[]
[]
[]
[]
[]
[]
[]
[]
[]
[]
[]
[]
[]
[]
[]
[]
[]
[]
[]
[]
[]
[]
[]
[]
[]
[]
[]
[]
[]
[]
[]
[]
[]
[]
[]
[]
[]
[]
[]
[]
[]
[]
[]
["Scratch area for generating curves"]
[]
[null,null,null,null,null,"y=b*exp(ln(lc)*(2*n)/ln(2))"]
[null,0.76]
["CumUnits","AveHrs","2n",null,"b="]
[1,100,{"$f":"121.95*EXP(LN($B$100)*LN(2*A102)/LN(2))","v":92.682000000000002},null,{"$f":"B102/EXP(LN($B$100)*LN(2*A102)/LN(2))","v":131.57894736842104},{"$f":"1","v":1},{"$f":"121.95*EXP(LN($B$100)*LN(2*F102)/LN(2))","v":92.682000000000002}]
[{"$f":"A102*2","v":2},{"$f":"$B$100*B102","v":76},{"$f":"121.95*EXP(LN($B$100)*LN(2*A103)/LN(2))","v":70.438320000000004},null,{"$f":"B103/EXP(LN($B$100)*LN(2*A103)/LN(2))","v":131.57894736842104},{"$f":"F102+1","v":2},{"$f":"121.95*EXP(LN($B$100)*LN(2*F103)/LN(2))","v":70.438320000000004}]
[{"$f":"A103*2","v":4},{"$f":"$B$100*B103","v":57.76},{"$f":"121.95*EXP(LN($B$100)*LN(2*A104)/LN(2))","v":53.533123199999999},null,131.57894736842107,{"$f":"F103+1","v":3},59.991457057314797]
[8,43.897599999999997,{"$f":"121.95*EXP(LN($B$100)*LN(2*A105)/LN(2))","v":40.685173632000001},null,131.57894736842104,4,53.533123199999999]
[16,33.362175999999998,30.920731960319998,null,131.57894736842107,5,49.006436991343136]
[32,25.35525376,23.499756289843198,null,131.57894736842107,6,45.59350736355924]
[64,19.269992857600002,17.859814780280832,null,131.57894736842107,7,42.894029741534581]
[128,14.645194571776001,13.573459233013432,null,131.57894736842107,8,40.685173632000001]
[256,11.130347874549761,10.315829017090207,null,131.5789473684211,9,38.83143350229436]
[512,8.4590643846578182,7.840030052988558,null,131.57894736842107,10,37.244892113420782]
[1024,6.4288889323399419,5.9584228402713011,null,131.57894736842113,11,35.865605694741397]
[2048,4.8859555885783559,4.5284013586061906,null,131.57894736842107,12,34.651065596305024]
[4096,3.7133262473195505,3.4415850325407065,null,131.57894736842104,13,33.570149857219775]
[8192,2.8221279479628585,2.6156046247309361,null,131.5789473684211,14,32.59946260356628]
[16384,2.1448172404517725,1.9878595147955118,null,131.57894736842104,15,31.721019834468024]
[null,null,null,null,null,16,30.920731960319998]
[null,null,null,null,null,17,30.187377392856767]
[null,null,null,null,null,18,{"$f":"121.95*EXP(LN($B$100)*LN(2*F119)/LN(2))","v":29.511889461743706}]
[null,null,null,null,null,19,28.886849339514495]
[null,null,null,null,null,{"$f":"F120+1","v":20},28.306118006199792]
[null,null,null,null,null,21,27.764564243914194]
[null,null,null,null,null,22,27.257860328003471]
[null,null,null,null,null,23,26.782326322714685]
[null,null,null,null,null,24,26.334809853191814]
[null,null,null,null,null,25,25.912592160144211]
[null,null,null,null,null,26,25.513313891487034]
[null,null,null,null,null,27,25.134915899817294]
[null,null,null,null,null,28,24.775591578710362]

{"sheet":"MenuSheet","index":146,"n_rows":62,"n_cols":5,"rows_kept":62,"cut":false,"hidden":false,"merged":[]}
["Level","Caption","Position/Macro","Divider","FaceID"]
[1,"SourcingApps_Home",10]
[2,"&Start Worksheet","GoHome"]
[1,"&Price Analysis",10]
[2,"&Quanity Discount Analysis"]
[3,"&Specific Quanitities","SpecificQtyBreaks"]
[3,"&Range Quantities","RangeQtyBreaks"]
[2,"&Fixed/Variable Cost Analysis","OpenFixed_Variable"]
[2,"&Experience Effect","OpenExperienceCurve"]
[2,"E&conomic Order Quantity","OpenEOQ"]
[1,"&Cost Analysis",10]
[2,"&Cost and Engergy Trend Analysis"]
[3,"&Cost Trends","OpenNAICStotalcostComparisons"]
[3,"&Energy Trends","OpenNAICSenergycostComparisons"]
[2,"&Energy Surcharge Analysis","OpenEnergyCosts"]
[2,"&Price Productivity"]
[3,"&Analysis","PPScenario"]
[3,"&Macro","PrcProdTable"]
[3,"M&icro","OpenPPmicro"]
[2,"&Break-Even Analysis","OpenBreakEven"]
[2,"&Learning Curves"]
[3,"&Typical","TypicalLearningCurve"]
[3,"&Learning Curve Analysis","OpenLearningCurveAnalysis"]
[3,"&Stanford-B Analysis","OpenStanFordB"]
[2,"&Economic Production Quantity","OpenEPQ"]
[2,"&Yield Analyses"]
[3,"&Theoretical Minimum Weight (Sheet/Plate)","OpenTheoreticalMinWt"]
[3,"T&heoretical Minimum Weight (Coils)","OpenTheoreticalMinCp"]
[3,"Th&eoretical Minimum Weight ((Wire/Rod)","OpenTheoreticalMinUWR"]
[3,"The&oretical Minimum Weight (Bar/Rebar)","OpenTheoreticalMinRebar"]
[2,"&Total Cost of Ownership(TOC)"]
[3,"&Cost Build Up Bid Factor for Items","OpenBidFactorCost"]
[3,"&Event Based Bid Factor for Items","OpenBidFactorEvent"]
[3,"E&quipment TOC","OpenEquipmentTOC"]
[3,"&International Sourcing TOC","OpenIntlPurchTOC"]
[1,"&Performance Analysis",10]
[2,"&Supplier Performance Index","OpenSPI"]
[2,"&Throughput Analysis","OpenThruPut"]
[2,"Value &Indices ","OpenValueIndices"]
[2,"Total Supplier &Productivity","OpenValueProductivity"]
[2,"S&ourcing Performance Analyses"]
[3,"&Sourcing Savings by Earnings Per Share","OpenSourcingSavingsByEPS"]
[3,"S&ourcing Savings by Return on Invested Capital","OpenSourcingSavingsByROI"]
[3,"&Increased Sales to generate same savings","OpenSourcingSavingsBySales"]
[2,"&Assessments"]
[3,"&Relationship","OpenAsmntRel"]
[3,"&Organizational","OpenAsmntOrg"]
[3,"&Team","OpenAsmntTeam"]
[1,"Fi&nancial Analysis",10]
[2,"&Payment Terms Analyses"]
[3,"&Payment Discount Analysis","OpenPaymentDiscount"]
[3,"&Extended Payment Terms Analysis","OpenExtendedTerms"]
[2,"&Financial Source","FinancialData"]
[2,"S&olvency Ratios","Solvency"]
[2,"L&everage Ratios","Leverage"]
[2,"&Profitability Ratios","Profitability"]
[2,"&Z-Score Analysis","Z_Scores"]
[1,"SourcingAppsI&nfo",10]
[2,"&Support Information","About_SDS"]
[2,"&WorkSheet Conventions","SDSInfoColor"]
[2,"&Saving Your Work","SavingWork"]
[2,"&Agreement","AgreementSummary"]

{"sheet":"SheetProperties","index":147,"n_rows":78,"n_cols":62,"rows_kept":78,"cut":false,"hidden":false,"merged":[]}
["SheetName","Rstrt","Rend","Cstrt"]
["SpecificQtyBrks",3,10,2,"Entry",3,4,"Currency",4,5,6,8,9,"Units",3,7,"EOF"]
["RangeQtyBrks",3,12,2,"Entry",3,4,"Currency",4,5,7,8,10,11,"Units",3,6,9,"EOF"]
["ExperienceCurve",3,10,3,"Entry",4,"Currency",5,6,7,8,10,"Units",4,9,"EOF"]
["PeqFdivQPlusV",3,16,4,"Entry",4,5,"Currency",5,"ColumnID",3,"EOF"]
["EOQ",3,12,2,"Entry",4,5,6,7,8,"Currency",5,6,10,"ColumnID",3,"EOF"]
["PPMacro",3,13,2,"Entry",4,5,6,"Currency",8,9,10,11,12,"ColumnID","EOF"]
["PPCalculator",3,25,3,"Entry",11,12,17,18,23,24,"Percent",11,12,17,18,23,24,"EOF"]
["PPMicro",3,39,3,"Entry",5,6,7,8,9,10,11,12,13,14,15,16,17,18,19,"Currency",21,22,23,24,25,26,27,28,29,30,31,32,33,34,35,36,37,38,"Percent",39,"EOF"]
["BreakEven",4,9,2,"Entry",4,5,6,7,"Currency",5,6,7,9,"Units",4,8,"EOF"]
["LearnCurve",3,21,3,"Entry",5,6,7,8,9,10,11,"Currency",6,7,8,15,16,17,18,19,20,21,"Units",5,14,"ColumnID",4,"EOF"]
["LearningCurve",4,22,3,"Entry",4,"EOF"]
["StanfordB",4,26,2,"Entry",20,21,22,23,24,"Currency",20,21,22,25,26,"ColumnID",17,"EOF"]
["TheoreticalMinWt",3,14,2,"Entry",4,5,6,7,9,10,11,"Currency",4,14,"ColumnID",3,"Units",6,"EOF"]
["TheoreticalMinCp",3,14,2,"Entry",4,5,6,7,9,10,"Currency",4,14,"ColumnID",3,"EOF"," "]
["TheoreticalMinUWR",3,13,2,"Entry",4,5,6,7,9,10,"Currency",4,13,"ColumnID",3,"EOF"]
["BidFactorCost",3,21,2,"Entry",4,7,9,10,11,12,13,14,15,16,17,"Currency",4,5,7,9,10,11,12,13,14,15,16,17,18,19,21,"ColumnID",3,"EOF"]
["EPQ",3,13,2,"Entry",4,5,6,7,8,"Currency",5,6,10,"ColumnID",3,"EOF"]
["BidFactorEvent",4,12,4,"Entry",5,6,7,8,11,"Currency",10,11,"ColumnID",4,"EOF"]
["EquipmentTOC",3,26,2,"Entry",5,6,7,11,12,13,14,15,18,19,20,21,24,25,"Currency",5,6,7,8,9,11,12,13,14,15,16,18,19,20,2,22,23,26,"ColumnID",3,"EOF"]
["IntlPurchTOC",3,36,2,"Entry",3,4,5,6,8,9,10,11,12,13,14,15,16,19,20,21,22,23,24,25,26,29,30,31,32,33,"Currency",4,8,9,10,11,12,13,14,15,16,17,19,20,21,22,23,24,25,26,27,29,30,31,32,33,34,35,36,"EOF"]
["SPI",5,15,4,"Entry",6,7,8,9,10,12,13,14,"Currency",11,12,13,14,"EOF"]
["ThruPut",3,12,2,"Entry",4,5,6,7,8,"ColumnID",3,"EOF"]
["ValueProductivity",4,16,3,"Entry",5,6,7,10,11,12,13,14,"Currency",5,6,7,8,10,11,12,13,14,15,"ColumnID",4]
["SourcingSavingsBy",3,16,3,"Entry",4,5,9,10,14,15,"Currency",4,6,9,10,14,16,"EOF"]
["AsmntRel",3,31,4,"Entry",5,"EOF"]
["AsmntOrg",3,43,4,"Entry",5,"EOF"]
["AsmntTeam",3,90,3,"Entry",11,"EOF"]
["ExtendedTerms",3,10,2,"Entry",4,5,6,7,"Currency",7,8,9,"ColumnID",3,"Percent",6,"EOF"]
["PaymentDiscount",3,10,2,"Entry",4,5,6,7,"Currency",7,9,"ColumnID",3,"PerCent",8,"EOF"]
["ValueIndices",8,13,3,"Entry",9,10,11,"Currency",9,"ColumnID",8,"EOF"]
["FinancialData",3,34,3,"Entry",4,5,6,7,8,9,11,12,14,15,16,17,19,20,21,24,25,26,27,29,30,31,32,33,34,"Currency",5,6,7,8,9,10,11,12,13,14,15,16,17,18,19,20,21,22,23,24,25,26,27,28,29,30,31,32,33,34,"EOF"]
["Solvency",2,10,1,"Entry",3,5,7,10,8,"Entry",1,"eof"]
["Leverage",2,10,1,"Entry",3,5,7,10,8,"Entry",1,"eof"]
["Profitability",2,10,1,"Entry",3,5,7,10,8,"Entry",1,"eof"]
["Z-Scores",2,10,1,"Entry",3,5,7,10,8,"Entry",1,"eof"]
["EnergyCosts",6,16,2,"Entry",7,8,10,11,"Currency",7,8,10,11,14,15,16,"Percent",9,12,13,"ColumnID",2,3,4,"EOF"]
["NAICScostComparisons",3,9,2,"Entry",4,5,6,7,8,9,"Percent",4,5,6,7,8,9,null,"Currency",10,"EOF"]
["EnergyCostComparisons",3,6,2,"Entry",4,5,6,"Percent",4,5,6,"Currency",8,"EOF"]
["TheoreticalMinRebar",3,13,2,"Entry",4,5,6,7,9,10,"Currency",4,13,"ColumnID",3,"EOF"]
["EOFSheet"]
["Notes: "]
[null,"1. The comments for the Sheetnames in Column A contain the Procedure to run when the worksheet has value change that causes a recalculation."]
[]
["Following is StartEngine Information for Note #1 above"]
["    '1Worksheets(\"SpecificQtyBrks\").OnEntry = \"EnterQDAQtyBrks\""]
["    '2Worksheets(\"RangeQtyBrks\").OnEntry = \"EnterQDAQtyBrks\""]
["    '3Worksheets(\"EOQ\").OnEntry = \"EnterEOQ\""]
["    '4Worksheets(\"EPQ\").OnEntry = \"EPQFormat\""]
["    '5Worksheets(\"BreakEven\").OnEntry = \"BreakEvenChanges\""]
["    '6Worksheets(\"PPMacro\").OnEntry = \"FitPPMacro\""]
["    '7Worksheets(\"PPMicro\").OnEntry = \"PPMicroDataEntry\""]
["    '8Worksheets(\"PeqFdivQPlusV\").OnEntry = \"FixedVarChanges\""]
["    '9Worksheets(\"ExperienceCurve\").OnEntry = \"EnterExperienceCurve\""]
["    '10Worksheets(\"ExperienceCurve\").OnCalculate = \"GraphExperienceCurve\""]
["    '11Worksheets(\"StanfordB\").OnEntry = \"FormatStanfordB_Table\""]
["    '12Worksheets(\"AsmntOrg\").OnEntry = \"AsmntOrgMakeX\""]
["    '14Worksheets(\"AsmntRel\").OnEntry = \"AsmntRelMakeX\""]
["    '15Worksheets(\"ThruPut\").OnEntry = \"FormatThruPutCols\""]
["    '16Worksheets(\"ValueIndices\").OnEntry = \"FormatValueIndices_Table\""]
["    '17Worksheets(\"ValueProductivity\").OnEntry = \"FormatValueProductivity_Table\""]
["    '18Worksheets(\"AsmntTeam\").OnEntry = \"AsmntTeamMakeX\""]
["    '19Worksheets(\"SPI\").OnEntry = \"FormatSPI_Table\""]
["    '20Worksheets(\"LearnCurve\").OnEntry = \"FormatLearnCurve_Table\""]
["    '21Worksheets(\"ValueIndices\").OnEntry = \"FormatValueIndices_Table\""]
["    '22Worksheets(\"FinancialData\").OnEntry = \"FlagToFormatFinancialData_Table\""]
["    '23Worksheets(\"AgreementSummary\").Activate"]
["    '24Worksheets(\"PaymentDiscount\").OnEntry = \"FormatPaymentDiscount\""]
["    '25Worksheets(\"ExtendedTerms\").OnEntry = \"FormatExtendedTerms\""]
["    '26Worksheets(\"BidFactorEvent\").OnEntry = \"FormatBidFactorEvent\""]
["    '27Worksheets(\"BidFactorCost\").OnEntry = \"FormatBidFactorCost\""]
["    '28Worksheets(\"EquipmentTOC\").OnEntry = \"FormatEquipmentTOC\""]
["    '29Worksheets(\"IntlPurchTOC\").OnEntry = \"FormatIntlPurchTOC\""]
["    '30Worksheets(\"SourcingSavingsBy\").OnEntry = \"FormatSourcingSavingsBy\""]
["    '31Worksheets(\"TheoreticalMinWt\").OnEntry = \"FormatTheoreticalMinWt\""]
["    '32Worksheets(\"TheoreticalMinCp\").OnEntry = \"FormatTheoreticalMinCp\""]
["    '33Worksheets(\"TheoreticalMinUWR\").OnEntry = \"FormatTheoreticalMinUWR\""]
["    '34Worksheets(\"EnergyCosts\").OnEntry = \"FormatEnergyCosts\""]

{"sheet":"TransferInfo","index":148,"n_rows":41,"n_cols":41,"rows_kept":41,"cut":false,"hidden":false,"merged":[]}
["From/To","SpecificQtyBrks","RangeQtyBrks","PeqFdivQPlusV","ExperienceCurve","EOQ","PPCalculator","PPMacro","PPMicro","BreakEven","LearningCurve","LearnCurve","StanfordB","EPQ","TheoreticalMinWt","TheoreticalMinCp","TheoreticalMinUWR","BidFactorCost","BidFactorEvent","EquipmentTOC","IntlPurchTOC","SPI","ThruPut","ValueIndices","ValueProductivity","SourcingSavingsBy","SourcingSavingsBy","SourcingSavingsBy","AsmntRel","AsmntOrg","AsmntTeam","PaymentDiscount","ExtendedTerms","FinancialData","Solvency","Leverage","Profitability","Z-Scores","frmCalcLearningCurve","frmdiagCalcUnitVarCost","frmPPMicroCalculator"]
["SpecificQtyBrks",null,null,1,1,1,null,null,null,1,null,1]
["RangeQtyBrks",null,null,1,1,1,null,null,null,1,null,1]
["PeqFdivQPlusV",null,null,null,1,1,null,null,null,1,null,null,null,null,null,null,null,null,null,null,null,null,null,null,null,null,null,null,null,null,null,null,null,null,null,null,null,null,1]
["ExperienceCurve"]
["EOQ"]
["PPCalculator"]
["PPMacro"]
["PPMicro"]
["BreakEven"]
["LearningCurve"]
["LearnCurve",null,null,null,null,null,null,null,null,null,null,null,1,null,null,null,null,null,null,null,null,null,null,null,null,null,null,null,null,null,null,null,null,null,null,null,null,null,1]
["StanfordB"]
["EPQ"]
["TheoreticalMinWt"]
["TheoreticalMinCp"]
["TheoreticalMinUWR"]
["BidFactorCost"]
["BidFactorEvent"]
["EquipmentTOC"]
["IntlPurchTOC"]
["SPI"]
["ThruPut"]
["ValueIndices"]
["ValueProductivity"]
["SourcingSavingsBy"]
["SourcingSavingsBy"]
["SourcingSavingsBy"]
["AsmntRel"]
["AsmntOrg"]
["AsmntTeam"]
["PaymentDiscount"]
["ExtendedTerms"]
["FinancialData"]
["Solvency"]
["Leverage"]
["Profitability"]
["Z-Scores"]
["frmCalcLearningCurve",null,null,null,null,null,null,null,null,null,null,1,1]
["frmUnitVarCost",null,null,null,null,null,null,null,null,1,null,1,1,null,null,null,null,null,null,null,null,null,null,null,null,null,null,null,null,null,null,null,null,null,null,null,null,null,1]
["frmPPMicroCalculator",null,null,null,null,null,null,null,1,null,null,null,null,null,null,null,null,null,null,null,null,null,null,null,null,null,null,null,null,null,null,null,null,null,null,null,null,null,1]

{"sheet":"HelpSteps","index":149,"n_rows":47,"n_cols":26,"rows_kept":47,"cut":false,"hidden":false,"merged":[]}
["SheetName","Help Title","ElevatorWords","Step01","Step02","Step03","Step04","Step05","Step06","Step07","Step08","Step09","Step10","Step11","Step12","Step13","Step14","Step15","Step16","Step17","Step18","Step19","Step20","Step21","Step22","Step23"]
["AgreementSummary","(We are using the Sheet title for this)"]
["Agreement"]
["SpecificQtyBrks","Quantity Discount Analysis: Specific Quantities","Are discounts for larger quantities real or imagined?","(Set Number of Columns)\n\n[Use the column spinner to set the number of columns.You will need a column for each specific price/quantity pair you have]\n\n{Click the spinner up to increase the number of columns; down to decrease. Maximum is 10…Minimum is 2}\n\n<spnColumns>","(How to use Specific Quanties)\n\n[Enter the information for each price/quantity pair in the \"blue\" data entry rows. If you need more or fewer columns, go to step one and click the column spinner up or down again]\n\n{Enter the quantity and price data in these cells}\n\n<Entry>","(Set Decimal Place for Currency amounts.)\n\n[Use the \"decimal\" spinner up or down to set the precision you wish for currency.  Don't use more precision than you need...it clutters things up.]\n\n{The \"decimal\" you select will be used for all currency cells.}\n\n<spnDecimal>","(Check Validity of Data)\n\n[It is optional,but you may want to check your data for validity or appropriateness. Click the \"Check Validity\" button to see if data you entered is rational]\n\n{Click this button for validity check}\n\n<cmdValidate>","(Pass Data to Other Sheets)\n\n[You may want to use the same data for other analyses. To avoid reentering the data, click the \"Pass Data To…\" button to see where you can reuse the data]\n\n{Click this button to open up the form to set up transfers to other sheets. This will keep you from having to reenter the data elsewhere}\n\n<cmdPassResults>","(Title your Work)\n\n[It is generally a good idea to document your work if you're going to communicate results to others. Click the \"Project ID\" button to give this project a title]\n\n{Click this button to update the title sheet}\n\n<cmdProjectID>","(How to print your results)\n\n[If you have a printer available on your computer, click the \"Print Table & Chart\" button to print this worksheet. Suppliers are often pleased to get this analysis information to be afforded the opportunity to explain their pricing to you. Print or fax the information to them with a cover letter explaining the analysis.]\n\n{This is the button to click to print or fax your analysis results}\n\n<cmdPrint>","(Change chart scale)\n\n[The Excel default vertical chart scale is often not what you want to see. Click \"Show Me\" on Step 8 to see the button for changing the chart scale.]\n\n{Click this button to adjust the chart vertical scale}\n\n<cmdChartVertical>\n\n"]
["RangeQtyBrks","Quantity Discount Analysis: Range Quantities","What is the maximum quantity you should buy in each range?  Are discounts for larger quantities real or imagined?","(Set the Number of Columns)\n\n[Use the column spinner to set the number of columns. You will need a column for each specific price/quantity pair you have.]\n\n{Click the spinner up to increase the number of columns down to decrease. Maximum is 10…Minimum is 2}\n\n<spnColumns>","(How to use range of Quanties)\n\n[Enter the information for each price/quantity pair in the \"blue\" data entry rows. Separate the range amounts by a dash. If you need more or fewer columns, go to step one and click on the column spinner up or down again]\n\n{Enter the quantity and price data in these cells. DO NOT FORGET THE DASH TO SEPARATE Low-High QUANTITIES}\n\n<Entry>","(Set Decimal Place for Currency amounts.)\n\n[Use the \"decimal\" spinner up or down to set the precision you wish for currency.  Don't use more precision than you need...it clutters things up.]\n\n{The \"decimal\" you select will be used for all currency cells.}\n\n<spnDecimal>","(Check Validity of Data)\n\n[It is optional,but you may want to check your data for validity or appropriateness. Click the \"Check Validity\" button to see if data you entered is rational]\n\n{Click this button for validity check}\n\n<cmdValidate>","(Pass Data to Other Sheets)\n\n[You may want to use the same data for other analyses. To avoid reentering the data, click the \"Pass Data To…\" button to see where you can reuse the data]\n\n{Click this button to open up the form to set up transfers to other sheets. This will keep you from having to reenter the data elsewhere}\n\n<cmdPassResults>","(Title your Work)\n\n[It is generally a good idea to document your work if you're going to communicate results to others. Click the \"Project ID\" button to give this project a title]\n\n{Click this button to update the title sheet}\n\n<cmdProjectID>","(How to print your results)\n\n[If you have a printer available on your computer, click the \"Print Table & Chart\" button to print this worksheet. Suppliers are often pleased to get this analysis information to be afforded the opportunity to explain their pricing to you. Print or fax the information to them with a cover letter explaining the analysis.]\n\n{This is the button to click to print or fax your analysis results}\n\n<cmdPrint>","(Change chart scale)\n\n[The Excel default vertical chart scale is often not what you want to see. Click \"Show Me\" on Step 8 to see the button for changing the chart scale.]\n\n{Click this button to adjust the chart vertical scale}\n\n<cmdChartVertical>\n\n"]
["PeqFdivQPlusV","Estimating Fixed and Variable Costs","Is an item's price more sensitive to changes in unit volume or variable costs? ","(Set the Number of Columns)\n\n[Use the column spinner to set the number of columns. You will need a column for each price and quantity you have.]\n\n{Click the spinner up to increase the number of columns down to decrease. Maximum is 10…Minimum is 2}\n\n<spnColumns>","(How to Enter Data)\n\n[Enter the information for each unit price and  unit quantity pair you have in the \"blue\" data entry rows. If you have range pricing enter the highest quantity in the range.  If you need more or fewer columns, go to step one and click on the column spinner up or down again]\n\n{Enter the quantity and price data in these cells}\n\n<Entry>","(Ensuring Accurate Unit Prices and Total Fixed Costs)\n\n[This analysis requires you to enter unit prices and for unit quantities (each, ton, kilo, liter, gallon). Use the \"decimal\" spinner up or down to set the precision you wish.  Note MS Excel remembers the data as entered, even though is it not displayed.  Don't use more than you need...it clutters things up.]\n\n{This is the button to spin up for more precise unit prices.}\n\n<spnDecimal>","(Estimate the Price for this Quantity)\n\n[Use the Fixed and Variable cost estimates to forecast a price for quantity not provided by your supplier.]\n\n{Enter the Quantity for which you want a price forecast in this cell}\n\n<Cell(6,3)>","(Check Validity of Data)\n\n[It is optional,but you may want to check your data for validity or appropriateness. Click the \"Check Validity\" button to see if data you entered is rational]\n\n{Click this button for validity check}\n\n<cmdValidate>","(Explain the shaded cells)\n\n[The shaded cells in the results rows show the unit price that was used to produce the results shown in RED ]\n\n{The first two cells show the prices you entered from your quotation. These prices and quantities were used to calculate all the Red results in this row }\n\n<Cell(7,4)>","(The first result you get from two quotes)\n\n[A Total Fixed Cost calculation and a Variable Unit Costs (includes profit) Calculation]\n\n{This cell shows the calculated results from price pairs 1 & 2. TotalFixedCosts and VarUnitCosts (including profit)}\n\n<Cell(7,2)>\n",null,"(Pass Data to Other Sheets)\n\n[You may want to use the same data for other analyses. To avoid reentering the data, click the \"Pass Data To…\" button to see where you can reuse the data]\n\n{Click this button to open up the form to set up transfers to other sheets. This will keep you from having to reenter the data elsewhere}\n\n<cmdPassResults>","(Title your Work)\n\n[It is generally a good idea to document your work if you're going to communicate results to others. Click the \"Project ID\" button to give this project a title]\n\n{Click this button to update the title sheet}\n\n<cmdProjectID>","(How to print your results)\n\n[If you have a printer available on your computer, click the \"Print Table & Chart\" button to print this worksheet. Suppliers are often pleased to get this analysis information to be afforded the opportunity to explain their pricing to you. Print or fax the information to then with a cover letter explaining the analysis.]\n\n{This is the button to click to print or fax your analysis results}\n\n<cmdPrint>","(Remove Profit from Variable Cost)\n\n[To refine cost estimates take out the profit from variable costs. This information can be used for helping suppliers pass other costs savings on to you]\n\n{This is the buttonto click for removing profit from variable costs}\n\n<cmdVarCost>"]
["ExperienceCurve","Experience Effect ","Prices decrease as volume increases because the experience accumulates.  Is the \"Experience Effect Rate\" for this item reasonable?","(Set the Number of Columns)\n\n[Use the column spinner to set the number of columns.]\n\n{Click the spinner up to increase the number of columns down to decrease. Maximum is 10…Minimum is 2}\n\n<spnColumns>","(Set Decimal Place for Currency amounts.)\n\n[Use the \"decimal\" spinner up or down to set the precision you wish for currency.  Don't use more precision than you need...it clutters things up.]\n\n{The \"decimal\" you select will be used for all currency cells.}\n\n<spnDecimal>","(How to Enter Data)\n\n[Enter the information for first order quantity and then the quantity each subsequent order quantities in the \"blue\" data entry rows. If you need more or fewer columns, go to step one and click on the column spinner up or down again.  Then enter the unit price for the first order quantity. ]\n\n{Enter the quantity and price data in these cells}\n\n<Entry>","(Set Experience Effect Rate)\n\n[Enter the Experience Effect Rate (EER) you believe is correct, or estimate the EER by adusting the EER such that the first price/quantity and last price/quantity match your quote.  You may also use the Goal Seek feature of Excel to calculate the EER.]\n\n{Enter EER here}\n\n<Cell(3,2)>","(Enter quantity in first order.)\n\n[This will be the base quantity to which the EER will be applied to calculate prices for future orders.]\n\n{Enter quantity for first order here.}\n\n<Cell(4,2)>","(Enter the Price for your first order.)\n\n[This will be the base price for which the EER will be used to calculate prices for additional orders.]\n\n{Price for first order here.}\n\n<Cell(5,2)>","(Title your Work)\n\n[It is generally a good idea to document your work if you're going to communicate results to others. Click the \"Project ID\" button to give this project a title]\n\n{Click this button to update the title sheet}\n\n<cmdProjectID>","(Change chart scale)\n\n[The Excel default vertical chart scale is often not what you want to see. Click \"Show Me\" on Step 8 to see the button for changing the chart scale.]\n\n{Click this button to adjust the chart vertical scale}\n\n<cmdChartVertical>"]
["EOQ","Economic Order Quanity","Minimize the impact of \"ordering\" and \"holding\" costs by ordering the right lot size.","(Set the Number of Columns)\n\n[Use the column spinner to set the number of columns]\n\n{Click the spinner up to increase the number of columns down to decrease. Maximum is 10…Minimum is 2}\n\n<spnColumns>","(How to Enter Data)\n\n[Enter the information for each column in the \"blue\" data entry rows. If you need more or fewer columns, go to step one and click on the column spinner up or down again]\n\n{Enter the quantity and price data in these cells}\n\n<Entry>","(Set Decimal Place for Currency amounts.)\n\n[Use the \"decimal\" spinner up or down to set the precision you wish for currency.  Don't use more precision than you need...it clutters things up.]\n\n{The \"decimal\" you select will be used for all currency cells.}\n\n<spnDecimal>","(Where do I get \"Ordering Cost\")\n\n[Ordering costs are normally an estimate of the cost to; issue a purchase order, receive the item, inspection and/or testing and issuing payment.  Odering costs can vary widely, $60 to $150. ]\n\n{Ordering costs for each trial are entered in this row...blue cells}\n\n<Cell(5,2)>","(How to I determine \"Carrying Cost\")\n\n[Carrying Costs can be as simple as the cost of money to your company.  Some companies include charges (stated in percentages) for storage, insurance, handling and obsolences, plus the cost money into their \"Carrying Costs.\"]\n\n{Carrying cost for each trial are entered in this row...blue cells}\n\n<Cell(8,2)>","(Title your Work)\n\n[It is generally a good idea to document your work if you're going to communicate results to others. Click the \"Project ID\" button to give this project a title]\n\n{Click this button to update the title sheet}\n\n<cmdProjectID>","(How to print your results)\n\n[If you have a printer available on your computer, click the \"Print Table & Chart\" button to print this worksheet. Suppliers are often pleased to get this analysis information to be afforded the opportunity to explain their pricing to you. Print or fax the information to then with a cover letter explaining the analysis.]\n\n{This is the button to click to print or fax your analysis results}\n\n<cmdPrint>"]
["PPCalculator","Price Productivity Calculator","Using established ratios calculate the cost take-out or volume increase needed to reduce selling prices, while maintaining operating income.","(Select the Scenario That fits your situation)\n\n[Three opportunites are considered to allow your supplier to maintainin Operating Profits while reducing  Variable Costs; Reducing Fixed Costs; or Increasing Unit Volume. Present your supplier with a combination of these opportunities.]\n\n{Variable Costs, Fixed Costs, Unit Volume Opportunities }\n\n<Cell(11,2),Cell(17,2),Cell(23,2),Cell(11,2)>","(How to Enter Data)\n\n[Enter the information for each Operating Profit Margin/Price Decrease Needed in the \"blue\" data entry rows. ]\n\n{\"Blue\" Operating Profit and Price Decrease data result in \"Red\" actions your supplier can take.}\n\n<Cell(13,3),Cell(19,3),Cell(25,3),Cell(13,3)>","(Title your Work)\n\n[It is generally a good idea to document your work if you're going to communicate results to others. Click the \"Project ID\" button to give this project a title]\n\n{Click this button to update the title sheet}\n\n<cmdProjectID>","(How to print your results)\n\n[If you have a printer available on your computer, click the \"Print Table & Chart\" button to print this worksheet. Suppliers are often pleased to get this analysis information to be afforded the opportunity to explain their pricing to you. Print or fax the information to them with a cover letter explaining the analysis.]\n\n{This is the button to click to print or fax your analysis results}\n\n<cmdPrint>",null,null,null,"[The Excel default vertical chart scale is often not what you want to see. Click \"Show Me\" on Step 8 to see the button for changing the chart scale.]"]
["PPMacro","Price Productivity Macro","Calculate the actual impact on operating income from changes to net sales billed, and variable/fixed costs for a specific company's financial data.","(Current Operations Information)\n\n[The Current Operations Information provides the basis for calculating the impact of percent changes in Net Sales Billed (Quantity x UnitPrice), Variable Costs, and Fixed Costs. ]\n\n{Enter data in \"Blue\" cells}\n\n<Cell(8,2),Cell(9,2),Cell(11,2),Cell(8,2)>","(Enter Data in the \"Changes Table\")\n\n[Make all percent changes to Net Sales Billed , Variable Costs, and Fixed Costs in this table. Use a minus sign to indicate a negative change.]\n\n{Percent Changes in this table. }\n\n<Entry>","(Set Decimal Place for Currency amounts.)\n\n[Use the \"decimal\" spinner up or down to set the precision you wish for currency.  Don't use more precision than you need...it clutters things up.]\n\n{The \"decimal\" you select will be used for all currency cells.}\n\n<spnDecimal>","(Operating Income Changes)\n\n[The results of change made in the \"Changes Table\" are immediately displayed as \"Operating Income Changed By\" at the bottom of Results Table in percentage format.  The \"Current Operations\" data is the basis data used for each change scenario you input.]\n\n{Changes in Operating Income}\n\n<Cell(13,3),Cell(13,4),Cell(13,5),Cell(13,6),Cell(13,7),Cell(13,3)>","(Title your Work)\n\n[It is generally a good idea to document your work if you're going to communicate results to others. Click the \"Project ID\" button to give this project a title]\n\n{Click this button to update the title sheet}\n\n<cmdProjectID>","(How to print your results)\n\n[If you have a printer available on your computer, click the \"Print Table & Chart\" button to print this worksheet. Suppliers are often pleased to get this analysis information to be afforded the opportunity to explain their pricing to you. Print or fax the information to them with a cover letter explaining the analysis.]\n\n{This is the button to click to print or fax your analysis results}\n\n<cmdPrint>","(Finding Financial Data)\n\n[Specific company financial information is available from annual reports or from financial data reported to the Security Exchange Commission (www.sec.gov).  Industry financial information is available from the Quarterly Financial Report publishing by the US Census Bureau (www.census.gov).  If fixed and variable cost data is not available from a supplier a fixed and variable cost analysis may be yeild the information you need (remember to remove profit from the variable cost ).]\n\n{Financial Information obtained from customer or publically available sources.}\n\n<Cell(8,2),Cell(9,2),Cell(11,2),Cell(8,2)>"]
["PPMicro","Price Productivity Micro","Calculate the impact on operating income from changes in net sales billed, direct material, diect labor, manufacturing overhead and fixed costs for a specific company's financial data.  ","(Enter Net Sales Billed  for Current Operations)\n\n[Net Sales Billed Information is one of the inputs needed to calculate Operating Income. This input is usually Quantity x Unit Price]\n\n{Net Sales Billed is entered here.}\n\n<Cell(21,3)>","(Enter or Calculate Fixed Costs for Current Operations)\n\n[Fixed Costs  is needed to calculate Operating Income.]\n\n{Fixed Costs is entered here.}\n\n<Cell(37,3)>","(Enter Operating Income as % of sales for Current Operations)\n\n[This Operating Income percentage will be the basis used for comparison as various trial changes are analyized.]\n\n{Enter Operating Income as % of sales here.}\n\n<Cell(38,2)>","(Enter Variable Cost component percentages for current operations.)\n\n[Variable Costs are made up of Direct Material, Direct Labor, and Variable Overhead]\n\n{Put Direct Material, Direct Labor, and Variable Overhead Percentages of Variable Costs in these three rows.}\n\n<Cell(23,2),Cell(34,2),Cell(35,2)>","(Make Variable Costs component percentages add up to 100%)\n\n[Direct Material, Direct Labor, and Variable Overhead percentages must total 100%. If they do not total 100% then a message is displayed.]\n\n{Experiement with the \"Sum to 100\" helper by changing one of these values so the total is NOT 100%.}\n\n<Cell(23,2),Cell(34,2),Cell(35,2)>","(Make entries in Changes Table)\n\n[The Changes Table allows five scenarios of \"Percent Changes\" to exising operations. Make desired percent changes to Net Sales Billed , Direct Material Costs, Direct Labor Costs, Variable Overhead Costs, and Fixed Costs.]\n\n{Enter the percent changes you wish to see in Net Sales Billed, Direct Material Costs, Direct Labor Costs, Variable Overhead Costs and Fixed Cost in these cells in percentages.   A negative number will be displayed in red.}\n\n<Cells(5,3),Cells(6,3),Cells(17,3),Cells(18,3), Cells(19,3)>","(Operating Income Changed by results)\n\n[The result to any change made in the \"Changes Table\" are immediately displayed as \"Operating Income Changed By\" at the bottom of Results Table in percentage format.  The \"Current Operations\" data is the basis for each change scenario you input.]\n\n{Operating Income Percentage Change for each scenario.}\n\n<Cell(39,4),Cell(39,5),Cell(39,6),Cell(39,7),Cell(39,8), Cell(39,4)>","(Enter Direct Material breakout descriptions.)\n\n[Make sure the \"Direct Material Breakout Operations\"  box is checked. Then enter the material break out descriptions.]\n\n{Change these material descriptions to be the breakout components you want to analyze.}\n\n<Cell(24,1),Cell(25,1),Cell(26,1),Cell(27,1),Cell(28,1),Cell(29,1),Cell(30,1),Cell(31,1),Cell(32,1),Cell(33,1)>","( Current Operations Basis data for materials breakout.)\n\n[Direct Materials may be broken out into ten components. The percentage that each of these components is of  total Direct Materials is needed to perform change calculations]\n\n{Enter the percentage that each of the Direct Material components is of the total. These  entries must add to 100%.}\n\n<Cell(24,2),Cell(25,2),Cell(26,2),Cell(27,2),Cell(28,2),Cell(29,2),Cell(30,2),Cell(31,2),Cell(32,2),Cell(33,2)>","(Enter percent changes in the Direct Mataerial breakout components.)\n\n[Five scenarios reflecting changes in Direct Material components may be entred.]\n\n{Enter Direct Material component changes in these columns}\n\n<Cell(9,4),Cell(9,5),Cell(9,6),Cell(9,7),Cell(9,8),Cell(9,4)>","(Accept the changes you have indicated to be made.)\n\n[The \"Accept\" button may be clicked to accept the changes you have entered for Direct Material components.]\n\n{Click this button to accept the changes you have made in the direct material breakout components.}\n\n<cmdAccept>","(Where to obtain Direct Material, Direct Labor, Variable Overhead as a percent of Variable Costs.)\n\n [If supplier’s are unwilling to provide cost/profit information use the DirectMaterial, Labor, VarOvrh’d, Fixed CostCalculator to estimate Costs and Operating Income.]\n\n{Use this calculator to get input information to Variable Costs. Click on this button to see the calculator form.}\n\n<cmdDMLabVoh>","(Title your Work)\n\n[It is generally a good idea to document your work if you're going to communicate results to others. Click the \"Project ID\" button to give this project a title]\n\n{Click this button to update the title sheet}\n\n<cmdProjectID>","(How to print your results)\n\n[If you have a printer available on your computer, click the \"Print Table & Chart\" button to print this worksheet. Suppliers are often pleased to get this analysis information to be afforded the opportunity to explain their pricing to you. Print or fax the information to then with a cover letter explaining the analysis.]\n\n{This is the button to click to print or fax your analysis results}\n\n<cmdPrint>"]
["BreakEven","Break-Even Analysis","At what unit of production do total cost and total revenue intersect.  The earlier in the production run the higher a company's profit margin.","(Set the Number of Columns)\n\n[Use the column spinner to set the number of columns. You need to have a column for each break-even calculation you wish to perform.]\n\n{Click the spinner up to increase the number of columns down to decrease. Maximum is 10…Minimum is 2}\n\n<spnColumns>","(How to Enter Data)\n\n[Enter the information for Unit Selling Price, Unit Variable Cost (remember to remove \"profit\" if you are transferring data from a Fixed & Variable Cost Analysis) in the \"blue\" data entry rows.]\n\n{Enter data in these \"Blue\" cells}\n\n<Entry>","(Set Decimal Place for Currency amounts.)\n\n[Use the \"decimal\" spinner up or down to set the precision you wish for currency.  Don't use more precision than you need...it clutters things up.]\n\n{The \"decimal\" you select will be used for all currency cells.}\n\n<spnDecimal>","(Displaying Break-Even Chart)\n\n[Click the Radio Button above the Trail # you wish to display.  This is also the chart that will be printed.]\n\n{Select one of these radio buttons to see the chart.}\n\n<Cell(3,2)>","(Title your Work)\n\n[It is generally a good idea to document your work if you're going to communicate results to others. Click the \"Project ID\" button to give this project a title]\n\n{Click this button to update the title sheet}\n\n<cmdProjectID>","(How to print your results)\n\n[If you have a printer available on your computer, click the \"Print Table & Chart\" button to print this worksheet. Suppliers are often pleased to get this analysis information to be afforded the opportunity to explain their pricing to you. Print or fax the information to then with a cover letter explaining the analysis.]\n\n{This is the button to click to print or fax your analysis results}\n\n<cmdPrint>"]
["LearnCurve","Learning Curve","Determine prices for various quanities based changes in labor paced processing time due to volume changes.","(Set the Number of Columns)\n\n[Use the column spinner to set the number of columns. You will need a column for each specific price/quantity pair you have.]\n\n{Click the spinner up to increase the number of columns down to decrease. Maximum is 10…Minimum is 2}\n\n<spnColumns>","(How to Enter Data)\n\n[Enter the information for Unit Selling Price, Fixed Costs/Unit, Mat'l Cost/unit, Labor Rate, Ov'hd Rate % of D.L., Profit % T.C.,and  Ave Cum Hrs.  ]\n\n{Enter the quantity,price, percentage, and hourly data in these cells}\n\n<Entry>","(Set Decimal Place for Currency amounts.)\n\n[Use the \"decimal\" spinner up or down to set the precision you wish for currency.  Don't use more precision than you need...it clutters things up.]\n\n{The \"decimal\" you select will be used for all currency cells.}\n\n<spnDecimal>","(Using the Learning Curve Calculator )\n\n[The Learning Curve Calculator provides assistance in getting FixedCost/Unit, Mat'lCost/Unit, and Ov'hd%DL information. If information is not available from a supplier, it can be generated using the PPMicro Calculator and the Fixed and Varible Cost Analysis worksheet. Data may be transferred from these sheets to the Learning Curve Calculator]\n\n{Click on this Button to view/use the Learning Curve Calculator}\n\n<cmdLrnCalc>","(Title your Work)\n\n[It is generally a good idea to document your work if you're going to communicate results to others. Click the \"Project ID\" button to give this project a title]\n\n{Click this button to update the title sheet}\n\n<cmdProjectID>","(How to print your results)\n\n[If you have a printer available on your computer, click the \"Print Table & Chart\" button to print this worksheet. Suppliers are often pleased to get this analysis information to be afforded the opportunity to explain their pricing to you. Print or fax the information to them with a cover letter explaining the analysis.]\n\n{This is the button to click to print or fax your analysis results}\n\n<cmdPrint>",null,"<cmdChartVertical>"]
["LearningCurve","Typical Learning Cuve Information","Observe the nature of various learning curve rates and the impact of learning curve theory on productivity for machine based and assembly based work processes.","(How is work done?)\n\n[Work is accomplished with a combination of Assembly Paced…many labor hours…or Machine Paced...fewer labor hours.] \n\n{A process that is 95% Assembly Paced}\n<Cell(4,1)>","(View a typical Learning Curve Rate)\n\n[Click on one of the of the learning curve rates in the Learning Curve column]\n\n{For example, click this 80% rate}\n\n<Cell(8,3)>\n","(What does a learning curve plot look like?)\n\n[Learning Curves have a straight line chart when plotted on a log-log scale; \"exponential\" when plotted on a linear scale.]\n\n{Click one then the other of these buttons}\n\n<cmdLinear>\n"]
["StanfordB","Stanford-B Analysis","Apply the learning acquired from making a similar part to a \"new\" part. ","(How to Enter StanfordB Data)\n\n[StanfordB analysis uses data from an existing design and applies it to a similar design. ]\n\n{Enter data in these \"Blue\" cells}\n\n<Cell(4,2),Cell(5,2),Cell(6,2),Cell(7,2),Cell(8,2),Cell(9,2),Cell(10,2),Cell(11,2),Cell(4,2)>","(Units of New Design)\n\n[The B-Factors will be applied to the number of Units in the New Design]\n\n{Enter Units of New Design here}\n\n<Cell(16,2)>","(Cost Data for the new design)\n\n[StandordB theory provides the Hrs/Unit information. You need to provide the new design cost data.]\n\n{Enter Cost Data here}\n\n<Entry>","(Set Decimal Place for Currency amounts.)\n\n[Use the \"decimal\" spinner up or down to set the precision you wish for currency.  Don't use more precision than you need...it clutters things up.]\n\n{The \"decimal\" you select will be used for all currency cells.}\n\n<spnDecimal>","(Title your Work)\n\n[It is generally a good idea to document your work if you're going to communicate results to others. Click the \"Project ID\" button to give this project a title]\n\n{Click this button to update the title sheet}\n\n<cmdProjectID>","(How to print your results)\n\n[If you have a printer available on your computer, click the \"Print Table & Chart\" button to print this worksheet. Suppliers are often pleased to get this analysis information to be afforded the opportunity to explain their pricing to you. Print or fax the information to them with a cover letter explaining the analysis.]\n\n{This is the button to click to print or fax your analysis results}\n\n<cmdPrint>"]
["EPQ","Economic Production Quantity","Determine the optimum production quantity, balancing setup and carrying inventory costs. ","(Set the Number of Columns)\n\n[Use the column spinner to set the number of columns. You will need a column for each specific price/quantity pair you have.]\n\n{Click the spinner up to increase the number of columns down to decrease. Maximum is 10…Minimum is 2}\n\n<spnColumns>","(How to Enter Data)\n\n[Enter the information for each item in the first column in the \"blue\" data entry rows.]\n\n{Enter data in these cells}\n\n<Entry>","(Set Decimal Place for Currency amounts.)\n\n[Use the \"decimal\" spinner up or down to set the precision you wish for currency.  Don't use more precision than you need...it clutters things up.]\n\n{The \"decimal\" you select will be used for all currency cells.}\n\n<spnDecimal>","(Where do I get this production data?)\n\n[Your supplier has the information. If your supplier is unable to provide you with it, estimate it from your company's experience or industry standards.]\n\n{Ask supplier for this information.}\n\n<Entry>","(Title your Work)\n\n[It is generally a good idea to document your work if you're going to communicate results to others. Click the \"Project ID\" button to give this project a title]\n\n{Click this button to update the title sheet}\n\n<cmdProjectID>","(How to print your results)\n\n[If you have a printer available on your computer, click the \"Print Table & Chart\" button to print this worksheet. Suppliers are often pleased to get this analysis information to be afforded the opportunity to explain their pricing to you. Print or fax the information to then with a cover letter explaining the analysis.]\n\n{This is the button to click to print or fax your analysis results}\n\n<cmdPrint>"]
["TheoreticalMinWt","Theoretical Minimum Weight - Sheets","Are you paying more than you should because the sheet is thicker, wider or longer than your specification?","(Set the Number of Columns)\n\n[Use the column spinner to set the number of columns. You will need a column for each reel you wish to calculate the Theoretical Minimum Weight.]\n\n{Click the spinner up to increase the number of columns down to decrease. Maximum is 10…Minimum is 2}\n\n<spnColumns>","(How to Enter Data)\n\n[Enter the information for each item in the first column in the \"blue\" data entry rows. If you need more or fewer columns, go to step one and click on the column spinner up or down again]\n\n{Enter the quantity and price data in these cells}\n\n<Entry>","(Set Decimal Place for Currency and other variables.)\n\n[Use the \"decimal\" spinner up or down to set the precision you wish.  Don't use more precision than you need...it clutters things up.]\n\n{The \"decimal\" you select will be used for all cells except unit values.}\n\n<spnDecimal>","(Title your Work)\n\n[It is generally a good idea to document your work if you're going to communicate results to others. Click the \"Project ID\" button to give this project a title]\n\n{Click this button to update the title sheet}\n\n<cmdProjectID>","(How to print your results)\n\n[If you have a printer available on your computer, click the \"Print Table & Chart\" button to print this worksheet. Suppliers are often pleased to get this analysis information to be afforded the opportunity to explain their pricing to you. Print or fax the information to them with a cover letter explaining the analysis.]\n\n{This is the button to click to print or fax your analysis results}\n\n<cmdPrint>"]
["TheoreticalMinCp","Theoretical Minimum Weight - Coils","Are you paying more than you should because the coil is thicker or wider than your specification?","(Set the Number of Columns)\n\n[Use the column spinner to set the number of columns. You will need a column for each reel you wish to calculate the Theoretical Minimum Weight.]\n\n{Click the spinner up to increase the number of columns down to decrease. Maximum is 10…Minimum is 2}\n\n<spnColumns>","{(How to Enter Data)\n\n[Enter the information for each item in the first column in the \"blue\" data entry rows. If you need more or fewer columns, go to step one and click on the column spinner up or down again]\n\n{Enter the quantity and price data in these cells}\n\n<Entry>","(Set Decimal Place for Currency and other variables.)\n\n[Use the \"decimal\" spinner up or down to set the precision you wish.  Don't use more precision than you need...it clutters things up.]\n\n{The \"decimal\" you select will be used for all cells.}\n\n<spnDecimal>","(Title your Work)\n\n[It is generally a good idea to document your work if you're going to communicate results to others. Click the \"Project ID\" button to give this project a title]\n\n{Click this button to update the title sheet}\n\n<cmdProjectID>","(How to print your results)\n\n[If you have a printer available on your computer, click the \"Print Table & Chart\" button to print this worksheet. Suppliers are often pleased to get this analysis information to be afforded the opportunity to explain their pricing to you. Print or fax the information to them with a cover letter explaining the analysis.]\n\n{This is the button to click to print or fax your analysis results}\n\n<cmdPrint>"]
["TheoreticalMinUWR","Theoretical Minimum Weight - Reels","Are you paying more than you should because the diameter of the wire is larger than your specification?","(Set the Number of Columns)\n\n[Use the column spinner to set the number of columns. You will need a column for each reel you wish to calculate the Theoretical Minimum Weight.]\n\n{Click the spinner up to increase the number of columns down to decrease. Maximum is 10…Minimum is 2}\n\n<spnColumns>","(How to Enter Data)\n\n[Enter the information for each item in the first column in the \"blue\" data entry rows. If you need more or fewer columns, go to step one and click on the column spinner up or down again]\n\n{Enter the quantity and price data in these cells}\n\n<Entry>","(Set Decimal Place for Currency and other variables.)\n\n[Use the \"decimal\" spinner up or down to set the precision you wish.  Don't use more precision than you need...it clutters things up.]\n\n{The \"decimal\" you select will be used for all cells.}\n\n<spnDecimal>","(Title your Work)\n\n[It is generally a good idea to document your work if you're going to communicate results to others. Click the \"Project ID\" button to give this project a title]\n\n{Click this button to update the title sheet}\n\n<cmdProjectID>","(How to print your results)\n\n[If you have a printer available on your computer, click the \"Print Table & Chart\" button to print this worksheet. Suppliers are often pleased to get this analysis information to be afforded the opportunity to explain their pricing to you. Print or fax the information to then with a cover letter explaining the analysis.]\n\n{This is the button to click to print or fax your analysis results}\n\n<cmdPrint>"]
["BidFactorCost","Bid Factor - Classical Build Up Method","What is the \"real\" total cost of buying from a company?","(Set the Number of Columns)\n\n[Use the column spinner to set the number of columns. You will need a column for each specific price/quantity pair you have.]\n\n{Click the spinner up to increase the number of columns down to decrease. Maximum is 10…Minimum is 2}\n\n<spnColumns>","(How to Enter Data)\n\n[For each item in Blue enter the financial data.]\n\n{Entr all data you have in the \"Blue\" cells.}\n\n<Entry>","(Set Decimal Place for Currency amounts.)\n\n[Use the \"decimal\" spinner up or down to set the precision you wish for currency.  Don't use more precision than you need...it clutters things up.]\n\n{The \"decimal\" you select will be used for all currency cells.}\n\n<spnDecimal>","(Title your Work)\n\n[It is generally a good idea to document your work if you're going to communicate results to others. Click the \"Project ID\" button to give this project a title]\n\n{Click this button to update the title sheet}\n\n<cmdProjectID>","(How to print your results)\n\n[If you have a printer available on your computer, click the \"Print Table & Chart\" button to print this worksheet. Suppliers are often pleased to get this analysis information to be afforded the opportunity to explain their pricing to you. Print or fax the information to them with a cover letter explaining the analysis.]\n\n{This is the button to click to print or fax your analysis results}\n\n<cmdPrint>"]
["BidFactorEvent","Bid Factor - Event Based Method","What is the \"real\" total cost of buying from a company?","(Set the Number of Columns)\n\n[Use the column spinner to set the number of columns. You will need a column for each specific price/quantity pair you have.]\n\n{Click the spinner up to increase the number of columns down to decrease. Maximum is 10…Minimum is 2}\n\n<spnColumns>","(Cost associated with supplier events.)\n\n[Enter information you have for each of the supplier events in the\" $ per event\" column.]\n\n{\"$ per event\" information goes here.}\n\n<Cell(5,3),Cell(6,3),Cell(7,3),Cell(8,3),Cell(9,3)>","(Number of events & purchases from this supplier.)\n\n[Enter the number of times each event has occurred in each period for this supplier.]\n\n{Enter event and purchase data here.}\n\n<Entry>","(Title your Work)\n\n[It is generally a good idea to document your work if you're going to communicate results to others. Click the \"Project ID\" button to give this project a title]\n\n{Click this button to update the title sheet}\n\n<cmdProjectID>","(How to print your results)\n\n[If you have a printer available on your computer, click the \"Print Table & Chart\" button to print this worksheet. Suppliers are often pleased to get this analysis information to be afforded the opportunity to explain their pricing to you. Print or fax the information to them with a cover letter explaining the analysis.]\n\n{This is the button to click to print or fax your analysis results}\n\n<cmdPrint>"]
["EquipmentTOC","Equipment - Total Cost of Ownership","What is the Total Cost of Ownership?","(Set the Number of Columns)\n\n[Use the column spinner to set the number of columns. You will need a column for each specific price/quantity pair you have.]\n\n{Click the spinner up to increase the number of columns down to decrease. Maximum is 10…Minimum is 2}\n\n<spnColumns>","(How to Enter Data)\n\n[For each supplier enter the financial data requested.]\n\n{Enter data in \"Blue\" cells.}\n\n<Entry>","(Set Decimal Place for Currency amounts.)\n\n[Use the \"decimal\" spinner up or down to set the precision you wish for currency.  Don't use more precision than you need...it clutters things up.]\n\n{The \"decimal\" you select will be used for all currency cells.}\n\n<spnDecimal>","(Title your Work)\n\n[It is generally a good idea to document your work if you're going to communicate results to others. Click the \"Project ID\" button to give this project a title]\n\n{Click this button to update the title sheet}\n\n<cmdProjectID>","(How to print your results)\n\n[If you have a printer available on your computer, click the \"Print Table & Chart\" button to print this worksheet. Suppliers are often pleased to get this analysis information to be afforded the opportunity to explain their pricing to you. Print or fax the information to them with a cover letter explaining the analysis.]\n\n{This is the button to click to print or fax your analysis results}\n\n<cmdPrint>"]
["IntlPurchTOC","International Sourcing - Total Cost ","Document the \"real\" total cost of global sourcing.","(Set the Number of Columns)\n\n[Use the column spinner to set the number of columns. You will need a column for each specific price/quantity pair you have.]\n\n{Click the spinner up to increase the number of columns down to decrease. Maximum is 10…Minimum is 2}\n\n<spnColumns>","(How to Enter Data for International Purchasing. )\n\n[For each item in \"Blue\" enter the financial data and number of shipments per year. You may not have all the information you need, but the items listed are intended to suggest the costs you may need to consider.]\n\n{Enter qunatities and price data in the \"Blue\" cells in these columns.}\n\n<Entry>","(Set Decimal Place for Currency amounts.)\n\n[Use the \"decimal\" spinner up or down to set the precision you wish for currency.  Don't use more precision than you need...it clutters things up.]\n\n{The \"decimal\" you select will be used for all currency cells.}\n\n<spnDecimal>","(Title your Work)\n\n[It is generally a good idea to document your work if you're going to communicate results to others. Click the \"Project ID\" button to give this project a title]\n\n{Click this button to update the title sheet}\n\n<cmdProjectID>","(How to print your results)\n\n[If you have a printer available on your computer, click the \"Print Table & Chart\" button to print this worksheet. Suppliers are often pleased to get this analysis information to be afforded the opportunity to explain their pricing to you. Print or fax the information to them with a cover letter explaining the analysis.]\n\n{This is the button to click to print or fax your analysis results}\n\n<cmdPrint>"]
["SPI","Supplier Performance Index","Capture the cost of waste created by a supplier.","(Prepare the Measurement Periods for Data)\n\n[Use the \"periods 2-7 left by one\" button to clear the existing data in column #1.  When you shift the columns left by one period the information in column 1 is deleted and all of the other information is moved one position to the left.  This has the effect of creating a six month rolling average after six months of data has been collected.]\n\n{Each Click Shifts the Data Left one period. CAUTION: you cannot undo this shift!}\n\n<cmdShiftLeft>","(Cost associated with supplier events.)\n\n[Enter information you have for each of the supplier events in the\" $ per event\" column.]\n\n{\"$ per event\" information goes here.}\n\n<Cell(6,3),Cell(7,3),Cell(8,3),Cell(9,3),Cell(10,3)>","(Enter the number of events for the period or periods of interest)\n\n[In a steady state you will be entering this data in Column #7, then shift all the columns left by one period in order to maintain a 6-period rolling average.]\n\n{Enter the number of event occurrences in these \"Blue\" cells.}\n\n<Cell(10,4),Cell(10,5),Cell(10,6),Cell(10,7),Cell(10,8),Cell(10,9), Cell(10,10)>","(Enter Supplier Commodity Lot Ave, Specific Supplier Commodity Lot Ave, and Total Value of Lots This supplier)\n\n[In a steady state you will be entering this data in Column #7. In order to utilize Supplier Performance Index methodology you will have to organize work processes to have this data easily available.]\n\n{Enter the Lot Value information in these \"Blue\" cells}\n\n<Cell(14,4),Cell(14,5),Cell(14,6),Cell(14,7),Cell(14,8),Cell(14,9),Cell(14,10)>","(Set your  Supplier Performance Index for this Commondity.)\n\n[You need establish acceptable supplier performance indices for the commodities you are purchasing in order that you may track supplier performance.]\n\n{Your SPI for this Commodity goes here.}\n\n<Cell(3,4)>","(Set Decimal Place for Currency amounts.)\n\n[Use the \"decimal\" spinner up or down to set the precision you wish for currency.  Don't use more precision than you need...it clutters things up.]\n\n{The \"decimal\" you select will be used for all currency cells.}\n\n<spnDecimal>","(Title your Work)\n\n[It is generally a good idea to document your work if you're going to communicate results to others. Click the \"Project ID\" button to give this project a title]\n\n{Click this button to update the title sheet}\n\n<cmdProjectID>","(How to print your results)\n\n[If you have a printer available on your computer, click the \"Print Table & Chart\" button to print this worksheet. Suppliers are often pleased to get this analysis information to be afforded the opportunity to explain their pricing to you. Print or fax the information to them with a cover letter explaining the analysis.]\n\n{This is the button to click to print or fax your analysis results}\n\n<cmdPrint>"]
["ThruPut","Throughput Analysis","Find the hidden factory by \"Measuring System Performance\" versus \"Work Station Efficiency.\"","(Set the Number of Columns)\n\n[Use the column spinner to set the number of columns. Use a column for each \"factory\" situation where you have data.]\n\n{Click the spinner up to increase the number of columns down to decrease. Maximum is 10…Minimum is 2}\n\n<spnColumns>","(Enter Throughput Analysis data.)\n\n[You will need to organize your work processes such that Throughput data is avaialble to you.]\n\n{Enter Throughput date in these \"Blue\" cells.}\n\n<Entry>","(Displaying Throughput Chart)\n\n[Click the Radio Button below the Analysis # you wish to display.  This is also the chart that will be printed.]\n\n{Click one of the radio buttons in this row to view the chart for the associated Throughput information.}\n\n<opt01>","(Title your Work)\n\n[It is generally a good idea to document your work if you're going to communicate results to others. Click the \"Project ID\" button to give this project a title]\n\n{Click this button to update the title sheet}\n\n<cmdProjectID>","(How to print your results)\n\n[If you have a printer available on your computer, click the \"Print Table & Chart\" button to print this worksheet. Suppliers are often pleased to get this analysis information to be afforded the opportunity to explain their pricing to you. Print or fax the information to them with a cover letter explaining the analysis.]\n\n{This is the button to click to print or fax your analysis results}\n\n<cmdPrint>"]
["ValueIndices","Value Indices","Keep the tension for generating productivity improvements high by tracking the rate and direction of improvements.","(Prepare the Measurement Periods for Data)\n\n[Use the \"Click to shift columns 2-13 one column to the left\" button clear the existing data.  When you shift the columns left by one period, the information in column one is deleted and all of the other information is moved one position to the left.  This has the effect of creating a 12-period rolling average...a year's worth of data]\n\n{For every click the information shifts to the left by one column}\n\n<cmdShift>","(Price, Quality, and Cycle Time data)\n\n[In a steady state, you will be entering data in column 13, and maintain a 12-period (usually a year) of Value Indices data]\n\n{Enter Value Indices information in \"Blue\" cells.}\n\n<Entry>","(Set Decimal Place for Currency amounts.)\n\n[Use the \"decimal\" spinner up or down to set the precision you wish for currency.  Don't use more precision than you need...it clutters things up.]\n\n{The \"decimal\" you select will be used for all currency cells.}\n\n<spnDecimal>","(Title your Work)\n\n[It is generally a good idea to document your work if you're going to communicate results to others. Click the \"Project ID\" button to give this project a title]\n\n{Click this button to update the title sheet}\n\n<cmdProjectID>","(How to print your results)\n\n[If you have a printer available on your computer, click the \"Print Table & Chart\" button to print this worksheet. Suppliers are often pleased to get this analysis information to be afforded the opportunity to explain their pricing to you. Print or fax the information to them with a cover letter explaining the analysis.]\n\n{This is the button to click to print or fax your analysis results}\n\n<cmdPrint>"]
["ValueProductivity","Total Supplier Productivity","Reveal a supplier's total price and value (quality, delivery, technical) contributions.","(Price Producivity Information needed.)\n\n[Enter the Initial Price, deflated Price, and Supplir investment information. This data can be period data for a specific supplier or you may wish to compare suppliers for a given quotation.]\n\n{Enter Price Productvity Information in the \"Blue\" Cells.}\n\n<Cell(7,3),Cell(7,4),Cell(7,5),Cell(7,6),Cell(7,7),Cell(7,8),Cell(7,9),Cell(7,3)>","(Value Producivity Information needed.)\n\n[Enter the five factors for Value Productivity. This data can be period data for a specific supplier or you may wish to compare suppliers for a given quotation.]\n\n{Enter Value Productvity Information for five rows in the \"Blue\" Cells.}\n\n<Cell(10,2),Cell(11,2),Cell(12,2),Cell(13,2),Cell(14,2)Cell(14,3),Cell(14,4),Cell(14,5),Cell(14,6),Cell(14,7),Cell(14,8),Cell(14,9),Cell(14,3)>","(Set Decimal Place for Currency amounts.)\n\n[Use the \"decimal\" spinner up or down to set the precision you wish for currency.  Don't use more precision than you need...it clutters things up.]\n\n{The \"decimal\" you select will be used for all currency cells.}\n\n<spnDecimal>","(Title your Work)\n\n[It is generally a good idea to document your work if you're going to communicate results to others. Click the \"Project ID\" button to give this project a title]\n\n{Click this button to update the title sheet}\n\n<cmdProjectID>","(How to print your results)\n\n[If you have a printer available on your computer, click the \"Print Table & Chart\" button to print this worksheet. Suppliers are often pleased to get this analysis information to be afforded the opportunity to explain their pricing to you. Print or fax the information to them with a cover letter explaining the analysis.]\n\n{This is the button to click to print or fax your analysis results}\n\n<cmdPrint>"]
["SourcingSavingsBy","Sourcing Savings - Earnings per Share","Earnings per share is a universial measure of function's contribution to the company's well being.","(Savings...Earnings Per Share)\n\n[Enter the \"Cost Savings\" and the \"Number of Shares\" information in the \"blue\" data entry rows. ]\n\n{Cost Savings & Number of Shares}\n\n<Cell(4,3),Cell(5,3)>","(Savings…Return on Investment)\n\n[Enter the \"Cost Savings\" and the \"Invested Capital\" information in the \"blue\" data entry rows. ]\n\n{Cost Savings & Invested Capital}\n\n<Cell(9,3),Cell(10,3)>","(Savings…Increased Sales)\n\n[Enter the \"Cost Savings\" and the \"Percent Operating Profit\" information in the \"blue\" data entry rows.]\n\n{Cost Savings & Percent Operating Profit}\n\n<Cell(14,3),Cell(15,3)>","(Set Decimal Place for Currency amounts.)\n\n[Use the \"decimal\" spinner up or down to set the precision you wish for currency.  Don't use more precision than you need...it clutters things up.]\n\n{The \"decimal\" you select will be used for all currency cells.}\n\n<spnDecimal>","(Title your Work)\n\n[It is generally a good idea to document your work if you're going to communicate results to others. Click the \"Project ID\" button to give this project a title]\n\n{Click this button to update the title sheet}\n\n<cmdProjectID>","(How to print your results)\n\n[If you have a printer available on your computer, click the \"Print Table & Chart\" button to print this worksheet.]\n\n{This is the button to click to print or fax your analysis results}\n\n<cmdPrint>"]
["AsmntRel","Relationship Assessment","Correctly identifing the type of relationship you have with another individual or business is critical to negotiating successful outcomes. ","(Name of Oranization)\n\n[Enter the name of the organization to which this Relationship Assessment applies.]\n\n{Click to Enter Name}\n\n<cmdEnterName>","(Entering Relationship Assessment Data)\n\n[If this is an ongoing assessment, then you want to update this worksheet. If it's a new assessment, then clear the data from the existing worksheet.]  \n\n{Click ONLY IF YOU WANT TO CLEAR ALL DATA}\n\n<cmdClear>","(Current or Desired Data Entry)\n\n[Select the type of assessment you are doing, \"current\" or \"desired\" behavior.] \n\n{Select one of these}\n\n<optDesiredBehavior>","(Select rating for each behavior.)\n\n[Work your way down the column rating the observable habitual behavior using the continuum. A double click in the cell you want to check followed by a return will enter a C or D depending on which behavior you've checked. ]\n\n{ \"C\" or \"D\" for all rows}\n\n<Cell(5,4),Cell(6,4),Cell(7,4), Cell(8,4),Cell(5,3)>","(Calculate the Score)\n\n[When finished with entry for all behaviors, calculate the score Relationship score]\n\n{Click to calculate score.}\n\n<btnRelBehaviorScore>\n\n","(Title your Work)\n\n[It is generally a good idea to document your work if you're going to communicate results to others. Click the \"Project ID\" button to give this project a title]\n\n{Click this button to update the title sheet}\n\n<cmdProjectID>","(How to print your results)\n\n[If you have a printer available on your computer, click the \"Print Table & Chart\" button to print this worksheet.]\n\n{This is the button to click to print or fax your analysis results}\n\n<cmdPrint>"]
["AsmntOrg","Organizational Assessment","Accurately identifying the type of organization you are working with increases the opportunity for successful outcomes.","(Name of Organization)\n\n[Enter the name of the organization to which this Organizational Behavior Assessment applies.]\n\n{Click to Enter Name}\n\n<cmdEnterName>","(Entering Organizational Assessment Data)\n\n[If this is an ongoing assessment, then you want to update this worksheet. If it's a new assessment, then clear the data from the existing worksheet.]  \n\n{Click ONLY IF YOU WANT TO CLEAR ALL DATA}\n\n<cmdClear>","(Current or Desired Data Entry)\n\n[Select the type of assessment you are doing, \"current\" or \"desired\" behavior.] \n\n{Select one of these}\n\n<optDesiredBehavior>","(Select rating for each behavior.)\n\n[Work your way down the column rating the observable habitual behavior using the continuum. A double click in the cell you want to check followed by a return will enter a C or D depending on which behavior you've checked. ]\n\n{ \"C\" or \"D\" for all rows}\n\n<Cell(5,4),Cell(6,4),Cell(7,4), Cell(8,4),Cell(5,3)>","(Calculate the Score)\n\n[When finished with entry for all behaviors, calculate the score Relationship score]\n\n{Click to calculate score.}\n\n<btnOrgBehaviorScore>\n\n","(Title your Work)\n\n[It is generally a good idea to document your work if you're going to communicate results to others. Click the \"Project ID\" button to give this project a title]\n\n{Click this button to update the title sheet}\n\n<cmdProjectID>","(How to print your results)\n\n[If you have a printer available on your computer, click the \"Print Table & Chart\" button to print this worksheet.]\n\n{This is the button to click to print or fax your analysis results}\n\n<cmdPrint>"]
["AsmntTeam","Team Assessment","Are you part of a Pseudo, Dysfunctional or Effective Team?","(Name of Team)\n\n[Enter the name of the team to which this Team Assessment applies.]\n\n{Click to Enter Name}\n\n<cmdEnterName>","(Entering Team Assessment Data)\n\n[If this is an ongoing assessment, then you want to update this worksheet. If it's a new assessment, then clear the data from the existing worksheet.]  \n\n{Click ONLY IF YOU WANT TO CLEAR ALL DATA}\n\n<cmdClear>","(Team Assessment for 9 Maxims.)\n\n[Each Maxim has a 0-10 scale. Decide what score you want to enter, then double click on the desired cell and hit the enter key…or navigate to the cell you want to enter by using the tab key and type an X.]\n\n{Work your way through each Maxim}\n\n<Cell(11,3), Cell(12,3),Cell(13,3),Cell(14,3),Cell(15,3),Cell(16,3)>","(Calculate the Score)\n\n[When finished with entry for all behaviors, calculate the score Relationship score]\n\n{Click to calculate score.}\n\n<cmdTeamBehaviorScore>\n\n","(Title your Work)\n\n[It is generally a good idea to document your work if you're going to communicate results to others. Click the \"Project ID\" button to give this project a title]\n\n{Click this button to update the title sheet}\n\n<cmdProjectID>","(How to print your results)\n\n[If you have a printer available on your computer, click the \"Print Table & Chart\" button to print this worksheet.]\n\n{This is the button to click to print or fax your analysis results}\n\n<cmdPrint>"]
["PaymentDiscount","Payment Discount","Is an early payment discount worth taking?","(Set the Number of Columns)\n\n[Use the column spinner to set the number of columns. You will need a column for all Payment Terms you wish to analyze.]\n\n{Click the spinner up to increase the number of columns down to decrease. Maximum is 10…Minimum is 2}\n\n<spnColumns>","(How to use Payment Discount Calculator)\n\n[Enter the information for each payment term in the \"blue\" data entry rows. If you need more or fewer columns, go to step one and click the column spinner up or down again]\n\n{Enter the quantity and price data in these cells}\n\n<Entry>","(Set Decimal Place for Currency amounts.)\n\n[Use the \"decimal\" spinner up or down to set the precision you wish for currency.  Don't use more precision than you need...it clutters things up.]\n\n{The \"decimal\" you select will be used for all currency cells.}\n\n<spnDecimal>","(Title your Work)\n\n[It is generally a good idea to document your work if you're going to communicate results to others. Click the \"Project ID\" button to give this project a title]\n\n{Click this button to update the title sheet}\n\n<cmdProjectID>","(How to print your results)\n\n[If you have a printer available on your computer, click the \"Print Table & Chart\" button to print this worksheet.]\n\n{This is the button to click to print or fax your analysis results}\n\n<cmdPrint>"]
["ExtendedTerms","Extended Payment Terms ","What is the financial benefit of extending payment terms? ","(Set the Number of Columns)\n\n[Use the column spinner to set the number of columns. You will need a column for all Payment Terms you wish to analyze.]\n\n{Click the spinner up to increase the number of columns down to decrease. Maximum is 10…Minimum is 2}\n\n<spnColumns>","(How to use Extened Payment Terms Calculator)\n\n[Enter the information for each payment term in the \"blue\" data entry rows. If you need more or fewer columns, go to step one and click the column spinner up or down again]\n\n{Enter the quantity and price data in these cells}\n\n<Entry>","(Set Decimal Place for Currency amounts.)\n\n[Use the \"decimal\" spinner up or down to set the precision you wish for currency.  Don't use more precision than you need...it clutters things up.]\n\n{The \"decimal\" you select will be used for all currency cells.}\n\n<spnDecimal>","(Title your Work)\n\n[It is generally a good idea to document your work if you're going to communicate results to others. Click the \"Project ID\" button to give this project a title]\n\n{Click this button to update the title sheet}\n\n<cmdProjectID>","(How to print your results)\n\n[If you have a printer available on your computer, click the \"Print Table & Chart\" button to print this worksheet.]\n\n{This is the button to click to print or fax your analysis results}\n\n<cmdPrint>"]
["FinancialData","Financial Data for Ratios and Z-Scores","This is the data input document for all financial ratio and Z-score calculations.","(Description of Financial Terms)\n\n[ Data used here comes from a company's annual reports. A description for most financial terms is provided to help with compiling the correct information from balance sheets and income statements.]\n\n{Place mouse over cells with the red mark in the upper right corner}\n\n<Cells(5,2),Cells(6,2),Cells(7,2),Cells(8,2),Cells(9,2),Cells(11,2),Cells(12,2),Cells(14,2),Cells(15,2,),Cells(16,2),Cells(17,2),Cells(19,2,),Cells(20,2),Cells(21,2),Cells(22,2),Cells(24,2),Cells(25,2),Cells(26,2),Cells(27,2),Cells(29,2),Cells(30,2,),Cells(31,2),Cells(32,2),Cells(33,2),Cells(34,2),Cells(5,2)>","(Caution information for using financial Apps)\n\n[Three Financial Measurements using ratios and Z-Score Analysis are calculated from data conatined on this input template. ]\n\n{Click here to review cautionary information in using these Apps.}\n\n<cmdCaution>","(How to Clear all input data)\n\n[If this is a \"fresh\" start, clear the data from the existing worksheet.  Otherwise, update the existing information in the blue cells]\n\n{Click here and this will clear all input data. Be careful, there is no undo for this operation.}\n\n<cmdClear>","(Adjust the number of decimal places)\n\n[Use the Decimals Spinner to set the number of decimal places you want to use.]\n\n{Spin up or down for number of decimal places.}\n\n<spnDecimal>","(Title the source data columns.)\n\n[The column titles may be whatever you wish. A good start is to compare supplier financial history to industry norms.]\n\n{These five cells can be changed to identify the business entity you are analyzing. }\n\n<Cell(4,3),Cell(4,4),Cell(4,5),Cell(4,6),Cell(4,7),Cell(4,3)>\n\n\n\n","(Input all the Financial Data)\n\n[The Financial Data input sheet is styled after a \"typical\" Balance Sheet and Income Statement. Enter all the data in the \"Blue\" cells.]\n\n{Enter all financial data for each row all the way to the bottom of this entry sheet.}\n\n<Cell(5,3),Cell(6,3),Cell(7,3),Cell(8,3), Cell(9,3), Cell(11,3), Cell(12,3)>","(Subtotals calculated from inputs.)\n\n[ Items in \"black\" are subtotals and not available to user's for change. Subtotals only change as user's make changes to the \"blue\" inputs.]\n\n{These rows are subtotals}\n\n<Cell(10,2),Cell(13,2),Cell(18,2),Cell(23,2),Cell(28,2),Cell(10,2)>","(Selecting Input Variables to Chart for this Worksheet)\n\n[There are about 30 variables available to chart. They can be charted six at a time. Check the ones you wish to see charted below.]\n\n{Using the check box on the left select no more than six of these to chart.}\n\n<Cell(5,2),Cell(6,2),Cell(7,2),Cell(8,2),Cell(34,2),Cell(33,2),Cell(32,2),Cell(5,2)>\n\n","(Selecting Columns to \"Pass On\" to the Solvency, Leverage, Profitability, and Z-Score Ratios)\n\n[All five input columns may be passed on to the Ratio Sheets. Check the ones you want to see.]\n\n{Check as many as these as you wish to pass on to the Ratio Sheets that follow.}\n\n<Cell(3,3),Cell(3,4),Cell(3,5),Cell(3,6),Cell(3,7),Cell(3,3)>","(Viewing the Ratio Results calculated from this Financial Input Data)\n\n[Solvency, Leverage, Profitability, and Z-Score Ratios are calculated using this input sheet. Go to the Financial Analysis menu entry on the Excel menu bar to view these ratios.]","(Title your Work)\n\n[It is generally a good idea to document your work if you're going to communicate results to others. Click the \"Project ID\" button to give this project a title]\n\n{Click this button to update the title sheet}\n\n<cmdProjectID>","(How to print your results)\n\n[If you have a printer available on your computer, click the \"Print Table & Chart\" button to print this worksheet.]\n\n{This is the button to click to print or fax your analysis results}\n\n<cmdPrint>"]
["Solvency","Solvency Ratios","Can a company meet its financial obligations as they come due?","(Selecting Variables to Chart)\n\n[Select up to six variables to chart (MS Excel limitation).  When the you click to update financial tables and charts the charts at the bottom of each financial worksheets will be created/updated.]\n\n{}\n\n<>","(Chart Options)\n\n[Selected \"Variables\" are charted at the bottom of each financial worksheet.  The default chart is a line chart.  Click on \"Column\" or \"Bar\" to change the type of chart.  Note when \"Bar is selected the axis description does not become horizontal, this an MS Excel anomaly which we can not change.]\n\n{}\n\n<>","(How to print your results)\n\n[If you have a printer available on your computer, click the \"Print Table & Chart\" button to print this worksheet.]\n\n{This is the button to click to print or fax your analysis results}\n\n<cmdPrint>",null,null,null,"(Title your Work)"]
["Leverage","Leverage Ratios","How efficienctly does a company manage its resources?","(Selecting Variables to Chart)\n\n[Select up to six variables to chart (MS Excel limitation).  When the you click to update financial tables and charts the charts at the bottom of each financial worksheets will be created/updated.]\n\n{}\n\n<>","(Chart Options)\n\n[Selected \"Variables\" are charted at the bottom of each financial worksheet.  The default chart is a line chart.  Click on \"Column\" or \"Bar\" to change the type of chart.  Note when \"Bar is selected the axis description does not become horizontal, this an MS Excel anomaly which we can not change.]\n\n{}\n\n<>","(How to print your results)\n\n[If you have a printer available on your computer, click the \"Print Table & Chart\" button to print this worksheet.]\n\n{This is the button to click to print or fax your analysis results}\n\n<cmdPrint>"]
["Profitability","Profitability Ratios","How efficienctly does a company manage its resources to generate profit?","(Selecting Variables to Chart)\n\n[Select up to six variables to chart (MS Excel limitation).  When the you click to update financial tables and charts the charts at the bottom of each financial worksheets will be created/updated.]\n\n{}\n\n<>","(Chart Options)\n\n[Selected \"Variables\" are charted at the bottom of each financial worksheet.  The default chart is a line chart.  Click on \"Column\" or \"Bar\" to change the type of chart.  Note when \"Bar is selected the axis description does not become horizontal, this an MS Excel anomaly which we can not change.]\n\n{}\n\n<>","(How to print your results)\n\n[If you have a printer available on your computer, click the \"Print Table & Chart\" button to print this worksheet.]\n\n{This is the button to click to print or fax your analysis results}\n\n<cmdPrint>",null,null,null,"[It is generally a good idea to document your work if you're going to communicate results to others. Click the \"Project ID\" button to give this project a title]"]
["Z-Scores","Z-Score Analysis","What is the financial health of a company (heading towards bankruptcy, uncertain, or financial strong)?","(Selecting Variables to Chart)\n\n[Select up to six variables to chart (MS Excel limitation).  When the you click to update financial tables and charts the charts at the bottom of each financial worksheets will be created/updated.]\n\n{}\n\n<>","(Chart Options)\n\n[Selected \"Variables\" are charted at the bottom of each financial worksheet.  The default chart is a line chart.  Click on \"Column\" or \"Bar\" to change the type of chart.  Note when \"Bar is selected the axis description does not become horizontal, this an MS Excel anomaly which we can not change.]\n\n{}\n\n<>","(How to print your results)\n\n[If you have a printer available on your computer, click the \"Print Table & Chart\" button to print this worksheet.]\n\n{This is the button to click to print or fax your analysis results}\n\n<cmdPrint>"]
["EnergyCosts","Calculating Energy Surcharges","How large of an increase do suppliers need to recover lost profits due to increased energy costs? ","(There are three scenarios that need to be analyzed when considering energy cost increases: Fuels Consumed, Purchased Electricity and their combination.)\n\n[The current price from the supplier is needed and, the new unit price due to increased energy cost.]\n\n{Enter the information in these 'blue' cells. It is usually the same for all three scenarios.}\n\n<Cell(7,2),Cell(8,2),Cell(7,3),Cell(8,3),Cell(7,4),Cell(8,4)>","(Net sales billed and the purchased energy consumed by a supplier is all the information that is required to calculate the ACTUAL energy surcharge that is needed to restore lost profits.)\n\n[If this information is available from the supplier, then enter it in 'blue' cells shown for this data. If not available from supplier, go to Step 3 to use industry data.]\n\n{Enter Value of Shipments and Purchased Energy data}\n\n<Cell(10,2),Cell(11,2),Cell(10,3),Cell(11,3),Cell(10,4),Cell(11,4)>","(If the supplier is unable or unwilling to provide their net sales billed and various energy costs, use the industry data contained in the SourcingApps data base. )\n\n[To use industry data, click on the command button labelled: \"Click to Get Annual Survey of Manufacturers Engegy Data\"]\n\n{Find ASM data for hundreds of NAICS codes}\n\n<cmdEnergyAnalysis>","(The SourcingApps data base contains data necessary to calculate energy surcharges for hundres of  NAICS codes.)\n\n[Follow the instructions in the NAICS codes and Descriptions form to get information for your supplier's industry.]\n\n{Click here to see the codes.}\n\n<cmdEnergyAnalysis>","(ASM description of the data used for this surcharge calculation.)\n\n[The specific industry information used to perform the surcharge calculation for the three scenarios is automatically updated.]\n\n{Automatically provided from ASM data base}\n\n<Cell(6,1)>","(Title your Work)\n\n[It is generally a good idea to document your work if you're going to communicate results to others. Click the \"Project ID\" button to give this project a title]\n\n{Click this button to update the title sheet}\n\n<cmdProjectID>","(How to print your results)\n\n[If you have a printer available on your computer, click the \"Print Table & Chart\" button to print this worksheet. Suppliers are often pleased to get this analysis information to be afforded the opportunity to explain their pricing to you. Print or fax the information to them with a cover letter explaining the analysis.]\n\n{This is the button to click to print or fax your analysis results}\n\n<cmdPrint>"]
["NAICScostComparisons","Annual Cost Comaprisons by NAICS Industry codes","This analysis tracks the changes in operating income, variable and fixed costs based on industry data  published by the U. S. Census Bureau. Any significant changes in cost elements year to year needs to researched and explained.\n","(Click on “GetInfo from the\nSourcingApps Data Base.” Then enter\neither a NAICS number or a description\nto search for data. )\n\n\n{Click here to see a list of the NAICS codes}\n\n<cmdNAICScost>"]
["EnergyCostComparisons","Annual Energy Cost Comaprisons by NAICS Industry codes","This analysis tracks the changes in energy costs based on industry data  published by the U. S. Census Bureau.   Any significant changes in energy year to year needs to researched and explained.\n\n","(Find the energy costs by industry)\n\n[Retrieve list of North American Industry Classification System (NAICS) codes. ]\n\n{Click here to see a list of the NAICS codes}\n\n<cmdNAICSenergyCosts>"]
["TheoreticalMinRebar","Theoretical Minimum Weight - Rebar","Are you paying more than you should because the rebars have a larger diameter or are longer than your specification?","(Set the Number of Columns)\n\n[Use the column spinner to set the number of columns. You will need a column for each reel you wish to calculate the Theoretical Minimum Weight.]\n\n{Click the spinner up to increase the number of columns down to decrease. Maximum is 10…Minimum is 2}\n\n<spnColumns>","(How to Enter Data)\n\n[Enter the information for each item in the first column in the \"blue\" data entry rows. If you need more or fewer columns, go to step one and click on the column spinner up or down again]\n\n{Enter the quantity and price data in these cells}\n\n<Entry>","(Set Decimal Place for Currency and other variables.)\n\n[Use the \"decimal\" spinner up or down to set the precision you wish.  Don't use more precision than you need...it clutters things up.]\n\n{The \"decimal\" you select will be used for all cells except unit values.}\n\n<spnDecimal>","(Title your Work)\n\n[It is generally a good idea to document your work if you're going to communicate results to others. Click the \"Project ID\" button to give this project a title]\n\n{Click this button to update the title sheet}\n\n<cmdProjectID>","(How to print your results)\n\n[If you have a printer available on your computer, click the \"Print Table & Chart\" button to print this worksheet. Suppliers are often pleased to get this analysis information to be afforded the opportunity to explain their pricing to you. Print or fax the information to them with a cover letter explaining the analysis.]\n\n{This is the button to click to print or fax your analysis results}\n\n<cmdPrint>"]
[]
[]
[]
[]
["Assessments"]

{"sheet":"NAICS","index":150,"n_rows":1230,"n_cols":11,"rows_kept":1230,"cut":false,"hidden":false,"merged":[]}
["Data in the SourcingApps data base is from the Annual Manufacturers Survey (codes 31-33), or Economic Census (published in years ending in 2 or 7) and the Quarterly Financial Report (average of four quarters, for the year selected) published by the U. S. Census Bureau."]
["NAICS-based code","Meaning of NAICS-based code","Prod workers hours (1,000)","Prod workers wages ($1,000)","Tot cost of materials ($1,000)","Purch fuels consumed ($1,000)","Purchased electricity ($1,000)","Total value of shps ($1,000)","Fixed Cost as % of Net Sales Billed","Operating   Income","Year"]
["31-33","Manufacturing",18786191,344285109,2737565131,53964326,49727388,5019963474,2.76,7.08,2006]
["31-33","Manufacturing",19055800,337980878,2557600945,52876642,46357791,4742076879,2.9,6.5,2005]
[311,"Food mfg",2198396,32798575,304750119,5257876,4662690,537787007,2.1800000000000002,5.99,2006]
[311,"Food mfg",2242558,32090481,298397145,4850091,4261832,532402120,2.2999999999999998,6.2,2005]
[3111,"Animal food mfg",60822,1115897,19517061,275820,246061,33987757,2.1800000000000002,5.99,2006]
[3111,"Animal food mfg",61346,1089432,19299507,295296,222629,33233522,2.2999999999999998,6.2,2005]
[31111,"Animal food manufacturing",60822,1115897,19517061,275820,246061,33987757,2.1800000000000002,5.99,2006]
[31111,"Animal food manufacturing",61346,1089432,19299507,295296,222629,33233522,2.2999999999999998,6.2,2005]
[311111,"Dog and cat food manufacturing",24743,499716,5805259,112251,74474,13596647,2.1800000000000002,5.99,2006]
[311111,"Dog and cat food manufacturing",24337,482517,5810560,105842,69310,13141967,2.2999999999999998,6.2,2005]
[311119,"Other animal food manufacturing",36079,616181,13711802,163570,171587,20391111,2.1800000000000002,5.99,2006]
[311119,"Other animal food manufacturing",37010,606914,13488947,189454,153318,20091555,2.2999999999999998,6.2,2005]
[3112,"Grain & oilseed milling",86869,1818515,37828252,1385832,812508,57666847,2.1800000000000002,5.99,2006]
[3112,"Grain & oilseed milling",86538,1797757,36567297,1220496,766546,57525933,2.2999999999999998,6.2,2005]
[31121,"Flour milling and malt manufacturing",24398,411940,7812868,110657,202139,10692383,2.1800000000000002,5.99,2006]
[31121,"Flour milling and malt manufacturing",25205,416410,7250366,106047,188406,10366097,2.2999999999999998,6.2,2005]
["31121M","Flour milling and malt manufacturing",24398,411940,7812868,110657,202139,10692383,2.1800000000000002,5.99,2006]
["31121M","Flour milling and malt manufacturing",25205,416410,7250366,106047,188406,10366097,2.2999999999999998,6.2,2005]
[31122,"Starch and vegetable fats and oils manufacturing",37696,787500,27202146,1185703,528798,37548306,2.1800000000000002,5.99,2006]
[31122,"Starch and vegetable fats and oils manufacturing",37824,759039,26719966,1039750,508534,37039077,2.2999999999999998,6.2,2005]
[311221,"Wet corn milling",12485,316608,5895329,778846,342019,9939087,2.1800000000000002,5.99,2006]
[311221,"Wet corn milling",12753,300010,5390183,622310,326828,9290872,2.2999999999999998,6.2,2005]
[311225,"Fats and oils refining and blending",11497,213108,7006739,95273,50711,9066699,2.1800000000000002,5.99,2006]
[311225,"Fats and oils refining and blending",12278,225266,7540779,91127,56711,9453251,2.2999999999999998,6.2,2005]
["31122N","Soybean and other oilseed processing",13715,257784,14300078,311584,136068,18542520,2.1800000000000002,5.99,2006]
["31122N","Soybean and other oilseed processing",12794,233763,13789005,326313,124994,18294954,2.2999999999999998,6.2,2005]
[31123,"Breakfast cereal manufacturing",24775,619074,2813239,89471,81572,9426158,2.1800000000000002,5.99,2006]
[31123,"Breakfast cereal manufacturing",23508,622308,2596964,74699,69606,10120758,2.2999999999999998,6.2,2005]
[311230,"Breakfast cereal manufacturing",24775,619074,2813239,89471,81572,9426158,2.1800000000000002,5.99,2006]
["311230","Breakfast cereal manufacturing",23508,622308,2596964,74699,69606,10120758,2.2999999999999998,6.2,2005]
[3113,"Sugar & confectionery product mfg",104741,1934050,12631236,365982,210643,28225160,2.1800000000000002,5.99,2006]
[3113,"Sugar & confectionery product mfg",109888,1904968,12706135,329836,202470,28489295,2.2999999999999998,6.2,2005]
[31131,"Sugar manufacturing",23231,434441,4390006,254726,57503,7072301,2.1800000000000002,5.99,2006]
[31131,"Sugar manufacturing",24661,446512,4510370,225728,55981,7088306,2.2999999999999998,6.2,2005]
[311313,"Beet sugar manufacturing",11822,216840,1683485,162026,30698,2920992,2.1800000000000002,5.99,2006]
[311313,"Beet sugar manufacturing",11839,211987,1533865,139719,28453,2745249,2.2999999999999998,6.2,2005]
["31131N","Sugar cane mills and refining",11409,217601,2706520,92700,26804,4151309,2.1800000000000002,5.99,2006]
["31131N","Sugar cane mills and refining",12822,234524,2976505,86009,27529,4343057,2.2999999999999998,6.2,2005]
[31132,"Chocolate and confectionery manufacturing from cacao beans",12010,263574,2344844,22364,32596,4342693,2.1800000000000002,5.99,2006]
[31132,"Chocolate and confectionery manufacturing from cacao beans",12319,247089,2346167,21273,31690,4250980,2.2999999999999998,6.2,2005]
[311320,"Chocolate and confectionery manufacturing from cacao beans",12010,263574,2344844,22364,32596,4342693,2.1800000000000002,5.99,2006]
[311320,"Chocolate and confectionery manufacturing from cacao beans",12319,247089,2346167,21273,31690,4250980,2.2999999999999998,6.2,2005]
[31133,"Confectionery manufacturing from purchased chocolate",40888,733665,3571173,49659,75614,10577965,2.1800000000000002,5.99,2006]
[31133,"Confectionery manufacturing from purchased chocolate",41685,691846,3387746,44655,66908,10360578,2.2999999999999998,6.2,"2005"]
[311330,"Confectionery manufacturing from purchased chocolate",40888,733665,3571173,49659,75614,10577965,2.1800000000000002,5.99,2006]
[311330,"Confectionery manufacturing from purchased chocolate",41685,691846,3387746,44655,66908,10360578,2.2999999999999998,6.2,2005]
[31134,"Nonchocolate confectionery manufacturing",28612,502370,2325214,39234,44931,6232201,2.1800000000000002,5.99,2006]
[31134,"Nonchocolate confectionery manufacturing",31223,519522,2461852,38179,47890,6789431,2.2999999999999998,6.2,2005]
[311340,"Nonchocolate confectionery manufacturing",28612,502370,2325214,39234,44931,6232201,2.1800000000000002,5.99,2006]
[311340,"Nonchocolate confectionery manufacturing",31223,519522,2461852,38179,47890,6789431,2.2999999999999998,6.2,2005]
[3114,"Fruit & vegetable preserving & specialty food mfg",278445,4192009,28468662,725622,576835,56278716,2.1800000000000002,5.99,2006]
[3114,"Fruit & vegetable preserving & specialty food mfg",287546,4079873,27583333,723948,536749,54862687,2.2999999999999998,6.2,2005]
[31141,"Frozen food manufacturing",148121,2116683,12105711,252911,314435,24340369,2.1800000000000002,5.99,2006]
[31141,"Frozen food manufacturing",150024,2011565,11928756,244037,294516,23710880,2.2999999999999998,6.2,2005]
["31141M","Frozen food manufacturing",148121,2116683,12105711,252911,314435,24340369,2.1800000000000002,5.99,2006]
["31141M","Frozen food manufacturing",150024,2011565,11928756,244037,294516,23710880,2.2999999999999998,6.2,2005]
[31142,"Fruit and vegetable canning, pickling, and drying",130323,2075326,16362951,472711,262400,31938346,2.1800000000000002,5.99,2006]
[31142,"Fruit and vegetable canning, pickling, and drying",137523,2068308,15654577,479911,242233,31151807,2.2999999999999998,6.2,2005]
["31142M","Fruit and vegetable canning, pickling, and drying",130323,2075326,16362951,472711,262400,31938346,2.1800000000000002,5.99,2006]
["31142M","Fruit and vegetable canning, pickling, and drying",137523,2068308,15654577,479911,242233,31151807,2.2999999999999998,6.2,2005]
[3115,"Dairy product mfg",178762,3367686,51261345,563242,620279,75427809,2.1800000000000002,5.99,2006]
[3115,"Dairy product mfg",184499,3337919,51778110,480835,575591,76941026,2.2999999999999998,6.2,2005]
[31151,"Dairy product (except frozen) manufacturing",150586,2832838,47008221,538539,512885,66476533,2.1800000000000002,5.99,2006]
[31151,"Dairy product (except frozen) manufacturing",155312,2806471,47612288,460252,476346,67927660,2.2999999999999998,6.2,2005]
[311513,"Cheese manufacturing",61706,1077939,20471726,209758,164379,25518043,2.1800000000000002,5.99,2006]
[311513,"Cheese manufacturing",64794,1092468,21359728,189227,161610,27116279,2.2999999999999998,6.2,2005]
[311514,"Dry, condensed, and evaporated dairy product manufacturing",20550,454353,5411225,150058,80817,9897626,2.1800000000000002,5.99,2006]
[311514,"Dry, condensed, and evaporated dairy product manufacturing",19224,396223,5344877,110903,69410,9594481,2.2999999999999998,6.2,2005]
["31151N","Fluid milk and butter manufacturing",68330,1300546,21125269,178722,267688,31060864,2.1800000000000002,5.99,2006]
["31151N","Fluid milk and butter manufacturing",71295,1317780,20907684,160123,245326,31216899,2.2999999999999998,6.2,2005]
[31152,"Ice cream and frozen dessert manufacturing",28177,534849,4253124,24703,107394,8951276,2.1800000000000002,5.99,2006]
[31152,"Ice cream and frozen dessert manufacturing",29187,531448,4165822,20583,99245,9013366,2.2999999999999998,6.2,2005]
[311520,"Ice cream and frozen dessert manufacturing",28177,534849,4253124,24703,107394,8951276,2.1800000000000002,5.99,2006]
[311520,"Ice cream and frozen dessert manufacturing",29187,531448,4165822,20583,99245,9013366,2.2999999999999998,6.2,2005]
[3116,"Animal  slaughtering & processing",870347,10635377,96862515,958395,1096535,149576741,2.1800000000000002,5.99,2006]
[3116,"Animal  slaughtering & processing",894041,10394901,96378863,889741,995465,149819532,2.2999999999999998,6.2,2005]
[31161,"Animal slaughtering and processing",870347,10635377,96862515,958395,1096535,149576741,2.1800000000000002,5.99,2006]
[31161,"Animal slaughtering and processing",894041,10394901,96378863,889741,995465,149819532,2.2999999999999998,6.2,2005]
[311615,"Poultry processing",412522,4561860,20329632,265669,436539,46163487,2.1800000000000002,5.99,2006]
[311615,"Poultry processing",428927,4428127,20751043,229607,403849,47876583,2.2999999999999998,6.2,2005]
["31161N","Animal (except poultry) slaughtering and processing",457825,6073517,76532883,692726,659996,103413254,2.1800000000000002,5.99,2006]
["31161N","Animal (except poultry) slaughtering and processing",465115,5966774,75627821,660134,591615,101942949,2.2999999999999998,6.2,2005]
[3117,"Seafood product preparation & packaging",60044,788365,6530224,134529,111665,10849078,2.1800000000000002,5.99,2006]
[3117,"Seafood product preparation & packaging",62954,804287,6195151,115170,106486,10138025,2.2999999999999998,6.2,2005]
[31171,"Seafood product preparation and packaging",60044,788365,6530224,134529,111665,10849078,2.1800000000000002,5.99,2006]
[31171,"Seafood product preparation and packaging",62954,804287,6195151,115170,106486,10138025,2.2999999999999998,6.2,2005]
["31171M","Seafood product preparation and packaging",60044,788365,6530224,134529,111665,10849078,2.1800000000000002,5.99,2006]
["31171M","Seafood product preparation and packaging",62954,804287,6195151,115170,106486,10138025,2.2999999999999998,6.2,2005]
[3118,"Bakeries & tortilla mfg",315076,5058085,19814852,412782,498260,54173014,2.1800000000000002,5.99,2006]
[3118,"Bakeries & tortilla mfg",318524,4958233,18799564,372047,454424,53662828,2.2999999999999998,6.2,2005]
[31181,"Bread and bakery product manufacturing",224135,3531705,12154258,282497,337394,34778931,2.1800000000000002,5.99,2006]
[31181,"Bread and bakery product manufacturing",227077,3469657,11437371,255181,308211,34280452,2.2999999999999998,6.2,2005]
["31181M","Bread and bakery product manufacturing",224135,3531705,12154258,282497,337394,34778931,2.1800000000000002,5.99,2006]
["31181M","Bread and bakery product manufacturing",227077,3469657,11437371,255181,308211,34280452,2.2999999999999998,6.2,2005]
[31182,"Cookie, cracker, and pasta manufacturing",73104,1280548,6785415,101040,134138,17177123,2.1800000000000002,5.99,2006]
[31182,"Cookie, cracker, and pasta manufacturing",73160,1247008,6547865,91146,123255,17287363,2.2999999999999998,6.2,2005]
["31182M","Cookie, cracker, and pasta manufacturing",73104,1280548,6785415,101040,134138,17177123,2.1800000000000002,5.99,2006]
["31182M","Cookie, cracker, and pasta manufacturing",73160,1247008,6547865,91146,123255,17287363,2.2999999999999998,6.2,2005]
[31183,"Tortilla manufacturing",17837,245832,875178,29246,26728,2216960,2.1800000000000002,5.99,2006]
[31183,"Tortilla manufacturing",18287,241568,814329,25720,22958,2095013,2.2999999999999998,6.2,2005]
[311830,"Tortilla manufacturing",17837,245832,875178,29246,26728,2216960,2.1800000000000002,5.99,2006]
[311830,"Tortilla manufacturing",18287,241568,814329,25720,22958,2095013,2.2999999999999998,6.2,2005]
[3119,"Other food mfg",243291,3888590,31835972,435670,489905,71601885,2.1800000000000002,5.99,2006]
[3119,"Other food mfg",237221,3723111,29089185,422723,401473,67729273,2.2999999999999998,6.2,2005]
[31191,"Snack food manufacturing",52499,805048,8748305,189065,104316,22779175,2.1800000000000002,5.99,2006]
[31191,"Snack food manufacturing",52143,807467,7830011,198189,92407,21330616,2.2999999999999998,6.2,2005]
["31191M","Snack food manufacturing",52499,805048,8748305,189065,104316,22779175,2.1800000000000002,5.99,2006]
["31191M","Snack food manufacturing",52143,807467,7830011,198189,92407,21330616,2.2999999999999998,6.2,2005]
[31192,"Coffee and tea manufacturing",15075,308827,3640619,50487,44289,6993416,2.1800000000000002,5.99,2006]
[31192,"Coffee and tea manufacturing",14320,289397,2876599,43954,37162,6257632,2.2999999999999998,6.2,2005]
[311920,"Coffee and tea manufacturing",15075,308827,3640619,50487,44289,6993416,2.1800000000000002,5.99,2006]
[311920,"Coffee and tea manufacturing",14320,289397,2876599,43954,37162,6257632,2.2999999999999998,6.2,2005]
[31193,"Flavoring syrup and concentrate manufacturing",7270,156812,1328856,15445,14793,7962477,2.1800000000000002,5.99,2006]
[31193,"Flavoring syrup and concentrate manufacturing",7479,155653,1395454,15336,14854,7672140,2.2999999999999998,6.2,2005]
[311930,"Flavoring syrup and concentrate manufacturing",7270,156812,1328856,15445,14793,7962477,2.1800000000000002,5.99,2006]
[311930,"Flavoring syrup and concentrate manufacturing",7479,155653,1395454,15336,14854,7672140,2.2999999999999998,6.2,2005]
[31194,"Seasoning and dressing manufacturing",41583,734922,6671060,44738,76368,13023637,2.1800000000000002,5.99,2006]
[31194,"Seasoning and dressing manufacturing",42387,723983,6528650,41800,70872,12760624,2.2999999999999998,6.2,2005]
["31194M","Seasoning and dressing manufacturing",41583,734922,6671060,44738,76368,13023637,2.1800000000000002,5.99,2006]
["31194M","Seasoning and dressing manufacturing",42387,723983,6528650,41800,70872,12760624,2.2999999999999998,6.2,2005]
[31199,"All other food manufacturing",126864,1882981,11447133,135935,250138,20843180,2.1800000000000002,5.99,2006]
[31199,"All other food manufacturing",120893,1746611,10458471,123445,186179,19708261,2.2999999999999998,6.2,2005]
["31199M","All other food manufacturing",126864,1882981,11447133,135935,250138,20843180,2.1800000000000002,5.99,2006]
["31199M","All other food manufacturing",120893,1746611,10458471,123445,186179,19708261,2.2999999999999998,6.2,2005]
[312,"Beverage & tobacco product mfg",167652,3522190,45228396,494529,651942,124693109,3.16,14.73,2006]
[312,"Beverage & tobacco product mfg",167560,3524226,43414418,424514,561930,124085595,3.1,16.100000000000001,2005]
[3121,"Beverage mfg",138515,2753631,39907843,440525,581932,83095717,3.16,14.73,2006]
[3121,"Beverage mfg",135870,2712362,37979808,370190,486666,81382349,3.1,16.100000000000001,2005]
[31211,"Soft drink and ice manufacturing",76686,1250106,24985237,185288,299476,43442140,3.16,14.73,2006]
[31211,"Soft drink and ice manufacturing",72842,1246504,23962360,156819,255973,44636443,3.1,16.100000000000001,2005]
["31211M","Soft drink and ice manufacturing",76686,1250106,24985237,185288,299476,43442140,3.16,14.73,2006]
["31211M","Soft drink and ice manufacturing",72842,1246504,23962360,156819,255973,44636443,3.1,16.100000000000001,2005]
[31212,"Breweries",31178,885507,7863336,193644,165917,21690599,3.16,14.73,2006]
[31212,"Breweries",32101,864615,7390449,168229,149372,20794605,3.1,16.100000000000001,2005]
[312120,"Breweries",31178,885507,7863336,193644,165917,21690599,3.16,14.73,2006]
[312120,"Breweries",32101,864615,7390449,168229,149372,20794605,3.1,16.100000000000001,2005]
[31213,"Wineries",23470,463685,4884586,39930,100607,11790251,3.16,14.73,2006]
[31213,"Wineries",23642,452617,4432979,22826,66898,10444632,3.1,16.100000000000001,2005]
[312130,"Wineries",23470,463685,4884586,39930,100607,11790251,3.16,14.73,2006]
[312130,"Wineries",23642,452617,4432979,22826,66898,10444632,3.1,16.100000000000001,2005]
[31214,"Distilleries",7182,154333,2174684,21664,15932,6172728,3.16,14.73,2006]
[31214,"Distilleries",7285,148626,2194020,22316,14423,5506669,3.1,16.100000000000001,2005]
[312140,"Distilleries",7182,154333,2174684,21664,15932,6172728,3.16,14.73,2006]
[312140,"Distilleries",7285,148626,2194020,22316,14423,5506669,3.1,16.100000000000001,2005]
[3122,"Tobacco mfg",29137,768559,5320554,54004,70010,41597392,3.16,14.73,2006]
[3122,"Tobacco mfg",31690,811864,5434610,54324,75264,42703246,3.1,16.100000000000001,2005]
[31221,"Tobacco stemming and redrying",2949,30217,647568,6262,5997,873121,3.16,14.73,2006]
[31221,"Tobacco stemming and redrying",2995,29790,556933,"D",6511,773870,3.1,16.100000000000001,2005]
[312210,"Tobacco stemming and redrying",2949,30217,647568,6262,5997,873121,3.16,14.73,2006]
[312210,"Tobacco stemming and redrying",2995,29790,556933,"D",6511,773870,3.1,16.100000000000001,2005]
[31222,"Tobacco product manufacturing",26188,738342,4672986,47742,64013,40724271,3.16,14.73,2006]
[31222,"Tobacco product manufacturing",28695,782074,4877677,"D",68753,41929376,3.1,16.100000000000001,2005]
["31222M","Tobacco product manufacturing",26188,738342,4672986,47742,64013,40724271,3.16,14.73,2006]
["31222M","Tobacco product manufacturing",28695,782074,4877677,"D",68753,41929376,3.1,16.100000000000001,2005]
[313,"Textile mills",298969,4223048,21470415,583037,958543,38794866,3.16,5.84,2006]
[313,"Textile mills",336584,4617897,23773487,653948,991347,42327960,3.1,5.5,2005]
[3131,"Fiber, yarn, & thread mills",81105,1000779,6343965,64997,334836,9726920,3.16,5.84,2006]
[3131,"Fiber, yarn, & thread mills",88828,1103429,6884770,85212,347027,10414230,3.1,5.5,2005]
[31311,"Fiber, yarn, and thread mills",81105,1000779,6343965,64997,334836,9726920,3.16,5.84,2006]
[31311,"Fiber, yarn, and thread mills",88828,1103429,6884770,85212,347027,10414230,3.1,5.5,2005]
["31311M","Fiber, yarn, and thread mills",81105,1000779,6343965,64997,334836,9726920,3.16,5.84,2006]
["31311M","Fiber, yarn, and thread mills",88828,1103429,6884770,85212,347027,10414230,3.1,5.5,2005]
[3132,"Fabric mills",147314,2240200,9566640,279106,445483,19350820,3.16,5.84,2006]
[3132,"Fabric mills",170014,2469236,10301280,286950,460921,20679206,3.1,5.5,2005]
[31321,"Broadwoven fabric mills",77564,1080711,4490088,110677,235135,8031216,3.16,5.84,2006]
[31321,"Broadwoven fabric mills",91348,1246046,5098562,119781,242244,9350193,3.1,5.5,2005]
[313210,"Broadwoven fabric mills",77564,1080711,4490088,110677,235135,8031216,3.16,5.84,2006]
[313210,"Broadwoven fabric mills",91348,1246046,5098562,119781,242244,9350193,3.1,5.5,2005]
[31322,"Narrow fabric mills and schiffli machine embroidery",14585,192239,565347,16738,"D",1226505,3.16,5.84,2006]
[31322,"Narrow fabric mills and schiffli machine embroidery",16479,203518,599027,15999,21206,1330924,3.1,5.5,2005]
["31322M","Narrow fabric mills and schiffli machine embroidery",14585,192239,565347,16738,"D",1226505,3.16,5.84,2006]
["31322M","Narrow fabric mills and schiffli machine embroidery",16479,203518,599027,15999,21206,1330924,3.1,5.5,2005]
[31323,"Nonwoven fabric mills",29419,654105,3082111,88628,143402,7638815,3.16,5.84,2006]
[31323,"Nonwoven fabric mills",30992,648975,2941479,82203,134169,7131880,3.1,5.5,2005]
[313230,"Nonwoven fabric mills",29419,654105,3082111,88628,143402,7638815,3.16,5.84,2006]
[313230,"Nonwoven fabric mills",30992,648975,2941479,82203,134169,7131880,3.1,5.5,2005]
[31324,"Knit fabric mills",25746,313145,1429095,63063,"D",2454284,3.16,5.84,2006]
[31324,"Knit fabric mills",31195,370698,1662213,68968,63301,2866209,3.1,5.5,2005]
["31324M","Knit fabric mills",25746,313145,1429095,63063,"D",2454284,3.16,5.84,2006]
["31324M","Knit fabric mills",31195,370698,1662213,68968,63301,2866209,3.1,5.5,2005]
[3133,"Textile & fabric finishing & fabric coating mills",70550,982069,5559810,238934,178224,9717125,3.16,5.84,2006]
[3133,"Textile & fabric finishing & fabric coating mills",77741,1045233,6587437,281786,183400,11234524,3.1,5.5,2005]
[31331,"Textile and fabric finishing mills",56662,761921,3826564,207596,150489,7145888,3.16,5.84,2006]
[31331,"Textile and fabric finishing mills",63485,821676,4856077,252442,158206,8612421,3.1,5.5,2005]
["31331M","Textile and fabric finishing mills",56662,761921,3826564,207596,150489,7145888,3.16,5.84,2006]
["31331M","Textile and fabric finishing mills",63485,821676,4856077,252442,158206,8612421,3.1,5.5,2005]
[31332,"Fabric coating mills",13888,220148,1733246,31338,27735,2571238,3.16,5.84,2006]
[31332,"Fabric coating mills",14257,223557,1731359,29344,25194,2622103,3.1,5.5,2005]
[313320,"Fabric coating mills",13888,220148,1733246,31338,27735,2571238,3.16,5.84,2006]
[313320,"Fabric coating mills",14257,223557,1731359,29344,25194,2622103,3.1,5.5,2005]
[314,"Textile product mills",231410,2878468,18171617,234269,257934,33219884,3.16,5.84,2006]
[314,"Textile product mills",248343,3021251,19244870,242726,260795,35021877,3.1,5.5,2005]
[3141,"Textile furnishings mills",128413,1545749,12633288,183437,138739,21888097,3.16,5.84,2006]
[3141,"Textile furnishings mills",136163,1628821,13483206,188968,145846,23621729,3.1,5.5,2005]
[31411,"Carpet and rug mills",69881,902820,8540774,163733,99081,15210270,3.16,5.84,2006]
[31411,"Carpet and rug mills",68846,920846,8734353,158212,98896,15701190,3.1,5.5,2005]
[314110,"Carpet and rug mills",69881,902820,8540774,163733,99081,15210270,3.16,5.84,2006]
[314110,"Carpet and rug mills",68846,920846,8734353,158212,98896,15701190,3.1,5.5,2005]
[31412,"Curtain and linen mills",58532,642928,4092514,19704,39658,6677827,3.16,5.84,2006]
[31412,"Curtain and linen mills",67318,707975,4748853,30756,46950,7920539,3.1,5.5,2005]
["31412M","Curtain and linen mills",58532,642928,4092514,19704,39658,6677827,3.16,5.84,2006]
["31412M","Curtain and linen mills",67318,707975,4748853,30756,46950,7920539,3.1,5.5,2005]
[3149,"Other textile product mills",102997,1332719,5538329,50832,119195,11331787,3.16,5.84,2006]
[3149,"Other textile product mills",112179,1392429,5761664,53758,114948,11400148,3.1,5.5,2005]
[31491,"Textile bag and canvas mills",36129,435875,1730929,7050,16215,3649434,3.16,5.84,2006]
[31491,"Textile bag and canvas mills",38535,443304,1693395,7265,13666,3552128,3.1,5.5,2005]
["31491M","Textile bag and canvas mills",36129,435875,1730929,7050,16215,3649434,3.16,5.84,2006]
["31491M","Textile bag and canvas mills",38535,443304,1693395,7265,13666,3552128,3.1,5.5,2005]
[31499,"All other textile product mills",66869,896844,3807399,43782,102980,7682353,3.16,5.84,2006]
[31499,"All other textile product mills",73644,949125,4068269,46493,101283,7848020,3.1,5.5,2005]
[314991,"Rope, cordage, and twine mills",5987,81924,417420,4320,10011,835880,3.16,5.84,2006]
[314991,"Rope, cordage, and twine mills",5701,71546,412580,2793,9266,856035,3.1,5.5,2005]
[314992,"Tire cord and tire fabric mills",6010,105019,763861,19322,44240,1131755,3.16,5.84,2006]
[314992,"Tire cord and tire fabric mills",6676,119054,826379,19119,40374,1168834,3.1,5.5,2005]
[314999,"All other miscellaneous textile product mills",54871,709901,2626118,20140,48730,5714719,3.16,5.84,2006]
[314999,"All other miscellaneous textile product mills",61267,758525,2829310,24581,51643,5823150,3.1,5.5,2005]
[315,"Apparel mfg",291284,3063485,14653538,126681,181372,30462084,1.78,10.37,2006]
[315,"Apparel mfg",317485,3202937,15307508,131807,184306,31400959,1.8,8.8000000000000007,2005]
[3151,"Apparel knitting mills",43628,499352,2441640,39669,64257,4835405,1.78,10.37,2006]
[3151,"Apparel knitting mills",49933,556423,2415824,41625,61620,4783436,1.8,8.8000000000000007,2005]
[31511,"Hosiery and sock mills",35499,402381,1576354,26816,51426,3354442,1.78,10.37,2006]
[31511,"Hosiery and sock mills",39701,434793,1584677,30223,48611,3314622,1.8,8.8000000000000007,2005]
["31511M","Hosiery and sock mills",35499,402381,1576354,26816,51426,3354442,1.78,10.37,2006]
["31511M","Hosiery and sock mills",39701,434793,1584677,30223,48611,3314622,1.8,8.8000000000000007,2005]
[31519,"Other apparel knitting mills",8129,96971,865286,12853,12831,1480963,1.78,10.37,2006]
[31519,"Other apparel knitting mills",10231,121630,831147,11402,13009,1468813,1.8,8.8000000000000007,2005]
["31519M","Other apparel knitting mills",8129,96971,865286,12853,12831,1480963,1.78,10.37,2006]
["31519M","Other apparel knitting mills",10231,121630,831147,11402,13009,1468813,1.8,8.8000000000000007,2005]
[3152,"Cut & sew apparel mfg",223427,2297248,11203169,81784,107321,23664230,1.78,10.37,2006]
[3152,"Cut & sew apparel mfg",241870,2390982,11736139,84376,111436,24337177,1.8,8.8000000000000007,2005]
[31521,"Cut and sew apparel contractors",106715,990069,1693998,46731,37198,5694505,1.78,10.37,2006]
[31521,"Cut and sew apparel contractors",108517,949916,1318203,44760,27197,4320684,1.8,8.8000000000000007,2005]
["31521M","Cut and sew apparel contractors",106715,990069,1693998,46731,37198,5694505,1.78,10.37,2006]
["31521M","Cut and sew apparel contractors",108517,949916,1318203,44760,27197,4320684,1.8,8.8000000000000007,2005]
[31522,"Men's and boys' cut and sew apparel manufacturing",49342,498667,2349553,10578,27357,4729666,1.78,10.37,2006]
[31522,"Men's and boys' cut and sew apparel manufacturing",60259,583449,3348526,18819,39439,6728842,1.8,8.8000000000000007,2005]
["31522M","Men's and boys' cut and sew apparel manufacturing",49342,498667,2349553,10578,27357,4729666,1.78,10.37,2006]
["31522M","Men's and boys' cut and sew apparel manufacturing",60259,583449,3348526,18819,39439,6728842,1.8,8.8000000000000007,2005]
[31523,"Women's and girls' cut and sew apparel manufacturing",48023,606364,6536206,13659,33847,11771351,1.78,10.37,2006]
[31523,"Women's and girls' cut and sew apparel manufacturing",53430,653734,6415829,12402,35786,11788219,1.8,8.8000000000000007,2005]
["31523M","Women's and girls' cut and sew apparel manufacturing",48023,606364,6536206,13659,33847,11771351,1.78,10.37,2006]
["31523M","Women's and girls' cut and sew apparel manufacturing",53430,653734,6415829,12402,35786,11788219,1.8,8.8000000000000007,2005]
[31529,"Other cut and sew apparel manufacturing",19347,202148,623412,10817,8919,1468708,1.78,10.37,2006]
[31529,"Other cut and sew apparel manufacturing",19664,203883,653580,8396,9015,1499432,1.8,8.8000000000000007,2005]
["31529M","Other cut and sew apparel manufacturing",19347,202148,623412,10817,8919,1468708,1.78,10.37,2006]
["31529M","Other cut and sew apparel manufacturing",19664,203883,653580,8396,9015,1499432,1.8,8.8000000000000007,2005]
[3159,"Apparel accessories & other apparel mfg",24229,266885,1008729,5228,9794,1962449,1.78,10.37,2006]
[3159,"Apparel accessories & other apparel mfg",25682,255532,1155546,5806,11250,2280346,1.8,8.8000000000000007,2005]
[31599,"Apparel accessories and other apparel manufacturing",24229,266885,1008729,5228,9794,1962449,1.78,10.37,2006]
[31599,"Apparel accessories and other apparel manufacturing",25682,255532,1155546,5806,11250,2280346,1.8,8.8000000000000007,2005]
["31599M","Apparel accessories and other apparel manufacturing",24229,266885,1008729,5228,9794,1962449,1.78,10.37,2006]
["31599M","Apparel accessories and other apparel manufacturing",25682,255532,1155546,5806,11250,2280346,1.8,8.8000000000000007,2005]
[316,"Leather & allied product mfg",54995,664632,3054269,26086,43788,6019483,1.78,10.37,2006]
[316,"Leather & allied product mfg",57598,694013,3291064,35246,52124,6181055,1.8,8.8000000000000007,2005]
[3161,"Leather & hide tanning & finishing",7140,119302,969629,18269,18812,1338921,1.78,10.37,2006]
[3161,"Leather & hide tanning & finishing",9286,154514,1260851,26635,27948,1787033,1.8,8.8000000000000007,2005]
[31611,"Leather and hide tanning and finishing",7140,119302,969629,18269,18812,1338921,1.78,10.37,2006]
[31611,"Leather and hide tanning and finishing",9286,154514,1260851,26635,27948,1787033,1.8,8.8000000000000007,2005]
[316110,"Leather and hide tanning and finishing",7140,119302,969629,18269,18812,1338921,1.78,10.37,2006]
[316110,"Leather and hide tanning and finishing",9286,154514,1260851,26635,27948,1787033,1.8,8.8000000000000007,2005]
[3162,"Footwear mfg",22239,265652,976973,3760,13693,2013018,1.78,10.37,2006]
[3162,"Footwear mfg",24343,281149,970530,3472,13611,1982036,1.8,8.8000000000000007,2005]
[31621,"Footwear manufacturing",22239,265652,976973,3760,13693,2013018,1.78,10.37,2006]
[31621,"Footwear manufacturing",24343,281149,970530,3472,13611,1982036,1.8,8.8000000000000007,2005]
["31621M","Footwear manufacturing",22239,265652,976973,3760,13693,2013018,1.78,10.37,2006]
["31621M","Footwear manufacturing",24343,281149,970530,3472,13611,1982036,1.8,8.8000000000000007,2005]
[3169,"Other leather & allied product mfg",25616,279678,1107667,4057,11283,2667544,1.78,10.37,2006]
[3169,"Other leather & allied product mfg",23969,258350,1059684,5139,10566,2411986,1.8,8.8000000000000007,2005]
[31699,"Other leather and allied product manufacturing",25616,279678,1107667,4057,11283,2667544,1.78,10.37,2006]
[31699,"Other leather and allied product manufacturing",23969,258350,1059684,5139,10566,2411986,1.8,8.8000000000000007,2005]
["31699M","Other leather and allied product manufacturing",25616,279678,1107667,4057,11283,2667544,1.78,10.37,2006]
["31699M","Other leather and allied product manufacturing",23969,258350,1059684,5139,10566,2411986,1.8,8.8000000000000007,2005]
[321,"Wood product mfg",887613,12792282,68082814,813401,1582708,112404226,2.69,6.21,2006]
[321,"Wood product mfg",911332,12618535,67809137,764745,1445146,112094961,2.6,6.8,2005]
[3211,"Sawmills & wood preservation",193286,2974637,22363678,286684,553293,32162583,2.69,6.21,2006]
[3211,"Sawmills & wood preservation",196051,2954368,21974628,266971,475196,32643122,2.6,6.8,2005]
[32111,"Sawmills and wood preservation",193286,2974637,22363678,286684,553293,32162583,2.69,6.21,2006]
[32111,"Sawmills and wood preservation",196051,2954368,21974628,266971,475196,32643122,2.6,6.8,2005]
["32111M","Sawmills and wood preservation",193286,2974637,22363678,286684,553293,32162583,2.69,6.21,2006]
["32111M","Sawmills and wood preservation",196051,2954368,21974628,266971,475196,32643122,2.6,6.8,2005]
[3212,"Veneer, plywood, & engineered wood product mfg",193768,2913235,15275640,349595,559287,25745768,2.69,6.21,2006]
[3212,"Veneer, plywood, & engineered wood product mfg",202835,2927790,15673225,323465,531511,26575895,2.6,6.8,2005]
[32121,"Veneer, plywood, and engineered wood product manufacturing",193768,2913235,15275640,349595,559287,25745768,2.69,6.21,2006]
[32121,"Veneer, plywood, and engineered wood product manufacturing",202835,2927790,15673225,323465,531511,26575895,2.6,6.8,2005]
[321219,"Reconstituted wood product manufacturing",36078,647931,4382211,240979,330764,7868726,2.69,6.21,2006]
[321219,"Reconstituted wood product manufacturing",37532,647723,4375446,230482,320757,8314175,2.6,6.8,2005]
["32121N","Veneer and plywood manufacturing",71603,1098659,5539082,78469,170572,8259210,2.69,6.21,2006]
["32121N","Veneer and plywood manufacturing",75967,1113453,5765273,65193,157510,8764495,2.6,6.8,2005]
["32121P","Engineered wood product manufacturing",86087,1166645,5354348,30147,57950,9617832,2.69,6.21,2006]
["32121P","Engineered wood product manufacturing",89336,1166614,5532505,27789,53243,9497225,2.6,6.8,2005]
[3219,"Other wood product mfg",500559,6904409,30443496,177122,470129,54495875,2.69,6.21,2006]
[3219,"Other wood product mfg",512447,6736377,30161284,174309,438439,52875944,2.6,6.8,2005]
[32191,"Millwork",250780,3727054,17690029,92321,274219,30436433,2.69,6.21,2006]
[32191,"Millwork",257574,3610358,17400420,90986,250293,28896562,2.6,6.8,2005]
["32191M","Millwork",250780,3727054,17690029,92321,274219,30436433,2.69,6.21,2006]
["32191M","Millwork",257574,3610358,17400420,90986,250293,28896562,2.6,6.8,2005]
[32192,"Wood container and pallet manufacturing",86961,988800,3535981,32760,63900,6541546,2.69,6.21,2006]
[32192,"Wood container and pallet manufacturing",83711,889637,3214608,27599,62514,5936457,2.6,6.8,2005]
[321920,"Wood container and pallet manufacturing",86961,988800,3535981,32760,63900,6541546,2.69,6.21,2006]
[321920,"Wood container and pallet manufacturing",83711,889637,3214608,27599,62514,5936457,2.6,6.8,2005]
[32199,"All other wood product manufacturing",162819,2188555,9217486,52041,132010,17517897,2.69,6.21,2006]
[32199,"All other wood product manufacturing",171161,2236382,9546256,55724,125632,18042925,2.6,6.8,2005]
[321991,"Manufactured home (mobile home) manufacturing",68998,921138,3863735,9622,23305,6788355,2.69,6.21,2006]
[321991,"Manufactured home (mobile home) manufacturing",75320,963709,4147354,9150,22615,7259379,2.6,6.8,2005]
[321992,"Prefabricated wood building manufacturing",36643,511165,2455515,9271,15289,4504905,2.69,6.21,2006]
[321992,"Prefabricated wood building manufacturing",37449,522158,2526724,9327,14770,4571709,2.6,6.8,2005]
[321999,"All other miscellaneous wood product manufacturing",57177,756252,2898236,33148,93417,6224636,2.69,6.21,2006]
[321999,"All other miscellaneous wood product manufacturing",58392,750516,2872179,37248,88247,6211838,2.6,6.8,2005]
[322,"Paper mfg",691134,14309067,90059488,5366297,3741346,170360552,4.6100000000000003,5.5,2006]
[322,"Paper mfg",716963,14131594,86779578,5228614,3576988,161928446,4.9000000000000004,7.3,2005]
[3221,"Pulp, paper, & paperboard mills",219832,6045579,38027341,4670818,2794871,79960880,4.6100000000000003,5.5,2006]
[3221,"Pulp, paper, & paperboard mills",234239,6071906,36640071,4524079,2690361,74888467,4.9000000000000004,7.3,2005]
[32211,"Pulp mills",12271,364794,2450448,272769,81272,4257431,4.6100000000000003,5.5,2006]
[32211,"Pulp mills",12373,358876,2395444,270164,86379,4051117,4.9000000000000004,7.3,2005]
[322110,"Pulp mills",12271,364794,2450448,272769,81272,4257431,4.6100000000000003,5.5,2006]
[322110,"Pulp mills",12373,358876,2395444,270164,86379,4051117,4.9000000000000004,7.3,2005]
[32212,"Paper mills",145939,3970199,24119444,2576629,1745588,52484886,4.6100000000000003,5.5,2006]
[32212,"Paper mills",158380,4094238,23382640,2510214,1684435,49983263,4.9000000000000004,7.3,2005]
["32212M","Paper and newsprint mills",145939,3970199,24119444,2576629,1745588,52484886,4.6100000000000003,5.5,2006]
["32212M","Paper and newsprint mills",158380,4094238,23382640,2510214,1684435,49983263,4.9000000000000004,7.3,2005]
[32213,"Paperboard mills",61621,1710586,11457448,1821419,968011,23218562,4.6100000000000003,5.5,2006]
[32213,"Paperboard mills",63486,1618792,10861988,1743701,919547,20854087,4.9000000000000004,7.3,2005]
[322130,"Paperboard mills",61621,1710586,11457448,1821419,968011,23218562,4.6100000000000003,5.5,2006]
[322130,"Paperboard mills",63486,1618792,10861988,1743701,919547,20854087,4.9000000000000004,7.3,2005]
[3222,"Converted paper product mfg",471303,8263488,52032147,695480,946475,90399672,4.6100000000000003,5.5,2006]
[3222,"Converted paper product mfg",482724,8059688,50139506,704535,886627,87039979,4.9000000000000004,7.3,2005]
[32221,"Paperboard container manufacturing",269958,4711105,30248043,351034,466573,48733341,4.6100000000000003,5.5,2006]
[32221,"Paperboard container manufacturing",272723,4472551,28538762,347722,441644,46184468,4.9000000000000004,7.3,2005]
["32221M","Paperboard container manufacturing",269958,4711105,30248043,351034,466573,48733341,4.6100000000000003,5.5,2006]
["32221M","Paperboard container manufacturing",272723,4472551,28538762,347722,441644,46184468,4.9000000000000004,7.3,2005]
[32222,"Paper bag and coated and treated paper manufacturing",89416,1636036,10876393,204115,203505,19858319,4.6100000000000003,5.5,2006]
[32222,"Paper bag and coated and treated paper manufacturing",96780,1672650,10841682,194580,195550,19563339,4.9000000000000004,7.3,2005]
["32222N","Coated and laminated paper and packaging manufacturing",54533,1070265,7334307,176244,152267,14219230,4.6100000000000003,5.5,2006]
["32222N","Coated and laminated paper and packaging manufacturing",57668,1063374,7306327,163309,145274,13747081,4.9000000000000004,7.3,2005]
["32222P","Coated, uncoated, and multiwall bag and packaging mfg",34883,565771,3542086,27871,51238,5639089,4.6100000000000003,5.5,2006]
["32222P","Coated, uncoated, and multiwall bag and packaging mfg",39111,609275,3535355,31271,50276,5816258,4.9000000000000004,7.3,2005]
[32223,"Stationery product manufacturing",51078,817397,4881280,10965,87496,8360002,4.6100000000000003,5.5,2006]
[32223,"Stationery product manufacturing",53344,841450,4706364,11362,75364,7943911,4.9000000000000004,7.3,2005]
["32223M","Stationery product manufacturing",51078,817397,4881280,10965,87496,8360002,4.6100000000000003,5.5,2006]
["32223M","Stationery product manufacturing",53344,841450,4706364,11362,75364,7943911,4.9000000000000004,7.3,2005]
[32229,"Other converted paper product manufacturing",60851,1098950,6026430,129365,188900,13448009,4.6100000000000003,5.5,2006]
[32229,"Other converted paper product manufacturing",59878,1073038,6052698,150871,174068,13348261,4.9000000000000004,7.3,2005]
[322291,"Sanitary paper product manufacturing",28901,583796,3521086,75492,109255,8608458,4.6100000000000003,5.5,2006]
[322291,"Sanitary paper product manufacturing",28078,590712,3579093,97704,104608,8546156,4.9000000000000004,7.3,2005]
[322299,"All other converted paper product manufacturing",31950,515154,2505344,53873,79646,4839551,4.6100000000000003,5.5,2006]
[322299,"All other converted paper product manufacturing",31800,482325,2473605,53167,69460,4802105,4.9000000000000004,7.3,2005]
[323,"Printing & related support activities",871911,15525791,39603955,415842,1130574,99688165,3.92,7.22,2006]
[323,"Printing & related support activities",894538,15378864,38389171,411872,1058277,96921889,4.0999999999999996,6.8,2005]
[3231,"Printing & related support activities",871911,15525791,39603955,415842,1130574,99688165,3.92,7.22,2006]
[3231,"Printing & related support activities",894538,15378864,38389171,411872,1058277,96921889,4.0999999999999996,6.8,2005]
[32311,"Printing",802112,14299663,38476594,404641,1082874,94605055,3.92,7.22,2006]
[32311,"Printing",821673,14118009,37160835,399299,1012608,91799626,4.0999999999999996,6.8,2005]
["32311M","Printing",802112,14299663,38476594,404641,1082874,94605055,3.92,7.22,2006]
["32311M","Printing",821673,14118009,37160835,399299,1012608,91799626,4.0999999999999996,6.8,2005]
[32312,"Support activities for printing",69800,1226128,1127361,11201,47700,5083110,3.92,7.22,2006]
[32312,"Support activities for printing",72865,1260856,1228337,12573,45669,5122263,4.0999999999999996,6.8,2005]
["32312M","Support activities for printing",69800,1226128,1127361,11201,47700,5083110,3.92,7.22,2006]
["32312M","Support activities for printing",72865,1260856,1228337,12573,45669,5122263,4.0999999999999996,6.8,2005]
[324,"Petroleum & coal products mfg",149474,4683611,417211779,9604786,2920465,548954642,1.98,7.35,2006]
[324,"Petroleum & coal products mfg",147742,4585183,362682313,9423110,2881242,475787415,1.8,6.9,2005]
[3241,"Petroleum & coal products mfg",149474,4683611,417211779,9604786,2920465,548954642,1.98,7.35,2006]
[3241,"Petroleum & coal products mfg",147742,4585183,362682313,9423110,2881242,475787415,1.8,6.9,2005]
[32411,"Petroleum refineries",88430,3329436,396979961,8819392,2633431,514839126,1.98,7.35,2006]
[32411,"Petroleum refineries",87837,3278039,345206790,8692216,2634745,445641720,1.8,6.9,2005]
[324110,"Petroleum refineries",88430,3329436,396979961,8819392,2633431,514839126,1.98,7.35,2006]
[324110,"Petroleum refineries",87837,3278039,345206790,8692216,2634745,445641720,1.8,6.9,2005]
[32412,"Asphalt paving, roofing, and saturated materials manufacturing",44556,979059,12532938,680118,211820,20556357,1.98,7.35,2006]
[32412,"Asphalt paving, roofing, and saturated materials manufacturing",43217,918173,10610974,629067,173300,17285302,1.8,6.9,2005]
[324121,"Asphalt paving mixture and block manufacturing",23991,534034,7341623,567023,140676,11619027,1.98,7.35,2006]
[324121,"Asphalt paving mixture and block manufacturing",21283,447914,5410009,495203,106643,8394844,1.8,6.9,2005]
[324122,"Asphalt shingle and coating materials manufacturing",20565,445025,5191315,113095,71143,8937330,1.98,7.35,2006]
[324122,"Asphalt shingle and coating materials manufacturing",21934,470259,5200965,133864,66658,8890459,1.8,6.9,2005]
[32419,"Other petroleum and coal products manufacturing",16488,375116,7698879,105275,75215,13559160,1.98,7.35,2006]
[32419,"Other petroleum and coal products manufacturing",16688,388971,6864549,101828,73198,12860392,1.8,6.9,2005]
[324191,"Petroleum lubricating oil and grease manufacturing",12258,279307,5982762,62407,41713,11081082,1.98,7.35,2006]
[324191,"Petroleum lubricating oil and grease manufacturing",12008,271643,5184993,56501,39319,10276687,1.8,6.9,2005]
[324199,"All other petroleum and coal products manufacturing",4230,95809,1716117,42868,33503,2478077,1.98,7.35,2006]
[324199,"All other petroleum and coal products manufacturing",4679,117327,1679556,45326,33879,2583705,1.8,6.9,2005]
[325,"Chemical mfg",885993,21655612,310691276,13313505,8269988,657748157,3.48,11.19,2006]
[325,"Chemical mfg",899499,21382514,283161488,13757234,7829785,610873040,3.7,8.4,2005]
[3251,"Basic chemical mfg",192300,5670997,108068575,8570890,4570065,191269202,3.95,6.55,2006]
[3251,"Basic chemical mfg",197608,5554246,97990782,8606301,4218869,172038627,4.3,6,2005]
[32511,"Petrochemical manufacturing",11810,433228,33702558,2480774,"D",60833639,3.95,6.55,2006]
[32511,"Petrochemical manufacturing",10272,354874,28849550,2526697,"D",52408403,4.3,6,2005]
[325110,"Petrochemical manufacturing",11810,433228,33702558,2480774,"D",60833639,3.95,6.55,2006]
[325110,"Petrochemical manufacturing",10272,354874,28849550,2526697,"D",52408403,4.3,6,2005]
[32512,"Industrial gas manufacturing",13250,355705,3589277,111112,1071529,8720863,3.95,6.55,2006]
[32512,"Industrial gas manufacturing",14128,370390,3469712,133515,985262,8017151,4.3,6,2005]
[325120,"Industrial gas manufacturing",13250,355705,3589277,111112,1071529,8720863,3.95,6.55,2006]
[325120,"Industrial gas manufacturing",14128,370390,3469712,133515,985262,8017151,4.3,6,2005]
[32513,"Synthetic dye and pigment manufacturing",15503,391188,3247479,214158,"D",6999214,3.95,6.55,2006]
[32513,"Synthetic dye and pigment manufacturing",16643,412352,3055690,200106,"D",6658789,4.3,6,2005]
["32513M","Synthetic dye and pigment manufacturing",15503,391188,3247479,214158,"D",6999214,3.95,6.55,2006]
["32513M","Synthetic dye and pigment manufacturing",16643,412352,3055690,200106,"D",6658789,4.3,6,2005]
[32518,"Other basic inorganic chemical manufacturing",55480,1630439,11739509,1715656,1579908,27050089,3.95,6.55,2006]
[32518,"Other basic inorganic chemical manufacturing",56909,1636594,10879923,1673306,1374104,25410993,4.3,6,2005]
[325181,"Alkalies and chlorine manufacturing",8577,291072,3139946,964782,"D",6397018,3.95,6.55,2006]
[325181,"Alkalies and chlorine manufacturing",10874,348433,3243917,1052100,566892,6455923,4.3,6,2005]
[325182,"Carbon black manufacturing",2553,70911,841261,83356,"D",1509301,3.95,6.55,2006]
[325182,"Carbon black manufacturing",2565,64304,748816,54845,42729,1289228,4.3,6,2005]
[325188,"All other basic inorganic chemical manufacturing",44350,1268455,7758302,667518,927057,19143770,3.95,6.55,2006]
[325188,"All other basic inorganic chemical manufacturing",43470,1223856,6887190,566361,764483,17665842,4.3,6,2005]
[32519,"Other basic organic chemical manufacturing",96257,2860438,55789752,4049190,1321178,87665398,3.95,6.55,2006]
[32519,"Other basic organic chemical manufacturing",99656,2780037,51735907,4072677,1298636,79543291,4.3,6,2005]
["32519M","Other basic organic chemical manufacturing",96257,2860438,55789752,4049190,1321178,87665398,3.95,6.55,2006]
["32519M","Other basic organic chemical manufacturing",99656,2780037,51735907,4072677,1298636,79543291,4.3,6,2005]
[3252,"Resin, syn rubber, & artificial syn fibers & filaments mfg",119791,3062659,58978129,2655398,1751459,94372563,3.95,6.55,2006]
[3252,"Resin, syn rubber, & artificial syn fibers & filaments mfg",126982,3168574,58306771,3110344,1804623,91972043,4.3,6,2005]
[32521,"Resin and synthetic rubber manufacturing",89516,2546306,54113685,2335077,1544888,85884275,3.95,6.55,2006]
[32521,"Resin and synthetic rubber manufacturing",96219,2596086,53417668,2762884,1596749,83599274,4.3,6,2005]
[325211,"Plastics material and resin manufacturing",76883,2197802,49342295,2058311,1433870,78994963,3.95,6.55,2006]
[325211,"Plastics material and resin manufacturing",84571,2269884,48903953,2487323,1490464,76782828,4.3,6,2005]
[325212,"Synthetic rubber manufacturing",12633,348503,4771390,276767,111018,6889312,3.95,6.55,2006]
[325212,"Synthetic rubber manufacturing",11648,326201,4513714,275561,106285,6816446,4.3,6,2005]
[32522,"Artificial and synthetic fibers and filaments manufacturing",30275,516353,4864444,320321,206570,8488288,3.95,6.55,2006]
[32522,"Artificial and synthetic fibers and filaments manufacturing",30763,572488,4889103,347460,207875,8372768,4.3,6,2005]
["32522M","Artificial and synthetic fibers and filaments manufacturing",30275,516353,4864444,320321,206570,8488288,3.95,6.55,2006]
["32522M","Artificial and synthetic fibers and filaments manufacturing",30763,572488,4889103,347460,207875,8372768,4.3,6,2005]
[3253,"Pesticide, fertilizer, & other agricultural chemical mfg",38009,841572,13750594,621941,355941,27976310,3.06,12.86,2006]
[3253,"Pesticide, fertilizer, & other agricultural chemical mfg",37847,836700,13467964,685075,344545,27304353,3.4,5.2,2005]
[32531,"Fertilizer manufacturing",24236,542428,8771819,533941,278914,13962636,3.06,12.86,2006]
[32531,"Fertilizer manufacturing",25114,550773,8784866,599150,272707,13291348,3.4,5.2,2005]
[325311,"Nitrogenous fertilizer manufacturing",4566,141545,2757801,434202,154150,4573060,3.06,12.86,2006]
[325311,"Nitrogenous fertilizer manufacturing",4772,153537,2867423,493359,152106,4382466,3.4,5.2,2005]
[325312,"Phosphatic fertilizer manufacturing",9611,242793,3781606,75946,102343,5470354,3.06,12.86,2006]
[325312,"Phosphatic fertilizer manufacturing",10219,243912,3814992,82990,99846,5254328,3.4,5.2,2005]
[325314,"Fertilizer (mixing only) manufacturing",10059,158091,2232412,23793,22420,3919222,3.06,12.86,2006]
[325314,"Fertilizer (mixing only) manufacturing",10122,153325,2102451,22802,20755,3654554,3.4,5.2,2005]
[32532,"Pesticide and other agricultural chemical manufacturing",13773,299144,4978775,88000,77027,14013674,3.06,12.86,2006]
[32532,"Pesticide and other agricultural chemical manufacturing",12734,285927,4683098,85925,71838,14013005,3.4,5.2,2005]
[325320,"Pesticide and other agricultural chemical manufacturing",13773,299144,4978775,88000,77027,14013674,3.06,12.86,2006]
[325320,"Pesticide and other agricultural chemical manufacturing",12734,285927,4683098,85925,71838,14013005,3.4,5.2,2005]
[3254,"Pharmaceutical & medicine mfg",227479,5706371,48456906,562511,722992,184636238,3.38,13.83,2006]
[3254,"Pharmaceutical & medicine mfg",224692,5451007,42494267,520072,672831,169225836,3.4,10.199999999999999,2005]
[32541,"Pharmaceutical and medicine manufacturing",227479,5706371,48456906,562511,722992,184636238,3.38,13.83,2006]
[32541,"Pharmaceutical and medicine manufacturing",224692,5451007,42494267,520072,672831,169225836,3.4,10.199999999999999,2005]
[325411,"Medicinal and botanical manufacturing",19607,525721,3981845,115787,104693,9250521,3.38,13.83,2006]
[325411,"Medicinal and botanical manufacturing",20878,538535,3768771,129452,88719,9645522,3.4,10.199999999999999,2005]
[325412,"Pharmaceutical preparation manufacturing",166564,4029953,36401036,356494,482250,147495786,3.38,13.83,2006]
[325412,"Pharmaceutical preparation manufacturing",163655,3860787,32555182,340711,478048,136886529,3.4,10.199999999999999,2005]
[325413,"In-vitro diagnostic substance manufacturing",17460,485476,3428314,15010,51313,11614736,3.38,13.83,2006]
[325413,"In-vitro diagnostic substance manufacturing",17874,483819,3016270,12877,46917,10710609,3.4,10.199999999999999,2005]
[325414,"Biological product (except diagnostic) manufacturing",23848,665221,4645711,75220,84735,16275194,3.38,13.83,2006]
[325414,"Biological product (except diagnostic) manufacturing",22285,567867,3154045,37031,59146,11983176,3.4,10.199999999999999,2005]
[3255,"Paint, coating, & adhesive mfg",72531,1446280,16436374,124349,177901,32911370,3.06,12.86,2006]
[3255,"Paint, coating, & adhesive mfg",72155,1402010,15826497,118870,163541,32083533,3.4,5.2,2005]
[32551,"Paint and coating manufacturing",45217,924435,11396845,67127,102495,23357975,3.06,12.86,2006]
[32551,"Paint and coating manufacturing",44965,912065,11195738,67279,101005,23075740,3.4,5.2,2005]
[325510,"Paint and coating manufacturing",45217,924435,11396845,67127,102495,23357975,3.06,12.86,2006]
[325510,"Paint and coating manufacturing",44965,912065,11195738,67279,101005,23075740,3.4,5.2,2005]
[32552,"Adhesive manufacturing",27314,521845,5039530,57222,75406,9553395,3.06,12.86,2006]
[32552,"Adhesive manufacturing",27190,489945,4630759,51591,62536,9007793,3.4,5.2,2005]
[325520,"Adhesive manufacturing",27314,521845,5039530,57222,75406,9553395,3.06,12.86,2006]
[325520,"Adhesive manufacturing",27190,489945,4630759,51591,62536,9007793,3.4,5.2,2005]
[3256,"Soap, cleaning compound, & toilet preparation mfg",123085,2580768,43327197,385345,268378,84801905,3.06,12.86,2006]
[3256,"Soap, cleaning compound, & toilet preparation mfg",125985,2617915,34461174,353730,249214,77506928,3.4,5.2,2005]
[32561,"Soap and cleaning compound manufacturing",55080,1236137,21045138,328463,"D",40467360,3.06,12.86,2006]
[32561,"Soap and cleaning compound manufacturing",58649,1260230,17291465,310586,145408,37704692,3.4,5.2,2005]
["32561M","Soap and cleaning compound manufacturing",55080,1236137,21045138,328463,"D",40467360,3.06,12.86,2006]
["32561M","Soap and cleaning compound manufacturing",58649,1260230,17291465,310586,145408,37704692,3.4,5.2,2005]
[32562,"Toilet preparation manufacturing",68005,1344631,22282058,56882,"D",44334546,3.06,12.86,2006]
[32562,"Toilet preparation manufacturing",67336,1357684,17169709,43144,103807,39802236,3.4,5.2,2005]
[325620,"Toilet preparation manufacturing",68005,1344631,22282058,56882,"D",44334546,3.06,12.86,2006]
[325620,"Toilet preparation manufacturing",67336,1357684,17169709,43144,103807,39802236,3.4,5.2,2005]
[3259,"Other chemical product & preparation mfg",112799,2346966,21673500,393072,423252,41780569,3.06,12.86,2006]
[3259,"Other chemical product & preparation mfg",114229,2352062,20614032,362841,376161,40741721,3.4,5.2,2005]
[32591,"Printing ink manufacturing",14184,275659,2798715,10016,24867,4868768,3.06,12.86,2006]
[32591,"Printing ink manufacturing",14892,288015,3103609,10688,24567,5018694,3.4,5.2,2005]
[325910,"Printing ink manufacturing",14184,275659,2798715,10016,24867,4868768,3.06,12.86,2006]
[325910,"Printing ink manufacturing",14892,288015,3103609,10688,24567,5018694,3.4,5.2,2005]
[32592,"Explosives manufacturing",8012,153240,765948,15605,11369,1409358,3.06,12.86,2006]
[32592,"Explosives manufacturing",7763,137390,689363,11871,8368,1205617,3.4,5.2,2005]
[325920,"Explosives manufacturing",8012,153240,765948,15605,11369,1409358,3.06,12.86,2006]
[325920,"Explosives manufacturing",7763,137390,689363,11871,8368,1205617,3.4,5.2,2005]
[32599,"All other chemical product and preparation manufacturing",90603,1918067,18108838,367452,387016,35502443,3.06,12.86,2006]
[32599,"All other chemical product and preparation manufacturing",91574,1926657,16821061,340282,343225,34517410,3.4,5.2,2005]
[325991,"Custom compounding of purchased resins",29691,554579,6486623,48463,179280,10109078,3.06,12.86,2006]
[325991,"Custom compounding of purchased resins",28304,532593,5834726,42897,153625,9689716,3.4,5.2,2005]
["32599N","All other miscellaneous chemical product and preparation mfg",60912,1363488,11622215,318989,207736,25393365,3.06,12.86,2006]
["32599N","All other miscellaneous chemical product and preparation mfg",63270,1394064,10986335,297385,189600,24827694,3.4,5.2,2005]
[326,"Plastics & rubber products mfg",1390578,21973700,112788401,1165340,3793565,211345197,3.21,6.28,2006]
[326,"Plastics & rubber products mfg",1429913,22093527,105002414,1149274,3492509,200303602,3.3,5.6,2005]
[3261,"Plastics product mfg",1155537,17360939,92352660,825231,3297158,174263430,3.21,6.28,2006]
[3261,"Plastics product mfg",1173898,17277443,85794989,795801,3008781,163973326,3.3,5.6,2005]
[32611,"Unsupported plastics film, sheet, and bag manufacturing",160759,2892523,19850273,230053,686768,34516419,3.21,6.28,2006]
[32611,"Unsupported plastics film, sheet, and bag manufacturing",164292,2847096,18115666,238699,621223,32374670,3.3,5.6,2005]
[326111,"Plastics bag manufacturing",55394,895515,5514659,27166,186610,9651778,3.21,6.28,2006]
[326111,"Plastics bag manufacturing",55421,859409,4965501,23200,160541,8917747,3.3,5.6,2005]
[326112,"Plastics packaging film and sheet (including laminated) mfg",37550,723288,4493017,59356,131492,8207839,3.21,6.28,2006]
[326112,"Plastics packaging film and sheet (including laminated) mfg",38914,719482,4106386,52514,119989,7956996,3.3,5.6,2005]
[326113,"Unlaminated plastics film and sheet (except packaging) mfg",67815,1273720,9842598,143531,368666,16656803,3.21,6.28,2006]
[326113,"Unlaminated plastics film and sheet (except packaging) mfg",69956,1268205,9043779,162986,340693,15499927,3.3,5.6,2005]
[32612,"Plastics pipe, pipe fitting, and unsupported profile shape mfg",75892,1205091,9228028,50621,323650,16276813,3.21,6.28,2006]
[32612,"Plastics pipe, pipe fitting, and unsupported profile shape mfg",74795,1183809,8294375,44069,293589,14893565,3.3,5.6,2005]
[326121,"Unsupported plastics profile shape manufacturing",43593,678721,3480549,36979,143644,6994473,3.21,6.28,2006]
[326121,"Unsupported plastics profile shape manufacturing",43177,683595,3186959,34490,131007,6546047,3.3,5.6,2005]
[326122,"Plastics pipe and pipe fitting manufacturing",32299,526371,5747479,13642,180006,9282340,3.21,6.28,2006]
[326122,"Plastics pipe and pipe fitting manufacturing",31618,500214,5107416,9579,162583,8347518,3.3,5.6,2005]
[32613,"Laminated plastics plate, sheet, and shape manufacturing",15161,272878,1178235,35741,31806,2666181,3.21,6.28,2006]
[32613,"Laminated plastics plate, sheet, and shape manufacturing",16256,275699,1210679,37569,33272,2641785,3.3,5.6,2005]
[326130,"Laminated plastics plate, sheet, and shape manufacturing",15161,272878,1178235,35741,31806,2666181,3.21,6.28,2006]
[326130,"Laminated plastics plate, sheet, and shape manufacturing",16256,275699,1210679,37569,33272,2641785,3.3,5.6,2005]
[32614,"Polystyrene foam product manufacturing",53892,800478,4928995,114564,166705,8517980,3.21,6.28,2006]
[32614,"Polystyrene foam product manufacturing",54245,816379,4359658,104896,153126,8090129,3.3,5.6,2005]
[326140,"Polystyrene foam product manufacturing",53892,800478,4928995,114564,166705,8517980,3.21,6.28,2006]
[326140,"Polystyrene foam product manufacturing",54245,816379,4359658,104896,153126,8090129,3.3,5.6,2005]
[32615,"Urethane and other foam product (except polystyrene) mfg",51142,745654,6249766,49166,83971,10539768,3.21,6.28,2006]
[32615,"Urethane and other foam product (except polystyrene) mfg",53601,772756,5161198,41564,78747,8907628,3.3,5.6,2005]
[326150,"Urethane and other foam product (except polystyrene) mfg",51142,745654,6249766,49166,83971,10539768,3.21,6.28,2006]
[326150,"Urethane and other foam product (except polystyrene) mfg",53601,772756,5161198,41564,78747,8907628,3.3,5.6,2005]
[32616,"Plastics bottle manufacturing",53914,873088,5487826,15013,380216,9893596,3.21,6.28,2006]
[32616,"Plastics bottle manufacturing",55750,890880,5447563,17085,347905,9348668,3.3,5.6,2005]
[326160,"Plastics bottle manufacturing",53914,873088,5487826,15013,380216,9893596,3.21,6.28,2006]
[326160,"Plastics bottle manufacturing",55750,890880,5447563,17085,347905,9348668,3.3,5.6,2005]
[32619,"Other plastics product manufacturing",744777,10571227,45429538,330072,1624044,91852674,3.21,6.28,2006]
[32619,"Other plastics product manufacturing",754959,10490823,43205852,311918,1480918,87716880,3.3,5.6,2005]
["32619M","Other plastics product manufacturing",744777,10571227,45429538,330072,1624044,91852674,3.21,6.28,2006]
["32619M","Other plastics product manufacturing",754959,10490823,43205852,311918,1480918,87716880,3.3,5.6,2005]
[3262,"Rubber product mfg",235040,4612761,20435740,340110,496407,37081767,3.21,6.28,2006]
[3262,"Rubber product mfg",256016,4816084,19207424,353473,483728,36330275,3.3,5.6,2005]
[32621,"Tire manufacturing",95221,2321759,10099672,200474,232242,16851962,3.21,6.28,2006]
[32621,"Tire manufacturing",105666,2451382,9014425,198599,227152,16491310,3.3,5.6,2005]
["32621M","Tire manufacturing",95221,2321759,10099672,200474,232242,16851962,3.21,6.28,2006]
["32621M","Tire manufacturing",105666,2451382,9014425,198599,227152,16491310,3.3,5.6,2005]
[32622,"Rubber and plastics hoses and belting manufacturing",32767,516970,2155270,34231,53532,4409901,3.21,6.28,2006]
[32622,"Rubber and plastics hoses and belting manufacturing",33980,539696,2318084,39428,54968,4493786,3.3,5.6,2005]
[326220,"Rubber and plastics hoses and belting manufacturing",32767,516970,2155270,34231,53532,4409901,3.21,6.28,2006]
[326220,"Rubber and plastics hoses and belting manufacturing",33980,539696,2318084,39428,54968,4493786,3.3,5.6,2005]
[32629,"Other rubber product manufacturing",107052,1774033,8180797,105405,210633,15819904,3.21,6.28,2006]
[32629,"Other rubber product manufacturing",116370,1825006,7874916,115445,201608,15345179,3.3,5.6,2005]
["32629M","Other rubber product manufacturing",107052,1774033,8180797,105405,210633,15819904,3.21,6.28,2006]
["32629M","Other rubber product manufacturing",116370,1825006,7874916,115445,201608,15345179,3.3,5.6,2005]
[327,"Nonmetallic mineral product mfg",791614,14164836,54691560,4672585,2668085,126015388,4.22,10.4,2006]
[327,"Nonmetallic mineral product mfg",777335,13414565,50073417,4390392,2430662,114848748,4.5,9.6999999999999993,2005]
[3271,"Clay product & refractory mfg",81117,1350207,3294836,560378,190921,8989081,4.22,10.4,2006]
[3271,"Clay product & refractory mfg",83843,1330934,3104331,532460,177668,8832619,4.5,9.6999999999999993,2005]
[32711,"Pottery, ceramics, and plumbing fixture manufacturing",32246,535201,930240,95821,54477,2982273,4.22,10.4,2006]
[32711,"Pottery, ceramics, and plumbing fixture manufacturing",34793,556949,893906,100585,52716,3045953,4.5,9.6999999999999993,2005]
[327111,"Vitreous china plumbing fixture manufacturing",10591,165327,221641,41377,12683,982136,4.22,10.4,2006]
[327111,"Vitreous china plumbing fixture manufacturing",11626,190339,262423,44146,"D",1179468,4.5,9.6999999999999993,2005]
[327112,"Vitreous china and earthenware articles mfg",11057,192373,267250,29313,14736,911745,4.22,10.4,2006]
[327112,"Vitreous china and earthenware articles mfg",12311,197838,260204,29295,"D",904960,4.5,9.6999999999999993,2005]
[327113,"Porcelain electrical supply manufacturing",10598,177502,441348,25131,27058,1088393,4.22,10.4,2006]
[327113,"Porcelain electrical supply manufacturing",10856,168772,371279,27144,25427,961525,4.5,9.6999999999999993,2005]
[32712,"Clay building material and refractories manufacturing",48871,815006,2364596,464556,136444,6006808,4.22,10.4,2006]
[32712,"Clay building material and refractories manufacturing",49050,773985,2210425,431876,124953,5786666,4.5,9.6999999999999993,2005]
[327121,"Brick and structural clay tile manufacturing",22664,346278,795920,305394,67087,2327221,4.22,10.4,2006]
[327121,"Brick and structural clay tile manufacturing",23322,334418,787509,291952,61548,2336159,4.5,9.6999999999999993,2005]
[327122,"Ceramic wall and floor tile manufacturing",10246,162684,424114,62361,"D",1160800,4.22,10.4,2006]
[327122,"Ceramic wall and floor tile manufacturing",9884,149709,393836,55582,21472,1102168,4.5,9.6999999999999993,2005]
[327123,"Other structural clay product manufacturing",2770,40209,72093,20523,"D",235411,4.22,10.4,2006]
[327123,"Other structural clay product manufacturing",2766,40528,70148,16619,4949,220199,4.5,9.6999999999999993,2005]
["32712N","Refractory manufacturing",13191,265835,1072469,76278,38962,2283375,4.22,10.4,2006]
["32712N","Refractory manufacturing",13079,249330,958931,67722,36983,2128139,4.5,9.6999999999999993,2005]
[3272,"Glass & glass product mfg",173055,3135183,10779864,1287810,721663,23684921,4.22,10.4,2006]
[3272,"Glass & glass product mfg",175793,3067782,10705153,1274235,675249,23335945,4.5,9.6999999999999993,2005]
[32721,"Glass and glass product manufacturing",173055,3135183,10779864,1287810,721663,23684921,4.22,10.4,2006]
[32721,"Glass and glass product manufacturing",175793,3067782,10705153,1274235,675249,23335945,4.5,9.6999999999999993,2005]
[327211,"Flat glass manufacturing",18088,366743,1583795,450515,129109,3374069,4.22,10.4,2006]
[327211,"Flat glass manufacturing",19386,365310,1562463,441353,121921,3462130,4.5,9.6999999999999993,2005]
[327212,"Other pressed and blown glass and glassware manufacturing",32464,647303,1722585,317783,147077,3950881,4.22,10.4,2006]
[327212,"Other pressed and blown glass and glassware manufacturing",34701,656239,1858847,340056,150468,4039556,4.5,9.6999999999999993,2005]
[327213,"Glass container manufacturing",25934,655626,1878328,441052,213415,4474371,4.22,10.4,2006]
[327213,"Glass container manufacturing",25703,617634,1795540,419156,201888,4241526,4.5,9.6999999999999993,2005]
[327215,"Glass product manufacturing made of purchased glass",96570,1465510,5595156,78460,232063,11885600,4.22,10.4,2006]
[327215,"Glass product manufacturing made of purchased glass",96002,1428599,5488303,73671,200972,11592733,4.5,9.6999999999999993,2005]
[3273,"Cement & concrete product mfg",388108,6955228,29352956,1345483,1103699,64284686,4.22,10.4,2006]
[3273,"Cement & concrete product mfg",372136,6409996,25967568,1153987,990014,56595907,4.5,9.6999999999999993,2005]
[32731,"Cement manufacturing",28468,703203,3755637,841308,767552,10784645,4.22,10.4,2006]
[32731,"Cement manufacturing",28185,674719,3377357,723195,702078,9753946,4.5,9.6999999999999993,2005]
[327310,"Cement manufacturing",28468,703203,3755637,841308,767552,10784645,4.22,10.4,2006]
[327310,"Cement manufacturing",28185,674719,3377357,723195,702078,9753946,4.5,9.6999999999999993,2005]
[32732,"Ready-mix concrete manufacturing",197847,3695616,16944545,350582,161853,31836984,4.22,10.4,2006]
[32732,"Ready-mix concrete manufacturing",185945,3364309,14651160,294697,131932,27373197,4.5,9.6999999999999993,2005]
[327320,"Ready-mix concrete manufacturing",197847,3695616,16944545,350582,161853,31836984,4.22,10.4,2006]
[327320,"Ready-mix concrete manufacturing",185945,3364309,14651160,294697,131932,27373197,4.5,9.6999999999999993,2005]
[32733,"Concrete pipe, brick, and block manufacturing",57182,946227,4069929,80165,80067,9798968,4.22,10.4,2006]
[32733,"Concrete pipe, brick, and block manufacturing",55065,865483,3677939,68093,69871,8729459,4.5,9.6999999999999993,2005]
["32733M","Concrete pipe, brick, and block manufacturing",57182,946227,4069929,80165,80067,9798968,4.22,10.4,2006]
["32733M","Concrete pipe, brick, and block manufacturing",55065,865483,3677939,68093,69871,8729459,4.5,9.6999999999999993,2005]
[32739,"Other concrete product manufacturing",104611,1610183,4582845,73428,94227,11864090,4.22,10.4,2006]
[32739,"Other concrete product manufacturing",102941,1505485,4261112,68002,86132,10739305,4.5,9.6999999999999993,2005]
[327390,"Other concrete product manufacturing",104611,1610183,4582845,73428,94227,11864090,4.22,10.4,2006]
[327390,"Other concrete product manufacturing",102941,1505485,4261112,68002,86132,10739305,4.5,9.6999999999999993,2005]
[3274,"Lime & gypsum product mfg",29200,601450,3530679,890431,200048,9104267,4.22,10.4,2006]
[3274,"Lime & gypsum product mfg",29289,579495,3367153,879754,187557,7906780,4.5,9.6999999999999993,2005]
[32741,"Lime manufacturing",6932,151694,595895,289580,72445,1604308,4.22,10.4,2006]
[32741,"Lime manufacturing",7122,140109,554720,259419,71831,1448060,4.5,9.6999999999999993,2005]
[327410,"Lime manufacturing",6932,151694,595895,289580,72445,1604308,4.22,10.4,2006]
[327410,"Lime manufacturing",7122,140109,554720,259419,71831,1448060,4.5,9.6999999999999993,2005]
[32742,"Gypsum product manufacturing",22268,449756,2934784,600851,127602,7499959,4.22,10.4,2006]
[32742,"Gypsum product manufacturing",22167,439386,2812433,620334,115726,6458720,4.5,9.6999999999999993,2005]
[327420,"Gypsum product manufacturing",22268,449756,2934784,600851,127602,7499959,4.22,10.4,2006]
[327420,"Gypsum product manufacturing",22167,439386,2812433,620334,115726,6458720,4.5,9.6999999999999993,2005]
[3279,"Other nonmetallic mineral product mfg",120134,2122767,7733225,588483,451754,19952433,4.22,10.4,2006]
[3279,"Other nonmetallic mineral product mfg",116275,2026358,6929211,549955,400173,18177497,4.5,9.6999999999999993,2005]
[32791,"Abrasive product manufacturing",20967,326544,1426856,38854,53105,4554576,4.22,10.4,2006]
[32791,"Abrasive product manufacturing",20863,326959,1382910,36085,49518,4197686,4.5,9.6999999999999993,2005]
[327910,"Abrasive product manufacturing",20967,326544,1426856,38854,53105,4554576,4.22,10.4,2006]
[327910,"Abrasive product manufacturing",20863,326959,1382910,36085,49518,4197686,4.5,9.6999999999999993,2005]
[32799,"All other nonmetallic mineral product manufacturing",99166,1796223,6306369,549629,398649,15397856,4.22,10.4,2006]
[32799,"All other nonmetallic mineral product manufacturing",95412,1699399,5546301,513870,350655,13979811,4.5,9.6999999999999993,2005]
[327991,"Cut stone and stone product manufacturing",41351,640387,1126038,18195,33470,3164502,4.22,10.4,2006]
[327991,"Cut stone and stone product manufacturing",39203,605029,970808,18457,34668,2866881,4.5,9.6999999999999993,2005]
[327992,"Ground or treated mineral and earth manufacturing",9063,195298,1290838,175118,96710,2792685,4.22,10.4,2006]
[327992,"Ground or treated mineral and earth manufacturing",8541,169412,1067817,154090,86060,2376144,4.5,9.6999999999999993,2005]
[327993,"Mineral wool manufacturing",35196,733185,2476319,304432,239877,6382463,4.22,10.4,2006]
[327993,"Mineral wool manufacturing",33730,704563,2237622,297761,206518,5897217,4.5,9.6999999999999993,2005]
[327999,"All other miscellaneous nonmetallic mineral product mfg",13557,227354,1413172,51884,28592,3058205,4.22,10.4,2006]
[327999,"All other miscellaneous nonmetallic mineral product mfg",13938,220394,1270054,43562,23408,2839570,4.5,9.6999999999999993,2005]
[331,"Primary metal mfg",735236,16025871,151534065,6069659,5914605,232557611,2.5,10.37,2006]
[331,"Primary metal mfg",750334,15658322,129429318,5958369,5548822,203263475,2.8,9,2005]
[3311,"Iron & steel mills & ferroalloy mfg",178150,5437173,59488392,3622919,2574702,93327526,2.33,11,2006]
[3311,"Iron & steel mills & ferroalloy mfg",184735,5246132,52697761,3578142,2391116,83369492,2.5,10,2005]
[33111,"Iron and steel mills and ferroalloy manufacturing",178150,5437173,59488392,3622919,2574702,93327526,2.33,11,2006]
[33111,"Iron and steel mills and ferroalloy manufacturing",184735,5246132,52697761,3578142,2391116,83369492,2.5,10,2005]
["33111M","Iron and steel mills and ferroalloy manufacturing",178150,5437173,59488392,3622919,2574702,93327526,2.33,11,2006]
["33111M","Iron and steel mills and ferroalloy manufacturing",184735,5246132,52697761,3578142,2391116,83369492,2.5,10,2005]
[3312,"Steel product mfg from purchased steel",71198,1345422,12610146,217782,269681,19594560,2.33,11,2006]
[3312,"Steel product mfg from purchased steel",73584,1408820,12870075,214193,280916,20059534,2.5,10,2005]
[33121,"Iron and steel pipe and tube mfg from purchased steel",35010,636304,5757822,83263,107138,9129940,2.33,11,2006]
[33121,"Iron and steel pipe and tube mfg from purchased steel",35585,655489,5824683,84847,103712,9106194,2.5,10,2005]
[331210,"Iron and steel pipe and tube mfg from purchased steel",35010,636304,5757822,83263,107138,9129940,2.33,11,2006]
[331210,"Iron and steel pipe and tube mfg from purchased steel",35585,655489,5824683,84847,103712,9106194,2.5,10,2005]
[33122,"Rolling and drawing of purchased steel",36187,709118,6852324,134519,162543,10464620,2.33,11,2006]
[33122,"Rolling and drawing of purchased steel",37999,753331,7045392,129346,177204,10953340,2.5,10,2005]
["33122M","Rolling and drawing of purchased steel",36187,709118,6852324,134519,162543,10464620,2.33,11,2006]
["33122M","Rolling and drawing of purchased steel",37999,753331,7045392,129346,177204,10953340,2.5,10,2005]
[3313,"Alumina & aluminum production & processing",109005,2192043,30886848,1142335,1540052,42311838,2.61,9.9700000000000006,2006]
[3313,"Alumina & aluminum production & processing",114265,2172695,26755289,1126167,1516943,36760904,3.3,8.1999999999999993,2005]
[33131,"Alumina and aluminum production and processing",109005,2192043,30886848,1142335,1540052,42311838,2.61,9.9700000000000006,2006]
[33131,"Alumina and aluminum production and processing",114265,2172695,26755289,1126167,1516943,36760904,3.3,8.1999999999999993,2005]
[331311,"Alumina refining",2258,56822,738473,247209,16869,1269502,2.61,9.9700000000000006,2006]
[331311,"Alumina refining",2664,62765,768929,261851,20966,1242546,3.3,8.1999999999999993,2005]
[331312,"Primary aluminum production",14156,349429,3621306,91135,1093466,6181686,2.61,9.9700000000000006,2006]
[331312,"Primary aluminum production",15075,349888,3154897,94397,1084472,5018732,3.3,8.1999999999999993,2005]
[331314,"Secondary smelting and alloying of aluminum",11097,237712,5506240,267949,108030,7044004,2.61,9.9700000000000006,2006]
[331314,"Secondary smelting and alloying of aluminum",11473,224619,4363766,236972,103914,5496441,3.3,8.1999999999999993,2005]
[331316,"Aluminum extruded product manufacturing",46261,715211,5967933,134336,109998,8292616,2.61,9.9700000000000006,2006]
[331316,"Aluminum extruded product manufacturing",46842,740890,5720219,149730,110274,8028270,3.3,8.1999999999999993,2005]
["33131N","Aluminum rolling and drawing",35234,832868,15052896,401706,211688,19524030,2.61,9.9700000000000006,2006]
["33131N","Aluminum rolling and drawing",38210,794532,12747478,383217,197318,16974915,3.3,8.1999999999999993,2005]
[3314,"Nonferrous metal (except aluminum) production & processing",84518,1783842,32477828,359675,577375,43866246,2.61,9.9700000000000006,2006]
[3314,"Nonferrous metal (except aluminum) production & processing",86789,1743046,22790651,352002,481873,32500792,3.3,8.1999999999999993,2005]
[33141,"Nonferrous metal (except aluminum) smelting and refining",12886,285253,7258684,107301,235250,10603468,2.61,9.9700000000000006,2006]
[33141,"Nonferrous metal (except aluminum) smelting and refining",12393,261923,4741291,118789,160860,7352215,3.3,8.1999999999999993,2005]
[331411,"Primary smelting and refining of copper",2891,62639,"D","D",20216,5768271,2.61,9.9700000000000006,2006]
[331411,"Primary smelting and refining of copper",2369,49324,"D","D",19605,3817874,3.3,8.1999999999999993,2005]
[331419,"Primary nonferrous metal (except copper and aluminum)",9995,222614,"D","D",215034,4835197,2.61,9.9700000000000006,2006]
[331419,"Primary nonferrous metal (except copper and aluminum)",10024,212599,"D","D",141255,3534341,3.3,8.1999999999999993,2005]
[33142,"Copper rolling, drawing, extruding, and alloying",36410,704652,18463015,117543,171010,21077092,2.61,9.9700000000000006,2006]
[33142,"Copper rolling, drawing, extruding, and alloying",39589,731262,13151070,123803,167314,15824093,3.3,8.1999999999999993,2005]
["33142M","Copper rolling, drawing, extruding, and alloying",36410,704652,18463015,117543,171010,21077092,2.61,9.9700000000000006,2006]
["33142M","Copper rolling, drawing, extruding, and alloying",39589,731262,13151070,123803,167314,15824093,3.3,8.1999999999999993,2005]
[33149,"Nonferrous metal (except copper and aluminum) shaping",35222,793937,6756130,134831,171115,12185686,2.61,9.9700000000000006,2006]
[33149,"Nonferrous metal (except copper and aluminum) shaping",34807,749862,4898289,109409,153699,9324484,3.3,8.1999999999999993,2005]
["33149M","Nonferrous metal (except copper and aluminum) shaping",35222,793937,6756130,134831,171115,12185686,2.61,9.9700000000000006,2006]
["33149M","Nonferrous metal (except copper and aluminum) shaping",34807,749862,4898289,109409,153699,9324484,3.3,8.1999999999999993,2005]
[3315,"Foundries",292364,5267390,16070849,726948,952795,33457440,2.7,9.15,2006]
[3315,"Foundries",290961,5087629,14315543,687865,877975,30572753,2.7,7.6,2005]
[33151,"Ferrous metal foundries",172958,3271884,9895993,451396,703096,20586518,2.7,9.15,2006]
[33151,"Ferrous metal foundries",173799,3149839,8833182,422967,649557,18811908,2.7,7.6,2005]
["33151M","Ferrous metal foundries",172958,3271884,9895993,451396,703096,20586518,2.7,9.15,2006]
["33151M","Ferrous metal foundries",173799,3149839,8833182,422967,649557,18811908,2.7,7.6,2005]
[33152,"Nonferrous metal foundries",119406,1995507,6174856,275552,249700,12870923,2.7,9.15,2006]
[33152,"Nonferrous metal foundries",117162,1937790,5482361,264899,228418,11760846,2.7,7.6,2005]
["33152N","Aluminum foundries",81758,1400412,4305759,223983,170956,8543202,2.7,9.15,2006]
["33152N","Aluminum foundries",80260,1361516,3855742,215574,154484,7894260,2.7,7.6,2005]
["33152P","Foundries not aluminum",37648,595095,1869097,51569,78744,4327720,2.7,9.15,2006]
["33152P","Foundries not aluminum",36901,576274,1626619,49325,73934,3866585,2.7,7.6,2005]
[332,"Fabricated metal product mfg",2322541,40261722,150736375,1957859,3258502,317223120,2.61,9.48,2006]
[332,"Fabricated metal product mfg",2263599,38033694,135420529,1814108,2957495,289432368,2.8,8.6999999999999993,2005]
[3321,"Forging & stamping",196688,3459365,16885819,312995,410856,30909945,2.61,9.48,2006]
[3321,"Forging & stamping",196530,3341280,15192927,284683,371270,28371727,2.8,8.6999999999999993,2005]
[33211,"Forging and stamping",196688,3459365,16885819,312995,410856,30909945,2.61,9.48,2006]
[33211,"Forging and stamping",196530,3341280,15192927,284683,371270,28371727,2.8,8.6999999999999993,2005]
[332114,"Custom roll forming",28124,502196,4392870,34325,47981,7247656,2.61,9.48,2006]
[332114,"Custom roll forming",26566,453806,3964527,32825,44277,6637923,2.8,8.6999999999999993,2005]
[332117,"Powder metallurgy parts manufacturing",12687,217813,615390,14930,33833,1337902,2.61,9.48,2006]
[332117,"Powder metallurgy parts manufacturing",13181,217435,524049,14258,29676,1251385,2.8,8.6999999999999993,2005]
["33211N","Forging",51660,971774,5267103,197500,188159,9325992,2.61,9.48,2006]
["33211N","Forging",50855,911847,4385019,170583,167699,7962476,2.8,8.6999999999999993,2005]
["33211P","Crown, closure, and metal stamping manufacturing",104218,1767582,6610455,66240,140884,12998395,2.61,9.48,2006]
["33211P","Crown, closure, and metal stamping manufacturing",105928,1758191,6319333,67017,129618,12519943,2.8,8.6999999999999993,2005]
[3322,"Cutlery & handtool mfg",72249,1261802,4437969,61523,115604,10608117,2.61,9.48,2006]
[3322,"Cutlery & handtool mfg",73975,1254530,4347590,55961,103163,10462019,2.8,8.6999999999999993,2005]
[33221,"Cutlery and hand tool manufacturing",72249,1261802,4437969,61523,115604,10608117,2.61,9.48,2006]
[33221,"Cutlery and hand tool manufacturing",73975,1254530,4347590,55961,103163,10462019,2.8,8.6999999999999993,2005]
["33221N","Cutlery, kitchen utensil, pot, and pan manufacturing",12874,253581,1465116,20018,24825,3054129,2.61,9.48,2006]
["33221N","Cutlery, kitchen utensil, pot, and pan manufacturing",14371,261084,1446531,19460,23320,3147373,2.8,8.6999999999999993,2005]
["33221P","Hand tool and saw blade manufacturing",59375,1008221,2972853,41506,90779,7553988,2.61,9.48,2006]
["33221P","Hand tool and saw blade manufacturing",59604,993446,2901059,36501,79842,7314646,2.8,8.6999999999999993,2005]
[3323,"Architectural & structural metals mfg",558251,9114158,44027542,253779,544979,83534880,2.61,9.48,2006]
[3323,"Architectural & structural metals mfg",529190,8421330,38155038,236499,498130,74308655,2.8,8.6999999999999993,2005]
[33231,"Plate work and fabricated structural product manufacturing",224092,4019239,22097661,109551,242108,40878044,2.61,9.48,2006]
[33231,"Plate work and fabricated structural product manufacturing",209731,3617121,18467492,108043,214874,35248447,2.8,8.6999999999999993,2005]
["33231M","Plate work and fabricated structural product manufacturing",224092,4019239,22097661,109551,242108,40878044,2.61,9.48,2006]
["33231M","Plate work and fabricated structural product manufacturing",209731,3617121,18467492,108043,214874,35248447,2.8,8.6999999999999993,2005]
[33232,"Ornamental and architectural metal work manufacturing",334159,5094920,21929881,144228,302872,42656836,2.61,9.48,2006]
[33232,"Ornamental and architectural metal work manufacturing",319459,4804209,19687546,128457,283256,39060208,2.8,8.6999999999999993,2005]
["33232M","Ornamental and architectural metal work manufacturing",334159,5094920,21929881,144228,302872,42656836,2.61,9.48,2006]
["33232M","Ornamental and architectural metal work manufacturing",319459,4804209,19687546,128457,283256,39060208,2.8,8.6999999999999993,2005]
[3324,"Boiler, tank, & shipping container mfg",134575,2709461,15728048,219600,318284,27791543,2.61,9.48,2006]
[3324,"Boiler, tank, & shipping container mfg",129678,2482138,14631089,198558,282399,25370776,2.8,8.6999999999999993,2005]
[33241,"Power boiler and heat exchanger manufacturing",29091,596109,2320517,47293,56262,4773024,2.61,9.48,2006]
[33241,"Power boiler and heat exchanger manufacturing",26740,529304,2169361,32966,44871,4162819,2.8,8.6999999999999993,2005]
[332410,"Power boiler and heat exchanger manufacturing",29091,596109,2320517,47293,56262,4773024,2.61,9.48,2006]
[332410,"Power boiler and heat exchanger manufacturing",26740,529304,2169361,32966,44871,4162819,2.8,8.6999999999999993,2005]
[33242,"Metal tank (heavy gauge) manufacturing",51469,986550,3370797,44253,52507,7050306,2.61,9.48,2006]
[33242,"Metal tank (heavy gauge) manufacturing",43908,793780,2575277,35866,41997,5640768,2.8,8.6999999999999993,2005]
[332420,"Metal tank (heavy gauge) manufacturing",51469,986550,3370797,44253,52507,7050306,2.61,9.48,2006]
[332420,"Metal tank (heavy gauge) manufacturing",43908,793780,2575277,35866,41997,5640768,2.8,8.6999999999999993,2005]
[33243,"Metal can, box, and other metal container (light gauge) mfg",54015,1126801,10036734,128054,209514,15968213,2.61,9.48,2006]
[33243,"Metal can, box, and other metal container (light gauge) mfg",59030,1159054,9886450,129726,195531,15567190,2.8,8.6999999999999993,2005]
["33243M","Metal can, box, and other metal container (light gauge) mfg",54015,1126801,10036734,128054,209514,15968213,2.61,9.48,2006]
["33243M","Metal can, box, and other metal container (light gauge) mfg",59030,1159054,9886450,129726,195531,15567190,2.8,8.6999999999999993,2005]
[3325,"Hardware mfg",66242,1035240,4539207,35022,67094,10275853,2.61,9.48,2006]
[3325,"Hardware mfg",69105,1067014,4610013,36690,63375,10254011,2.8,8.6999999999999993,2005]
[33251,"Hardware manufacturing",66242,1035240,4539207,35022,67094,10275853,2.61,9.48,2006]
[33251,"Hardware manufacturing",69105,1067014,4610013,36690,63375,10254011,2.8,8.6999999999999993,2005]
[332510,"Hardware manufacturing",66242,1035240,4539207,35022,67094,10275853,2.61,9.48,2006]
[332510,"Hardware manufacturing",69105,1067014,4610013,36690,63375,10254011,2.8,8.6999999999999993,2005]
[3326,"Spring & wire product mfg",86337,1308029,5145770,66546,102209,9801741,2.61,9.48,2006]
[3326,"Spring & wire product mfg",88549,1303589,4966301,66393,93302,9879091,2.8,8.6999999999999993,2005]
[33261,"Spring and wire product manufacturing",86337,1308029,5145770,66546,102209,9801741,2.61,9.48,2006]
[33261,"Spring and wire product manufacturing",88549,1303589,4966301,66393,93302,9879091,2.8,8.6999999999999993,2005]
["33261M","Spring and wire product manufacturing",86337,1308029,5145770,66546,102209,9801741,2.61,9.48,2006]
["33261M","Spring and wire product manufacturing",88549,1303589,4966301,66393,93302,9879091,2.8,8.6999999999999993,2005]
[3327,"Machine shops, turned product, & screw, nut, & bolt mfg",601397,10935414,21780353,215177,667073,56169184,2.61,9.48,2006]
[3327,"Machine shops, turned product, & screw, nut, & bolt mfg",582033,10163044,19770112,182360,589978,50996936,2.8,8.6999999999999993,2005]
[33271,"Machine shops",409240,7498410,13518093,131064,419080,35890066,2.61,9.48,2006]
[33271,"Machine shops",390136,6901464,12090150,101582,368969,32187297,2.8,8.6999999999999993,2005]
[332710,"Machine shops",409240,7498410,13518093,131064,419080,35890066,2.61,9.48,2006]
[332710,"Machine shops",390136,6901464,12090150,101582,368969,32187297,2.8,8.6999999999999993,2005]
[33272,"Turned product and screw, nut, and bolt manufacturing",192157,3437005,8262260,84113,247993,20279118,2.61,9.48,2006]
[33272,"Turned product and screw, nut, and bolt manufacturing",191897,3261580,7679961,80777,221009,18809639,2.8,8.6999999999999993,2005]
[332721,"Precision turned product manufacturing",128390,2199275,4059429,32874,140038,10765413,2.61,9.48,2006]
[332721,"Precision turned product manufacturing",129442,2147225,3796479,31145,126965,10099691,2.8,8.6999999999999993,2005]
[332722,"Bolt, nut, screw, rivet, and washer manufacturing",63767,1237729,4202831,51239,107955,9513705,2.61,9.48,2006]
[332722,"Bolt, nut, screw, rivet, and washer manufacturing",62455,1114355,3883482,49632,94044,8709948,2.8,8.6999999999999993,2005]
[3328,"Coating, engraving, heat treating, & allied activities",207256,3375969,10527469,522584,458862,24343677,2.61,9.48,2006]
[3328,"Coating, engraving, heat treating, & allied activities",207371,3233347,9807910,491009,427747,22739195,2.8,8.6999999999999993,2005]
[33281,"Coating, engraving, heat treating, and allied activities",207256,3375969,10527469,522584,458862,24343677,2.61,9.48,2006]
[33281,"Coating, engraving, heat treating, and allied activities",207371,3233347,9807910,491009,427747,22739195,2.8,8.6999999999999993,2005]
["33281M","Coating, engraving, heat treating, and allied activities",207256,3375969,10527469,522584,458862,24343677,2.61,9.48,2006]
["33281M","Coating, engraving, heat treating, and allied activities",207371,3233347,9807910,491009,427747,22739195,2.8,8.6999999999999993,2005]
[3329,"Other fabricated metal product mfg",399546,7062284,27664198,270632,573541,63788178,2.61,9.48,2006]
[3329,"Other fabricated metal product mfg",387168,6767422,23939551,261955,528132,57049958,2.8,8.6999999999999993,2005]
[33291,"Metal valve manufacturing",142228,2566180,12074770,69715,214251,27235629,2.61,9.48,2006]
[33291,"Metal valve manufacturing",145551,2534450,10290752,67278,198475,24166474,2.8,8.6999999999999993,2005]
[332913,"Plumbing fixture fitting and trim manufacturing",14861,240824,2164702,9321,17343,4161304,2.61,9.48,2006]
[332913,"Plumbing fixture fitting and trim manufacturing",16368,261062,1881790,10160,16886,3481432,2.8,8.6999999999999993,2005]
["33291N","Valve and fitting (except plumbing) manufacturing",127368,2325356,9910067,60394,196908,23074325,2.61,9.48,2006]
["33291N","Valve and fitting (except plumbing) manufacturing",129183,2273388,8408962,57118,181589,20685041,2.8,8.6999999999999993,2005]
[33299,"All other fabricated metal product manufacturing",257318,4496104,15589428,200917,359289,36552549,2.61,9.48,2006]
[33299,"All other fabricated metal product manufacturing",241617,4232972,13648799,194677,329658,32883485,2.8,8.6999999999999993,2005]
[332991,"Ball and roller bearing manufacturing",43660,844201,2446136,45734,96500,6817909,2.61,9.48,2006]
[332991,"Ball and roller bearing manufacturing",42692,837411,2365703,51598,91627,6624192,2.8,8.6999999999999993,2005]
[332992,"Small arms ammunition manufacturing",17143,298246,760241,16359,14686,1970061,2.61,9.48,2006]
[332992,"Small arms ammunition manufacturing",13930,256907,597958,15486,13130,1683621,2.8,8.6999999999999993,2005]
[332993,"Ammunition (except small arms) manufacturing",8090,148099,673661,"D",16312,1906998,2.61,9.48,2006]
[332993,"Ammunition (except small arms) manufacturing",8357,152057,435086,12454,16296,1545126,2.8,8.6999999999999993,2005]
[332994,"Small arms manufacturing",14611,251540,695871,6932,20839,1973408,2.61,9.48,2006]
[332994,"Small arms manufacturing",17581,289821,640664,7237,18530,1877612,2.8,8.6999999999999993,2005]
[332995,"Other ordnance and accessories manufacturing",4472,100028,786776,"D",9609,1685407,2.61,9.48,2006]
[332995,"Other ordnance and accessories manufacturing",3557,86093,385269,2908,7682,1177333,2.8,8.6999999999999993,2005]
[332996,"Fabricated pipe and pipe fitting manufacturing",44822,716302,2787321,16585,53174,5699133,2.61,9.48,2006]
[332996,"Fabricated pipe and pipe fitting manufacturing",38039,641145,2424502,12432,44420,4901677,2.8,8.6999999999999993,2005]
["33299N","Other fabricated metal products manufacturing",124519,2137688,7439422,96855,148169,16499634,2.61,9.48,2006]
["33299N","Other fabricated metal products manufacturing",117462,1969538,6799617,92562,137972,15073925,2.8,8.6999999999999993,2005]
[333,"Machinery mfg",1432475,27608891,174554003,771763,1865807,326430029,2.3199999999999998,8.64,2006]
[333,"Machinery mfg",1417140,26399769,160922268,722746,1678876,302650232,2.4,7.3,2005]
[3331,"Agriculture, construction, & mining machinery mfg",248370,4907969,46012001,222762,307449,77267966,2.3199999999999998,8.64,2006]
[3331,"Agriculture, construction, & mining machinery mfg",239685,4508452,41389435,211401,259596,69503500,2.4,7.3,2005]
[33311,"Agricultural implement manufacturing",97858,1790068,15224893,91404,95914,27318987,2.3199999999999998,8.64,2006]
[33311,"Agricultural implement manufacturing",106390,1795090,15972656,90594,94576,27986155,2.4,7.3,2005]
[333111,"Farm machinery and equipment manufacturing",67879,1353480,10216057,74012,68953,19802250,2.3199999999999998,8.64,2006]
[333111,"Farm machinery and equipment manufacturing",72481,1346955,10494954,73552,66266,20113862,2.4,7.3,2005]
[333112,"Lawn and garden equipment manufacturing",29979,436588,5008836,17392,26961,7516736,2.3199999999999998,8.64,2006]
[333112,"Lawn and garden equipment manufacturing",33909,448135,5477702,17042,28311,7872293,2.4,7.3,2005]
[33312,"Construction machinery manufacturing",85319,1749425,22585466,84707,101903,35152833,2.3199999999999998,8.64,2006]
[33312,"Construction machinery manufacturing",78459,1624456,19810223,86730,87715,30819643,2.4,7.3,2005]
[333120,"Construction machinery manufacturing",85319,1749425,22585466,84707,101903,35152833,2.3199999999999998,8.64,2006]
[333120,"Construction machinery manufacturing",78459,1624456,19810223,86730,87715,30819643,2.4,7.3,2005]
[33313,"Mining and oil and gas field machinery manufacturing",65193,1368477,8201642,46652,109632,14796147,2.3199999999999998,8.64,2006]
[33313,"Mining and oil and gas field machinery manufacturing",54836,1088905,5606556,34077,77304,10697702,2.4,7.3,2005]
["33313M","Mining and oil and gas field machinery manufacturing",65193,1368477,8201642,46652,109632,14796147,2.3199999999999998,8.64,2006]
["33313M","Mining and oil and gas field machinery manufacturing",54836,1088905,5606556,34077,77304,10697702,2.4,7.3,2005]
[3332,"Industrial machinery mfg",140356,2818589,18385549,60054,207749,38194044,2.3199999999999998,8.64,2006]
[3332,"Industrial machinery mfg",137951,2712658,16522795,55647,189378,34338712,2.4,7.3,2005]
[33321,"Sawmill and woodworking machinery manufacturing",7555,137900,528201,3645,7565,1149305,2.3199999999999998,8.64,2006]
[33321,"Sawmill and woodworking machinery manufacturing",6992,129673,506385,3386,8296,1101754,2.4,7.3,2005]
[333210,"Sawmill and woodworking machinery manufacturing",7555,137900,528201,3645,7565,1149305,2.3199999999999998,8.64,2006]
[333210,"Sawmill and woodworking machinery manufacturing",6992,129673,506385,3386,8296,1101754,2.4,7.3,2005]
[33322,"Plastics and rubber industry machinery manufacturing",14938,308995,1630511,7248,21990,3265434,2.3199999999999998,8.64,2006]
[33322,"Plastics and rubber industry machinery manufacturing",15330,296335,1483146,6234,20328,3085468,2.4,7.3,2005]
[333220,"Plastics and rubber industry machinery manufacturing",14938,308995,1630511,7248,21990,3265434,2.3199999999999998,8.64,2006]
[333220,"Plastics and rubber industry machinery manufacturing",15330,296335,1483146,6234,20328,3085468,2.4,7.3,2005]
[33329,"Other industrial machinery manufacturing",117863,2371693,16226837,49161,178194,33779306,2.3199999999999998,8.64,2006]
[33329,"Other industrial machinery manufacturing",115629,2286650,14533264,46026,160754,30151490,2.4,7.3,2005]
[333295,"Semiconductor machinery manufacturing",21786,477844,6960410,8709,60871,15094528,2.3199999999999998,8.64,2006]
[333295,"Semiconductor machinery manufacturing",20962,436320,5540635,7187,49770,12000060,2.4,7.3,2005]
["33329N","Other machinery manufacturing",96077,1893849,9266427,40452,117324,18684777,2.3199999999999998,8.64,2006]
["33329N","Other machinery manufacturing",94668,1850330,8992629,38839,110984,18151430,2.4,7.3,2005]
[3333,"Commercial & service industry machinery mfg",102203,1787924,10791169,37836,144632,23018465,2.3199999999999998,8.64,2006]
[3333,"Commercial & service industry machinery mfg",103336,1761663,10006591,35383,134159,21583986,2.4,7.3,2005]
[33331,"Commercial and service industry machinery manufacturing",102203,1787924,10791169,37836,144632,23018465,2.3199999999999998,8.64,2006]
[33331,"Commercial and service industry machinery manufacturing",103336,1761663,10006591,35383,134159,21583986,2.4,7.3,2005]
[333313,"Office machinery manufacturing",5920,86309,1150855,2509,10006,2538882,2.3199999999999998,8.64,2006]
[333313,"Office machinery manufacturing",5428,85083,911464,1841,9718,2192844,2.4,7.3,2005]
[333314,"Optical instrument and lens manufacturing",19890,444456,1487609,4745,41138,3507385,2.3199999999999998,8.64,2006]
[333314,"Optical instrument and lens manufacturing",19415,407627,1272178,3530,38576,3161707,2.4,7.3,2005]
[333315,"Photographic and photocopying equipment manufacturing",7291,126322,1056938,3552,24158,2281136,2.3199999999999998,8.64,2006]
[333315,"Photographic and photocopying equipment manufacturing",8034,133195,1055634,3282,22763,2287160,2.4,7.3,2005]
["33331N","All other commercial and service industry machinery mfg",69101,1130837,7095767,27031,69330,14691062,2.3199999999999998,8.64,2006]
["33331N","All other commercial and service industry machinery mfg",70460,1135758,6767315,26729,63103,13942274,2.4,7.3,2005]
[3334,"Ventilation, heating, AC, & commercial refrigeration equip mfg",215050,3502229,20150064,86968,195783,39213564,2.3199999999999998,8.64,2006]
[3334,"Ventilation, heating, AC, & commercial refrigeration equip mfg",215317,3327017,19780890,79037,183070,37890097,2.4,7.3,2005]
[33341,"HVAC and commercial refrigeration equipment manufacturing",215050,3502229,20150064,86968,195783,39213564,2.3199999999999998,8.64,2006]
[33341,"HVAC and commercial refrigeration equipment manufacturing",215317,3327017,19780890,79037,183070,37890097,2.4,7.3,2005]
[333414,"Heating equipment (except warm air furnaces) manufacturing",27340,403410,2407137,15404,27226,5475434,2.3199999999999998,8.64,2006]
[333414,"Heating equipment (except warm air furnaces) manufacturing",28361,403103,2314401,14995,25330,5070244,2.4,7.3,2005]
[333415,"AC, forced air heating, and refrigeration equipment mfg",150556,2584221,15494695,57293,138034,29140199,2.3199999999999998,8.64,2006]
[333415,"AC, forced air heating, and refrigeration equipment mfg",151313,2438875,15388497,51186,131401,28612772,2.4,7.3,2005]
["33341N","Ventilation equipment manufacturing",37153,514598,2248232,14271,30524,4597931,2.3199999999999998,8.64,2006]
["33341N","Ventilation equipment manufacturing",35643,485039,2077992,12856,26339,4207081,2.4,7.3,2005]
[3335,"Metalworking machinery mfg",244658,5140758,11543544,76456,290574,28145823,2.3199999999999998,8.64,2006]
[3335,"Metalworking machinery mfg",249345,5094654,10652240,75877,270618,27064836,2.4,7.3,2005]
[33351,"Metalworking machinery manufacturing",244658,5140758,11543544,76456,290574,28145823,2.3199999999999998,8.64,2006]
[33351,"Metalworking machinery manufacturing",249345,5094654,10652240,75877,270618,27064836,2.4,7.3,2005]
[333511,"Industrial mold manufacturing",67239,1373482,1841803,17293,78322,5517725,2.3199999999999998,8.64,2006]
[333511,"Industrial mold manufacturing",69783,1400651,1794721,18779,74797,5481420,2.4,7.3,2005]
[333512,"Machine tool (metal cutting types) manufacturing",20723,461941,2753263,10758,30515,4830849,2.3199999999999998,8.64,2006]
[333512,"Machine tool (metal cutting types) manufacturing",18627,405793,2292374,9032,24672,4158065,2.4,7.3,2005]
[333513,"Machine tool (metal forming types) manufacturing",10142,210259,683206,3735,10878,1503069,2.3199999999999998,8.64,2006]
[333513,"Machine tool (metal forming types) manufacturing",9808,191679,580540,3205,9892,1325244,2.4,7.3,2005]
[333514,"Special die and tool, die set, jig, and fixture manufacturing",81730,1795980,2737643,17547,80654,7858445,2.3199999999999998,8.64,2006]
[333514,"Special die and tool, die set, jig, and fixture manufacturing",86571,1810420,2685171,18615,77724,7831633,2.4,7.3,2005]
[333515,"Cutting tool and machine tool accessory manufacturing",47485,899804,1901913,12841,65400,5112385,2.3199999999999998,8.64,2006]
[333515,"Cutting tool and machine tool accessory manufacturing",46955,864789,1690907,11600,59860,4840779,2.4,7.3,2005]
[333516,"Rolling mill machinery and equipment manufacturing",3872,84903,405005,5608,7256,738946,2.3199999999999998,8.64,2006]
[333516,"Rolling mill machinery and equipment manufacturing",3625,77855,342202,6432,6874,672434,2.4,7.3,2005]
[333518,"Other metalworking machinery manufacturing",13467,314390,1220711,8674,17549,2584404,2.3199999999999998,8.64,2006]
[333518,"Other metalworking machinery manufacturing",13976,343468,1266326,8213,16798,2755261,2.4,7.3,2005]
[3336,"Engine, turbine, & power transmission equipment mfg",133024,2854112,27367409,113438,261488,42234355,2.3199999999999998,8.64,2006]
[3336,"Engine, turbine, & power transmission equipment mfg",130450,2765827,25593255,97795,223772,39587615,2.4,7.3,2005]
[33361,"Engine, turbine, and power transmission equipment mfg",133024,2854112,27367409,113438,261488,42234355,2.3199999999999998,8.64,2006]
[33361,"Engine, turbine, and power transmission equipment mfg",130450,2765827,25593255,97795,223772,39587615,2.4,7.3,2005]
[333611,"Turbine and turbine generator set unit manufacturing",20381,472168,3816261,12297,60609,6566445,2.3199999999999998,8.64,2006]
[333611,"Turbine and turbine generator set unit manufacturing",20150,485991,3670980,10817,42808,6762124,2.4,7.3,2005]
[333612,"Speed changer, industrial high-speed drive, and gear mfg",17575,366024,1072639,"D",28193,2452712,2.3199999999999998,8.64,2006]
[333612,"Speed changer, industrial high-speed drive, and gear mfg",16719,329900,946769,14910,24677,2121629,2.4,7.3,2005]
[333613,"Mechanical power transmission equipment manufacturing",21080,413846,1345138,"D",35384,3311687,2.3199999999999998,8.64,2006]
[333613,"Mechanical power transmission equipment manufacturing",21505,419702,1230835,15700,32938,3156642,2.4,7.3,2005]
[333618,"Other engine equipment manufacturing",73988,1602074,21133372,67109,137301,29903511,2.3199999999999998,8.64,2006]
[333618,"Other engine equipment manufacturing",72076,1530235,19744672,56368,123349,27547220,2.4,7.3,2005]
[3339,"Other general purpose machinery mfg",348815,6597310,40304268,174249,458132,78355812,2.3199999999999998,8.64,2006]
[3339,"Other general purpose machinery mfg",341055,6229497,36977062,167606,418282,72681487,2.4,7.3,2005]
[33391,"Pump and compressor manufacturing",64119,1319481,9253679,32345,93027,18954286,2.3199999999999998,8.64,2006]
[33391,"Pump and compressor manufacturing",64535,1269296,8479863,31314,84335,17279413,2.4,7.3,2005]
[333911,"Pump and pumping equipment manufacturing",34152,694901,4571709,15881,46322,9282117,2.3199999999999998,8.64,2006]
[333911,"Pump and pumping equipment manufacturing",35432,705813,4404534,16696,42973,9136582,2.4,7.3,2005]
[333912,"Air and gas compressor manufacturing",26269,560025,3903564,14989,40564,8513839,2.3199999999999998,8.64,2006]
[333912,"Air and gas compressor manufacturing",25311,494393,3369314,13255,35931,7079639,2.4,7.3,2005]
[333913,"Measuring and dispensing pump manufacturing",3698,64555,778406,1475,6141,1158330,2.3199999999999998,8.64,2006]
[333913,"Measuring and dispensing pump manufacturing",3793,69089,706015,1363,5431,1063193,2.4,7.3,2005]
[33392,"Material handling equipment manufacturing",108821,2061929,14408293,54307,104370,25008794,2.3199999999999998,8.64,2006]
[33392,"Material handling equipment manufacturing",103753,1880496,13038344,49625,94055,22304269,2.4,7.3,2005]
["33392M","Material handling equipment manufacturing",108821,2061929,14408293,54307,104370,25008794,2.3199999999999998,8.64,2006]
["33392M","Material handling equipment manufacturing",103753,1880496,13038344,49625,94055,22304269,2.4,7.3,2005]
[33399,"All other general purpose machinery manufacturing",175875,3215901,16642296,87598,260734,34392732,2.3199999999999998,8.64,2006]
[33399,"All other general purpose machinery manufacturing",172766,3079705,15458856,86666,239891,33097804,2.4,7.3,2005]
[333991,"Power-driven hand tool manufacturing",9968,197311,1292924,3223,19285,2117919,2.3199999999999998,8.64,2006]
[333991,"Power-driven hand tool manufacturing",11729,202948,1396134,4810,19815,2609256,2.4,7.3,2005]
[333993,"Packaging machinery manufacturing",21616,428893,1843752,20981,20808,4249814,2.3199999999999998,8.64,2006]
[333993,"Packaging machinery manufacturing",21234,416421,1757397,19389,20058,4064253,2.4,7.3,2005]
[333994,"Industrial process furnace and oven manufacturing",12868,218132,926390,5962,21051,2125044,2.3199999999999998,8.64,2006]
[333994,"Industrial process furnace and oven manufacturing",12525,213844,837495,6385,20224,1880123,2.4,7.3,2005]
["33399N","Fluid power equipment manufacturing",44776,851389,4175464,17770,75085,8535363,2.3199999999999998,8.64,2006]
["33399N","Fluid power equipment manufacturing",43903,831253,3669544,17579,71417,7846770,2.4,7.3,2005]
["33399P","All other miscellaneous general purpose machinery mfg",86647,1520176,8403766,39662,124506,17364592,2.3199999999999998,8.64,2006]
["33399P","All other miscellaneous general purpose machinery mfg",83375,1415240,7798285,38503,108378,16697403,2.4,7.3,2005]
[334,"Computer & electronic product mfg",942701,19033695,159912600,447831,2372153,390775682,3.38,5.53,2006]
[334,"Computer & electronic product mfg",947120,18606274,148351495,410961,2102904,372882132,4.0999999999999996,5.6,2005]
[3341,"Computer & peripheral equipment mfg",69143,1392056,32430061,46654,173570,67324832,2.57,3.17,2006]
[3341,"Computer & peripheral equipment mfg",70919,1472603,31136916,42582,162897,65004825,2.9,3.4,2005]
[33411,"Computer and peripheral equipment manufacturing",69143,1392056,32430061,46654,173570,67324832,2.57,3.17,2006]
[33411,"Computer and peripheral equipment manufacturing",70919,1472603,31136916,42582,162897,65004825,2.9,3.4,2005]
[334111,"Electronic computer manufacturing",22229,490717,19487782,5909,45328,42507682,2.57,3.17,2006]
[334111,"Electronic computer manufacturing",23925,558191,18289306,5802,48548,40694131,2.9,3.4,2005]
[334112,"Computer storage device manufacturing",18941,331689,4433906,9713,50427,8400401,2.57,3.17,2006]
[334112,"Computer storage device manufacturing",17645,297599,4335687,7207,42545,8031958,2.9,3.4,2005]
[334113,"Computer terminal manufacturing",943,17124,73569,498,1624,203758,2.57,3.17,2006]
[334113,"Computer terminal manufacturing",986,17876,80785,530,1632,213648,2.9,3.4,2005]
[334119,"Other computer peripheral equipment manufacturing",27030,552526,8434804,30533,76191,16212991,2.57,3.17,2006]
[334119,"Other computer peripheral equipment manufacturing",28362,598938,8431138,29043,70171,16065087,2.9,3.4,2005]
[3342,"Communications equipment mfg",100824,2108543,31454804,87118,247741,70173654,2.36,3.45,2006]
[3342,"Communications equipment mfg",104666,2091774,27413846,67979,200908,58914117,2.6,6.9,2005]
[33421,"Telephone apparatus manufacturing",21544,499222,10604590,53202,67556,25230313,2.36,3.45,2006]
[33421,"Telephone apparatus manufacturing",21661,476008,8273024,39033,60343,19156773,2.6,6.9,2005]
[334210,"Telephone apparatus manufacturing",21544,499222,10604590,53202,67556,25230313,2.36,3.45,2006]
[334210,"Telephone apparatus manufacturing",21661,476008,8273024,39033,60343,19156773,2.6,6.9,2005]
[33422,"Broadcasting and wireless communications equipment mfg",64689,1354953,18873176,21236,152687,40491755,2.36,3.45,2006]
[33422,"Broadcasting and wireless communications equipment mfg",66773,1350005,17340699,16723,116058,35522315,2.6,6.9,2005]
[334220,"Broadcasting and wireless communications equipment mfg",64689,1354953,18873176,21236,152687,40491755,2.36,3.45,2006]
[334220,"Broadcasting and wireless communications equipment mfg",66773,1350005,17340699,16723,116058,35522315,2.6,6.9,2005]
[33429,"Other communications equipment manufacturing",14591,254368,1977038,12681,27499,4451585,2.36,3.45,2006]
[33429,"Other communications equipment manufacturing",16231,265761,1800122,12222,24507,4235028,2.6,6.9,2005]
[334290,"Other communications equipment manufacturing",14591,254368,1977038,12681,27499,4451585,2.36,3.45,2006]
[334290,"Other communications equipment manufacturing",16231,265761,1800122,12222,24507,4235028,2.6,6.9,2005]
[3343,"Audio & video equipment mfg",21567,349369,6324404,10661,24611,9633050,4.32,7.9,2006]
[3343,"Audio & video equipment mfg",22629,334744,6878312,8390,25661,9969336,5.5,7.1,2005]
[33431,"Audio and video equipment manufacturing",21567,349369,6324404,10661,24611,9633050,4.32,7.9,2006]
[33431,"Audio and video equipment manufacturing",22629,334744,6878312,8390,25661,9969336,5.5,7.1,2005]
[334310,"Audio and video equipment manufacturing",21567,349369,6324404,10661,24611,9633050,4.32,7.9,2006]
[334310,"Audio and video equipment manufacturing",22629,334744,6878312,8390,25661,9969336,5.5,7.1,2005]
[3344,"Semiconductor & other electronic component mfg",410248,7686065,41802032,181153,1199019,117663006,4.32,7.9,2006]
[3344,"Semiconductor & other electronic component mfg",407079,7370943,38473113,176227,1073947,119378539,5.5,7.1,2005]
[33441,"Semiconductor and other electronic component manufacturing",410248,7686065,41802032,181153,1199019,117663006,4.32,7.9,2006]
[33441,"Semiconductor and other electronic component manufacturing",407079,7370943,38473113,176227,1073947,119378539,5.5,7.1,2005]
[334411,"Electron tube manufacturing",6271,143218,345179,3090,13536,811834,4.32,7.9,2006]
[334411,"Electron tube manufacturing",7507,155876,456594,5385,19563,958080,5.5,7.1,2005]
[334412,"Bare printed circuit board manufacturing",47354,822997,1996111,16728,86008,5335301,4.32,7.9,2006]
[334412,"Bare printed circuit board manufacturing",48299,783514,1912489,17011,89505,5182394,5.5,7.1,2005]
[334413,"Semiconductor and related device manufacturing",129049,3170257,15792018,111044,779063,69964790,4.32,7.9,2006]
[334413,"Semiconductor and related device manufacturing",129766,3050182,15560558,108251,697289,74597374,5.5,7.1,2005]
[334414,"Electronic capacitor manufacturing",9773,137257,442617,2703,19321,1178592,4.32,7.9,2006]
[334414,"Electronic capacitor manufacturing",10207,142647,482791,2432,18274,1179137,5.5,7.1,2005]
[334415,"Electronic resistor manufacturing",6979,108287,204686,709,13145,600969,4.32,7.9,2006]
[334415,"Electronic resistor manufacturing",7016,102502,226409,729,12296,653718,5.5,7.1,2005]
[334416,"Electronic coil, transformer, and other inductor manufacturing",14952,199888,689143,4033,11490,1389369,4.32,7.9,2006]
[334416,"Electronic coil, transformer, and other inductor manufacturing",14350,177718,519530,2542,9934,1156108,5.5,7.1,2005]
[334417,"Electronic connector manufacturing",33800,568730,1603186,6071,43587,4447284,4.32,7.9,2006]
[334417,"Electronic connector manufacturing",32846,530865,1413011,5647,38492,3899438,5.5,7.1,2005]
[334418,"Printed circuit assembly (electronic assembly) manufacturing",90756,1369083,16570225,20011,155994,23817256,4.32,7.9,2006]
[334418,"Printed circuit assembly (electronic assembly) manufacturing",85043,1270240,14096664,20504,118660,22446875,5.5,7.1,2005]
[334419,"Other electronic component manufacturing",71313,1166350,4158867,16764,76875,10117610,4.32,7.9,2006]
[334419,"Other electronic component manufacturing",72044,1157399,3805067,13726,69933,9305415,5.5,7.1,2005]
[3345,"Navigational, measuring, medical, & control instruments mfg",300531,6811484,44195169,104624,621394,119035731,4.32,7.9,2006]
[3345,"Navigational, measuring, medical, & control instruments mfg",296520,6599586,40464775,96855,536065,111984254,5.5,7.1,2005]
[33451,"Navigational, measuring, medical, and control instruments mfg",300531,6811484,44195169,104624,621394,119035731,4.32,7.9,2006]
[33451,"Navigational, measuring, medical, and control instruments mfg",296520,6599586,40464775,96855,536065,111984254,5.5,7.1,2005]
[334510,"Electromedical and electrotherapeutic apparatus manufacturing",51012,1140950,7229954,16262,61073,21343582,4.32,7.9,2006]
[334510,"Electromedical and electrotherapeutic apparatus manufacturing",49299,1067146,6286476,17315,59578,20446725,5.5,7.1,2005]
[334511,"Search, detection, and navigation system and instrument mfg",91129,2431031,13646383,37417,246948,40660670,4.32,7.9,2006]
[334511,"Search, detection, and navigation system and instrument mfg",86859,2288365,12552812,32877,210944,38019752,5.5,7.1,2005]
[334512,"Automatic environmental control manufacturing",15539,239658,1006875,4458,15332,2325562,4.32,7.9,2006]
[334512,"Automatic environmental control manufacturing",16302,248862,887437,4441,14088,2293939,5.5,7.1,2005]
[334513,"Industrial process variable instruments",35272,634521,3349436,9493,46922,8670041,4.32,7.9,2006]
[334513,"Industrial process variable instruments",33556,629279,3188666,10818,44505,7767871,5.5,7.1,2005]
[334514,"Totalizing fluid meter and counting device manufacturing",18920,347754,2950057,7788,24066,5022351,4.32,7.9,2006]
[334514,"Totalizing fluid meter and counting device manufacturing",19863,361232,3152140,9378,23798,5334284,5.5,7.1,2005]
[334515,"Electricity and signal testing instrument manufacturing",26337,599867,4298551,9668,107816,11444288,4.32,7.9,2006]
[334515,"Electricity and signal testing instrument manufacturing",28914,650181,3753021,4716,80709,10920731,5.5,7.1,2005]
[334516,"Analytical laboratory instrument manufacturing",19423,389706,3741943,6818,47752,10130746,4.32,7.9,2006]
[334516,"Analytical laboratory instrument manufacturing",19852,390717,3338883,6116,41320,9275971,5.5,7.1,2005]
[334517,"Irradiation apparatus manufacturing",10696,299746,4845113,3290,20984,10949846,4.32,7.9,2006]
[334517,"Irradiation apparatus manufacturing",11239,307166,4379325,3668,18553,10413999,5.5,7.1,2005]
[334518,"Watch, clock, and parts manufacturing",2485,43877,230211,586,2318,621566,4.32,7.9,2006]
[334518,"Watch, clock, and parts manufacturing",3011,51364,236826,661,2454,641101,5.5,7.1,2005]
[334519,"Other measuring and controlling device manufacturing",29721,684374,2896644,8845,48183,7867080,4.32,7.9,2006]
[334519,"Other measuring and controlling device manufacturing",27625,605274,2689190,6864,40116,6869881,5.5,7.1,2005]
[3346,"Mfg & reproducing magnetic & optical media",40388,686178,3706130,17621,105818,6945411,4.32,7.9,2006]
[3346,"Mfg & reproducing magnetic & optical media",45307,736624,3984532,18927,103427,7631062,5.5,7.1,2005]
[33461,"Manufacturing and reproducing magnetic and optical media",40388,686178,3706130,17621,105818,6945411,4.32,7.9,2006]
[33461,"Manufacturing and reproducing magnetic and optical media",45307,736624,3984532,18927,103427,7631062,5.5,7.1,2005]
[334611,"Software reproducing",3138,58541,182493,985,"D",458211,4.32,7.9,2006]
[334611,"Software reproducing",3161,60090,181811,903,4627,465210,5.5,7.1,2005]
[334612,"Audio and video media reproducing",31067,497903,1804564,5768,"D",4141556,4.32,7.9,2006]
[334612,"Audio and video media reproducing",34957,522692,2066824,"D","D",4687222,5.5,7.1,2005]
[334613,"Magnetic and optical recording media manufacturing",6183,129734,1719073,10867,"D",2345645,4.32,7.9,2006]
[334613,"Magnetic and optical recording media manufacturing",7189,153842,1735897,"D","D",2478630,5.5,7.1,2005]
[335,"Electrical equipment, appliance, & component mfg",593153,10109113,63514548,410513,910072,120038476,2.5499999999999998,8.24,2006]
[335,"Electrical equipment, appliance, & component mfg",593030,9880005,57416580,371435,812111,111976942,2.9,6.9,2005]
[3351,"Electric lighting equipment mfg",80147,1273628,5952824,51165,96636,13023583,2.5499999999999998,8.24,2006]
[3351,"Electric lighting equipment mfg",82160,1300033,5783275,48363,86612,12715216,2.9,6.9,2005]
[33511,"Electric lamp bulb and parts manufacturing",13611,338901,962113,"D",30840,2155076,2.5499999999999998,8.24,2006]
[33511,"Electric lamp bulb and parts manufacturing",16026,370656,1013643,22917,29761,2380034,2.9,6.9,2005]
[335110,"Electric lamp bulb and parts manufacturing",13611,338901,962113,"D",30840,2155076,2.5499999999999998,8.24,2006]
[335110,"Electric lamp bulb and parts manufacturing",16026,370656,1013643,22917,29761,2380034,2.9,6.9,2005]
[33512,"Lighting fixture manufacturing",66536,934727,4990711,"D",65795,10868507,2.5499999999999998,8.24,2006]
[33512,"Lighting fixture manufacturing",66134,929378,4769632,25445,56852,10335182,2.9,6.9,2005]
["33512M","Lighting fixture manufacturing",66536,934727,4990711,"D",65795,10868507,2.5499999999999998,8.24,2006]
["33512M","Lighting fixture manufacturing",66134,929378,4769632,25445,56852,10335182,2.9,6.9,2005]
[3352,"Household appliance mfg",115697,2033645,13987108,83949,123576,24162513,2.5499999999999998,8.24,2006]
[3352,"Household appliance mfg",123190,2004496,13916333,78476,110310,24535079,2.9,6.9,2005]
[33521,"Small electrical appliance manufacturing",19322,292411,1991391,8593,19724,3678148,2.5499999999999998,8.24,2006]
[33521,"Small electrical appliance manufacturing",19070,277206,2007698,6878,17661,3804696,2.9,6.9,2005]
["33521M","Small electrical appliance manufacturing",19322,292411,1991391,8593,19724,3678148,2.5499999999999998,8.24,2006]
["33521M","Small electrical appliance manufacturing",19070,277206,2007698,6878,17661,3804696,2.9,6.9,2005]
[33522,"Major appliance manufacturing",96375,1741234,11995717,75356,103852,20484365,2.5499999999999998,8.24,2006]
[33522,"Major appliance manufacturing",104120,1727290,11908635,71598,92649,20730383,2.9,6.9,2005]
[335221,"Household cooking appliance manufacturing",24637,340914,3248925,"D",22227,4864268,2.5499999999999998,8.24,2006]
[335221,"Household cooking appliance manufacturing",28149,384088,3420243,21578,21669,5120854,2.9,6.9,2005]
[335222,"Household refrigerator and home freezer manufacturing",26832,560700,3277931,"D",30791,6171432,2.5499999999999998,8.24,2006]
[335222,"Household refrigerator and home freezer manufacturing",32253,592117,3564923,9848,29091,6144033,2.9,6.9,2005]
[335224,"Household laundry equipment manufacturing",23482,463848,3138774,"D",26609,5129313,2.5499999999999998,8.24,2006]
[335224,"Household laundry equipment manufacturing",22957,393484,2707676,24108,20869,5201974,2.9,6.9,2005]
[335228,"Other major household appliance manufacturing",21424,375772,2330087,"D",24225,4319351,2.5499999999999998,8.24,2006]
[335228,"Other major household appliance manufacturing",20760,357601,2215793,16064,21020,4263522,2.9,6.9,2005]
[3353,"Electrical equipment mfg",193066,3260374,18910949,93182,204237,36915541,2.5499999999999998,8.24,2006]
[3353,"Electrical equipment mfg",188702,3160937,16857301,85185,183174,34079139,2.9,6.9,2005]
[33531,"Electrical equipment manufacturing",193066,3260374,18910949,93182,204237,36915541,2.5499999999999998,8.24,2006]
[33531,"Electrical equipment manufacturing",188702,3160937,16857301,85185,183174,34079139,2.9,6.9,2005]
[335311,"Power, distribution, and specialty transformer manufacturing",31614,520558,2597104,23197,40047,4985402,2.5499999999999998,8.24,2006]
[335311,"Power, distribution, and specialty transformer manufacturing",29748,475578,2167655,22449,33527,4231617,2.9,6.9,2005]
[335312,"Motor and generator manufacturing",68053,1125933,6839870,37043,71886,12334839,2.5499999999999998,8.24,2006]
[335312,"Motor and generator manufacturing",68163,1130499,5993292,33861,66734,11598813,2.9,6.9,2005]
[335313,"Switchgear and switchboard apparatus manufacturing",47812,888000,4859363,22397,53399,9647798,2.5499999999999998,8.24,2006]
[335313,"Switchgear and switchboard apparatus manufacturing",46558,866716,4092732,19217,44022,8627166,2.9,6.9,2005]
[335314,"Relay and industrial control manufacturing",45587,725882,4614612,10545,38906,9947502,2.5499999999999998,8.24,2006]
[335314,"Relay and industrial control manufacturing",44232,688144,4603622,9658,38891,9621542,2.9,6.9,2005]
[3359,"Other electrical equipment & component mfg",204242,3541467,24663667,182218,485624,45936839,2.5499999999999998,8.24,2006]
[3359,"Other electrical equipment & component mfg",198979,3414539,20859671,159412,432015,40647508,2.9,6.9,2005]
[33591,"Battery manufacturing",42188,710559,3900122,39637,120152,7070119,2.5499999999999998,8.24,2006]
[33591,"Battery manufacturing",37796,649516,3381542,32857,97128,6346648,2.9,6.9,2005]
[335911,"Storage battery manufacturing",30242,497024,2320397,33489,94363,3965749,2.5499999999999998,8.24,2006]
[335911,"Storage battery manufacturing",26690,438787,1989236,29084,79148,3597051,2.9,6.9,2005]
[335912,"Primary battery manufacturing",11946,213536,1579725,6148,25789,3104370,2.5499999999999998,8.24,2006]
[335912,"Primary battery manufacturing",11106,210730,1392306,3774,17980,2749597,2.9,6.9,2005]
[33592,"Communication and energy wire and cable manufacturing",51148,922645,10751184,32997,136040,16041365,2.5499999999999998,8.24,2006]
[33592,"Communication and energy wire and cable manufacturing",51488,907089,8413252,31161,121138,13135707,2.9,6.9,2005]
["33592M","Communication and energy wire and cable manufacturing",51148,922645,10751184,32997,136040,16041365,2.5499999999999998,8.24,2006]
["33592M","Communication and energy wire and cable manufacturing",51488,907089,8413252,31161,121138,13135707,2.9,6.9,2005]
[33593,"Wiring device manufacturing",63232,1065295,5422235,37250,111450,12448481,2.5499999999999998,8.24,2006]
[33593,"Wiring device manufacturing",61515,1027597,4895365,24990,102092,11588947,2.9,6.9,2005]
["33593M","Wiring device manufacturing",63232,1065295,5422235,37250,111450,12448481,2.5499999999999998,8.24,2006]
["33593M","Wiring device manufacturing",61515,1027597,4895365,24990,102092,11588947,2.9,6.9,2005]
[33599,"All other electrical equipment and component manufacturing",47675,842968,4590127,72334,117982,10376874,2.5499999999999998,8.24,2006]
[33599,"All other electrical equipment and component manufacturing",48180,830337,4169512,70404,111658,9576206,2.9,6.9,2005]
[335991,"Carbon and graphite product manufacturing",11506,227883,1211047,64498,72372,2494796,2.5499999999999998,8.24,2006]
[335991,"Carbon and graphite product manufacturing",11289,204410,1023634,62262,68780,2098367,2.9,6.9,2005]
[335999,"All other miscellaneous electrical equipment mfg",36169,615085,3379080,7836,45610,7882078,2.5499999999999998,8.24,2006]
[335999,"All other miscellaneous electrical equipment mfg",36891,625927,3145878,8142,42878,7477839,2.9,6.9,2005]
[336,"Transportation equipment mfg",2197172,53695376,441772751,1715121,3100598,698348694,2.72,0.48,2006]
[336,"Transportation equipment mfg",2249462,53900796,438113164,1643956,2885493,690742881,2.9,0.5,2005]
[3361,"Motor vehicle mfg",346765,11868499,196021335,502996,513454,261841736,3.05,-3.38,2006]
[3361,"Motor vehicle mfg",354803,12069112,194435552,550468,514101,261843970,3.2,-2.7,2005]
[33611,"Automobile and light duty motor vehicle manufacturing",300708,10767344,171631855,463510,466410,232452654,3.05,-3.38,2006]
[33611,"Automobile and light duty motor vehicle manufacturing",307860,11019622,172432605,511850,466014,235999531,3.2,-2.7,2005]
[336111,"Automobile manufacturing",126276,4534647,68897989,"D",204636,94229368,3.05,-3.38,2006]
[336111,"Automobile manufacturing",124406,4502483,63817188,177422,188087,88365952,3.2,-2.7,2005]
[336112,"Light truck and utility vehicle manufacturing",174432,6232697,102733866,"D",261774,138223286,3.05,-3.38,2006]
[336112,"Light truck and utility vehicle manufacturing",183454,6517139,108615417,334428,277927,147633579,3.2,-2.7,2005]
[33612,"Heavy duty truck manufacturing",46057,1101155,24389480,39486,47044,29389082,3.05,-3.38,2006]
[33612,"Heavy duty truck manufacturing",46943,1049489,22002948,38618,48087,25844440,3.2,-2.7,2005]
[336120,"Heavy duty truck manufacturing",46057,1101155,24389480,39486,47044,29389082,3.05,-3.38,2006]
[336120,"Heavy duty truck manufacturing",46943,1049489,22002948,38618,48087,25844440,3.2,-2.7,2005]
[3362,"Motor vehicle body & trailer mfg",244385,3976332,22705034,76464,134740,36010854,3.05,-3.38,2006]
[3362,"Motor vehicle body & trailer mfg",234972,3735679,21403421,68269,125005,33536226,3.2,-2.7,2005]
[33621,"Motor vehicle body and trailer manufacturing",244385,3976332,22705034,76464,134740,36010854,3.05,-3.38,2006]
[33621,"Motor vehicle body and trailer manufacturing",234972,3735679,21403421,68269,125005,33536226,3.2,-2.7,2005]
[336211,"Motor vehicle body manufacturing",80506,1293012,6903111,27683,48620,11738649,3.05,-3.38,2006]
[336211,"Motor vehicle body manufacturing",72823,1199069,6490485,23505,47720,10797030,3.2,-2.7,2005]
[336212,"Truck trailer manufacturing",52793,819507,5417521,18508,32839,8276519,3.05,-3.38,2006]
[336212,"Truck trailer manufacturing",50428,770910,4898765,14919,29481,7144931,3.2,-2.7,2005]
[336213,"Motor home manufacturing",30435,532312,3733342,9529,15075,5518741,3.05,-3.38,2006]
[336213,"Motor home manufacturing",33547,552086,4124442,9658,14646,6250836,3.2,-2.7,2005]
[336214,"Travel trailer and camper manufacturing",80650,1331501,6651060,20744,38207,10476945,3.05,-3.38,2006]
[336214,"Travel trailer and camper manufacturing",78174,1213614,5889729,20187,33159,9343429,3.2,-2.7,2005]
[3363,"Motor vehicle parts mfg",932246,20698134,122015849,677453,1485669,202284992,3.05,-3.38,2006]
[3363,"Motor vehicle parts mfg",987767,21552378,125157003,682408,1415465,206105562,3.2,-2.7,2005]
[33631,"Motor vehicle gasoline engine and engine parts manufacturing",113892,2888786,19469084,91484,241641,32834965,3.05,-3.38,2006]
[33631,"Motor vehicle gasoline engine and engine parts manufacturing",120731,3096566,21271073,97175,226050,35087934,3.2,-2.7,2005]
["33631M","Motor vehicle gasoline engine and engine parts manufacturing",113892,2888786,19469084,91484,241641,32834965,3.05,-3.38,2006]
["33631M","Motor vehicle gasoline engine and engine parts manufacturing",120731,3096566,21271073,97175,226050,35087934,3.2,-2.7,2005]
[33632,"Motor vehicle electrical and electronic equipment mfg",106873,2085513,12163106,54086,140165,21530629,3.05,-3.38,2006]
[33632,"Motor vehicle electrical and electronic equipment mfg",116662,2150513,12422295,56225,139745,22359588,3.2,-2.7,2005]
["33632M","Motor vehicle electrical and electronic equipment mfg",106873,2085513,12163106,54086,140165,21530629,3.05,-3.38,2006]
["33632M","Motor vehicle electrical and electronic equipment mfg",116662,2150513,12422295,56225,139745,22359588,3.2,-2.7,2005]
[33633,"Motor vehicle steering and suspension component mfg",56849,1269779,6595306,40412,99148,10489893,3.05,-3.38,2006]
[33633,"Motor vehicle steering and suspension component mfg",59014,1341599,6486497,45618,87089,10789343,3.2,-2.7,2005]
[336330,"Motor vehicle steering and suspension component mfg",56849,1269779,6595306,40412,99148,10489893,3.05,-3.38,2006]
[336330,"Motor vehicle steering and suspension component mfg",59014,1341599,6486497,45618,87089,10789343,3.2,-2.7,2005]
[33634,"Motor vehicle brake system manufacturing",52523,897563,7758160,29943,86034,12781097,3.05,-3.38,2006]
[33634,"Motor vehicle brake system manufacturing",59251,1018321,8239542,31080,103341,13486744,3.2,-2.7,2005]
[336340,"Motor vehicle brake system manufacturing",52523,897563,7758160,29943,86034,12781097,3.05,-3.38,2006]
[336340,"Motor vehicle brake system manufacturing",59251,1018321,8239542,31080,103341,13486744,3.2,-2.7,2005]
[33635,"Motor vehicle transmission and power train parts mfg",138828,4127856,19883775,146515,245545,34973693,3.05,-3.38,2006]
[33635,"Motor vehicle transmission and power train parts mfg",147312,4121431,20844233,151981,241777,34943536,3.2,-2.7,2005]
[336350,"Motor vehicle transmission and power train parts mfg",138828,4127856,19883775,146515,245545,34973693,3.05,-3.38,2006]
[336350,"Motor vehicle transmission and power train parts mfg",147312,4121431,20844233,151981,241777,34943536,3.2,-2.7,2005]
[33636,"Motor vehicle seating and interior trim manufacturing",66708,1223621,14243861,25624,78232,18865515,3.05,-3.38,2006]
[33636,"Motor vehicle seating and interior trim manufacturing",66063,1268654,13699517,21634,68842,18001281,3.2,-2.7,2005]
[336360,"Motor vehicle seating and interior trim manufacturing",66708,1223621,14243861,25624,78232,18865515,3.05,-3.38,2006]
[336360,"Motor vehicle seating and interior trim manufacturing",66063,1268654,13699517,21634,68842,18001281,3.2,-2.7,2005]
[33637,"Motor vehicle metal stamping",161780,4012074,14093006,97213,245851,25978081,3.05,-3.38,2006]
[33637,"Motor vehicle metal stamping",170906,4274659,14758641,95090,224035,26781351,3.2,-2.7,2005]
[336370,"Motor vehicle metal stamping",161780,4012074,14093006,97213,245851,25978081,3.05,-3.38,2006]
[336370,"Motor vehicle metal stamping",170906,4274659,14758641,95090,224035,26781351,3.2,-2.7,2005]
[33639,"Other motor vehicle parts manufacturing",234794,4192941,27809551,192177,349052,44831118,3.05,-3.38,2006]
[33639,"Other motor vehicle parts manufacturing",247827,4280636,27435206,183606,324587,44655784,3.2,-2.7,2005]
[336391,"Motor vehicle air-conditioning manufacturing",24809,548809,3212521,10182,32037,5430333,3.05,-3.38,2006]
[336391,"Motor vehicle air-conditioning manufacturing",26370,568714,3708437,10252,31084,5820293,3.2,-2.7,2005]
[336399,"All other miscellaneous motor vehicle parts manufacturing",209985,3644132,24597030,181995,317015,39400785,3.05,-3.38,2006]
[336399,"All other miscellaneous motor vehicle parts manufacturing",221457,3711922,23726769,173354,293503,38835491,3.2,-2.7,2005]
[3364,"Aerospace product & parts mfg",375167,11410462,69874029,319510,680601,142386774,2.04,8.16,2006]
[3364,"Aerospace product & parts mfg",372896,11201608,68565706,223777,598685,137282374,2,7.4,2005]
[33641,"Aerospace product and parts manufacturing",375167,11410462,69874029,319510,680601,142386774,2.04,8.16,2006]
[33641,"Aerospace product and parts manufacturing",372896,11201608,68565706,223777,598685,137282374,2,7.4,2005]
[336411,"Aircraft manufacturing",153410,5146052,37514297,82501,172592,69100532,2.04,8.16,2006]
[336411,"Aircraft manufacturing",150337,5186558,34973043,60561,134128,64624361,2,7.4,2005]
[336412,"Aircraft engine and engine parts manufacturing",77404,2153604,14818141,"D",163019,28180931,2.04,8.16,2006]
[336412,"Aircraft engine and engine parts manufacturing",79178,2173014,13233132,63802,"D",26337677,2,7.4,2005]
[336413,"Other aircraft parts and auxiliary equipment manufacturing",98219,2571483,10469704,137849,217058,27093376,2.04,8.16,2006]
[336413,"Other aircraft parts and auxiliary equipment manufacturing",96931,2315790,8351316,68992,192414,23099723,2,7.4,2005]
[336414,"Guided missile and space vehicle manufacturing",29986,1117375,5586174,"D",71891,13470635,2.04,8.16,2006]
[336414,"Guided missile and space vehicle manufacturing",28714,1063444,8536218,5443,66250,16028782,2,7.4,2005]
[336415,"Space vehicle propulsion unit and propulsion unit parts mfg",9464,275938,1034464,"D",36993,3357162,2.04,8.16,2006]
[336415,"Space vehicle propulsion unit and propulsion unit parts mfg",10413,275654,871700,13581,"D",3035851,2,7.4,2005]
[336419,"Other guided missile and space vehicle parts manufacturing",6685,146009,451249,6977,19048,1184138,2.04,8.16,2006]
[336419,"Other guided missile and space vehicle parts manufacturing",7322,187147,2600296,11398,"D",4155980,2,7.4,2005]
[3365,"Railroad rolling stock mfg",37085,806847,7779299,35916,44959,12082276,2.72,4.8,2006]
[3365,"Railroad rolling stock mfg",34198,704485,6539346,31183,37337,10465330,2.9,2.5,2005]
[33651,"Railroad rolling stock manufacturing",37085,806847,7779299,35916,44959,12082276,2.72,4.8,2006]
[33651,"Railroad rolling stock manufacturing",34198,704485,6539346,31183,37337,10465330,2.9,2.5,2005]
[336510,"Railroad rolling stock manufacturing",37085,806847,7779299,35916,44959,12082276,2.72,4.8,2006]
[336510,"Railroad rolling stock manufacturing",34198,704485,6539346,31183,37337,10465330,2.9,2.5,2005]
[3366,"Ship & boat building",202047,3827598,12408538,59893,176934,26480784,2.72,4.8,2006]
[3366,"Ship & boat building",207485,3578393,11847980,52081,137926,25230907,2.9,2.5,2005]
[33661,"Ship and boat building",202047,3827598,12408538,59893,176934,26480784,2.72,4.8,2006]
[33661,"Ship and boat building",207485,3578393,11847980,52081,137926,25230907,2.9,2.5,2005]
[336611,"Ship building and repairing",116290,2538499,5764885,34006,127671,15102354,2.72,4.8,2006]
[336611,"Ship building and repairing",117308,2320210,5454636,29641,95397,14190910,2.9,2.5,2005]
[336612,"Boat building",85758,1289099,6643653,25886,49263,11378430,2.72,4.8,2006]
[336612,"Boat building",90177,1258183,6393344,22440,42530,11039997,2.9,2.5,2005]
[3369,"Other transportation equipment mfg",59476,1107505,10968668,42888,64241,17261278,2.72,4.8,2006]
[3369,"Other transportation equipment mfg",57342,1059142,10164155,35771,56974,16278512,2.9,2.5,2005]
[33699,"Other transportation equipment manufacturing",59476,1107505,10968668,42888,64241,17261278,2.72,4.8,2006]
[33699,"Other transportation equipment manufacturing",57342,1059142,10164155,35771,56974,16278512,2.9,2.5,2005]
[336991,"Motorcycle, bicycle, and parts manufacturing",20989,455628,3552383,19867,28786,5674326,2.72,4.8,2006]
[336991,"Motorcycle, bicycle, and parts manufacturing",20488,430272,3155134,16712,24036,5051161,2.9,2.5,2005]
[336992,"Military armored vehicle, tank, and tank component mfg",9805,214570,1407295,8611,11963,2890752,2.72,4.8,2006]
[336992,"Military armored vehicle, tank, and tank component mfg",8587,184708,1151696,4313,9673,2539030,2.9,2.5,2005]
[336999,"All other transportation equipment manufacturing",28682,437306,6008991,14410,23491,8696200,2.72,4.8,2006]
[336999,"All other transportation equipment manufacturing",28267,444163,5857326,14747,23265,8688322,2.9,2.5,2005]
[337,"Furniture & related product mfg",817952,11769869,39651507,250926,581226,86748511,1.88,8.3800000000000008,2006]
[337,"Furniture & related product mfg",844825,11642410,37930423,243257,543986,84181191,1.9,6.9,2005]
[3371,"Household & institutional furniture & kitchen cabinet mfg",548325,7556820,22664187,130006,348542,48914728,1.88,8.3800000000000008,2006]
[3371,"Household & institutional furniture & kitchen cabinet mfg",574311,7570457,22056673,127181,334466,48341310,1.9,6.9,2005]
[33711,"Wood kitchen cabinet and counter top manufacturing",234298,3300143,8257062,52271,135141,20124195,1.88,8.3800000000000008,2006]
[33711,"Wood kitchen cabinet and counter top manufacturing",229937,3141087,7713799,49602,124726,18994858,1.9,6.9,2005]
[337110,"Wood kitchen cabinet and counter top manufacturing",234298,3300143,8257062,52271,135141,20124195,1.88,8.3800000000000008,2006]
[337110,"Wood kitchen cabinet and counter top manufacturing",229937,3141087,7713799,49602,124726,18994858,1.9,6.9,2005]
[33712,"Household and institutional furniture manufacturing",314027,4256677,14407126,77735,213401,28790532,1.88,8.3800000000000008,2006]
[33712,"Household and institutional furniture manufacturing",344374,4429370,14342875,77579,209741,29346452,1.9,6.9,2005]
[337121,"Upholstered household furniture manufacturing",131969,1758858,5568244,20269,56016,10615191,1.88,8.3800000000000008,2006]
[337121,"Upholstered household furniture manufacturing",138847,1814969,5642753,19346,55746,10816796,1.9,6.9,2005]
[337122,"Nonupholstered wood household furniture manufacturing",111984,1466100,4667449,26472,92782,9721532,1.88,8.3800000000000008,2006]
[337122,"Nonupholstered wood household furniture manufacturing",130634,1573028,4613286,27740,95873,10165175,1.9,6.9,2005]
[337127,"Institutional furniture manufacturing",43040,682057,2253822,16618,37305,4869957,1.88,8.3800000000000008,2006]
[337127,"Institutional furniture manufacturing",44259,661985,2232177,16370,33701,4810599,1.9,6.9,2005]
["33712N","Other household nonupholstered furniture",27033,349663,1917610,14375,27298,3583851,1.88,8.3800000000000008,2006]
["33712N","Other household nonupholstered furniture",30635,379387,1854660,14124,24421,3553882,1.9,6.9,2005]
[3372,"Office furniture (including fixtures) mfg",208564,3328352,12202266,107851,198878,27666308,1.88,8.3800000000000008,2006]
[3372,"Office furniture (including fixtures) mfg",206035,3176762,11145461,103756,178496,26031597,1.9,6.9,2005]
[33721,"Office furniture (including fixtures) manufacturing",208564,3328352,12202266,107851,198878,27666308,1.88,8.3800000000000008,2006]
[33721,"Office furniture (including fixtures) manufacturing",206035,3176762,11145461,103756,178496,26031597,1.9,6.9,2005]
[337212,"Custom architectural woodwork and millwork manufacturing",45092,774374,1942063,12875,37743,4728837,1.88,8.3800000000000008,2006]
[337212,"Custom architectural woodwork and millwork manufacturing",44395,726699,1718555,12252,32837,4273333,1.9,6.9,2005]
[337215,"Showcase, partition, shelving, and locker manufacturing",86356,1276498,5102714,56754,83840,9776111,1.88,8.3800000000000008,2006]
[337215,"Showcase, partition, shelving, and locker manufacturing",85864,1249578,4551336,50854,74000,9098144,1.9,6.9,2005]
["33721N","Office furniture manufacturing",77116,1277480,5157489,38221,77294,13161360,1.88,8.3800000000000008,2006]
["33721N","Office furniture manufacturing",75777,1200486,4875571,40651,71659,12660120,1.9,6.9,2005]
[3379,"Other furniture related product mfg",61063,884697,4785054,13069,33807,10167475,1.88,8.3800000000000008,2006]
[3379,"Other furniture related product mfg",64478,895191,4728288,12319,31024,9808284,1.9,6.9,2005]
[33791,"Mattress manufacturing",35306,553584,3300261,8334,17833,7187954,1.88,8.3800000000000008,2006]
[33791,"Mattress manufacturing",36555,547517,3159288,8118,16114,6762307,1.9,6.9,2005]
[337910,"Mattress manufacturing",35306,553584,3300261,8334,17833,7187954,1.88,8.3800000000000008,2006]
[337910,"Mattress manufacturing",36555,547517,3159288,8118,16114,6762307,1.9,6.9,2005]
[33792,"Blind and shade manufacturing",25758,331112,1484792,4734,15974,"R",1.88,8.3800000000000008,2006]
[33792,"Blind and shade manufacturing",27923,347674,1569000,4202,14909,3045977,1.9,6.9,2005]
[337920,"Blind and shade manufacturing",25758,331112,1484792,4734,15974,2979521,1.88,8.3800000000000008,2006]
[337920,"Blind and shade manufacturing",27923,347674,1569000,4202,14909,3045977,1.9,6.9,2005]
[339,"Miscellaneous mfg",833937,13525276,55431657,266420,861423,150348592,3.01,8.4,2006]
[339,"Miscellaneous mfg",842840,13104021,52691159,248237,801161,142769989,3.5,11.4,2005]
[3391,"Medical equipment & supplies mfg",356809,6349930,23527795,99634,395491,78371577,3.01,8.4,2006]
[3391,"Medical equipment & supplies mfg",357628,6118790,22335353,87246,358868,74223156,3.5,11.4,2005]
[33911,"Medical equipment and supplies manufacturing",356809,6349930,23527795,99634,395491,78371577,3.01,8.4,2006]
[33911,"Medical equipment and supplies manufacturing",357628,6118790,22335353,87246,358868,74223156,3.5,11.4,2005]
[339111,"Laboratory apparatus and furniture manufacturing",22857,432262,2147448,9980,24894,5689278,3.01,8.4,2006]
[339111,"Laboratory apparatus and furniture manufacturing",23627,444135,2034574,10780,23863,5342821,3.5,11.4,2005]
[339112,"Surgical and medical instrument manufacturing",108377,1956078,8002545,31817,144461,28883545,3.01,8.4,2006]
[339112,"Surgical and medical instrument manufacturing",107707,1873882,7289783,24586,128175,26483951,3.5,11.4,2005]
[339113,"Surgical appliance and supplies manufacturing",113869,1990706,9383438,44202,141741,29795202,3.01,8.4,2006]
[339113,"Surgical appliance and supplies manufacturing",114950,1888992,8881566,39192,126649,29038577,3.5,11.4,2005]
[339114,"Dental equipment and supplies manufacturing",18410,323367,1428039,3154,17611,4207524,3.01,8.4,2006]
[339114,"Dental equipment and supplies manufacturing",19113,314129,1457074,3201,16647,4001115,3.5,11.4,2005]
[339115,"Ophthalmic goods manufacturing",27401,465784,1614955,5917,44650,5498008,3.01,8.4,2006]
[339115,"Ophthalmic goods manufacturing",27678,474036,1805549,5386,44882,5339072,3.5,11.4,2005]
[339116,"Dental laboratories",65897,1181734,951370,4563,22133,4298021,3.01,8.4,2006]
[339116,"Dental laboratories",64554,1123616,866807,4101,18651,4017619,3.5,11.4,2005]
[3399,"Other miscellaneous mfg",477128,7175346,31903861,166786,465933,71977015,3.01,8.4,2006]
[3399,"Other miscellaneous mfg",485212,6985231,30355806,160991,442293,68546833,3.5,11.4,2005]
[33991,"Jewelry and silverware manufacturing",48764,692098,5299725,11428,31552,9649968,3.01,8.4,2006]
[33991,"Jewelry and silverware manufacturing",51365,703083,5220865,11009,40976,9603101,3.5,11.4,2005]
["33991M","Jewelry and silverware manufacturing",48764,692098,5299725,11428,31552,9649968,3.01,8.4,2006]
["33991M","Jewelry and silverware manufacturing",51365,703083,5220865,11009,40976,9603101,3.5,11.4,2005]
[33992,"Sporting and athletic goods manufacturing",65287,947212,5148183,"S",73503,13188856,3.01,8.4,2006]
[33992,"Sporting and athletic goods manufacturing",69064,967740,5103231,"S",62182,12352409,3.5,11.4,2005]
[339920,"Sporting and athletic goods manufacturing",65287,947212,5148183,"S",73503,13188856,3.01,8.4,2006]
[339920,"Sporting and athletic goods manufacturing",69064,967740,5103231,"S",62182,12352409,3.5,11.4,2005]
[33993,"Doll, toy, and game manufacturing",16606,264453,2143020,10603,26792,3953325,3.01,8.4,2006]
[33993,"Doll, toy, and game manufacturing",17985,265501,1900346,9771,24434,3721741,3.5,11.4,2005]
["33993M","Doll, toy, and game manufacturing",16606,264453,2143020,10603,26792,3953325,3.01,8.4,2006]
["33993M","Doll, toy, and game manufacturing",17985,265501,1900346,9771,24434,3721741,3.5,11.4,2005]
[33994,"Office supplies (except paper) manufacturing",21082,328729,1631679,9309,25616,3722443,3.01,8.4,2006]
[33994,"Office supplies (except paper) manufacturing",22866,332293,1595810,9546,26968,3840760,3.5,11.4,2005]
["33994M","Office supplies (except paper) manufacturing",21082,328729,1631679,9309,25616,3722443,3.01,8.4,2006]
["33994M","Office supplies (except paper) manufacturing",22866,332293,1595810,9546,26968,3840760,3.5,11.4,2005]
[33995,"Sign manufacturing",98438,1539580,5111513,33357,76876,11767842,3.01,8.4,2006]
[33995,"Sign manufacturing",97197,1444138,4671804,31332,66622,10725788,3.5,11.4,2005]
[339950,"Sign manufacturing",98438,1539580,5111513,33357,76876,11767842,3.01,8.4,2006]
[339950,"Sign manufacturing",97197,1444138,4671804,31332,66622,10725788,3.5,11.4,2005]
[33999,"All other miscellaneous manufacturing",226950,3403272,12569741,95964,231594,29694581,3.01,8.4,2006]
[33999,"All other miscellaneous manufacturing",226736,3272476,11863749,93773,221110,28303035,3.5,11.4,2005]
[339991,"Gasket, packing, and sealing device manufacturing",49628,806553,2596281,27450,78941,6485491,3.01,8.4,2006]
[339991,"Gasket, packing, and sealing device manufacturing",49311,786436,2497516,28809,77887,6165990,3.5,11.4,2005]
[339992,"Musical instrument manufacturing",19356,312946,682338,7474,16147,1774871,3.01,8.4,2006]
[339992,"Musical instrument manufacturing",19762,308179,632735,7057,13993,1664340,3.5,11.4,2005]
[339993,"Fastener, button, needle, and pin manufacturing",5593,87129,278835,4542,9384,757426,3.01,8.4,2006]
[339993,"Fastener, button, needle, and pin manufacturing",6299,93483,269809,5325,9635,710168,3.5,11.4,2005]
[339994,"Broom, brush, and mop manufacturing",15205,224453,1087698,4191,15141,2295821,3.01,8.4,2006]
[339994,"Broom, brush, and mop manufacturing",15605,227025,1148368,3567,14916,2364832,3.5,11.4,2005]
[339995,"Burial casket manufacturing",7210,127026,390773,6095,7453,958790,3.01,8.4,2006]
[339995,"Burial casket manufacturing",7859,133757,405231,5019,7541,947707,3.5,11.4,2005]
[339999,"All other miscellaneous manufacturing",129958,1845166,7533816,46213,104527,17422182,3.01,8.4,2006]
[339999,"All other miscellaneous manufacturing",127900,1723596,6910090,43996,97137,16449997,3.5,11.4,2005]

{"sheet":"2007 Econ Census Data","index":151,"n_rows":473,"n_cols":11,"rows_kept":473,"cut":false,"hidden":false,"merged":[]}
["Data in the SourcingApps data base and is from the Annual Manufacturers Survey (codes 31-33), or Economic Census (published in years ending in 2 or 7) and the Quarterly Financial Report (average of four quarters, for the year selected) published by the U. S. Census Bureau."]
["2007 NAICS code","Meaning of 2007 NAICS code","Production workers hours (1,000)","Production workers, nonleased employees wages ($1,000)","Total cost of materials ($1,000)","Cost of purchased fuels ($1,000)","Purchased electricity ($1,000)","Total value of shipments ($1,000)","Fixed Cost as % of Net Sales Billed","QFR 2007 Average Operating Income","Year"]
[311111,"Dog and cat food manufacturing",28321,553034,6917411,118202,78043,14390209,2.06,5.94,2007]
[311119,"Other animal food manufacturing",36406,614801,17968210,175859,180414,24220527,2.06,5.94,2007]
[311211,"Flour milling",17356,302184,7179622,49151,149819,9733865,2.06,5.94,2007]
[311212,"Rice milling",6541,108120,2156045,26153,34463,2827302,2.06,5.94,2007]
[311213,"Malt manufacturing",1395,31779,591109,48977,23617,786571,2.06,5.94,2007]
[311221,"Wet corn milling",11760,307938,6908766,756797,344807,12117145,2.06,5.94,2007]
[311222,"Soybean processing",9617,197931,15312922,283164,110125,19367001,2.06,5.94,2007]
[311223,"Other oilseed processing",2103,31701,1078545,22612,21659,1506405,2.06,5.94,2007]
[311225,"Fats and oils refining and blending",13951,260380,10418695,112199,78713,12831703,2.06,5.94,2007]
[311230,"Breakfast cereal manufacturing",22959,583104,3048364,84736,77305,9684167,2.06,5.94,2007]
[311311,"Sugarcane mills",7198,149524,1082785,"D",16523,1872157,2.06,5.94,2007]
[311312,"Cane sugar refining",4475,77885,1726413,"D",14357,2304141,2.06,5.94,2007]
[311313,"Beet sugar manufacturing",11757,208756,1948943,175614,34416,3264943,2.06,5.94,2007]
[311320,"Chocolate and confectionery manufacturing from cacao beans",11543,255169,2437989,19501,32748,4383548,2.06,5.94,2007]
[311330,"Confectionery manufacturing from purchased chocolate",43968,781035,3581519,52556,81424,10030008,2.06,5.94,2007]
[311340,"Nonchocolate confectionery manufacturing",27783,486017,2257972,29562,42118,5590690,2.06,5.94,2007]
[311411,"Frozen fruit, juice, and vegetable manufacturing",61735,848144,5160434,189730,151744,10618793,2.06,5.94,2007]
[311412,"Frozen specialty food manufacturing",87906,1272061,7678876,83089,174559,14191386,2.06,5.94,2007]
[311421,"Fruit and vegetable canning",95009,1452565,11838787,284945,177358,21358654,2.06,5.94,2007]
[311422,"Specialty canning",24133,452732,4228531,96306,51642,9213117,2.06,5.94,2007]
[311423,"Dried and dehydrated food manufacturing",24051,359965,3055410,109786,51934,5503984,2.06,5.94,2007]
[311511,"Fluid milk manufacturing",77934,1604870,22714500,220466,265676,32976504,2.06,5.94,2007]
[311512,"Creamery butter manufacturing",2784,50345,1854830,7711,7321,2176349,2.06,5.94,2007]
[311513,"Cheese manufacturing",71033,1242011,27125465,233291,216691,33112152,2.06,5.94,2007]
[311514,"Dry, condensed, and evaporated dairy product manufacturing",23835,523799,8293141,188003,110588,13199897,2.06,5.94,2007]
[311520,"Ice cream and frozen dessert manufacturing",28206,541438,4029791,26357,93125,8853126,2.06,5.94,2007]
[311611,"Animal (except poultry) slaughtering",275516,3676518,57849068,298071,301664,67780226,2.06,5.94,2007]
[311612,"Meat processed from carcasses",185619,2564589,24319736,201776,317488,38392941,2.06,5.94,2007]
[311613,"Rendering and meat byproduct processing",11360,184523,1452802,224658,65806,3563862,2.06,5.94,2007]
[311615,"Poultry processing",431317,5054130,24632754,295113,461843,49827709,2.06,5.94,2007]
[311711,"Seafood canning",4825,54666,618059,6493,5119,978004,2.06,5.94,2007]
[311712,"Fresh and frozen seafood processing",62194,766065,5872614,123144,75994,10456412,2.06,5.94,2007]
[311811,"Retail bakeries",46212,585289,1054069,16448,41983,3378034,2.06,5.94,2007]
[311812,"Commercial bakeries",153327,2734692,8288945,214154,254440,25642661,2.06,5.94,2007]
[311813,"Frozen cakes, pies, and other pastries manufacturing",32193,431722,2565964,21197,54657,4844779,2.06,5.94,2007]
[311821,"Cookie and cracker manufacturing",48267,829070,3711679,72259,73698,10755858,2.06,5.94,2007]
[311822,"Flour mixes and dough manufacturing from purchased flour",26747,406762,3317529,22462,60164,6394137,2.06,5.94,2007]
[311823,"Dry pasta manufacturing",5929,103256,874238,11179,18605,1595608,2.06,5.94,2007]
[311830,"Tortilla manufacturing",21744,312784,1076895,34248,30299,2584054,2.06,5.94,2007]
[311911,"Roasted nuts and peanut butter manufacturing",22570,326552,4590933,26772,39617,6795044,2.06,5.94,2007]
[311919,"Other snack food manufacturing",34045,583676,4422644,171204,75051,17191516,2.06,5.94,2007]
[311920,"Coffee and tea manufacturing",16258,314611,4409304,48046,48255,7944571,2.06,5.94,2007]
[311930,"Flavoring syrup and concentrate manufacturing",8711,172485,1890527,22294,20036,9054377,2.06,5.94,2007]
[311941,"Mayonnaise, dressing, and other prepared sauce manufacturing",22542,380243,3742950,23063,42514,6818167,2.06,5.94,2007]
[311942,"Spice and extract manufacturing",21515,389885,3672027,25846,47560,7523596,2.06,5.94,2007]
[311991,"Perishable prepared food manufacturing",51774,688068,4560025,37584,84123,8548383,2.06,5.94,2007]
[311999,"All other miscellaneous food manufacturing",50926,782143,5916981,92986,102569,10855791,2.06,5.94,2007]
[312111,"Soft drink manufacturing",63923,1209780,25232886,189225,216094,41675671,3.04,17.260000000000002,2007]
[312112,"Bottled water manufacturing",13086,257508,1719812,14225,86539,4483594,3.04,17.260000000000002,2007]
[312113,"Ice manufacturing",4452,55648,165607,1777,50680,842757,3.04,17.260000000000002,2007]
[312120,"Breweries",28473,804266,7795945,184165,159677,21193061,3.04,17.260000000000002,2007]
[312130,"Wineries",27080,531476,4927700,38417,86596,12266106,3.04,17.260000000000002,2007]
[312140,"Distilleries",10158,199756,2586137,32028,17584,7077894,3.04,17.260000000000002,2007]
[312210,"Tobacco stemming and redrying",3474,26458,679295,4531,4665,1030963,3.04,17.260000000000002,2007]
[312221,"Cigarette manufacturing",14590,480030,4045732,"D","D",34766372,3.04,17.260000000000002,2007]
[312229,"Other tobacco product manufacturing",9125,182032,805849,"D","D",4288764,3.04,17.260000000000002,2007]
[313111,"Yarn spinning mills",46288,579004,3185785,27822,226190,5011244,3.5,4.67,2007]
[313112,"Yarn texturizing, throwing, and twisting mills",29288,378756,2848504,29437,107526,4253858,3.5,4.67,2007]
[313113,"Thread mills",2250,"(r)24,956",125786,2340,4330,210861,3.5,4.67,2007]
[313210,"Broadwoven fabric mills",53063,767142,3522170,54527,173656,6876717,3.5,4.67,2007]
[313221,"Narrow fabric mills",13078,165460,523450,13681,19030,1104774,3.5,4.67,2007]
[313222,"Schiffli machine embroidery",1847,20507,23480,422,677,90249,3.5,4.67,2007]
[313230,"Nonwoven fabric mills",29958,655035,3519239,90258,154342,7308210,3.5,4.67,2007]
[313241,"Weft knit fabric mills",8653,108432,531279,22267,12989,871132,3.5,4.67,2007]
[313249,"Other knit fabric and lace mills",9728,125999,605819,19562,18096,1066773,3.5,4.67,2007]
[313311,"Broadwoven fabric finishing mills",27711,384348,2038182,122248,58037,3869481,3.5,4.67,2007]
[313312,"Textile and fabric finishing (except broadwoven fabric) mills",26106,331833,1388384,52648,47240,2699677,3.5,4.67,2007]
[313320,"Fabric coating mills",12867,217937,1544008,33008,26840,2453244,3.5,4.67,2007]
[314110,"Carpet and rug mills",67487,848869,7148810,128971,91395,13126146,3.5,4.67,2007]
[314121,"Curtain and drapery mills",17540,187337,475464,3826,5315,1079877,3.5,4.67,2007]
[314129,"Other household textile product mills",36718,397263,2734000,17711,24155,4521421,3.5,4.67,2007]
[314911,"Textile bag mills",8494,91455,336193,1487,3589,660848,3.5,4.67,2007]
[314912,"Canvas and related product mills",26893,344187,1166028,7200,11959,2674307,3.5,4.67,2007]
[314991,"Rope, cordage, and twine mills",5872,81631,439487,2528,8645,841946,3.5,4.67,2007]
[314992,"Tire cord and tire fabric mills",5977,104318,724798,18402,37690,1069765,3.5,4.67,2007]
[314999,"All other miscellaneous textile product mills",56588,673852,1981425,21655,38660,4710661,3.5,4.67,2007]
[315111,"Sheer hosiery mills",7972,88479,330022,6543,13852,620089,2.08,10.65,2007]
[315119,"Other hosiery and sock mills",18558,221016,714058,10566,21211,1397579,2.08,10.65,2007]
[315191,"Outerwear knitting mills",8525,89858,494916,5006,8025,901244,2.08,10.65,2007]
[315192,"Underwear and nightwear knitting mills",1283,15684,177256,6967,3977,294518,2.08,10.65,2007]
[315211,"Men's and boys' cut and sew apparel contractors",26570,252300,284723,3948,6696,995414,2.08,10.65,2007]
[315212,"Women's, girls', and infants' cut and sew apparel contractors",67330,631753,1812037,17583,21273,4185671,2.08,10.65,2007]
[315221,"Men's and boys' underwear and nightwear mfg.",769,7475,25484,44,172,56914,2.08,10.65,2007]
[315222,"Men's and boys' suit, coat, and overcoat mfg.",10555,113334,405256,2320,4444,896827,2.08,10.65,2007]
[315223,"Men's and boys' shirt, except work shirt, mfg.",9368,106389,458859,812,2442,754092,2.08,10.65,2007]
[315224,"Men's and boys' pants, except work pants, mfg.",4140,33645,149644,1278,1486,351730,2.08,10.65,2007]
[315225,"Men's and boys' cut and sew work clothing manufacturing",10858,112291,411876,2394,5848,795506,2.08,10.65,2007]
[315228,"Men's and boys' cut and sew other outerwear manufacturing",5330,52384,215443,747,2251,406421,2.08,10.65,2007]
[315231,"Women's and girls'  lingerie and nightwear mfg.",2286,29587,314408,756,1582,628582,2.08,10.65,2007]
[315232,"Women's and girls' cut and sew blouse and shirt manufacturing",8575,114387,1997576,3657,4782,3239312,2.08,10.65,2007]
[315233,"Women's and girls' cut and sew dress manufacturing",9773,138418,1331469,3776,8311,2241498,2.08,10.65,2007]
[315234,"Women's and girls' suit, coat, and skirt mfg.",2216,27984,266195,511,1175,490587,2.08,10.65,2007]
[315239,"Women's and girls' cut and sew other outerwear manufacturing",10911,134145,1701502,6255,9640,3251871,2.08,10.65,2007]
[315291,"Infants' cut and sew apparel manufacturing",330,3238,17743,69,131,40480,2.08,10.65,2007]
[315292,"Fur and leather apparel manufacturing",993,13731,57549,309,484,108414,2.08,10.65,2007]
[315299,"All other cut and sew apparel manufacturing",14358,154823,525671,2618,5782,1191106,2.08,10.65,2007]
[315991,"Hat, cap, and millinery manufacturing",5954,75173,162145,1146,2874,359275,2.08,10.65,2007]
[315992,"Glove and mitten manufacturing",2285,21122,66915,209,691,124983,2.08,10.65,2007]
[315993,"Men's and boys' neckwear manufacturing",2494,28302,153780,146,795,299857,2.08,10.65,2007]
[315999,"Other apparel accessories and other apparel manufacturing",7423,78865,351536,1280,3492,667662,2.08,10.65,2007]
[316110,"Leather and hide tanning and finishing",6830,111531,1139398,14801,16793,1530816,2.08,10.65,2007]
[316211,"Rubber and plastics footwear manufacturing",3422,54075,223493,1287,3734,483865,2.08,10.65,2007]
[316213,"Men's footwear (except athletic) manufacturing",9280,112549,431996,1182,3978,799200,2.08,10.65,2007]
[316214,"Women's footwear (except athletic) manufacturing",5684,65660,149539,710,2104,352699,2.08,10.65,2007]
[316219,"Other footwear manufacturing",1364,16522,30932,292,627,77375,2.08,10.65,2007]
[316991,"Luggage manufacturing",6863,71982,197740,823,2328,527629,2.08,10.65,2007]
[316992,"Women's handbag and purse manufacturing",2353,28456,255517,326,1072,726850,2.08,10.65,2007]
[316993,"Other personal leather good mfg.",3064,37396,193212,505,1309,460179,2.08,10.65,2007]
[316999,"All other leather good and allied product manufacturing",11102,112725,327107,2103,4305,739665,2.08,10.65,2007]
[321113,"Sawmills",158095,2452474,14716399,235766,421269,22040005,3.57,3.76,2007]
[321114,"Wood preservation",23231,325429,4359265,41291,37180,5826364,3.57,3.76,2007]
[321211,"Hardwood veneer and plywood manufacturing",32256,429977,2205161,21840,41905,3425676,3.57,3.76,2007]
[321212,"Softwood veneer and plywood manufacturing",36446,607513,2838251,46638,110068,4181585,3.57,3.76,2007]
[321213,"Engineered wood member (except truss) manufacturing",12392,214053,1454945,13142,30401,2374559,3.57,3.76,2007]
[321214,"Truss manufacturing",59588,753516,2709494,15077,27903,5380541,3.57,3.76,2007]
[321219,"Reconstituted wood product manufacturing",34615,625963,4445566,249498,328965,6896468,3.57,3.76,2007]
[321911,"Wood window and door manufacturing",116209,1856233,7453938,48423,114176,14398176,3.57,3.76,2007]
[321912,"Cut stock, resawing lumber, and planing",51196,710963,4069811,38323,74977,6467021,3.57,3.76,2007]
[321918,"Other millwork (including flooring)",68475,967127,4060826,24476,75849,7435665,3.57,3.76,2007]
[321920,"Wood container and pallet manufacturing",96721,1082430,3790258,50975,58383,7235876,3.57,3.76,2007]
[321991,"Manufactured home (mobile home) manufacturing",60725,853156,3454812,10944,24300,6052691,3.57,3.76,2007]
[321992,"Prefabricated wood building manufacturing",32835,473017,2169217,10340,17294,4209804,3.57,3.76,2007]
[321999,"All other miscellaneous wood product manufacturing",54290,734201,2954048,36569,83027,6077231,3.57,3.76,2007]
[322110,"Pulp mills",12899,385759,2784919,340679,102428,5027395,4.8,2.4700000000000002,2007]
[322121,"Paper (except newsprint) mills",128196,3452306,21447078,2427484,1240684,46291440,4.8,2.4700000000000002,2007]
[322122,"Newsprint mills",8418,257866,1962796,174690,379058,3440645,4.8,2.4700000000000002,2007]
[322130,"Paperboard mills",63840,1799084,13018103,1898237,1070943,25354745,4.8,2.4700000000000002,2007]
[322211,"Corrugated and solid fiber box manufacturing",158675,2817454,21560380,264535,280058,33071335,4.8,2.4700000000000002,2007]
[322212,"Folding paperboard box manufacturing",71572,1270382,6300932,49648,119738,11315208,4.8,2.4700000000000002,2007]
[322213,"Setup paperboard box manufacturing",5457,77170,286502,3561,6219,533245,4.8,2.4700000000000002,2007]
[322214,"Fiber can, tube, drum, and similar products manufacturing",13209,235575,1383699,8690,18502,2327229,4.8,2.4700000000000002,2007]
[322215,"Nonfolding sanitary food container manufacturing",20223,321950,1983835,9415,48109,3653173,4.8,2.4700000000000002,2007]
[322221,"Coated and laminated packaging paper mfg.",7855,142282,917705,7804,18987,1493624,4.8,2.4700000000000002,2007]
[322222,"Coated and laminated paper manufacturing",49052,987114,7293206,176777,159374,14260011,4.8,2.4700000000000002,2007]
[322223,"Coated paper bag and pouch manufacturing",5270,90001,433563,3434,6738,784805,4.8,2.4700000000000002,2007]
[322224,"Uncoated paper and multiwall bag manufacturing",17212,267218,1359344,5852,18230,2369062,4.8,2.4700000000000002,2007]
[322225,"Flexible packaging foil manufacturing",7774,153220,1027766,17403,20095,1739144,4.8,2.4700000000000002,2007]
[322226,"Surface-coated paperboard manufacturing",4316,74012,741911,3661,8841,1090702,4.8,2.4700000000000002,2007]
[322231,"Die-cut paper and paperboard office supplies manufacturing",14157,201833,2119373,4709,15887,3506672,4.8,2.4700000000000002,2007]
[322232,"Envelope manufacturing",29249,495242,1989762,5353,58745,3658709,4.8,2.4700000000000002,2007]
[322233,"Stationery, tablet, and related product manufacturing",6473,97801,380586,1335,5008,1076626,4.8,2.4700000000000002,2007]
[322291,"Sanitary paper product manufacturing",30024,612736,4804118,63913,124523,10488406,4.8,2.4700000000000002,2007]
[322299,"All other converted paper product manufacturing",26861,450812,2233903,43800,77490,4536069,4.8,2.4700000000000002,2007]
[323110,"Commercial lithographic printing",443109,8547917,21219594,216229,660158,53451955,4.25,6.14,2007]
[323111,"Commercial gravure printing",30047,576872,1980540,70592,80422,4074069,4.25,6.14,2007]
[323112,"Commercial flexographic printing",46518,865429,3384060,20583,58225,7303050,4.25,6.14,2007]
[323113,"Commercial screen printing",86852,1193529,3436962,29577,63685,8627726,4.25,6.14,2007]
[323114,"Quick printing",36999,590083,979568,9541,14786,3245993,4.25,6.14,2007]
[323115,"Digital printing",50668,845337,1916956,18521,43132,6437410,4.25,6.14,2007]
[323116,"Manifold business forms printing",32184,549175,2127227,8017,37523,5419597,4.25,6.14,2007]
[323117,"Books printing",49143,877922,1836310,27862,67701,5153001,4.25,6.14,2007]
[323118,"Blankbook, looseleaf binders, and devices manufacturing",11545,156624,658768,2536,9569,1632264,4.25,6.14,2007]
[323119,"Other commercial printing",22966,393669,849755,5139,22435,2483984,4.25,6.14,2007]
[323121,"Tradebinding and related work",38370,541330,562273,6680,26361,2205616,4.25,6.14,2007]
[323122,"Prepress services",29393,718538,631248,6678,18228,3181870,4.25,6.14,2007]
[324110,"Petroleum refineries",93581,3529051,470945954,8231641,2745898,571313475,2.0299999999999998,5.83,2007]
[324121,"Asphalt paving mixture and block manufacturing",23558,510764,7465727,505373,132908,12301206,2.0299999999999998,5.83,2007]
[324122,"Asphalt shingle and coating materials manufacturing",20374,458468,5228774,111587,73067,8579921,2.0299999999999998,5.83,2007]
[324191,"Petroleum lubricating oil and grease manufacturing",11190,256817,5869727,60791,44911,10846559,2.0299999999999998,5.83,2007]
[324199,"All other petroleum and coal products manufacturing",5130,117181,1983646,49214,35999,2963179,2.0299999999999998,5.83,2007]
[325110,"Petrochemical manufacturing",12723,510131,47174890,2633189,536101,77661772,4.16,4.82,2007]
[325120,"Industrial gas manufacturing",15127,417252,3959320,151213,986143,9543443,4.16,4.82,2007]
[325131,"Inorganic dye and pigment manufacturing",10555,275626,2590933,195146,148108,5689517,4.16,4.82,2007]
[325132,"Synthetic organic dye and pigment manufacturing",6426,162675,1265377,41421,38620,2381398,4.16,4.82,2007]
[325181,"Alkalies and chlorine manufacturing",8892,313578,3146326,976068,587412,6370780,4.16,4.82,2007]
[325182,"Carbon black manufacturing",2636,75755,986965,68970,38441,1487557,4.16,4.82,2007]
[325188,"All other basic inorganic chemical manufacturing",49950,1238559,9216500,682380,1142877,22828592,4.16,4.82,2007]
[325191,"Gum and wood chemical manufacturing",2730,59855,621736,31505,15515,1266090,4.16,4.82,2007]
[325192,"Cyclic crude and intermediate manufacturing",4201,161719,2347442,127972,155487,5947517,4.16,4.82,2007]
[325193,"Ethyl alcohol manufacturing",11465,246309,9441386,986572,184046,14005115,4.16,4.82,2007]
[325199,"All other basic organic chemical manufacturing",87722,2756831,60744780,3790853,1136725,81997462,4.16,4.82,2007]
[325211,"Plastics material and resin manufacturing",99003,2494572,57571170,2001857,1641794,85231585,4.16,4.82,2007]
[325212,"Synthetic rubber manufacturing",13249,381018,5269147,280866,120774,8253660,4.16,4.82,2007]
[325221,"Cellulosic organic fiber manufacturing",2109,45424,439303,49713,15612,925820,4.16,4.82,2007]
[325222,"Noncellulosic organic fiber manufacturing",26149,470844,4706775,148897,177081,6963293,4.16,4.82,2007]
[325311,"Nitrogenous fertilizer manufacturing",5444,165212,3444858,450673,191283,5524151,2.95,12.96,2007]
[325312,"Phosphatic fertilizer manufacturing",10015,288837,4638329,65366,98059,6476832,2.95,12.96,2007]
[325314,"Fertilizer (mixing only) manufacturing",10802,176331,2402856,27424,28653,4152168,2.95,12.96,2007]
[325320,"Pesticide and other agricultural chemical manufacturing",13213,271686,5089358,78762,70729,13408412,2.95,12.96,2007]
[325411,"Medicinal and botanical manufacturing",24538,585949,4496971,124894,117258,11104510,3.63,17.079999999999998,2007]
[325412,"Pharmaceutical preparation manufacturing",155892,3907357,31612244,317346,469008,140539685,3.63,17.079999999999998,2007]
[325413,"In-vitro diagnostic substance manufacturing",21428,560933,4215868,17671,60244,13001194,3.63,17.079999999999998,2007]
[325414,"Biological product (except diagnostic) manufacturing",38943,1030900,6750860,126267,98578,23888813,3.64,11.91,2007]
[325510,"Paint and coating manufacturing",47803,982431,12038826,70499,109471,23574988,2.95,12.96,2007]
[325520,"Adhesive manufacturing",28521,548789,5291277,58018,74847,9932941,2.95,12.96,2007]
[325611,"Soap and other detergent manufacturing",32160,744381,9404648,66069,88578,28831646,2.95,12.96,2007]
[325612,"Polish and other sanitation good manufacturing",18907,358344,4236131,24966,40683,10842991,2.95,12.96,2007]
[325613,"Surface active agent manufacturing",7602,213545,6594529,198617,46666,8740516,2.95,12.96,2007]
[325620,"Toilet preparation manufacturing",66786,1293078,25385388,73337,115167,48824244,2.95,12.96,2007]
[325910,"Printing ink manufacturing",14453,309006,2549125,11039,25950,4990379,2.95,12.96,2007]
[325920,"Explosives manufacturing",8804,172850,838828,16544,12318,1736670,2.95,12.96,2007]
[325991,"Custom compounding of purchased resins",27431,520672,5693500,45676,149418,8766816,2.95,12.96,2007]
[325992,"Photographic film, paper, plate, and chemical manufacturing",22098,553212,5151286,105167,101874,12408673,2.95,12.96,2007]
[325998,"Other miscellaneous chemical product mfg.",44356,948976,8678677,205819,129140,17128693,2.95,12.96,2007]
[326111,"Plastics bag and pouch manufacturing",54204,875554,5446315,29107,175340,9632039,3.51,6.44,2007]
[326112,"Plastics packaging film and sheet mfg.",40919,796698,5133476,56333,158597,9562913,3.51,6.44,2007]
[326113,"Nonpackaging plastics film and sheet mfg.",61676,1154933,9187536,143645,340541,15446028,3.51,6.44,2007]
[326121,"Unlaminated plastics profile shape manufacturing",30434,509995,2213750,34494,77593,4998104,3.51,6.44,2007]
[326122,"Plastics pipe and pipe fitting manufacturing",36992,584598,5404108,17022,171370,8909718,3.51,6.44,2007]
[326130,"Laminated plastics plate, sheet and shapes",20540,362070,1701147,39845,51925,3686527,3.51,6.44,2007]
[326140,"Polystyrene foam product manufacturing",48663,726720,4594739,111020,151714,8112338,3.51,6.44,2007]
[326150,"Urethane and other foam product manufacturing",51302,750831,5697253,45702,81846,9816061,3.51,6.44,2007]
[326160,"Plastics bottle manufacturing",63738,1021524,6673048,21408,464265,11833943,3.51,6.44,2007]
[326191,"Plastics plumbing fixture manufacturing",39837,517636,1769985,15266,34690,4081723,3.51,6.44,2007]
[326192,"Resilient floor covering manufacturing",7257,145657,794481,16504,29989,1687713,3.51,6.44,2007]
[326199,"All other plastics product manufacturing",656845,9607077,41042322,278143,1467195,84129658,3.51,6.44,2007]
[326211,"Tire manufacturing (except retreading)",84889,2234060,10213141,188143,228815,16896094,3.51,6.44,2007]
[326212,"Tire retreading",11128,164294,1039865,10007,18198,1640483,3.51,6.44,2007]
[326220,"Rubber and plastics hoses and belting manufacturing",32163,509813,2295023,33481,52617,4608205,3.51,6.44,2007]
[326291,"Rubber product manufacturing for mechanical use",57718,892025,3662097,42119,98809,7606766,3.51,6.44,2007]
[326299,"All other rubber product manufacturing",52653,848238,5150954,56871,102202,8882852,3.51,6.44,2007]
[327111,"Vitreous china plumbing fixture manufacturing",8362,134423,178878,27419,10399,867553,5.3,8.6199999999999992,2007]
[327112,"Vitreous china and earthenware articles mfg.",10516,149734,206687,21062,12013,783594,5.3,8.6199999999999992,2007]
[327113,"Porcelain electrical supply manufacturing",7139,117187,291030,13355,16362,737282,5.3,8.6199999999999992,2007]
[327121,"Brick and structural clay tile manufacturing",20043,324046,653716,257633,62322,2043001,5.3,8.6199999999999992,2007]
[327122,"Ceramic wall and floor tile manufacturing",9667,152887,389465,46017,22328,1126093,5.3,8.6199999999999992,2007]
[327123,"Other structural clay product manufacturing",2695,42994,73588,18284,5499,243009,5.3,8.6199999999999992,2007]
[327124,"Clay refractory manufacturing",6572,113906,514933,27565,12138,1062133,5.3,8.6199999999999992,2007]
[327125,"Nonclay refractory manufacturing",8383,174197,606076,48366,27282,1372439,5.3,8.6199999999999992,2007]
[327211,"Flat glass manufacturing",18499,367913,1672713,444652,128500,3420860,5.3,8.6199999999999992,2007]
[327212,"Other pressed and blown glass and glassware manufacturing",33565,678849,1761682,283478,162613,4316979,5.3,8.6199999999999992,2007]
[327213,"Glass container manufacturing",26683,680072,2041061,453175,216793,4899025,5.3,8.6199999999999992,2007]
[327215,"Glass product manufacturing made of purchased glass",84025,1298311,4948375,55019,204964,10782324,5.3,8.6199999999999992,2007]
[327310,"Cement manufacturing",28752,770723,4092623,870718,806820,10619945,5.3,8.6199999999999992,2007]
[327320,"Ready-mix concrete manufacturing",182573,3411990,17331004,351891,170818,34662853,5.3,8.6199999999999992,2007]
[327331,"Concrete block and brick manufacturing",32075,528495,2663174,57010,53431,6143623,5.3,8.6199999999999992,2007]
[327332,"Concrete pipe manufacturing",21195,346308,1206961,18440,22634,3388141,5.3,8.6199999999999992,2007]
[327390,"Other concrete product manufacturing",109056,1682794,4578248,78025,82541,12184732,5.3,8.6199999999999992,2007]
[327410,"Lime manufacturing",7794,183267,849739,341148,86205,1875567,5.3,8.6199999999999992,2007]
[327420,"Gypsum product manufacturing",20772,448708,3052160,552056,165919,5724920,5.3,8.6199999999999992,2007]
[327910,"Abrasive product manufacturing",20145,336555,1523812,32365,50897,4551418,5.3,8.6199999999999992,2007]
[327991,"Cut stone and stone product manufacturing",48690,782709,1484457,28152,32807,4107655,5.3,8.6199999999999992,2007]
[327992,"Ground or treated mineral and earth manufacturing",9763,212473,1177998,144174,87721,2826839,5.3,8.6199999999999992,2007]
[327993,"Mineral wool manufacturing",31607,676550,2459348,268481,230721,6147076,5.3,8.6199999999999992,2007]
[327999,"Miscellaneous nonmetallic mineral products",15299,267135,1595530,59433,36434,3486726,5.3,8.6199999999999992,2007]
[331111,"Iron and steel mills",198493,5717771,65877491,3773718,2652501,102186442,2.2799999999999998,8.8800000000000008,2007]
[331112,"Electrometallurgical ferroalloy product manufacturing",3140,78490,736632,23737,117269,1319541,2.2799999999999998,8.8800000000000008,2007]
[331210,"Iron and steel pipe and tube manufacturing from purchased steel",27802,558596,5269772,97585,120981,8637314,2.2799999999999998,8.8800000000000008,2007]
[331221,"Rolled steel shape manufacturing",15521,338806,5016233,50435,69058,6564479,2.2799999999999998,8.8800000000000008,2007]
[331222,"Steel wire drawing",25196,446119,3224979,62979,91966,5225192,2.2799999999999998,8.8800000000000008,2007]
[331311,"Alumina refining",2587,66680,820827,227618,"D",1337014,3.3,7.64,2007]
[331312,"Primary aluminum production",16311,389373,4327432,87706,1225569,6657285,3.3,7.64,2007]
[331314,"Secondary smelting and alloying of aluminum",14851,298330,6661376,236938,271688,8718257,3.3,7.64,2007]
[331315,"Aluminum sheet, plate, and foil manufacturing",28897,712466,13454495,391958,184121,18660166,3.3,7.64,2007]
[331316,"Aluminum extruded product manufacturing",38466,643665,5279910,103077,100836,7586384,3.3,7.64,2007]
[331319,"Other aluminum rolling and drawing",3991,80696,759737,6627,"D",1079940,3.3,7.64,2007]
[331411,"Primary smelting and refining of copper",3244,82003,"D","D",21684,8247767,3.3,7.64,2007]
[331419,"Primary nonferrous metal, except Cu and Al",11079,237636,"D","D",248916,5987185,3.3,7.64,2007]
[331421,"Copper rolling, drawing, and extruding",23406,480855,14170634,83821,124764,16408751,3.3,7.64,2007]
[331422,"Copper wire (except mechanical) drawing",18047,310115,6123375,28541,71768,7952205,3.3,7.64,2007]
[331423,"Secondary smelting, refining, and alloying of copper",1464,29232,885461,7490,7977,1107934,3.3,7.64,2007]
[331491,"Nonferrous metal, except Cu and Al, shaping",27618,635008,6274112,86578,134161,9796898,3.3,7.64,2007]
[331492,"Secondary processing of other nonferrous",17715,382361,5207208,86899,73928,7923433,3.3,7.64,2007]
[331511,"Iron foundries",89285,1888356,5902388,244660,422791,11795934,2.84,10.71,2007]
[331512,"Steel investment foundries",30073,514596,1097013,48878,66658,3449546,2.84,10.71,2007]
[331513,"Steel foundries (except investment)",31097,575858,2484777,66330,174098,4797107,2.84,10.71,2007]
[331521,"Aluminum die-casting foundries",47876,926158,3263001,135670,117595,6215263,2.84,10.71,2007]
[331522,"Nonferrous (except aluminum) die-casting foundries",11533,196934,711498,12423,22279,1438667,2.84,10.71,2007]
[331524,"Aluminum foundries (except die-casting)",35696,604376,1598966,78298,62511,3883630,2.84,10.71,2007]
[331525,"Copper foundries (except die-casting)",11357,178816,685977,10375,26744,1477365,2.84,10.71,2007]
[331528,"Other nonferrous foundries (except die-casting)",8552,157237,481191,7901,18841,1124276,2.84,10.71,2007]
[332111,"Iron and steel forging",38724,775128,4336034,153962,145146,7827425,2.5099999999999998,9.2799999999999994,2007]
[332112,"Nonferrous forging",16732,272149,1509074,53916,38151,2974816,2.5099999999999998,9.2799999999999994,2007]
[332114,"Custom roll forming",31919,590632,5244893,73907,47865,8215381,2.5099999999999998,9.2799999999999994,2007]
[332115,"Crown and closure manufacturing",5163,100759,646782,9520,11574,1072512,2.5099999999999998,9.2799999999999994,2007]
[332116,"Metal stamping",92141,1571830,5384223,52321,111380,11238874,2.5099999999999998,9.2799999999999994,2007]
[332117,"Powder metallurgy part manufacturing",14963,236327,877924,17728,38023,1848298,2.5099999999999998,9.2799999999999994,2007]
[332211,"Cutlery and flatware (except precious) manufacturing",7031,165151,405792,15284,18087,1541822,2.5099999999999998,9.2799999999999994,2007]
[332212,"Hand and edge tool manufacturing",50366,844414,2515632,33965,70627,6711718,2.5099999999999998,9.2799999999999994,2007]
[332213,"Saw blade and handsaw manufacturing",8906,164034,565649,3197,19898,1450638,2.5099999999999998,9.2799999999999994,2007]
[332214,"Kitchen utensil, pot, and pan manufacturing",6176,107376,967083,7037,10348,1642403,2.5099999999999998,9.2799999999999994,2007]
[332311,"Prefabricated metal building and component manufacturing",37842,638362,4259015,16752,37672,7466985,2.5099999999999998,9.2799999999999994,2007]
[332312,"Fabricated structural metal manufacturing",166674,3036003,16787918,85897,151628,32348430,2.5099999999999998,9.2799999999999994,2007]
[332313,"Plate work manufacturing",56737,1006554,3129486,23874,47345,6619148,2.5099999999999998,9.2799999999999994,2007]
[332321,"Metal window and door manufacturing",102505,1421561,7458122,41240,83911,13900849,2.5099999999999998,9.2799999999999994,2007]
[332322,"Sheet metal work manufacturing",180572,2991045,10597660,69624,135911,22048815,2.5099999999999998,9.2799999999999994,2007]
[332323,"Ornamental and architectural metal work manufacturing",59511,985329,3669621,25958,43087,8044114,2.5099999999999998,9.2799999999999994,2007]
[332410,"Power boiler and heat exchanger manufacturing",31382,625808,2555316,14982,33096,5363795,2.5099999999999998,9.2799999999999994,2007]
[332420,"Metal tank (heavy gauge) manufacturing",56990,1126927,4293114,39842,56660,8598448,2.5099999999999998,9.2799999999999994,2007]
[332431,"Metal can manufacturing",34152,847735,9022661,97797,191896,13636860,2.5099999999999998,9.2799999999999994,2007]
[332439,"Other metal container manufacturing",21021,322597,2025862,27267,30540,3587710,2.5099999999999998,9.2799999999999994,2007]
[332510,"Hardware manufacturing",55280,914757,4427641,35813,65214,9504566,2.5099999999999998,9.2799999999999994,2007]
[332611,"Spring (heavy gauge) manufacturing",6284,115062,544542,15315,10079,968493,2.5099999999999998,9.2799999999999994,2007]
[332612,"Spring (light gauge) manufacturing",23992,387110,1110518,12199,23753,2649949,2.5099999999999998,9.2799999999999994,2007]
[332618,"Other fabricated wire product manufacturing",48422,714635,3154798,27663,54119,6138968,2.5099999999999998,9.2799999999999994,2007]
[332710,"Machine shops",392439,7492709,12577329,107669,297411,36862199,2.5099999999999998,9.2799999999999994,2007]
[332721,"Precision turned product manufacturing",163434,2938142,5687637,41422,174060,15054173,2.5099999999999998,9.2799999999999994,2007]
[332722,"Bolt, nut, screw, rivet, and washer manufacturing",63701,1247860,4376018,51868,105369,9916388,2.5099999999999998,9.2799999999999994,2007]
[332811,"Metal heat treating",40340,718834,1678345,168140,141060,5112665,2.5099999999999998,9.2799999999999994,2007]
[332812,"Metal coating and nonprecious engraving",84421,1428044,6782802,213147,155941,14680077,2.5099999999999998,9.2799999999999994,2007]
[332813,"Electroplating, plating, polishing, anodizing, and coloring",90365,1366459,2444397,115083,147231,7139847,2.5099999999999998,9.2799999999999994,2007]
[332911,"Industrial valve manufacturing",51601,957379,4666572,23141,84977,11033922,2.5099999999999998,9.2799999999999994,2007]
[332912,"Fluid power valve and hose fitting manufacturing",48795,882706,3669611,14624,62571,8458598,2.5099999999999998,9.2799999999999994,2007]
[332913,"Plumbing fixture fitting and trim manufacturing",15748,260522,2132963,8851,19458,4348498,2.5099999999999998,9.2799999999999994,2007]
[332919,"Other metal valve and pipe fitting manufacturing",22169,408003,2239171,21472,41993,4950417,2.5099999999999998,9.2799999999999994,2007]
[332991,"Ball and roller bearing manufacturing",44931,887442,2956853,47926,104320,7552026,2.5099999999999998,9.2799999999999994,2007]
[332992,"Small arms ammunition manufacturing",16345,339704,882645,17518,18094,2327918,2.5099999999999998,9.2799999999999994,2007]
[332993,"Ammunition (except small arms) manufacturing",6836,115830,607509,14591,14697,1751332,2.5099999999999998,9.2799999999999994,2007]
[332994,"Small arms manufacturing",15600,273733,924535,7496,22530,2611551,2.5099999999999998,9.2799999999999994,2007]
[332995,"Other ordnance and accessories manufacturing",3544,78355,725511,4444,7910,1506901,2.5099999999999998,9.2799999999999994,2007]
[332996,"Fabricated pipe and pipe fitting manufacturing",49845,819360,3699776,28255,58050,7447112,2.5099999999999998,9.2799999999999994,2007]
[332997,"Industrial pattern manufacturing",7412,154729,169602,4524,7935,583878,2.5099999999999998,9.2799999999999994,2007]
[332998,"Enameled iron and metal sanitary ware manufacturing",7027,125989,540012,16512,19983,1262600,2.5099999999999998,9.2799999999999994,2007]
[332999,"All other miscellaneous fabricated metal product manufacturing",119227,1934169,7585274,63867,123267,15655025,2.5099999999999998,9.2799999999999994,2007]
[333111,"Farm machinery and equipment manufacturing",73489,1450795,10917189,63218,78143,21181238,2.48,8.89,2007]
[333112,"Lawn and garden equipment manufacturing",31838,466734,5397456,17570,29048,8246971,2.48,8.89,2007]
[333120,"Construction machinery manufacturing",93563,1916235,23613614,98304,116062,36509341,2.48,8.89,2007]
[333131,"Mining machinery and equipment manufacturing",14067,273005,1586472,9972,17113,3168263,2.48,8.89,2007]
[333132,"Oil and gas field machinery and equipment manufacturing",59025,1278055,9070828,45115,100572,16503709,2.48,8.89,2007]
[333210,"Sawmill and woodworking machinery manufacturing",6617,126867,420803,2983,5594,1014338,2.48,8.89,2007]
[333220,"Plastics and rubber industry machinery manufacturing",18742,362288,1784995,9400,25298,3606506,2.48,8.89,2007]
[333291,"Paper industry machinery manufacturing",11569,261424,1243292,6903,15077,2548086,2.48,8.89,2007]
[333292,"Textile machinery manufacturing",8572,145110,565365,3135,8884,1153817,2.48,8.89,2007]
[333293,"Printing machinery and equipment manufacturing",13530,302832,1579876,8348,21812,3276026,2.48,8.89,2007]
[333294,"Food product machinery manufacturing",21007,427969,1914538,7982,19986,4284384,2.48,8.89,2007]
[333295,"Semiconductor machinery manufacturing",21274,544396,6682929,10185,57148,14824424,2.48,8.89,2007]
[333298,"All other industrial machinery manufacturing",48699,957896,4803468,26988,58418,10240614,2.48,8.89,2007]
[333311,"Automatic vending machine manufacturing",7480,94942,787147,2653,7390,1282954,2.48,8.89,2007]
[333312,"Commercial laundry and drycleaning machinery",4814,80803,352197,2678,4653,774227,2.48,8.89,2007]
[333313,"Office machinery manufacturing",5563,111555,1058493,4284,9921,2468059,2.48,8.89,2007]
[333314,"Optical instrument and lens manufacturing",20233,452244,1702927,6655,39236,3914184,2.48,8.89,2007]
[333315,"Photographic and photocopying equipment manufacturing",6976,128897,964404,3352,23883,2191608,2.48,8.89,2007]
[333319,"Other commercial and service industry machinery manufacturing",53746,927956,5809519,24536,54317,12058755,2.48,8.89,2007]
[333411,"Air purification equipment manufacturing",23836,319010,1365950,8683,18195,3015451,2.48,8.89,2007]
[333412,"Industrial and commercial fan and blower manufacturing",15928,248512,957293,6635,14249,2124549,2.48,8.89,2007]
[333414,"Heating equipment (except warm air furnaces) manufacturing",23718,367099,2222646,15546,28839,5005961,2.48,8.89,2007]
[333415,"AC, refrigeration, and forced air heating",147713,2429268,16604629,57939,139704,29908417,2.48,8.89,2007]
[333511,"Industrial mold manufacturing",60389,1309764,1867841,19356,77293,5663063,2.48,8.89,2007]
[333512,"Machine tool (metal cutting types) manufacturing",22662,503847,2717892,10994,30398,5603743,2.48,8.89,2007]
[333513,"Machine tool (metal forming types) manufacturing",9991,216518,731386,4208,9943,1530988,2.48,8.89,2007]
[333514,"Special die and tool, die set, jig, and fixture manufacturing",76863,1670374,2933708,22095,68093,7932783,2.48,8.89,2007]
[333515,"Cutting tool and machine tool accessory manufacturing",48277,951571,1847066,14350,66967,5249835,2.48,8.89,2007]
[333516,"Rolling mill machinery and equipment manufacturing",3949,86600,407829,5578,6630,783424,2.48,8.89,2007]
[333518,"Other metalworking machinery manufacturing",12433,286804,1123474,4894,11867,2288537,2.48,8.89,2007]
[333611,"Turbine and turbine generator set units manufacturing",28688,616692,5088940,16940,62147,8641059,2.48,8.89,2007]
[333612,"Speed changer, drive, and gear manufacturing",20780,405158,1402145,18324,30455,3374935,2.48,8.89,2007]
[333613,"Mechanical power transmission equipment manufacturing",23267,457874,1908880,24080,45029,4238957,2.48,8.89,2007]
[333618,"Other engine equipment manufacturing",71373,1446857,18348214,69695,142521,27175282,2.48,8.89,2007]
[333911,"Pump and pumping equipment manufacturing",44248,896015,5453555,22301,57033,12073732,2.48,8.89,2007]
[333912,"Air and gas compressor manufacturing",33880,573508,5181949,23499,43455,9722387,2.48,8.89,2007]
[333913,"Measuring and dispensing pump manufacturing",5079,84893,642697,1969,6505,1255157,2.48,8.89,2007]
[333921,"Elevator and moving stairway manufacturing",11677,212164,1364474,6127,10569,2589370,2.48,8.89,2007]
[333922,"Conveyor and conveying equipment manufacturing",45110,837767,3752538,19305,38221,7823586,2.48,8.89,2007]
[333923,"Overhead cranes, hoists, and monorail systems",33146,664853,4313537,17173,25202,8371715,2.48,8.89,2007]
[333924,"Industrial truck, trailer, and stacker mfg.",37579,675859,5964582,22587,37932,9209191,2.48,8.89,2007]
[333991,"Power-driven handtool manufacturing",9797,178822,1162641,3876,14756,2573093,2.48,8.89,2007]
[333992,"Welding and soldering equipment manufacturing",18754,382079,2886383,11195,67713,5219873,2.48,8.89,2007]
[333993,"Packaging machinery manufacturing",21806,441717,1845665,6818,19323,4173562,2.48,8.89,2007]
[333994,"Industrial process furnace and oven manufacturing",14065,262663,1053224,6640,14089,2319125,2.48,8.89,2007]
[333995,"Fluid power cylinder and actuator manufacturing",30218,578867,2580576,12677,39702,5383441,2.48,8.89,2007]
[333996,"Fluid power pump and motor manufacturing",19117,344211,1851811,9167,39914,3692555,2.48,8.89,2007]
[333997,"Scale and balance manufacturing",4120,69824,368986,1953,3690,781803,2.48,8.89,2007]
[333999,"All other miscellaneous general purpose machinery manufacturing",60211,1114921,4880243,30583,76902,10957266,2.48,8.89,2007]
[334111,"Electronic computer manufacturing",23955,504532,19822091,4425,41719,42749860,1.9,1.7,2007]
[334112,"Computer storage device manufacturing",15591,299892,4318456,7840,43107,8353809,1.9,1.7,2007]
[334113,"Computer terminal manufacturing",985,18897,127477,843,1717,317657,1.9,1.7,2007]
[334119,"Other computer peripheral equipment manufacturing",25468,490889,6532049,24510,55616,12992470,1.9,1.7,2007]
[334210,"Telephone apparatus manufacturing",25173,562791,8888291,78693,50721,18993166,2.37,0.41,2007]
[334220,"Broadcast and wireless communications equip.",67449,1558916,17057634,25119,142104,40730769,2.37,0.41,2007]
[334290,"Other communications equipment manufacturing",15199,257497,2088413,14532,22896,4786103,2.37,0.41,2007]
[334310,"Audio and video equipment manufacturing",16471,265917,3868188,10581,20949,7330679,4.4400000000000004,6.47,2007]
[334411,"Electron tube manufacturing",7318,176952,365000,2044,16471,1089348,4.4400000000000004,6.47,2007]
[334412,"Bare printed circuit board manufacturing",52793,836175,3501130,20491,105685,7024782,4.4400000000000004,6.47,2007]
[334413,"Semiconductor and related device manufacturing",168121,4381486,19935276,170269,870491,72397669,4.4400000000000004,6.47,2007]
[334414,"Electronic capacitor manufacturing",8929,126072,387539,2458,17985,1096639,4.4400000000000004,6.47,2007]
[334415,"Electronic resistor manufacturing",6310,104723,219763,1218,9688,614258,4.4400000000000004,6.47,2007]
[334416,"Electronic coil, transformer, and other inductor manufacturing",16177,223784,892897,3768,12617,1795267,4.4400000000000004,6.47,2007]
[334417,"Electronic connector manufacturing",30462,532147,1664744,7549,40491,4497986,4.4400000000000004,6.47,2007]
[334418,"Printed circuit assembly (electronic assembly) manufacturing",96286,1435860,16130956,24953,117885,23560691,4.4400000000000004,6.47,2007]
[334419,"Other electronic component manufacturing",65313,1092918,3829376,16242,80946,10056335,4.4400000000000004,6.47,2007]
[334510,"Electromedical and electrotherapeutic apparatus manufacturing",52759,1175412,7069499,22827,61004,22514375,4.4400000000000004,6.47,2007]
[334511,"Search, detection, and navigation instruments",94727,2496052,16267959,49428,254870,46370869,4.4400000000000004,6.47,2007]
[334512,"Automatic environmental control manufacturing",15012,229910,1252832,5566,16470,2906779,4.4400000000000004,6.47,2007]
[334513,"Industrial process variable instruments",33474,648763,3338539,12005,41901,8748683,4.4400000000000004,6.47,2007]
[334514,"Totalizing fluid meter and counting device manufacturing",17917,333447,3127730,6972,21699,5575520,4.4400000000000004,6.47,2007]
[334515,"Electricity and signal testing instruments",32664,773103,4308138,10937,88943,12793770,4.4400000000000004,6.47,2007]
[334516,"Analytical laboratory instrument manufacturing",23194,509602,4302813,10599,48551,11561207,4.4400000000000004,6.47,2007]
[334517,"Irradiation apparatus manufacturing",11573,329232,4181440,6524,23175,10772941,4.4400000000000004,6.47,2007]
[334518,"Watch, clock, and part manufacturing",2795,43637,230728,808,2683,661137,4.4400000000000004,6.47,2007]
[334519,"Other measuring and controlling device manufacturing",31053,690208,3357861,9470,40625,8880283,4.4400000000000004,6.47,2007]
[334611,"Software reproducing",3362,63551,240839,3058,3974,542940,4.4400000000000004,6.47,2007]
[334612,"Audio and video media reproduction",29148,461523,1312611,9761,48872,3696671,4.4400000000000004,6.47,2007]
[334613,"Magnetic and optical recording media manufacturing",5913,124279,1649093,9818,32534,1997181,4.4400000000000004,6.47,2007]
[335110,"Electric lamp bulb and part manufacturing",14759,322706,979004,21045,29146,2202071,2.52,7.56,2007]
[335121,"Residential electric lighting fixture manufacturing",16046,214387,1119985,13435,17081,2578789,2.52,7.56,2007]
[335122,"Nonresidential electric lighting fixture mfg.",27518,394389,2330441,9821,24007,5050893,2.52,7.56,2007]
[335129,"Other lighting equipment manufacturing",19285,298526,1888692,11997,21878,4263201,2.52,7.56,2007]
[335211,"Electric housewares and household fan manufacturing",12584,189642,1341314,3769,11884,2591911,2.52,7.56,2007]
[335212,"Household vacuum cleaner manufacturing",8662,132986,813137,5580,12159,1352931,2.52,7.56,2007]
[335221,"Household cooking appliance manufacturing",24768,352096,2969782,20810,24381,4615784,2.52,7.56,2007]
[335222,"Household refrigerator and home freezer manufacturing",26512,493151,3275271,12795,28421,5745844,2.52,7.56,2007]
[335224,"Household laundry equipment manufacturing",20685,381085,2781034,"D","D",4626272,2.52,7.56,2007]
[335228,"Other major household appliance manufacturing",19573,358506,2417575,"D","D",4458543,2.52,7.56,2007]
[335311,"Power, distribution, and specialty transformer manufacturing",33463,578932,3878681,29446,42613,7432060,2.52,7.56,2007]
[335312,"Motor and generator manufacturing",60791,1046254,6911844,38213,65193,12373747,2.52,7.56,2007]
[335313,"Switchgear and switchboard apparatus manufacturing",49338,942927,5461685,24795,52171,10780917,2.52,7.56,2007]
[335314,"Relay and industrial control manufacturing",46156,808382,5232135,15969,43810,11580268,2.52,7.56,2007]
[335911,"Storage battery manufacturing",33471,620679,3148291,62334,111701,5307717,2.52,7.56,2007]
[335912,"Primary battery manufacturing",9355,170008,1544063,4207,17690,3006769,2.52,7.56,2007]
[335921,"Fiber optic cable manufacturing",7388,135579,1037396,4632,27556,1893299,2.52,7.56,2007]
[335929,"Other communication and energy wire manufacturing",42762,774583,9906870,33250,101676,13899943,2.52,7.56,2007]
[335931,"Current-carrying wiring device manufacturing",44434,711587,3103788,9940,56580,7200472,2.52,7.56,2007]
[335932,"Noncurrent-carrying wiring device manufacturing",24184,444075,2424799,22323,55364,5616057,2.52,7.56,2007]
[335991,"Carbon and graphite product manufacturing",13171,255242,1361168,64564,77785,2795262,2.52,7.56,2007]
[335999,"Miscellaneous electrical equipment mfg.",40171,809866,4362073,12564,64226,9897909,2.52,7.56,2007]
[336111,"Automobile manufacturing",123411,4719322,67572834,181653,214752,89574126,3.26,-1.75,2007]
[336112,"Light truck and utility vehicle manufacturing",145048,5940473,106034297,258599,249249,153247495,3.26,-1.75,2007]
[336120,"Heavy duty truck manufacturing",38176,920378,15025846,30340,40667,19415024,3.26,-1.75,2007]
[336211,"Motor vehicle body manufacturing",73101,1262360,7783270,32592,55160,12128820,3.26,-1.75,2007]
[336212,"Truck trailer manufacturing",47022,762454,4785211,18582,32365,7370216,3.26,-1.75,2007]
[336213,"Motor home manufacturing",27550,491600,3894164,13510,18414,5782329,3.26,-1.75,2007]
[336214,"Travel trailer and camper manufacturing",75327,1283306,6716570,27951,35715,10594618,3.26,-1.75,2007]
[336311,"Carburetor, piston, piston ring, and valve manufacturing",16053,279071,1138738,14733,28284,2169699,3.26,-1.75,2007]
[336312,"Gasoline engine and engine parts manufacturing",85104,2320980,18688167,72770,210892,27581922,3.26,-1.75,2007]
[336321,"Vehicular lighting equipment manufacturing",19875,342765,1688384,7438,30492,3277494,3.26,-1.75,2007]
[336322,"Other motor vehicle electric equipment mfg.",80363,1609581,10335793,36743,105242,16474963,3.26,-1.75,2007]
[336330,"Motor vehicle steering and suspension parts",55361,1085740,6524839,40050,97230,10542985,3.26,-1.75,2007]
[336340,"Motor vehicle brake system manufacturing",44867,771844,6441448,30791,85409,10277715,3.26,-1.75,2007]
[336350,"Motor vehicle transmission and power train parts manufacturing",124951,3625588,22113524,138630,237305,34374713,3.26,-1.75,2007]
[336360,"Motor vehicle seating and interior trim manufacturing",76347,1281936,14570601,35972,84820,19805303,3.26,-1.75,2007]
[336370,"Motor vehicle metal stamping",157578,3911641,16443648,93276,251425,29145939,3.26,-1.75,2007]
[336391,"Motor vehicle air-conditioning manufacturing",24422,504951,3649196,11313,38720,5819552,3.26,-1.75,2007]
[336399,"All other motor vehicle parts manufacturing",206014,3503974,26949803,157613,307987,41475080,3.26,-1.75,2007]
[336411,"Aircraft manufacturing",157589,5435539,43187160,85140,181792,83859242,1.89,10.210000000000001,2007]
[336412,"Aircraft engine and engine parts manufacturing",88362,2383245,18908533,79175,175927,36067091,1.89,10.210000000000001,2007]
[336413,"Other aircraft parts and auxiliary equipment manufacturing",119178,2818959,10477594,77085,"D",29464059,1.89,10.210000000000001,2007]
[336414,"Guided missile and space vehicle manufacturing",34273,1111976,6896922,21159,78865,15540534,1.89,10.210000000000001,2007]
[336415,"Space vehicle propulsion units and parts mfg.",7293,216786,1436814,20803,39440,3822104,1.89,10.210000000000001,2007]
[336419,"Other guided missile and space vehicle parts",6408,133249,395243,7602,"D",1190795,1.89,10.210000000000001,2007]
[336510,"Railroad rolling stock manufacturing",41758,998350,8654864,70394,77542,13264824,2.82,2.16,2007]
[336611,"Ship building and repairing",136929,2977724,6893901,40650,115548,17233863,2.82,2.16,2007]
[336612,"Boat building",84329,1321444,6416878,30169,50249,11143424,2.82,2.16,2007]
[336991,"Motorcycle, bicycle, and parts manufacturing",20256,458872,3746519,19116,27431,6882033,2.82,2.16,2007]
[336992,"Military armored vehicle, tank, and tank component manufacturing",20263,419041,5048453,18918,29147,9270549,2.82,2.16,2007]
[336999,"All other transportation equipment manufacturing",21177,358842,5000548,11516,18567,7447987,2.82,2.16,2007]
[337110,"Wood kitchen cabinet and countertop manufacturing",213487,3104921,7250204,57693,116858,18225263,2.0499999999999998,7.87,2007]
[337121,"Upholstered household furniture manufacturing",118966,1650251,5836840,18152,55495,11060668,2.0499999999999998,7.87,2007]
[337122,"Nonupholstered wood household furniture manufacturing",95685,1263932,4397734,26102,72115,8652637,2.0499999999999998,7.87,2007]
[337124,"Metal household furniture manufacturing",18527,249367,1136757,8842,17590,2275581,2.0499999999999998,7.87,2007]
[337125,"Household furniture (except wood and metal) manufacturing",5545,81947,695444,3131,8362,1297762,2.0499999999999998,7.87,2007]
[337127,"Institutional furniture manufacturing",52006,781875,2792105,21145,46268,6467361,2.0499999999999998,7.87,2007]
[337129,"Wood television, radio, and sewing machine cabinet manufacturing",3094,37685,108969,629,1706,234028,2.0499999999999998,7.87,2007]
[337211,"Wood office furniture manufacturing",31614,472620,1215929,12193,26970,2978968,2.0499999999999998,7.87,2007]
[337212,"Custom architectural woodwork and millwork manufacturing",64362,1117908,2559114,18867,44062,6730164,2.0499999999999998,7.87,2007]
[337214,"Office furniture (except wood) manufacturing",40614,727982,3231627,31706,44307,8756670,2.0499999999999998,7.87,2007]
[337215,"Showcase, partition, shelving, and locker manufacturing",67716,991121,3980215,44639,64043,8014645,2.0499999999999998,7.87,2007]
[337910,"Mattress manufacturing",34952,552078,3596286,9276,20703,7508526,2.0499999999999998,7.87,2007]
[337920,"Blind and shade manufacturing",23782,306920,1388696,6530,13589,2787302,2.0499999999999998,7.87,2007]
[339112,"Surgical and medical instrument manufacturing",127749,2200181,8398052,38553,158312,29616237,3.49,13.02,2007]
[339113,"Surgical appliance and supplies manufacturing",126755,2142426,9805703,41402,135420,31528866,3.49,13.02,2007]
[339114,"Dental equipment and supplies manufacturing",17944,324322,1414800,4783,15806,4368274,3.49,13.02,2007]
[339115,"Ophthalmic goods manufacturing",29015,498165,1640690,8302,40687,5664577,3.49,13.02,2007]
[339116,"Dental laboratories",64703,1203090,1001830,4985,21394,4505846,3.49,13.02,2007]
[339911,"Jewelry (except costume) manufacturing",34183,511421,4031504,11788,23608,7550237,3.49,13.02,2007]
[339912,"Silverware and hollowware manufacturing",1312,17560,71533,"D",1174,148222,3.49,13.02,2007]
[339913,"Jewelers' material and lapidary work manufacturing",4412,63283,718374,"D",4232,1212952,3.49,13.02,2007]
[339914,"Costume jewelry and novelty manufacturing",5755,77463,279470,1884,3013,728726,3.49,13.02,2007]
[339920,"Sporting and athletic goods manufacturing",59158,892141,5171189,34296,76172,12570840,3.49,13.02,2007]
[339931,"Doll and stuffed toy manufacturing",1354,17598,65840,456,956,205926,3.49,13.02,2007]
[339932,"Game, toy, and children's vehicle manufacturing",12399,187742,1567977,9984,21349,2989020,3.49,13.02,2007]
[339941,"Pen and mechanical pencil manufacturing",5513,84230,486174,1372,6009,935954,3.49,13.02,2007]
[339942,"Lead pencil and art good manufacturing",5868,111715,612658,3368,8605,1600755,3.49,13.02,2007]
[339943,"Marking device manufacturing",5462,80380,208175,1279,3320,617926,3.49,13.02,2007]
[339944,"Carbon paper and inked ribbon manufacturing",2072,33984,274062,2489,3343,459260,3.49,13.02,2007]
[339950,"Sign manufacturing",103305,1642919,5096327,38468,66641,13021903,3.49,13.02,2007]
[339991,"Gasket, packing, and sealing device manufacturing",45317,734918,2546857,25313,71304,6093985,3.49,13.02,2007]
[339992,"Musical instrument manufacturing",19641,325077,636082,7155,22220,1752321,3.49,13.02,2007]
[339993,"Fastener, button, needle, and pin manufacturing",7670,110634,412991,8521,13698,999342,3.49,13.02,2007]
[339994,"Broom, brush, and mop manufacturing",16101,233764,1113046,4504,14594,2307279,3.49,13.02,2007]
[339995,"Burial casket manufacturing",6987,115003,346636,6315,7922,817225,3.49,13.02,2007]
[339999,"All other miscellaneous manufacturing",101402,1520350,6587220,48132,88382,16143753,3.49,13.02,2007]

{"sheet":"2008-2009 Econ Census Data","index":152,"n_rows":1228,"n_cols":11,"rows_kept":1228,"cut":false,"hidden":false,"merged":[]}
["Data in the SourcingApps data base and is from the Annual Manufacturers Survey (codes 31-33), or Economic Census (published in years ending in 2 or 7) and the Quarterly Financial Report (average of four quarters, for the year selected) published by the U. S. Census Bureau."]
["NAICS-based code","Meaning of NAICS-based code","Production workers hours (1,000)","Production workers wages ($1,000)","Total cost of materials ($1,000)","Cost of purchased fuels ($1,000)","Purchased electricity ($1,000)","Total value of shipments ($1,000)","Fixed Cost as % of Net Sales Billed","Operating Income","Year"]
["31-33","Manufacturing",14842902,293250500,2438427302,40710422,45989621,4436196105,3.48,5.63,2009]
["31-33","Manufacturing",17780810,343480037,3205798789,62816441,55017287,5468093135,2.7,5.6,2008]
[311,"Food mfg",2207805,34990404,370067734,5358518,5332939,628566115,2.11,7.35,2009]
[311,"Food mfg",2273594,35055752,403529147,6461581,5539811,649905572,1.86,6.4,2008]
[3111,"Animal food mfg",63046,1243619,31687030,291427,330105,49754924,2.11,7.35,2009]
[3111,"Animal food mfg",65848,1200943,32381601,399633,390295,49590410,1.89,6.49,2008]
[31111,"Animal food manufacturing",63046,1243619,31687030,291427,330105,49754924,2.11,7.35,2009]
[31111,"Animal food manufacturing",65848,1200943,32381601,399633,390295,49590410,1.89,6.49,2008]
[311111,"Dog and cat food manufacturing",27709,620507,9776600,103395,96934,19690966,2.11,7.35,2009]
[311111,"Dog and cat food manufacturing",27568,565889,8708270,119584,90696,18582010,1.89,6.49,2008]
[311119,"Other animal food manufacturing",35337,623112,21910430,188033,233172,30063958,2.11,7.35,2009]
[311119,"Other animal food manufacturing",38280,635054,23673331,280049,299598,31008400,1.89,6.49,2008]
[3112,"Grain & oilseed milling",83029,1903611,55478860,1340926,981804,86409162,2.11,7.35,2009]
[3112,"Grain & oilseed milling",86315,1897491,64810157,1571541,1114445,94087138,1.89,6.49,2008]
[31121,"Flour milling and malt manufacturing",24152,457669,12410367,99994,300985,17207056,2.11,7.35,2009]
[31121,"Flour milling and malt manufacturing",24788,455009,13583797,143016,329430,17310907,1.89,6.49,2008]
["31121M","Flour milling and malt manufacturing",24152,457669,12410367,99994,300985,17207056,2.11,7.35,2009]
["31121M","Flour milling and malt manufacturing",24788,455009,13583797,143016,329430,17310907,1.89,6.49,2008]
[31122,"Starch and vegetable fats and oils manufacturing",36543,829851,39520361,1156923,592153,57629605,2.11,7.35,2009]
[31122,"Starch and vegetable fats and oils manufacturing",38434,836669,47900721,1337023,686432,66028023,1.89,6.49,2008]
[311221,"Wet corn milling",11547,317262,8283238,812520,333782,16045644,2.11,7.35,2009]
[311221,"Wet corn milling",11498,314633,8071758,811152,364727,15203944,1.89,6.49,2008]
[311225,"Fats and oils refining and blending",13500,277030,10574338,90559,68686,14017490,2.11,7.35,2009]
[311225,"Fats and oils refining and blending",15010,284196,14659277,142351,71477,19014875,1.89,6.49,2008]
["31122N","Soybean and other oilseed processing",11496,235559,20662785,253844,189685,27566471,2.11,7.35,2009]
["31122N","Soybean and other oilseed processing",11926,237840,25169686,383520,250228,31809204,1.89,6.49,2008]
[31123,"Breakfast cereal manufacturing",22334,616091,3548133,84010,88666,11572501,2.11,7.35,2009]
[31123,"Breakfast cereal manufacturing",23092,605813,3325639,91503,98583,10748208,1.89,6.49,2008]
[311230,"Breakfast cereal manufacturing",22334,616091,3548133,84010,88666,11572501,2.11,7.35,2009]
[311230,"Breakfast cereal manufacturing",23092,605813,3325639,91503,98583,10748208,1.89,6.49,2008]
[3113,"Sugar & confectionery product mfg",92428,1803295,13776525,373163,226707,27654266,2.11,7.35,2009]
[3113,"Sugar & confectionery product mfg",94714,1823691,13602087,386321,229907,26605688,1.89,6.49,2008]
[31131,"Sugar manufacturing",22193,442323,4663629,266595,68656,7610473,2.11,7.35,2009]
[31131,"Sugar manufacturing",21635,429775,4742262,273855,69015,7301519,1.89,6.49,2008]
[311313,"Beet sugar manufacturing",11124,217129,1771043,166339,38876,3197554,2.11,7.35,2009]
[311313,"Beet sugar manufacturing",10709,207711,1801924,173079,36597,3117733,1.89,6.49,2008]
["31131N","Sugar cane mills and refining",11069,225194,2892586,100256,29780,4412919,2.11,7.35,2009]
["31131N","Sugar cane mills and refining",10925,222064,2940338,100776,32418,4183785,1.89,6.49,2008]
[31132,"Chocolate and confectionery manufacturing from cacao beans",10966,242603,2662242,18882,31070,4125344,2.11,7.35,2009]
[31132,"Chocolate and confectionery manufacturing from cacao beans",10688,245838,2580794,20553,33330,4031251,1.89,6.49,2008]
[311320,"Chocolate and confectionery manufacturing from cacao beans",10966,242603,2662242,18882,31070,4125344,2.11,7.35,2009]
[311320,"Chocolate and confectionery manufacturing from cacao beans",10688,245838,2580794,20553,33330,4031251,1.89,6.49,2008]
[31133,"Confectionery manufacturing from purchased chocolate",34599,659098,3881660,58969,77735,9616839,2.11,7.35,2009]
[31133,"Confectionery manufacturing from purchased chocolate",36835,683012,3901256,59859,81831,9159552,1.89,6.49,2008]
[311330,"Confectionery manufacturing from purchased chocolate",34599,659098,3881660,58969,77735,9616839,2.11,7.35,2009]
[311330,"Confectionery manufacturing from purchased chocolate",36835,683012,3901256,59859,81831,9159552,1.89,6.49,2008]
[31134,"Nonchocolate confectionery manufacturing",24671,459272,2568993,28718,49245,6301610,2.11,7.35,2009]
[31134,"Nonchocolate confectionery manufacturing",25556,465066,2377774,32053,45731,6113366,1.89,6.49,2008]
[311340,"Nonchocolate confectionery manufacturing",24671,459272,2568993,28718,49245,6301610,2.11,7.35,2009]
[311340,"Nonchocolate confectionery manufacturing",25556,465066,2377774,32053,45731,6113366,1.89,6.49,2008]
[3114,"Fruit & vegetable preserving & specialty food mfg",278850,4610336,35818298,797442,690844,64629417,2.11,7.35,2009]
[3114,"Fruit & vegetable preserving & specialty food mfg",281965,4480075,35360803,925241,647639,63316525,1.89,6.49,2008]
[31141,"Frozen food manufacturing",142868,2158258,14131547,271804,361959,26436565,2.11,7.35,2009]
[31141,"Frozen food manufacturing",142802,2106912,13886676,316235,325742,25322553,1.89,6.49,2008]
["31141M","Frozen food manufacturing",142868,2158258,14131547,271804,361959,26436565,2.11,7.35,2009]
["31141M","Frozen food manufacturing",142802,2106912,13886676,316235,325742,25322553,1.89,6.49,2008]
[31142,"Fruit and vegetable canning, pickling, and drying",135982,2452078,21686752,525638,328885,38192852,2.11,7.35,2009]
[31142,"Fruit and vegetable canning, pickling, and drying",139163,2373163,21474127,609007,321897,37993972,1.89,6.49,2008]
["31142M","Fruit and vegetable canning, pickling, and drying",135982,2452078,21686752,525638,328885,38192852,2.11,7.35,2009]
["31142M","Fruit and vegetable canning, pickling, and drying",139163,2373163,21474127,609007,321897,37993972,1.89,6.49,2008]
[3115,"Dairy product mfg",195057,4019669,56102753,544359,682003,84579569,2.11,7.35,2009]
[3115,"Dairy product mfg",196089,3889062,70268598,730933,725830,97544321,1.89,6.49,2008]
[31151,"Dairy product (except frozen) manufacturing",165447,3413590,52648796,524566,580732,76654652,2.11,7.35,2009]
[31151,"Dairy product (except frozen) manufacturing",167627,3325248,66593911,707427,630710,89720990,1.89,6.49,2008]
[311513,"Cheese manufacturing",70504,1362151,23813670,197525,190296,30629953,2.11,7.35,2009]
[311513,"Cheese manufacturing",70726,1305023,31147584,284030,228710,37518806,1.89,6.49,2008]
[311514,"Dry, condensed, and evaporated dairy product manufacturing",21554,461098,7277525,147625,108750,12660615,2.11,7.35,2009]
[311514,"Dry, condensed, and evaporated dairy product manufacturing",23573,501667,9168483,192716,114511,15001494,1.89,6.49,2008]
["31151N","Fluid milk and butter manufacturing",73390,1590342,21557601,179416,281686,33364085,2.11,7.35,2009]
["31151N","Fluid milk and butter manufacturing",73328,1518558,26277844,230681,287490,37200690,1.89,6.49,2008]
[31152,"Ice cream and frozen dessert manufacturing",29610,606078,3453957,19793,101271,7924917,2.11,7.35,2009]
[31152,"Ice cream and frozen dessert manufacturing",28463,563814,3674687,23506,95120,7823331,1.89,6.49,2008]
[311520,"Ice cream and frozen dessert manufacturing",29610,606078,3453957,19793,101271,7924917,2.11,7.35,2009]
[311520,"Ice cream and frozen dessert manufacturing",28463,563814,3674687,23506,95120,7823331,1.89,6.49,2008]
[3116,"Animal  slaughtering & processing",904994,11803707,110457071,978319,1255957,164219517,2.11,7.35,2009]
[3116,"Animal  slaughtering & processing",932674,11944569,119727148,1257241,1253193,169905740,1.89,6.49,2008]
[31161,"Animal slaughtering and processing",904994,11803707,110457071,978319,1255957,164219517,2.11,7.35,2009]
[31161,"Animal slaughtering and processing",932674,11944569,119727148,1257241,1253193,169905740,1.89,6.49,2008]
[311615,"Poultry processing",425775,5002797,30173492,289662,523519,52175146,2.11,7.35,2009]
[311615,"Poultry processing",453359,5223292,32410921,356378,506360,52551442,1.89,6.49,2008]
["31161N","Animal (except poultry) slaughtering and processing",479219,6800910,80283579,688657,732437,112044372,2.11,7.35,2009]
["31161N","Animal (except poultry) slaughtering and processing",479315,6721277,87316226,900863,746833,117354298,1.89,6.49,2008]
[3117,"Seafood product preparation & packaging",54383,712026,6108437,155810,85012,10538817,2.11,7.35,2009]
[3117,"Seafood product preparation & packaging",58627,798736,6023898,201138,84017,10046567,1.89,6.49,2008]
[31171,"Seafood product preparation and packaging",54383,712026,6108437,155810,85012,10538817,2.11,7.35,2009]
[31171,"Seafood product preparation and packaging",58627,798736,6023898,201138,84017,10046567,1.89,6.49,2008]
["31171M","Seafood product preparation and packaging",54383,712026,6108437,155810,85012,10538817,2.11,7.35,2009]
["31171M","Seafood product preparation and packaging",58627,798736,6023898,201138,84017,10046567,1.89,6.49,2008]
[3118,"Bakeries & tortilla mfg",323956,5320862,24193487,401642,583487,59448681,2.11,7.35,2009]
[3118,"Bakeries & tortilla mfg",333557,5374461,24515962,453329,584591,58752854,1.89,6.49,2008]
[31181,"Bread and bakery product manufacturing",225702,3589517,13820362,262887,382424,35606371,2.11,7.35,2009]
[31181,"Bread and bakery product manufacturing",232458,3672982,14198725,291156,390071,35791359,1.89,6.49,2008]
["31181M","Bread and bakery product manufacturing",225702,3589517,13820362,262887,382424,35606371,2.11,7.35,2009]
["31181M","Bread and bakery product manufacturing",232458,3672982,14198725,291156,390071,35791359,1.89,6.49,2008]
[31182,"Cookie, cracker, and pasta manufacturing",76821,1440883,9041828,106603,165235,20684887,2.11,7.35,2009]
[31182,"Cookie, cracker, and pasta manufacturing",79715,1397832,8990006,125181,160623,19966746,1.89,6.49,2008]
["31182M","Cookie, cracker, and pasta manufacturing",76821,1440883,9041828,106603,165235,20684887,2.11,7.35,2009]
["31182M","Cookie, cracker, and pasta manufacturing",79715,1397832,8990006,125181,160623,19966746,1.89,6.49,2008]
[31183,"Tortilla manufacturing",21433,290463,1331297,32153,35828,3157424,2.11,7.35,2009]
[31183,"Tortilla manufacturing",21384,303647,1327231,36992,33897,2994749,1.89,6.49,2008]
[311830,"Tortilla manufacturing",21433,290463,1331297,32153,35828,3157424,2.11,7.35,2009]
[311830,"Tortilla manufacturing",21384,303647,1327231,36992,33897,2994749,1.89,6.49,2008]
[3119,"Other food mfg",212061,3573278,36445272,475429,497020,81331762,2.11,7.35,2009]
[3119,"Other food mfg",223805,3646723,36838894,536204,509895,80056329,1.89,6.49,2008]
[31191,"Snack food manufacturing",54060,936833,10263301,222310,127018,26438310,2.11,7.35,2009]
[31191,"Snack food manufacturing",55116,930246,9976530,223058,122626,26038240,1.89,6.49,2008]
["31191M","Snack food manufacturing",54060,936833,10263301,222310,127018,26438310,2.11,7.35,2009]
["31191M","Snack food manufacturing",55116,930246,9976530,223058,122626,26038240,1.89,6.49,2008]
[31192,"Coffee and tea manufacturing",17023,320402,4695600,53978,53315,8525523,2.11,7.35,2009]
[31192,"Coffee and tea manufacturing",17631,331868,4827568,57488,53809,8739627,1.89,6.49,2008]
[311920,"Coffee and tea manufacturing",17023,320402,4695600,53978,53315,8525523,2.11,7.35,2009]
[311920,"Coffee and tea manufacturing",17631,331868,4827568,57488,53809,8739627,1.89,6.49,2008]
[31193,"Flavoring syrup and concentrate manufacturing",8057,156479,2062877,14745,22330,9140483,2.11,7.35,2009]
[31193,"Flavoring syrup and concentrate manufacturing",8090,162105,2058806,22349,23608,9170798,1.89,6.49,2008]
[311930,"Flavoring syrup and concentrate manufacturing",8057,156479,2062877,14745,22330,9140483,2.11,7.35,2009]
[311930,"Flavoring syrup and concentrate manufacturing",8090,162105,2058806,22349,23608,9170798,1.89,6.49,2008]
[31194,"Seasoning and dressing manufacturing",42132,800365,8468152,49402,95469,16394756,2.11,7.35,2009]
[31194,"Seasoning and dressing manufacturing",44822,796897,8516281,58167,102860,15400713,1.89,6.49,2008]
["31194M","Seasoning and dressing manufacturing",42132,800365,8468152,49402,95469,16394756,2.11,7.35,2009]
["31194M","Seasoning and dressing manufacturing",44822,796897,8516281,58167,102860,15400713,1.89,6.49,2008]
[31199,"All other food manufacturing",90788,1359201,10955343,134994,198888,20832689,2.11,7.35,2009]
[31199,"All other food manufacturing",98146,1425608,11459709,175143,206991,20706950,1.89,6.49,2008]
["31199M","All other food manufacturing",90788,1359201,10955343,134994,198888,20832689,2.11,7.35,2009]
["31199M","All other food manufacturing",98146,1425608,11459709,175143,206991,20706950,1.89,6.49,2008]
[312,"Beverage & tobacco product mfg",163288,3702303,49454384,466848,742469,119882070,3.22,20.350000000000001,2009]
[312,"Beverage & tobacco product mfg",172131,3771610,49492987,575693,763141,125099482,2.81,18.760000000000002,2008]
[3121,"Beverage mfg",142861,3141976,44093593,422663,676549,88580714,3.22,20.350000000000001,2009]
[3121,"Beverage mfg",146341,3100708,43563785,508054,694803,87712053,2.81,18.760000000000002,2008]
[31211,"Soft drink and ice manufacturing",74957,1541158,27744577,175353,386891,45406950,3.22,20.350000000000001,2009]
[31211,"Soft drink and ice manufacturing",79066,1542615,27741797,211314,409537,47299635,2.81,18.760000000000002,2008]
["31211M","Soft drink and ice manufacturing",74957,1541158,27744577,175353,386891,45406950,3.22,20.350000000000001,2009]
["31211M","Soft drink and ice manufacturing",79066,1542615,27741797,211314,409537,47299635,2.81,18.760000000000002,2008]
[31212,"Breweries",30838,785782,7822853,186238,177405,20713519,3.22,20.350000000000001,2009]
[31212,"Breweries",30423,795528,7666918,225978,180501,19615995,2.81,18.760000000000002,2008]
[312120,"Breweries",30838,785782,7822853,186238,177405,20713519,3.22,20.350000000000001,2009]
[312120,"Breweries",30423,795528,7666918,225978,180501,19615995,2.81,18.760000000000002,2008]
[31213,"Wineries",28132,597819,6164944,30080,90131,14836440,3.22,20.350000000000001,2009]
[31213,"Wineries",27192,558930,5923680,38208,88047,13374424,2.81,18.760000000000002,2008]
[312130,"Wineries",28132,597819,6164944,30080,90131,14836440,3.22,20.350000000000001,2009]
[312130,"Wineries",27192,558930,5923680,38208,88047,13374424,2.81,18.760000000000002,2008]
[31214,"Distilleries",8933,217217,2361219,30992,22121,7623805,3.22,20.350000000000001,2009]
[31214,"Distilleries",9659,203635,2231390,32554,16719,7421999,2.81,18.760000000000002,2008]
[312140,"Distilleries",8933,217217,2361219,30992,22121,7623805,3.22,20.350000000000001,2009]
[312140,"Distilleries",9659,203635,2231390,32554,16719,7421999,2.81,18.760000000000002,2008]
[3122,"Tobacco mfg",20427,560327,5360791,44185,65920,31301356,3.22,20.350000000000001,2009]
[3122,"Tobacco mfg",25790,670902,5929202,67639,68338,37387429,2.81,18.760000000000002,2008]
[31221,"Tobacco stemming and redrying",2787,37497,623449,"D",5232,1185915,3.22,20.350000000000001,2009]
[31221,"Tobacco stemming and redrying",3684,42624,636827,"D",5065,1166645,2.81,18.760000000000002,2008]
[312210,"Tobacco stemming and redrying",2787,37497,623449,"D",5232,1185915,3.22,20.350000000000001,2009]
[312210,"Tobacco stemming and redrying",3684,42624,636827,"D",5065,1166645,2.81,18.760000000000002,2008]
[31222,"Tobacco product manufacturing",17640,522830,4737342,"D",60688,30115441,3.22,20.350000000000001,2009]
[31222,"Tobacco product manufacturing",22106,628278,5292375,"D",63273,36220784,2.81,18.760000000000002,2008]
["31222M","Tobacco product manufacturing",17640,522830,4737342,"D",60688,30115441,3.22,20.350000000000001,2009]
["31222M","Tobacco product manufacturing",22106,628278,5292375,"D",63273,36220784,2.81,18.760000000000002,2008]
[313,"Textile mills",171499,2728512,14502709,328309,694524,26461252,3.87,1.34,2009]
[313,"Textile mills",224050,3357092,19365788,465834,844148,32052395,3.59,1.56,2008]
[3131,"Fiber, yarn, & thread mills",47190,653432,4031057,50529,272434,6375688,3.87,1.34,2009]
[3131,"Fiber, yarn, & thread mills",62675,821435,5838386,65184,331096,8572523,3.59,1.56,2008]
[31311,"Fiber, yarn, and thread mills",47190,653432,4031057,50529,272434,6375688,3.87,1.34,2009]
[31311,"Fiber, yarn, and thread mills",62675,821435,5838386,65184,331096,8572523,3.59,1.56,2008]
["31311M","Fiber, yarn, and thread mills",47190,653432,4031057,50529,272434,6375688,3.87,1.34,2009]
["31311M","Fiber, yarn, and thread mills",62675,821435,5838386,65184,331096,8572523,3.59,1.56,2008]
[3132,"Fabric mills",81532,1437888,6718316,126654,311225,13831234,3.87,1.34,2009]
[3132,"Fabric mills",102033,1686311,8772776,174998,377809,15970473,3.59,1.56,2008]
[31321,"Broadwoven fabric mills",33763,479064,2663688,35487,120715,4352113,3.87,1.34,2009]
[31321,"Broadwoven fabric mills",45057,623715,3516381,53230,148511,5702885,3.59,1.56,2008]
[313210,"Broadwoven fabric mills",33763,479064,2663688,35487,120715,4352113,3.87,1.34,2009]
[313210,"Broadwoven fabric mills",45057,623715,3516381,53230,148511,5702885,3.59,1.56,2008]
[31322,"Narrow fabric mills and schiffli machine embroidery",9723,135430,386850,9957,15651,932967,3.87,1.34,2009]
[31322,"Narrow fabric mills and schiffli machine embroidery",13123,174529,485565,12471,19236,1107406,3.59,1.56,2008]
["31322M","Narrow fabric mills and schiffli machine embroidery",9723,135430,386850,9957,15651,932967,3.87,1.34,2009]
["31322M","Narrow fabric mills and schiffli machine embroidery",13123,174529,485565,12471,19236,1107406,3.59,1.56,2008]
[31323,"Nonwoven fabric mills",26615,664898,2980235,61721,149328,7399019,3.87,1.34,2009]
[31323,"Nonwoven fabric mills",28966,680515,3707092,89262,173346,7450189,3.59,1.56,2008]
[313230,"Nonwoven fabric mills",26615,664898,2980235,61721,149328,7399019,3.87,1.34,2009]
[313230,"Nonwoven fabric mills",28966,680515,3707092,89262,173346,7450189,3.59,1.56,2008]
[31324,"Knit fabric mills",11431,158497,687544,19489,25530,1147136,3.87,1.34,2009]
[31324,"Knit fabric mills",14886,207552,1063738,"(s)20,035",36717,1709993,3.59,1.56,2008]
["31324M","Knit fabric mills",11431,158497,687544,19489,25530,1147136,3.87,1.34,2009]
["31324M","Knit fabric mills",14886,207552,1063738,"(s)20,035",36717,1709993,3.59,1.56,2008]
[3133,"Textile & fabric finishing & fabric coating mills",42777,637192,3753337,151126,110865,6254330,3.87,1.34,2009]
[3133,"Textile & fabric finishing & fabric coating mills",59342,849346,4754626,225652,135244,7509399,3.59,1.56,2008]
[31331,"Textile and fabric finishing mills",33486,462212,2406177,129097,88630,4260899,3.87,1.34,2009]
[31331,"Textile and fabric finishing mills",47169,623164,3167250,192474,106897,5136989,3.59,1.56,2008]
["31331M","Textile and fabric finishing mills",33486,462212,2406177,129097,88630,4260899,3.87,1.34,2009]
["31331M","Textile and fabric finishing mills",47169,623164,3167250,192474,106897,5136989,3.59,1.56,2008]
[31332,"Fabric coating mills",9291,174979,1347159,22028,22235,1993430,3.87,1.34,2009]
[31332,"Fabric coating mills",12174,226182,1587377,33177,28346,2372410,3.59,1.56,2008]
[313320,"Fabric coating mills",9291,174979,1347159,22028,22235,1993430,3.87,1.34,2009]
[313320,"Fabric coating mills",12174,226182,1587377,33177,28346,2372410,3.59,1.56,2008]
[314,"Textile product mills",165254,2137138,11717831,239771,240232,21260932,3.87,1.34,2009]
[314,"Textile product mills",203278,2574779,14704216,352192,266049,26836336,3.59,1.56,2008]
[3141,"Textile furnishings mills",89003,1079696,7128765,203000,138985,12613585,3.87,1.34,2009]
[3141,"Textile furnishings mills",109276,1307758,9407607,301059,150175,16536585,3.59,1.56,2008]
[31411,"Carpet and rug mills",52016,665746,5035019,193069,114740,8875494,3.87,1.34,2009]
[31411,"Carpet and rug mills",65044,817703,6818954,283368,122142,11922612,3.59,1.56,2008]
[314110,"Carpet and rug mills",52016,665746,5035019,193069,114740,8875494,3.87,1.34,2009]
[314110,"Carpet and rug mills",65044,817703,6818954,283368,122142,11922612,3.59,1.56,2008]
[31412,"Curtain and linen mills",36987,413951,2093746,9930,24244,3738091,3.87,1.34,2009]
[31412,"Curtain and linen mills",44232,490055,2588653,17691,28033,4613973,3.59,1.56,2008]
["31412M","Curtain and linen mills",36987,413951,2093746,9930,24244,3738091,3.87,1.34,2009]
["31412M","Curtain and linen mills",44232,490055,2588653,17691,28033,4613973,3.59,1.56,2008]
[3149,"Other textile product mills",76252,1057441,4589066,36771,101247,8647346,3.87,1.34,2009]
[3149,"Other textile product mills",94002,1267021,5296609,51133,115874,10299751,3.59,1.56,2008]
[31491,"Textile bag and canvas mills",26309,349484,1335051,7697,16659,2671563,3.87,1.34,2009]
[31491,"Textile bag and canvas mills",32308,420879,1467615,8864,18227,3112015,3.59,1.56,2008]
["31491M","Textile bag and canvas mills",26309,349484,1335051,7697,16659,2671563,3.87,1.34,2009]
["31491M","Textile bag and canvas mills",32308,420879,1467615,8864,18227,3112015,3.59,1.56,2008]
[31499,"All other textile product mills",49943,707957,3254014,29074,84588,5975783,3.87,1.34,2009]
[31499,"All other textile product mills",61694,846143,3828994,42269,97648,7187736,3.59,1.56,2008]
[314991,"Rope, cordage, and twine mills",5923,82320,435416,"D",10014,834721,3.87,1.34,2009]
[314991,"Rope, cordage, and twine mills",5772,83221,407795,2500,8064,788791,3.59,1.56,2008]
[314992,"Tire cord and tire fabric mills",3686,68747,578400,"D",29767,827194,3.87,1.34,2009]
[314992,"Tire cord and tire fabric mills",5387,99411,779405,15993,39337,1087735,3.59,1.56,2008]
[314999,"All other miscellaneous textile product mills",40334,556890,2240198,17299,44807,4313868,3.87,1.34,2009]
[314999,"All other miscellaneous textile product mills",50534,663511,2641794,23776,50247,5311210,3.59,1.56,2008]
[315,"Apparel mfg",167902,1857307,7392945,45021,89935,14665709,2.5299999999999998,7.27,2009]
[315,"Apparel mfg",210870,2335521,10078432,45765,103736,19139593,2.08,10.69,2008]
[3151,"Apparel knitting mills",22214,285188,1013124,17511,35221,2015770,2.5299999999999998,7.27,2009]
[3151,"Apparel knitting mills",26515,344948,1319743,18109,38782,2524889,2.1800000000000002,6.75,2008]
[31511,"Hosiery and sock mills",17217,219305,778505,16179,31641,1603461,2.5299999999999998,7.27,2009]
[31511,"Hosiery and sock mills",21156,280661,970455,16628,35172,1891588,2.1800000000000002,6.75,2008]
["31511M","Hosiery and sock mills",17217,219305,778505,16179,31641,1603461,2.5299999999999998,7.27,2009]
["31511M","Hosiery and sock mills",21156,280661,970455,16628,35172,1891588,2.1800000000000002,6.75,2008]
[31519,"Other apparel knitting mills",4996,65883,234620,1332,3581,412309,2.5299999999999998,7.27,2009]
[31519,"Other apparel knitting mills",5359,64287,349288,"S","(s)3,610",633301,2.1800000000000002,6.75,2008]
["31519M","Other apparel knitting mills",4996,65883,234620,1332,3581,412309,2.5299999999999998,7.27,2009]
["31519M","Other apparel knitting mills",5359,64287,349288,"S","(s)3,610",633301,2.1800000000000002,6.75,2008]
[3152,"Cut & sew apparel mfg",131026,1410313,5818526,20896,48476,11477455,2.5299999999999998,7.27,2009]
[3152,"Cut & sew apparel mfg",166892,1810114,8099726,24066,57331,15355195,2.1800000000000002,6.75,2008]
[31521,"Cut and sew apparel contractors",65368,648021,1201427,7004,16287,2834027,2.5299999999999998,7.27,2009]
[31521,"Cut and sew apparel contractors",84693,822852,1254280,"(s)4,246",14907,2911284,2.1800000000000002,6.75,2008]
["31521M","Cut and sew apparel contractors",65368,648021,1201427,7004,16287,2834027,2.5299999999999998,7.27,2009]
["31521M","Cut and sew apparel contractors",84693,822852,1254280,"(s)4,246",14907,2911284,2.1800000000000002,6.75,2008]
[31522,"Men's and boys' cut and sew apparel manufacturing",28379,292486,1155889,5616,12168,2253465,2.5299999999999998,7.27,2009]
[31522,"Men's and boys' cut and sew apparel manufacturing",39229,430142,1605973,7900,16185,3082293,2.1800000000000002,6.75,2008]
["31522M","Men's and boys' cut and sew apparel manufacturing",28379,292486,1155889,5616,12168,2253465,2.5299999999999998,7.27,2009]
["31522M","Men's and boys' cut and sew apparel manufacturing",39229,430142,1605973,7900,16185,3082293,2.1800000000000002,6.75,2008]
[31523,"Women's and girls' cut and sew apparel manufacturing",25642,334215,3082202,7068,14624,5494006,2.5299999999999998,7.27,2009]
[31523,"Women's and girls' cut and sew apparel manufacturing",28352,387891,4620907,9203,19878,8014803,2.1800000000000002,6.75,2008]
["31523M","Women's and girls' cut and sew apparel manufacturing",25642,334215,3082202,7068,14624,5494006,2.5299999999999998,7.27,2009]
["31523M","Women's and girls' cut and sew apparel manufacturing",28352,387891,4620907,9203,19878,8014803,2.1800000000000002,6.75,2008]
[31529,"Other cut and sew apparel manufacturing",11638,135591,379008,1207,5397,895957,2.5299999999999998,7.27,2009]
[31529,"Other cut and sew apparel manufacturing",14618,169229,618568,2717,6361,1346814,2.1800000000000002,6.75,2008]
["31529M","Other cut and sew apparel manufacturing",11638,135591,379008,1207,5397,895957,2.5299999999999998,7.27,2009]
["31529M","Other cut and sew apparel manufacturing",14618,169229,618568,2717,6361,1346814,2.1800000000000002,6.75,2008]
[3159,"Apparel accessories & other apparel mfg",14663,161805,561295,"(s)6,614",6237,1172484,2.5299999999999998,7.27,2009]
[3159,"Apparel accessories & other apparel mfg",17462,180460,658963,3590,7623,1259509,2.1800000000000002,6.75,2008]
[31599,"Apparel accessories and other apparel manufacturing",14663,161805,561295,"(s)6,614",6237,1172484,2.5299999999999998,7.27,2009]
[31599,"Apparel accessories and other apparel manufacturing",17462,180460,658963,3590,7623,1259509,2.1800000000000002,6.75,2008]
["31599M","Apparel accessories and other apparel manufacturing",14663,161805,561295,"(s)6,614",6237,1172484,2.5299999999999998,7.27,2009]
["31599M","Apparel accessories and other apparel manufacturing",17462,180460,658963,3590,7623,1259509,2.1800000000000002,6.75,2008]
[316,"Leather & allied product mfg",36770,490185,2042326,14636,25243,4188287,2.5299999999999998,7.27,2009]
[316,"Leather & allied product mfg",46395,590185,2663487,23705,35605,5211979,2.1800000000000002,6.75,2008]
[3161,"Leather & hide tanning & finishing",5204,78421,498018,9347,8439,807356,2.5299999999999998,7.27,2009]
[3161,"Leather & hide tanning & finishing",6558,102951,822594,16426,16084,1220544,2.1800000000000002,6.75,2008]
[31611,"Leather and hide tanning and finishing",5204,78421,498018,9347,8439,807356,2.5299999999999998,7.27,2009]
[31611,"Leather and hide tanning and finishing",6558,102951,822594,16426,16084,1220544,2.1800000000000002,6.75,2008]
[316110,"Leather and hide tanning and finishing",5204,78421,498018,9347,8439,807356,2.5299999999999998,7.27,2009]
[316110,"Leather and hide tanning and finishing",6558,102951,822594,16426,16084,1220544,2.1800000000000002,6.75,2008]
[3162,"Footwear mfg",15439,222172,812015,2785,9661,1706359,2.5299999999999998,7.27,2009]
[3162,"Footwear mfg",19004,260413,927388,3733,10717,1918382,2.1800000000000002,6.75,2008]
[31621,"Footwear manufacturing",15439,222172,812015,2785,9661,1706359,2.5299999999999998,7.27,2009]
[31621,"Footwear manufacturing",19004,260413,927388,3733,10717,1918382,2.1800000000000002,6.75,2008]
["31621M","Footwear manufacturing",15439,222172,812015,2785,9661,1706359,2.5299999999999998,7.27,2009]
["31621M","Footwear manufacturing",19004,260413,927388,3733,10717,1918382,2.1800000000000002,6.75,2008]
[3169,"Other leather & allied product mfg",16127,189593,732293,2504,7142,1674572,2.5299999999999998,7.27,2009]
[3169,"Other leather & allied product mfg",20833,226821,913504,3547,8804,2073052,2.1800000000000002,6.75,2008]
[31699,"Other leather and allied product manufacturing",16127,189593,732293,2504,7142,1674572,2.5299999999999998,7.27,2009]
[31699,"Other leather and allied product manufacturing",20833,226821,913504,3547,8804,2073052,2.1800000000000002,6.75,2008]
["31699M","Other leather and allied product manufacturing",16127,189593,732293,2504,7142,1674572,2.5299999999999998,7.27,2009]
["31699M","Other leather and allied product manufacturing",20833,226821,913504,3547,8804,2073052,2.1800000000000002,6.75,2008]
[321,"Wood product mfg",529476,8202848,38237240,585754,1298937,65440135,5.22,2.4500000000000002,2009]
[321,"Wood product mfg",724867,10850108,52701548,833255,1462899,87764829,3.89,0.93,2008]
[3211,"Sawmills & wood preservation",124930,2050110,12306188,192414,446511,18881933,5.22,2.4500000000000002,2009]
[3211,"Sawmills & wood preservation",159998,2591577,16752914,271149,485957,24211908,3.89,0.93,2008]
[32111,"Sawmills and wood preservation",124930,2050110,12306188,192414,446511,18881933,5.22,2.4500000000000002,2009]
[32111,"Sawmills and wood preservation",159998,2591577,16752914,271149,485957,24211908,3.89,0.93,2008]
["32111M","Sawmills and wood preservation",124930,2050110,12306188,192414,446511,18881933,5.22,2.4500000000000002,2009]
["32111M","Sawmills and wood preservation",159998,2591577,16752914,271149,485957,24211908,3.89,0.93,2008]
[3212,"Veneer, plywood, & engineered wood product mfg",96787,1569429,7927682,208908,423911,12762783,5.22,2.4500000000000002,2009]
[3212,"Veneer, plywood, & engineered wood product mfg",141427,2236122,11784802,344535,536497,18369293,3.89,0.93,2008]
[32121,"Veneer, plywood, and engineered wood product manufacturing",96787,1569429,7927682,208908,423911,12762783,5.22,2.4500000000000002,2009]
[32121,"Veneer, plywood, and engineered wood product manufacturing",141427,2236122,11784802,344535,536497,18369293,3.89,0.93,2008]
[321219,"Reconstituted wood product manufacturing",21648,415376,2907018,139499,262520,4764082,5.22,2.4500000000000002,2009]
[321219,"Reconstituted wood product manufacturing",31177,562449,4325263,245202,334201,6238056,3.89,0.93,2008]
["32121N","Veneer and plywood manufacturing",45778,722393,3190954,57867,128790,4824666,5.22,2.4500000000000002,2009]
["32121N","Veneer and plywood manufacturing",59565,937458,4218668,76219,149787,6526295,3.89,0.93,2008]
["32121P","Engineered wood product manufacturing",29361,431660,1829710,11542,32600,3174035,5.22,2.4500000000000002,2009]
["32121P","Engineered wood product manufacturing",50686,736215,3240871,23114,52509,5604943,3.89,0.93,2008]
[3219,"Other wood product mfg",307759,4583309,18003370,184433,428515,33795419,5.22,2.4500000000000002,2009]
[3219,"Other wood product mfg",423441,6022409,24163833,217572,440445,45183628,3.89,0.93,2008]
[32191,"Millwork",143926,2358122,9358349,79420,216642,17361196,5.22,2.4500000000000002,2009]
[32191,"Millwork",203461,3122674,12839322,110612,252032,23885088,3.89,0.93,2008]
["32191M","Millwork",143926,2358122,9358349,79420,216642,17361196,5.22,2.4500000000000002,2009]
["32191M","Millwork",203461,3122674,12839322,110612,252032,23885088,3.89,0.93,2008]
[32192,"Wood container and pallet manufacturing",69982,892440,3085751,43312,68209,5894085,5.22,2.4500000000000002,2009]
[32192,"Wood container and pallet manufacturing",91327,1064188,3800458,51792,66365,7216562,3.89,0.93,2008]
[321920,"Wood container and pallet manufacturing",69982,892440,3085751,43312,68209,5894085,5.22,2.4500000000000002,2009]
[321920,"Wood container and pallet manufacturing",91327,1064188,3800458,51792,66365,7216562,3.89,0.93,2008]
[32199,"All other wood product manufacturing",93851,1332747,5559269,61701,143665,10540138,5.22,2.4500000000000002,2009]
[32199,"All other wood product manufacturing",128654,1835547,7524053,55167,122048,14081978,3.89,0.93,2008]
[321991,"Manufactured home (mobile home) manufacturing",33258,452763,1868817,8045,19027,3271350,5.22,2.4500000000000002,2009]
[321991,"Manufactured home (mobile home) manufacturing",53093,725424,2838643,10057,22744,5005443,3.89,0.93,2008]
[321992,"Prefabricated wood building manufacturing",18595,303542,1377923,8281,18689,2541274,5.22,2.4500000000000002,2009]
[321992,"Prefabricated wood building manufacturing",26424,420035,1867537,9758,17476,3482175,3.89,0.93,2008]
[321999,"All other miscellaneous wood product manufacturing",41998,576442,2312529,45375,105949,4727514,5.22,2.4500000000000002,2009]
[321999,"All other miscellaneous wood product manufacturing",49137,690089,2817873,35353,81828,5594361,3.89,0.93,2008]
[322,"Paper mfg",579965,12941076,84467999,4467251,3596223,161816360,5.53,9.08,2009]
[322,"Paper mfg",655383,14019009,100089369,6241706,3994805,179248789,4.8499999999999996,4.71,2008]
[3221,"Pulp, paper, & paperboard mills",191009,5595170,34587134,3951702,2641754,74494657,5.53,9.08,2009]
[3221,"Pulp, paper, & paperboard mills",205822,5853501,42699430,5480675,2975846,83357065,4.8499999999999996,4.71,2008]
[32211,"Pulp mills",11267,365621,2388663,240383,89410,4323016,5.53,9.08,2009]
[32211,"Pulp mills",13294,405779,3035805,396563,109140,5269480,4.8499999999999996,4.71,2008]
[322110,"Pulp mills",11267,365621,2388663,240383,89410,4323016,5.53,9.08,2009]
[322110,"Pulp mills",13294,405779,3035805,396563,109140,5269480,4.8499999999999996,4.71,2008]
[32212,"Paper mills",121730,3527880,21124604,2118299,1528357,47066018,5.53,9.08,2009]
[32212,"Paper mills",132095,3725758,26009768,2954655,1723696,52759557,4.8499999999999996,4.71,2008]
["32212M","Paper and newsprint mills",121730,3527880,21124604,2118299,1528357,47066018,5.53,9.08,2009]
["32212M","Paper and newsprint mills",132095,3725758,26009768,2954655,1723696,52759557,4.8499999999999996,4.71,2008]
[32213,"Paperboard mills",58013,1701669,11073866,1593019,1023987,23105622,5.53,9.08,2009]
[32213,"Paperboard mills",60433,1721964,13653857,2129457,1143010,25328028,4.8499999999999996,4.71,2008]
[322130,"Paperboard mills",58013,1701669,11073866,1593019,1023987,23105622,5.53,9.08,2009]
[322130,"Paperboard mills",60433,1721964,13653857,2129457,1143010,25328028,4.8499999999999996,4.71,2008]
[3222,"Converted paper product mfg",388956,7345906,49880865,515549,954470,87321703,5.53,9.08,2009]
[3222,"Converted paper product mfg",449560,8165508,57389939,761032,1018959,95891724,4.8499999999999996,4.71,2008]
[32221,"Paperboard container manufacturing",225722,4175319,28645736,269354,476280,47268909,5.53,9.08,2009]
[32221,"Paperboard container manufacturing",263750,4740484,33409392,391434,495599,51763970,4.8499999999999996,4.71,2008]
["32221M","Paperboard container manufacturing",225722,4175319,28645736,269354,476280,47268909,5.53,9.08,2009]
["32221M","Paperboard container manufacturing",263750,4740484,33409392,391434,495599,51763970,4.8499999999999996,4.71,2008]
[32222,"Paper bag and coated and treated paper manufacturing",75530,1489647,9991090,159905,216805,18287871,5.53,9.08,2009]
[32222,"Paper bag and coated and treated paper manufacturing",87628,1674640,12176032,237398,238873,21266193,4.8499999999999996,4.71,2008]
["32222N","Coated and laminated paper and packaging manufacturing",48162,999645,7072175,137521,166812,13268548,5.53,9.08,2009]
["32222N","Coated and laminated paper and packaging manufacturing",55225,1122954,8729858,204356,184362,15602148,4.8499999999999996,4.71,2008]
["32222P","Coated, uncoated, and multiwall bag and packaging mfg",27368,490003,2918915,22384,49994,5019322,5.53,9.08,2009]
["32222P","Coated, uncoated, and multiwall bag and packaging mfg",32403,551686,3446174,33042,54511,5664045,4.8499999999999996,4.71,2008]
[32223,"Stationery product manufacturing",37585,655554,4277940,10902,72291,6942149,5.53,9.08,2009]
[32223,"Stationery product manufacturing",44415,736955,4578662,11062,75792,7863503,4.8499999999999996,4.71,2008]
["32223M","Stationery product manufacturing",37585,655554,4277940,10902,72291,6942149,5.53,9.08,2009]
["32223M","Stationery product manufacturing",44415,736955,4578662,11062,75792,7863503,4.8499999999999996,4.71,2008]
[32229,"Other converted paper product manufacturing",50118,1025386,6966099,75388,189093,14822775,5.53,9.08,2009]
[32229,"Other converted paper product manufacturing",53767,1013429,7225853,121138,208694,14998058,4.8499999999999996,4.71,2008]
[322291,"Sanitary paper product manufacturing",28213,644848,4965804,35530,122162,10827512,5.53,9.08,2009]
[322291,"Sanitary paper product manufacturing",28443,585192,5027217,71459,129788,10641914,4.8499999999999996,4.71,2008]
[322299,"All other converted paper product manufacturing",21905,380538,2000296,39858,66931,3995263,5.53,9.08,2009]
[322299,"All other converted paper product manufacturing",25324,428236,2198635,49679,78906,4356143,4.8499999999999996,4.71,2008]
[323,"Printing & related support activities",680184,13060954,32896209,333446,1112251,83860997,4.99,6.83,2009]
[323,"Printing & related support activities",822523,15263952,38917016,427773,1211906,98634118,4.41,5.83,2008]
[3231,"Printing & related support activities",680184,13060954,32896209,333446,1112251,83860997,4.99,6.83,2009]
[3231,"Printing & related support activities",822523,15263952,38917016,427773,1211906,98634118,4.41,5.83,2008]
[32311,"Printing",634510,12135593,31950592,310966,1066692,79692711,4.99,6.83,2009]
[32311,"Printing",761169,14113469,37751058,413257,1160347,93446221,4.41,5.83,2008]
["32311M","Printing",634510,12135593,31950592,310966,1066692,79692711,4.99,6.83,2009]
["32311M","Printing",761169,14113469,37751058,413257,1160347,93446221,4.41,5.83,2008]
[32312,"Support activities for printing",45674,925360,945618,22480,45559,4168286,4.99,6.83,2009]
[32312,"Support activities for printing",61354,1150484,1165958,14516,51559,5187897,4.41,5.83,2008]
["32312M","Support activities for printing",45674,925360,945618,22480,45559,4168286,4.99,6.83,2009]
["32312M","Support activities for printing",61354,1150484,1165958,14516,51559,5187897,4.41,5.83,2008]
[324,"Petroleum & coal products mfg",147977,4903494,419743225,6419567,2606247,497875474,3.66,1.1299999999999999,2009]
[324,"Petroleum & coal products mfg",151498,4842792,674550124,11773856,3577787,769698977,1.78,3.92,2008]
[3241,"Petroleum & coal products mfg",147977,4903494,419743225,6419567,2606247,497875474,3.36,1.1299999999999999,2009]
[3241,"Petroleum & coal products mfg",151498,4842792,674550124,11773856,3577787,769698977,1.78,3.92,2008]
[32411,"Petroleum refineries",94448,3628079,398679464,5805664,2346581,463582674,3.36,1.1299999999999999,2009]
[32411,"Petroleum refineries",94685,3553437,649783639,10916348,3282885,732565814,1.78,3.92,2008]
[324110,"Petroleum refineries",94448,3628079,398679464,5805664,2346581,463582674,3.36,1.1299999999999999,2009]
[324110,"Petroleum refineries",94685,3553437,649783639,10916348,3282885,732565814,1.78,3.92,2008]
[32412,"Asphalt paving, roofing, and saturated materials manufacturing",35802,850848,12256645,513989,190839,20850657,3.36,1.1299999999999999,2009]
[32412,"Asphalt paving, roofing, and saturated materials manufacturing",39896,880937,14997218,710109,219928,22093730,1.78,3.92,2008]
[324121,"Asphalt paving mixture and block manufacturing",20828,480615,7353158,439610,128882,11690953,3.36,1.1299999999999999,2009]
[324121,"Asphalt paving mixture and block manufacturing",22441,494887,8973183,582720,148320,12904700,1.78,3.92,2008]
[324122,"Asphalt shingle and coating materials manufacturing",14974,370233,4903487,74379,61957,9159704,3.36,1.1299999999999999,2009]
[324122,"Asphalt shingle and coating materials manufacturing",17455,386050,6024035,127389,71608,9189030,1.78,3.92,2008]
[32419,"Other petroleum and coal products manufacturing",17727,424566,8807116,99915,68827,13442144,3.36,1.1299999999999999,2009]
[32419,"Other petroleum and coal products manufacturing",16917,408418,9769267,147399,74973,15039433,1.78,3.92,2008]
[324191,"Petroleum lubricating oil and grease manufacturing",13157,306289,6592466,47633,35667,10158867,3.36,1.1299999999999999,2009]
[324191,"Petroleum lubricating oil and grease manufacturing",11584,282296,6960706,81516,39440,10754610,1.78,3.92,2008]
[324199,"All other petroleum and coal products manufacturing",4570,118278,2214651,52282,33159,3283277,3.36,1.1299999999999999,2009]
[324199,"All other petroleum and coal products manufacturing",5333,126122,2808561,65883,35533,4284823,1.78,3.92,2008]
[325,"Chemical mfg",836501,21650652,296725926,10068015,7565584,628945803,3.36,12.01,2009]
[325,"Chemical mfg",905943,22957354,386964284,16910701,9861130,738668920,3.39,9.61,2008]
[3251,"Basic chemical mfg",178128,5523548,107297701,6722256,4135940,175439319,5.53,2.74,2009]
[3251,"Basic chemical mfg",191426,6063291,159148929,11923217,5547404,242095916,3.38,1.05,2008]
[32511,"Petrochemical manufacturing",12415,517466,33100332,1544052,403690,52086422,5.53,2.74,2009]
[32511,"Petrochemical manufacturing",13101,542466,49507711,3226541,630022,78832495,3.38,1.05,2008]
[325110,"Petrochemical manufacturing",12415,517466,33100332,1544052,403690,52086422,5.53,2.74,2009]
[325110,"Petrochemical manufacturing",13101,542466,49507711,3226541,630022,78832495,3.38,1.05,2008]
[32512,"Industrial gas manufacturing",13351,410372,2557524,334438,880760,7499403,5.53,2.74,2009]
[32512,"Industrial gas manufacturing",13934,433572,3503202,463903,1061462,10255075,3.38,1.05,2008]
[325120,"Industrial gas manufacturing",13351,410372,2557524,334438,880760,7499403,5.53,2.74,2009]
[325120,"Industrial gas manufacturing",13934,433572,3503202,463903,1061462,10255075,3.38,1.05,2008]
[32513,"Synthetic dye and pigment manufacturing",13077,357173,3020509,176088,166183,6212514,5.53,2.74,2009]
[32513,"Synthetic dye and pigment manufacturing",15976,446017,3860913,228668,159598,7669352,3.38,1.05,2008]
["32513M","Synthetic dye and pigment manufacturing",13077,357173,3020509,176088,166183,6212514,5.53,2.74,2009]
["32513M","Synthetic dye and pigment manufacturing",15976,446017,3860913,228668,159598,7669352,3.38,1.05,2008]
[32518,"Other basic inorganic chemical manufacturing",45074,1392905,11473956,1062296,1405454,27796541,5.53,2.74,2009]
[32518,"Other basic inorganic chemical manufacturing",49831,1554617,14620376,1678598,1957245,31949330,3.38,1.05,2008]
[325181,"Alkalies and chlorine manufacturing",7785,276033,2556687,536319,"D",5376112,5.53,2.74,2009]
[325181,"Alkalies and chlorine manufacturing",8396,305100,3330380,898065,663428,7214900,3.38,1.05,2008]
[325182,"Carbon black manufacturing",2354,67063,733310,33596,"D",1183144,5.53,2.74,2009]
[325182,"Carbon black manufacturing",2790,76012,1354169,87741,38378,1826905,3.38,1.05,2008]
[325188,"All other basic inorganic chemical manufacturing",34936,1049809,8183959,492381,974844,21237284,5.53,2.74,2009]
[325188,"All other basic inorganic chemical manufacturing",38645,1173504,9935827,692792,1255439,22907525,3.38,1.05,2008]
[32519,"Other basic organic chemical manufacturing",94211,2845633,57145380,3605382,1279854,81844439,5.53,2.74,2009]
[32519,"Other basic organic chemical manufacturing",98584,3086619,87656726,6325507,1739078,113389665,3.38,1.05,2008]
["32519M","Other basic organic chemical manufacturing",94211,2845633,57145380,3605382,1279854,81844439,5.53,2.74,2009]
["32519M","Other basic organic chemical manufacturing",98584,3086619,87656726,6325507,1739078,113389665,3.38,1.05,2008]
[3252,"Resin, syn rubber, & artificial syn fibers & filaments mfg",108545,2930610,44760536,1524772,1436297,72112280,5.53,2.74,2009]
[3252,"Resin, syn rubber, & artificial syn fibers & filaments mfg",128841,3191818,71239748,2684226,2156500,99246849,3.38,1.05,2008]
[32521,"Resin and synthetic rubber manufacturing",88340,2532495,41416311,1367585,1280722,66857343,5.53,2.74,2009]
[32521,"Resin and synthetic rubber manufacturing",104504,2722504,66603204,2462695,1969300,91943900,3.38,1.05,2008]
[325211,"Plastics material and resin manufacturing",77183,2178732,37680953,1172658,1181606,60744217,5.53,2.74,2009]
[325211,"Plastics material and resin manufacturing",92716,2351349,60418410,2142073,1836874,83575008,3.38,1.05,2008]
[325212,"Synthetic rubber manufacturing",11157,353763,3735358,194927,99116,6113126,5.53,2.74,2009]
[325212,"Synthetic rubber manufacturing",11788,371155,6184794,320622,132426,8368892,3.38,1.05,2008]
[32522,"Artificial and synthetic fibers and filaments manufacturing",20205,398114,3344224,157186,155575,5254937,5.53,2.74,2009]
[32522,"Artificial and synthetic fibers and filaments manufacturing",24337,469314,4636544,221531,187200,7302949,3.38,1.05,2008]
["32522M","Artificial and synthetic fibers and filaments manufacturing",20205,398114,3344224,157186,155575,5254937,5.53,2.74,2009]
["32522M","Artificial and synthetic fibers and filaments manufacturing",24337,469314,4636544,221531,187200,7302949,3.38,1.05,2008]
[3253,"Pesticide, fertilizer, & other agricultural chemical mfg",38025,909708,16146977,420143,362746,32950257,3.19,14.44,2009]
[3253,"Pesticide, fertilizer, & other agricultural chemical mfg",40321,954190,19014869,701742,395648,36893670,2.81,12.45,2008]
[32531,"Fertilizer manufacturing",26038,608915,11622555,356830,303728,20963464,3.19,14.44,2009]
[32531,"Fertilizer manufacturing",26623,625426,13943554,633300,334332,23930970,2.81,12.45,2008]
[325311,"Nitrogenous fertilizer manufacturing",5596,176825,3100076,278366,170198,7054673,3.19,14.44,2009]
[325311,"Nitrogenous fertilizer manufacturing",5502,167117,4445396,525375,191812,8356010,2.81,12.45,2008]
[325312,"Phosphatic fertilizer manufacturing",10183,256827,5307245,58094,107606,8688260,3.19,14.44,2009]
[325312,"Phosphatic fertilizer manufacturing",10351,265394,6702365,86836,121534,10937783,2.81,12.45,2008]
[325314,"Fertilizer (mixing only) manufacturing",10259,175263,3215235,20370,25924,5220531,3.19,14.44,2009]
[325314,"Fertilizer (mixing only) manufacturing",10770,192916,2795793,21089,20985,4637177,2.81,12.45,2008]
[32532,"Pesticide and other agricultural chemical manufacturing",11987,300793,4524422,63313,59018,11986793,3.19,14.44,2009]
[32532,"Pesticide and other agricultural chemical manufacturing",13698,328764,5071315,68442,61317,12962701,2.81,12.45,2008]
[325320,"Pesticide and other agricultural chemical manufacturing",11987,300793,4524422,63313,59018,11986793,3.19,14.44,2009]
[325320,"Pesticide and other agricultural chemical manufacturing",13698,328764,5071315,68442,61317,12962701,2.81,12.45,2008]
[3254,"Pharmaceutical & medicine mfg",223508,6125030,50966982,562616,741265,191409938,3.43,16.399999999999999,2009]
[3254,"Pharmaceutical & medicine mfg",224961,6063515,51564423,604191,802563,192069906,3.39,15.18,2008]
[32541,"Pharmaceutical and medicine manufacturing",223508,6125030,50966982,562616,741265,191409938,3.43,16.399999999999999,2009]
[32541,"Pharmaceutical and medicine manufacturing",224961,6063515,51564423,604191,802563,192069906,3.39,15.18,2008]
[325411,"Medicinal and botanical manufacturing",26761,667670,4068060,110986,134639,10780248,3.43,16.399999999999999,2009]
[325411,"Medicinal and botanical manufacturing",24221,601562,4130130,114795,127613,9635516,3.39,15.18,2008]
[325412,"Pharmaceutical preparation manufacturing",135346,3596905,35226533,289163,429472,141936232,3.43,16.399999999999999,2009]
[325412,"Pharmaceutical preparation manufacturing",143076,3811384,36879873,332320,502742,146702179,3.39,15.18,2008]
[325413,"In-vitro diagnostic substance manufacturing",19810,532057,3759838,21330,62311,11878476,3.43,16.399999999999999,2009]
[325413,"In-vitro diagnostic substance manufacturing",18905,534652,4104730,19995,59911,12625245,3.39,15.18,2008]
[325414,"Biological product (except diagnostic) manufacturing",41591,1328397,7912552,141137,114844,26814983,3.43,16.399999999999999,2009]
[325414,"Biological product (except diagnostic) manufacturing",38760,1115917,6449689,137080,112297,23106966,3.39,15.18,2008]
[3255,"Paint, coating, & adhesive mfg",66408,1378752,14941293,116416,183361,29202317,3.19,14.44,2009]
[3255,"Paint, coating, & adhesive mfg",74350,1521626,17389147,143915,194597,32979842,2.81,12.45,2008]
[32551,"Paint and coating manufacturing",39623,848236,9759712,56248,100048,19630904,3.19,14.44,2009]
[32551,"Paint and coating manufacturing",45977,948997,11537730,68403,108512,22389225,2.81,12.45,2008]
[325510,"Paint and coating manufacturing",39623,848236,9759712,56248,100048,19630904,3.19,14.44,2009]
[325510,"Paint and coating manufacturing",45977,948997,11537730,68403,108512,22389225,2.81,12.45,2008]
[32552,"Adhesive manufacturing",26785,530517,5181581,60169,83314,9571413,3.19,14.44,2009]
[32552,"Adhesive manufacturing",28373,572628,5851416,75512,86084,10590618,2.81,12.45,2008]
[325520,"Adhesive manufacturing",26785,530517,5181581,60169,83314,9571413,3.19,14.44,2009]
[325520,"Adhesive manufacturing",28373,572628,5851416,75512,86084,10590618,2.81,12.45,2008]
[3256,"Soap, cleaning compound, & toilet preparation mfg",113064,2471908,41547335,365478,300986,86992023,3.19,14.44,2009]
[3256,"Soap, cleaning compound, & toilet preparation mfg",125553,2571579,43864962,442138,339734,90355865,2.81,12.45,2008]
[32561,"Soap and cleaning compound manufacturing",52283,1221649,23450012,322193,179027,48470784,3.19,14.44,2009]
[32561,"Soap and cleaning compound manufacturing",56299,1233928,23953568,378563,200137,46507309,2.81,12.45,2008]
["32561M","Soap and cleaning compound manufacturing",52283,1221649,23450012,322193,179027,48470784,3.19,14.44,2009]
["32561M","Soap and cleaning compound manufacturing",56299,1233928,23953568,378563,200137,46507309,2.81,12.45,2008]
[32562,"Toilet preparation manufacturing",60781,1250259,18097324,43285,121959,38521239,3.19,14.44,2009]
[32562,"Toilet preparation manufacturing",69254,1337651,19911393,63575,139597,43848556,2.81,12.45,2008]
[325620,"Toilet preparation manufacturing",60781,1250259,18097324,43285,121959,38521239,3.19,14.44,2009]
[325620,"Toilet preparation manufacturing",69254,1337651,19911393,63575,139597,43848556,2.81,12.45,2008]
[3259,"Other chemical product & preparation mfg",108823,2311095,21065101,356334,404989,40839669,3.19,14.44,2009]
[3259,"Other chemical product & preparation mfg",120490,2591335,24742207,411272,424684,45026870,2.81,12.45,2008]
[32591,"Printing ink manufacturing",16663,311609,2426722,11992,31653,4265317,3.19,14.44,2009]
[32591,"Printing ink manufacturing",15786,307683,2457785,13311,30360,4512198,2.81,12.45,2008]
[325910,"Printing ink manufacturing",16663,311609,2426722,11992,31653,4265317,3.19,14.44,2009]
[325910,"Printing ink manufacturing",15786,307683,2457785,13311,30360,4512198,2.81,12.45,2008]
[32592,"Explosives manufacturing",8558,186265,850795,5143,13117,2045937,3.19,14.44,2009]
[32592,"Explosives manufacturing",8302,171742,868081,6146,11960,1927322,2.81,12.45,2008]
[325920,"Explosives manufacturing",8558,186265,850795,5143,13117,2045937,3.19,14.44,2009]
[325920,"Explosives manufacturing",8302,171742,868081,6146,11960,1927322,2.81,12.45,2008]
[32599,"All other chemical product and preparation manufacturing",83602,1813221,17787585,339199,360219,34528415,3.19,14.44,2009]
[32599,"All other chemical product and preparation manufacturing",96402,2111910,21416341,391815,382364,38587350,2.81,12.45,2008]
[325991,"Custom compounding of purchased resins",23517,441451,4913353,33305,124176,7297569,3.19,14.44,2009]
[325991,"Custom compounding of purchased resins",28269,532115,6787834,48259,142775,9061359,2.81,12.45,2008]
["32599N","All other miscellaneous chemical product and preparation mfg",60085,1371770,12874232,305894,236043,27230846,3.19,14.44,2009]
["32599N","All other miscellaneous chemical product and preparation mfg",68132,1579795,14628507,343557,239589,29525990,2.2999999999999998,12.96,2008]
[326,"Plastics & rubber products mfg",1029699,17139096,87355685,831879,3366868,171185548,4.21,5.9,2009]
[326,"Plastics & rubber products mfg",1217680,20504412,112654152,1181341,3827229,203669157,3.47,3.44,2008]
[3261,"Plastics product mfg",843762,13473646,69985727,569163,2904434,138684839,4.21,5.9,2009]
[3261,"Plastics product mfg",998764,16130956,90292041,807561,3314773,166434261,3.47,3.44,2008]
[32611,"Unsupported plastics film, sheet, and bag manufacturing",143351,2671539,16305206,161225,627981,30113741,4.21,5.9,2009]
[32611,"Unsupported plastics film, sheet, and bag manufacturing",151107,2790979,21453331,244696,698325,35534798,3.47,3.44,2008]
[326111,"Plastics bag manufacturing",50817,828258,4518773,17343,161313,8649452,4.21,5.9,2009]
[326111,"Plastics bag manufacturing",50362,804075,5634647,26152,179526,9388056,3.47,3.44,2008]
[326112,"Plastics packaging film and sheet (including laminated) mfg",37850,805946,4662578,54349,150799,8678065,4.21,5.9,2009]
[326112,"Plastics packaging film and sheet (including laminated) mfg",40462,845585,6163154,74839,170084,10447410,3.47,3.44,2008]
[326113,"Unlaminated plastics film and sheet (except packaging) mfg",54684,1037335,7123854,89534,315869,12786223,4.21,5.9,2009]
[326113,"Unlaminated plastics film and sheet (except packaging) mfg",60282,1141319,9655531,143704,348715,15699332,3.47,3.44,2008]
[32612,"Plastics pipe, pipe fitting, and unsupported profile shape mfg",58284,909347,5144234,32627,201961,9721578,4.21,5.9,2009]
[32612,"Plastics pipe, pipe fitting, and unsupported profile shape mfg",64905,1080473,8030573,46818,268916,13764846,3.47,3.44,2008]
[326121,"Unsupported plastics profile shape manufacturing",23942,404766,1618364,23330,65282,3594712,4.21,5.9,2009]
[326121,"Unsupported plastics profile shape manufacturing",28020,491479,2375677,31714,85035,4841766,3.47,3.44,2008]
[326122,"Plastics pipe and pipe fitting manufacturing",34342,504582,3525869,9297,136680,6126865,4.21,5.9,2009]
[326122,"Plastics pipe and pipe fitting manufacturing",36885,588995,5654897,15104,183881,8923080,3.47,3.44,2008]
[32613,"Laminated plastics plate, sheet, and shape manufacturing",14170,274060,1272124,29113,44898,2628049,4.21,5.9,2009]
[32613,"Laminated plastics plate, sheet, and shape manufacturing",19306,354167,1800454,39836,52994,3632543,3.47,3.44,2008]
[326130,"Laminated plastics plate, sheet, and shape manufacturing",14170,274060,1272124,29113,44898,2628049,4.21,5.9,2009]
[326130,"Laminated plastics plate, sheet, and shape manufacturing",19306,354167,1800454,39836,52994,3632543,3.47,3.44,2008]
[32614,"Polystyrene foam product manufacturing",41676,633236,3915026,71582,144480,7772050,4.21,5.9,2009]
[32614,"Polystyrene foam product manufacturing",48696,749358,4591480,118818,157501,8230923,3.47,3.44,2008]
[326140,"Polystyrene foam product manufacturing",41676,633236,3915026,71582,144480,7772050,4.21,5.9,2009]
[326140,"Polystyrene foam product manufacturing",48696,749358,4591480,118818,157501,8230923,3.47,3.44,2008]
[32615,"Urethane and other foam product (except polystyrene) mfg",35721,577960,4128847,32744,71760,7166251,4.21,5.9,2009]
[32615,"Urethane and other foam product (except polystyrene) mfg",47003,719216,5873672,47370,83725,9659151,3.47,3.44,2008]
[326150,"Urethane and other foam product (except polystyrene) mfg",35721,577960,4128847,32744,71760,7166251,4.21,5.9,2009]
[326150,"Urethane and other foam product (except polystyrene) mfg",47003,719216,5873672,47370,83725,9659151,3.47,3.44,2008]
[32616,"Plastics bottle manufacturing",60057,1029718,5988153,21255,436848,10906974,4.21,5.9,2009]
[32616,"Plastics bottle manufacturing",62770,1039730,7027448,23516,476142,12036830,3.47,3.44,2008]
[326160,"Plastics bottle manufacturing",60057,1029718,5988153,21255,436848,10906974,4.21,5.9,2009]
[326160,"Plastics bottle manufacturing",62770,1039730,7027448,23516,476142,12036830,3.47,3.44,2008]
[32619,"Other plastics product manufacturing",490502,7377786,33232138,220617,1376505,70376197,4.21,5.9,2009]
[32619,"Other plastics product manufacturing",604978,9397033,41515083,286508,1577170,83575171,3.47,3.44,2008]
["32619M","Other plastics product manufacturing",490502,7377786,33232138,220617,1376505,70376197,4.21,5.9,2009]
["32619M","Other plastics product manufacturing",604978,9397033,41515083,286508,1577170,83575171,3.47,3.44,2008]
[3262,"Rubber product mfg",185937,3665450,17369958,262716,462435,32500709,4.21,5.9,2009]
[3262,"Rubber product mfg",218916,4373455,22362111,373780,512456,37234896,3.47,3.44,2008]
[32621,"Tire manufacturing",80936,1960349,8771026,155272,232703,15975401,4.21,5.9,2009]
[32621,"Tire manufacturing",88828,2282323,11529327,238138,258856,17776167,3.47,3.44,2008]
["32621M","Tire manufacturing",80936,1960349,8771026,155272,232703,15975401,4.21,5.9,2009]
["32621M","Tire manufacturing",88828,2282323,11529327,238138,258856,17776167,3.47,3.44,2008]
[32622,"Rubber and plastics hoses and belting manufacturing",23740,407386,1805046,27494,47957,3724899,4.21,5.9,2009]
[32622,"Rubber and plastics hoses and belting manufacturing",29242,499424,2276127,35257,55936,4479578,3.47,3.44,2008]
[326220,"Rubber and plastics hoses and belting manufacturing",23740,407386,1805046,27494,47957,3724899,4.21,5.9,2009]
[326220,"Rubber and plastics hoses and belting manufacturing",29242,499424,2276127,35257,55936,4479578,3.47,3.44,2008]
[32629,"Other rubber product manufacturing",81261,1297715,6793885,79951,181775,12800409,4.21,5.9,2009]
[32629,"Other rubber product manufacturing",100846,1591708,8556657,100386,197665,14979151,3.47,3.44,2008]
["32629M","Other rubber product manufacturing",81261,1297715,6793885,79951,181775,12800409,4.21,5.9,2009]
["32629M","Other rubber product manufacturing",100846,1591708,8556657,100386,197665,14979151,3.47,3.44,2008]
[327,"Nonmetallic mineral product mfg",550220,10688916,40196667,3209879,2307607,90395938,7.49,1.67,2009]
[327,"Nonmetallic mineral product mfg",694574,13113212,53614967,4792922,2830328,115455730,6.08,3.65,2008]
[3271,"Clay product & refractory mfg",47025,848048,2509372,287408,141861,6159308,7.49,1.67,2009]
[3271,"Clay product & refractory mfg",66377,1140422,3462827,486141,182857,7930061,6.08,3.65,2008]
[32711,"Pottery, ceramics, and plumbing fixture manufacturing",18515,314630,730808,42297,37022,1776143,7.49,1.67,2009]
[32711,"Pottery, ceramics, and plumbing fixture manufacturing",24941,405980,928267,70976,44214,2140567,6.08,3.65,2008]
[327111,"Vitreous china plumbing fixture manufacturing","D","D","D","D","D","D",7.49,1.67,2009]
[327111,"Vitreous china plumbing fixture manufacturing",6034,95639,364313,21539,7973,604826,6.08,3.65,2008]
[327112,"Vitreous china and earthenware articles mfg",7783,"D","D","D","D","D",7.49,1.67,2009]
[327112,"Vitreous china and earthenware articles mfg",9475,144902,224359,23809,13544,688858,6.08,3.65,2008]
[327113,"Porcelain electrical supply manufacturing","D",121448,269865,18731,18425,715591,7.49,1.67,2009]
[327113,"Porcelain electrical supply manufacturing",9433,165439,339594,25628,22696,846883,6.08,3.65,2008]
[32712,"Clay building material and refractories manufacturing",28510,533417,1778565,245110,104839,4383164,7.49,1.67,2009]
[32712,"Clay building material and refractories manufacturing",41436,734442,2534561,415165,138643,5789494,6.08,3.65,2008]
[327121,"Brick and structural clay tile manufacturing",10846,187510,358432,137860,43125,1121285,7.49,1.67,2009]
[327121,"Brick and structural clay tile manufacturing",15600,254039,613114,248360,60565,1495861,6.08,3.65,2008]
[327122,"Ceramic wall and floor tile manufacturing",5934,104758,287958,31874,19661,906853,7.49,1.67,2009]
[327122,"Ceramic wall and floor tile manufacturing",9681,160163,421014,57698,26300,1121442,6.08,3.65,2008]
[327123,"Other structural clay product manufacturing",1671,29170,45970,10284,3912,151412,7.49,1.67,2009]
[327123,"Other structural clay product manufacturing",2233,35726,68210,17953,4747,182816,6.08,3.65,2008]
["32712N","Refractory manufacturing",10059,211980,1086206,65092,38141,2203615,7.49,1.67,2009]
["32712N","Refractory manufacturing",13922,284515,1432223,91153,47031,2989375,6.08,3.65,2008]
[3272,"Glass & glass product mfg",129239,2631974,9095566,1006343,710490,20402685,7.49,1.67,2009]
[3272,"Glass & glass product mfg",152055,2987019,10690855,1362196,772560,23355160,6.08,3.65,2008]
[32721,"Glass and glass product manufacturing",129239,2631974,9095566,1006343,710490,20402685,7.49,1.67,2009]
[32721,"Glass and glass product manufacturing",152055,2987019,10690855,1362196,772560,23355160,6.08,3.65,2008]
[327211,"Flat glass manufacturing",14284,292787,1350876,319180,119791,2584128,7.49,1.67,2009]
[327211,"Flat glass manufacturing",17099,347544,1752386,486476,137179,3478775,6.08,3.65,2008]
[327212,"Other pressed and blown glass and glassware manufacturing",28080,549810,1519440,252171,150781,3825383,7.49,1.67,2009]
[327212,"Other pressed and blown glass and glassware manufacturing",34458,709514,1960935,311090,177544,4384799,6.08,3.65,2008]
[327213,"Glass container manufacturing",25631,683825,2066672,384045,230211,5178825,7.49,1.67,2009]
[327213,"Glass container manufacturing",25647,688119,2168465,503105,241045,5112492,6.08,3.65,2008]
[327215,"Glass product manufacturing made of purchased glass",61244,1105552,4158578,50946,209707,8814349,7.49,1.67,2009]
[327215,"Glass product manufacturing made of purchased glass",74852,1241844,4809070,61525,216791,10379094,6.08,3.65,2008]
[3273,"Cement & concrete product mfg",260678,4935121,19068257,856213,826602,41392533,7.49,1.67,2009]
[3273,"Cement & concrete product mfg",331644,6212110,27718193,1424476,1148775,57292439,6.08,3.65,2008]
[32731,"Cement manufacturing",21589,604633,2179959,522394,548237,5946329,7.49,1.67,2009]
[32731,"Cement manufacturing",29203,776130,3891817,869103,799432,9250547,6.08,3.65,2008]
[327310,"Cement manufacturing",21589,604633,2179959,522394,548237,5946329,7.49,1.67,2009]
[327310,"Cement manufacturing",29203,776130,3891817,869103,799432,9250547,6.08,3.65,2008]
[32732,"Ready-mix concrete manufacturing",129908,2532279,10305945,210474,125414,19942048,7.49,1.67,2009]
[32732,"Ready-mix concrete manufacturing",157510,3048861,15298714,382854,188124,27968260,6.08,3.65,2008]
[327320,"Ready-mix concrete manufacturing",129908,2532279,10305945,210474,125414,19942048,7.49,1.67,2009]
[327320,"Ready-mix concrete manufacturing",157510,3048861,15298714,382854,188124,27968260,6.08,3.65,2008]
[32733,"Concrete pipe, brick, and block manufacturing",35425,630027,3068666,54818,67573,6558255,7.49,1.67,2009]
[32733,"Concrete pipe, brick, and block manufacturing",43924,777505,3710033,73407,70229,7662293,6.08,3.65,2008]
["32733M","Concrete pipe, brick, and block manufacturing",35425,630027,3068666,54818,67573,6558255,7.49,1.67,2009]
["32733M","Concrete pipe, brick, and block manufacturing",43924,777505,3710033,73407,70229,7662293,6.08,3.65,2008]
[32739,"Other concrete product manufacturing",73756,1168182,3513687,68527,85378,8945902,7.49,1.67,2009]
[32739,"Other concrete product manufacturing",101007,1609614,4817629,99112,90991,12411339,6.08,3.65,2008]
[327390,"Other concrete product manufacturing",73756,1168182,3513687,68527,85378,8945902,7.49,1.67,2009]
[327390,"Other concrete product manufacturing",101007,1609614,4817629,99112,90991,12411339,6.08,3.65,2008]
[3274,"Lime & gypsum product mfg",20127,461575,2766245,616775,196674,5259872,7.49,1.67,2009]
[3274,"Lime & gypsum product mfg",26958,607296,3804296,925857,256516,6568487,6.08,3.65,2008]
[32741,"Lime manufacturing",6941,172379,767342,307696,90961,1844653,7.49,1.67,2009]
[32741,"Lime manufacturing",7717,188146,899307,360799,99574,1924691,6.08,3.65,2008]
[327410,"Lime manufacturing",6941,172379,767342,307696,90961,1844653,7.49,1.67,2009]
[327410,"Lime manufacturing",7717,188146,899307,360799,99574,1924691,6.08,3.65,2008]
[32742,"Gypsum product manufacturing",13186,289196,1998903,309080,105713,3415219,7.49,1.67,2009]
[32742,"Gypsum product manufacturing",19241,419150,2904989,565058,156942,4643796,6.08,3.65,2008]
[327420,"Gypsum product manufacturing",13186,289196,1998903,309080,105713,3415219,7.49,1.67,2009]
[327420,"Gypsum product manufacturing",19241,419150,2904989,565058,156942,4643796,6.08,3.65,2008]
[3279,"Other nonmetallic mineral product mfg",93151,1812198,6757227,443141,431979,17181539,7.49,1.67,2009]
[3279,"Other nonmetallic mineral product mfg",117540,2166365,7938795,594252,469621,20309582,6.08,3.65,2008]
[32791,"Abrasive product manufacturing",15071,274533,1049532,29833,51627,3561245,7.49,1.67,2009]
[32791,"Abrasive product manufacturing",19229,324115,1408041,35254,51906,4484101,6.08,3.65,2008]
[327910,"Abrasive product manufacturing",15071,274533,1049532,29833,51627,3561245,7.49,1.67,2009]
[327910,"Abrasive product manufacturing",19229,324115,1408041,35254,51906,4484101,6.08,3.65,2008]
[32799,"All other nonmetallic mineral product manufacturing",78079,1537665,5707695,413307,380353,13620295,7.49,1.67,2009]
[32799,"All other nonmetallic mineral product manufacturing",98312,1842250,6530755,558998,417715,15825482,6.08,3.65,2008]
[327991,"Cut stone and stone product manufacturing",31680,544239,1020780,20526,31379,2887221,7.49,1.67,2009]
[327991,"Cut stone and stone product manufacturing",44014,734085,1409032,22597,35963,3810356,6.08,3.65,2008]
[327992,"Ground or treated mineral and earth manufacturing",9217,202290,1289980,132384,101301,3053071,7.49,1.67,2009]
[327992,"Ground or treated mineral and earth manufacturing",10091,232694,1319448,177263,107165,3144561,6.08,3.65,2008]
[327993,"Mineral wool manufacturing",25243,564734,2060363,194858,208435,4668901,7.49,1.67,2009]
[327993,"Mineral wool manufacturing",31093,630486,2286569,277361,227934,5512125,6.08,3.65,2008]
[327999,"All other miscellaneous nonmetallic mineral product mfg",11940,226401,1336572,65540,39238,3011102,7.49,1.67,2009]
[327999,"All other miscellaneous nonmetallic mineral product mfg",13114,244985,1515706,81777,46653,3358440,6.08,3.65,2008]
[331,"Primary metal mfg",538189,12443316,115973007,3725620,5020390,168297912,4.2,0.21,2009]
[331,"Primary metal mfg",696498,16201235,189659188,6410419,6966561,282622609,2.66,7.06,2008]
[3311,"Iron & steel mills & ferroalloy mfg",150328,4465725,47378839,2211546,2228309,63865184,4.18,-5.95,2009]
[3311,"Iron & steel mills & ferroalloy mfg",188357,5870112,82961577,3874947,2959836,126708326,2.66,7.06,2008]
[33111,"Iron and steel mills and ferroalloy manufacturing",150328,4465725,47378839,2211546,2228309,63865184,4.18,-5.95,2009]
[33111,"Iron and steel mills and ferroalloy manufacturing",188357,5870112,82961577,3874947,2959836,126708326,2.13,7.06,2008]
["33111M","Iron and steel mills and ferroalloy manufacturing",150328,4465725,47378839,2211546,2228309,63865184,4.18,-5.95,2009]
["33111M","Iron and steel mills and ferroalloy manufacturing",188357,5870112,82961577,3874947,2959836,126708326,2.13,7.06,2008]
[3312,"Steel product mfg from purchased steel",55188,1173378,11207009,177594,275019,15515695,4.18,-5.95,2009]
[3312,"Steel product mfg from purchased steel",75611,1555386,17698230,309299,378725,25748326,2.13,7.06,2008]
[33121,"Iron and steel pipe and tube mfg from purchased steel",24484,551826,4566349,104304,142091,6815216,4.18,-5.95,2009]
[33121,"Iron and steel pipe and tube mfg from purchased steel",33682,719980,8004549,169254,187978,11804804,2.13,7.06,2008]
[331210,"Iron and steel pipe and tube mfg from purchased steel",24484,551826,4566349,104304,142091,6815216,4.18,-5.95,2009]
[331210,"Iron and steel pipe and tube mfg from purchased steel",33682,719980,8004549,169254,187978,11804804,2.13,7.06,2008]
[33122,"Rolling and drawing of purchased steel",30704,621552,6640660,73290,132928,8700479,4.18,-5.95,2009]
[33122,"Rolling and drawing of purchased steel",41929,835406,9693681,140045,190747,13943523,2.13,7.06,2008]
["33122M","Rolling and drawing of purchased steel",30704,621552,6640660,73290,132928,8700479,4.18,-5.95,2009]
["33122M","Rolling and drawing of purchased steel",41929,835406,9693681,140045,190747,13943523,2.13,7.06,2008]
[3313,"Alumina & aluminum production & processing",73174,1610614,18479593,577445,1173506,24791246,4.2699999999999996,5.29,2009]
[3313,"Alumina & aluminum production & processing",97390,2088401,29701413,1191494,1995765,39899583,3.48,5.12,2008]
[33131,"Alumina and aluminum production and processing",73174,1610614,18479593,577445,1173506,24791246,4.2699999999999996,5.29,2009]
[33131,"Alumina and aluminum production and processing",97390,2088401,29701413,1191494,1995765,39899583,3.3,7.64,2008]
[331311,"Alumina refining",2262,60398,485923,89137,14821,746255,4.2699999999999996,5.29,2009]
[331311,"Alumina refining",2745,68912,1125914,301845,25732,1400374,3.3,7.64,2008]
[331312,"Primary aluminum production",12558,319554,2876836,47586,835922,3758580,4.2699999999999996,5.29,2009]
[331312,"Primary aluminum production",15750,402836,4274442,99045,1392238,6783388,3.3,7.64,2008]
[331314,"Secondary smelting and alloying of aluminum",6429,125503,2840494,162076,59873,3440336,4.2699999999999996,5.29,2009]
[331314,"Secondary smelting and alloying of aluminum",12100,235011,6065807,246334,236592,7239764,3.3,7.64,2008]
[331316,"Aluminum extruded product manufacturing",25211,445742,3105972,65276,78389,4763494,4.2699999999999996,5.29,2009]
[331316,"Aluminum extruded product manufacturing",34448,608624,5519345,110921,108661,7373082,3.3,7.64,2008]
["33131N","Aluminum rolling and drawing",26714,659417,9170369,213371,184501,12082581,4.2699999999999996,5.29,2009]
["33131N","Aluminum rolling and drawing",32346,773018,12715905,433349,232542,17102975,3.3,7.64,2008]
[3314,"Nonferrous metal (except aluminum) production & processing",77960,1828908,28719527,354803,649527,41333186,4.2699999999999996,5.29,2009]
[3314,"Nonferrous metal (except aluminum) production & processing",94542,2109584,43023189,466650,763781,58608622,3.3,7.64,2008]
[33141,"Nonferrous metal (except aluminum) smelting and refining",14777,394038,8101885,175255,333875,12935484,4.2699999999999996,5.29,2009]
[33141,"Nonferrous metal (except aluminum) smelting and refining",14510,343574,9737877,170395,349535,14601290,3.3,7.64,2008]
[331411,"Primary smelting and refining of copper",2434,63580,"D","D",45720,6433325,4.2699999999999996,5.29,2009]
[331411,"Primary smelting and refining of copper",2500,66119,"D","D",34445,7243213,3.3,7.64,2008]
[331419,"Primary nonferrous metal (except copper and aluminum)",12343,330458,"D","D",288155,6502159,4.2699999999999996,5.29,2009]
[331419,"Primary nonferrous metal (except copper and aluminum)",12010,277455,"D","D",315090,7358077,3.3,7.64,2008]
[33142,"Copper rolling, drawing, extruding, and alloying",29118,620322,11370482,68751,144677,14481644,4.2699999999999996,5.29,2009]
[33142,"Copper rolling, drawing, extruding, and alloying",37495,782189,19840528,127909,187897,23585887,2.79,11.85,2008]
["33142M","Copper rolling, drawing, extruding, and alloying",29118,620322,11370482,68751,144677,14481644,4.2699999999999996,5.29,2009]
["33142M","Copper rolling, drawing, extruding, and alloying",37495,782189,19840528,127909,187897,23585887,2.79,11.85,2008]
[33149,"Nonferrous metal (except copper and aluminum) shaping",34065,814548,9247160,110796,170975,13916058,4.2699999999999996,5.29,2009]
[33149,"Nonferrous metal (except copper and aluminum) shaping",42538,983821,13444785,168347,226349,20421445,2.79,11.85,2008]
["33149M","Nonferrous metal (except copper and aluminum) shaping",34065,814548,9247160,110796,170975,13916058,4.2699999999999996,5.29,2009]
["33149M","Nonferrous metal (except copper and aluminum) shaping",42538,983821,13444785,168347,226349,20421445,2.79,11.85,2008]
[3315,"Foundries",181540,3364691,10188039,404232,694029,22792600,4.03,10.67,2009]
[3315,"Foundries",240598,4577752,16274778,568029,868454,31657752,2.79,11.85,2008]
[33151,"Ferrous metal foundries",105076,2000518,6277104,243862,496836,13742115,4.03,10.67,2009]
[33151,"Ferrous metal foundries",138361,2686293,9804551,316722,621810,18825907,2.79,11.85,2008]
["33151M","Ferrous metal foundries",105076,2000518,6277104,243862,496836,13742115,4.03,10.67,2009]
["33151M","Ferrous metal foundries",138361,2686293,9804551,316722,621810,18825907,2.79,11.85,2008]
[33152,"Nonferrous metal foundries",76464,1364173,3910935,160370,197193,9050485,4.03,10.67,2009]
[33152,"Nonferrous metal foundries",102238,1891460,6470227,251308,246645,12831845,2.79,11.85,2008]
["33152N","Aluminum foundries",53229,937518,2573459,132572,130883,5696826,4.03,10.67,2009]
["33152N","Aluminum foundries",69013,1301532,4265004,210210,168390,8265765,2.79,11.85,2008]
["33152P","Foundries not aluminum",23235,426654,1337476,27797,66310,3353659,4.03,10.67,2009]
["33152P","Foundries not aluminum",33224,589928,2205224,41098,78254,4566080,2.79,11.85,2008]
[332,"Fabricated metal product mfg",1842338,34401677,130624569,1536996,2916139,281316544,3.1,7.34,2009]
[332,"Fabricated metal product mfg",2354995,43439096,170920272,2098710,3396064,358257029,2.4700000000000002,8.2899999999999991,2008]
[3321,"Forging & stamping",149774,2716002,14054369,291529,342788,26125051,3.1,7.34,2009]
[3321,"Forging & stamping",189703,3533549,19211853,393394,424759,35150008,2.4700000000000002,8.2899999999999991,2008]
[33211,"Forging and stamping",149774,2716002,14054369,291529,342788,26125051,3.1,7.34,2009]
[33211,"Forging and stamping",189703,3533549,19211853,393394,424759,35150008,2.4700000000000002,8.2899999999999991,2008]
[332114,"Custom roll forming",25274,483937,3549673,34971,41782,5971708,3.1,7.34,2009]
[332114,"Custom roll forming",30817,586160,5406589,67731,52323,8972107,2.4700000000000002,8.2899999999999991,2008]
[332117,"Powder metallurgy parts manufacturing",9802,168706,684886,15466,32679,1322872,3.1,7.34,2009]
[332117,"Powder metallurgy parts manufacturing",12812,222287,986441,17662,38604,1797283,2.4700000000000002,8.2899999999999991,2008]
["33211N","Forging",41970,821119,5007855,192702,154750,8948352,3.1,7.34,2009]
["33211N","Forging",51742,1054516,6204984,242880,194863,11280167,2.4700000000000002,8.2899999999999991,2008]
["33211P","Crown, closure, and metal stamping manufacturing",72728,1242239,4811956,48390,113577,9882120,3.1,7.34,2009]
["33211P","Crown, closure, and metal stamping manufacturing",94332,1670586,6613838,65121,138969,13100451,2.4700000000000002,8.2899999999999991,2008]
[3322,"Cutlery & handtool mfg",53933,1000054,3188612,45809,100850,8430917,3.1,7.34,2009]
[3322,"Cutlery & handtool mfg",68885,1254885,4024136,57775,120850,10162972,2.4700000000000002,8.2899999999999991,2008]
[33221,"Cutlery and hand tool manufacturing",53933,1000054,3188612,45809,100850,8430917,3.1,7.34,2009]
[33221,"Cutlery and hand tool manufacturing",68885,1254885,4024136,57775,120850,10162972,2.4700000000000002,8.2899999999999991,2008]
["33221N","Cutlery, kitchen utensil, pot, and pan manufacturing",9959,200537,986661,19705,28651,2449512,3.1,7.34,2009]
["33221N","Cutlery, kitchen utensil, pot, and pan manufacturing",11724,245472,947575,22986,29044,2419847,2.4700000000000002,8.2899999999999991,2008]
["33221P","Hand tool and saw blade manufacturing",43974,799517,2201951,26105,72199,5981404,3.1,7.34,2009]
["33221P","Hand tool and saw blade manufacturing",57161,1009414,3076561,34790,91807,7743125,2.4700000000000002,8.2899999999999991,2008]
[3323,"Architectural & structural metals mfg",454457,8031787,35884064,195037,475696,71022277,3.1,7.34,2009]
[3323,"Architectural & structural metals mfg",596890,10440225,50698000,285982,560874,95181575,2.4700000000000002,8.2899999999999991,2008]
[33231,"Plate work and fabricated structural product manufacturing",205078,3908441,19942764,98410,234695,37257693,3.1,7.34,2009]
[33231,"Plate work and fabricated structural product manufacturing",270648,5044631,28869223,145587,271937,50766966,2.4700000000000002,8.2899999999999991,2008]
["33231M","Plate work and fabricated structural product manufacturing",205078,3908441,19942764,98410,234695,37257693,3.1,7.34,2009]
["33231M","Plate work and fabricated structural product manufacturing",270648,5044631,28869223,145587,271937,50766966,2.4700000000000002,8.2899999999999991,2008]
[33232,"Ornamental and architectural metal work manufacturing",249379,4123346,15941299,96627,241001,33764584,3.1,7.34,2009]
[33232,"Ornamental and architectural metal work manufacturing",326242,5395594,21828777,140395,288937,44414609,2.4700000000000002,8.2899999999999991,2008]
["33232M","Ornamental and architectural metal work manufacturing",249379,4123346,15941299,96627,241001,33764584,3.1,7.34,2009]
["33232M","Ornamental and architectural metal work manufacturing",326242,5395594,21828777,140395,288937,44414609,2.4700000000000002,8.2899999999999991,2008]
[3324,"Boiler, tank, & shipping container mfg",114843,2589147,17158268,142220,300154,29823857,3.1,7.34,2009]
[3324,"Boiler, tank, & shipping container mfg",150876,3182111,18784736,204177,340952,33827646,2.4700000000000002,8.2899999999999991,2008]
[33241,"Power boiler and heat exchanger manufacturing",29620,668845,2689093,13520,39253,6312621,3.1,7.34,2009]
[33241,"Power boiler and heat exchanger manufacturing",34798,742217,3143752,17517,41916,6758564,2.4700000000000002,8.2899999999999991,2008]
[332410,"Power boiler and heat exchanger manufacturing",29620,668845,2689093,13520,39253,6312621,3.1,7.34,2009]
[332410,"Power boiler and heat exchanger manufacturing",34798,742217,3143752,17517,41916,6758564,2.4700000000000002,8.2899999999999991,2008]
[33242,"Metal tank (heavy gauge) manufacturing",37330,837295,3088034,26192,49610,6218244,3.1,7.34,2009]
[33242,"Metal tank (heavy gauge) manufacturing",61276,1250908,4464389,49395,64386,9100739,2.4700000000000002,8.2899999999999991,2008]
[332420,"Metal tank (heavy gauge) manufacturing",37330,837295,3088034,26192,49610,6218244,3.1,7.34,2009]
[332420,"Metal tank (heavy gauge) manufacturing",61276,1250908,4464389,49395,64386,9100739,2.4700000000000002,8.2899999999999991,2008]
[33243,"Metal can, box, and other metal container (light gauge) mfg",47893,1083007,11381141,102507,211291,17292992,3.1,7.34,2009]
[33243,"Metal can, box, and other metal container (light gauge) mfg",54802,1188986,11176595,137265,234650,17968343,2.4700000000000002,8.2899999999999991,2008]
["33243M","Metal can, box, and other metal container (light gauge) mfg",47893,1083007,11381141,102507,211291,17292992,3.1,7.34,2009]
["33243M","Metal can, box, and other metal container (light gauge) mfg",54802,1188986,11176595,137265,234650,17968343,2.4700000000000002,8.2899999999999991,2008]
[3325,"Hardware mfg",37313,632431,3065126,26826,50796,6773779,3.1,7.34,2009]
[3325,"Hardware mfg",50149,853281,3971250,34855,65343,8730804,2.4700000000000002,8.2899999999999991,2008]
[33251,"Hardware manufacturing",37313,632431,3065126,26826,50796,6773779,3.1,7.34,2009]
[33251,"Hardware manufacturing",50149,853281,3971250,34855,65343,8730804,2.4700000000000002,8.2899999999999991,2008]
[332510,"Hardware manufacturing",37313,632431,3065126,26826,50796,6773779,3.1,7.34,2009]
[332510,"Hardware manufacturing",50149,853281,3971250,34855,65343,8730804,2.4700000000000002,8.2899999999999991,2008]
[3326,"Spring & wire product mfg",58766,938101,4033510,40311,86230,8124336,3.1,7.34,2009]
[3326,"Spring & wire product mfg",73300,1178326,5068903,58116,100122,9868192,2.4700000000000002,8.2899999999999991,2008]
[33261,"Spring and wire product manufacturing",58766,938101,4033510,40311,86230,8124336,3.1,7.34,2009]
[33261,"Spring and wire product manufacturing",73300,1178326,5068903,58116,100122,9868192,2.4700000000000002,8.2899999999999991,2008]
["33261M","Spring and wire product manufacturing",58766,938101,4033510,40311,86230,8124336,3.1,7.34,2009]
["33261M","Spring and wire product manufacturing",73300,1178326,5068903,58116,100122,9868192,2.4700000000000002,8.2899999999999991,2008]
[3327,"Machine shops, turned product, & screw, nut, & bolt mfg",480062,9281987,18218400,180256,583340,48936613,3.1,7.34,2009]
[3327,"Machine shops, turned product, & screw, nut, & bolt mfg",620133,12090294,24430183,207945,661343,63759457,2.4700000000000002,8.2899999999999991,2008]
[33271,"Machine shops",312283,6061269,10631886,108842,324175,29722501,3.1,7.34,2009]
[33271,"Machine shops",396471,7873485,14005330,115781,366881,38350372,2.4700000000000002,8.2899999999999991,2008]
[332710,"Machine shops",312283,6061269,10631886,108842,324175,29722501,3.1,7.34,2009]
[332710,"Machine shops",396471,7873485,14005330,115781,366881,38350372,2.4700000000000002,8.2899999999999991,2008]
[33272,"Turned product and screw, nut, and bolt manufacturing",167780,3220718,7586514,71415,259165,19214112,3.1,7.34,2009]
[33272,"Turned product and screw, nut, and bolt manufacturing",223662,4216809,10424853,92164,294461,25409085,2.4700000000000002,8.2899999999999991,2008]
[332721,"Precision turned product manufacturing",117388,2253290,4311652,33622,175582,11641050,3.1,7.34,2009]
[332721,"Precision turned product manufacturing",159772,2947156,5969853,39769,194471,15162571,2.4700000000000002,8.2899999999999991,2008]
[332722,"Bolt, nut, screw, rivet, and washer manufacturing",50392,967427,3274862,37793,83583,7573062,3.1,7.34,2009]
[332722,"Bolt, nut, screw, rivet, and washer manufacturing",63890,1269654,4455000,52395,99990,10246514,2.4700000000000002,8.2899999999999991,2008]
[3328,"Coating, engraving, heat treating, & allied activities",163329,2789292,8610825,397354,417888,20300158,3.1,7.34,2009]
[3328,"Coating, engraving, heat treating, & allied activities",210670,3534880,11222308,549889,478153,27601848,2.4700000000000002,8.2899999999999991,2008]
[33281,"Coating, engraving, heat treating, and allied activities",163329,2789292,8610825,397354,417888,20300158,3.1,7.34,2009]
[33281,"Coating, engraving, heat treating, and allied activities",210670,3534880,11222308,549889,478153,27601848,2.4700000000000002,8.2899999999999991,2008]
["33281M","Coating, engraving, heat treating, and allied activities",163329,2789292,8610825,397354,417888,20300158,3.1,7.34,2009]
["33281M","Coating, engraving, heat treating, and allied activities",210670,3534880,11222308,549889,478153,27601848,2.4700000000000002,8.2899999999999991,2008]
[3329,"Other fabricated metal product mfg",329860,6422877,26411395,217653,558396,61779556,3.1,7.34,2009]
[3329,"Other fabricated metal product mfg",394390,7371544,33508901,306576,643668,73974528,2.4700000000000002,8.2899999999999991,2008]
[33291,"Metal valve manufacturing",113062,2320143,11058877,54757,201392,25030853,3.1,7.34,2009]
[33291,"Metal valve manufacturing",137343,2700838,13769305,74094,236412,30649838,2.4700000000000002,8.2899999999999991,2008]
[332913,"Plumbing fixture fitting and trim manufacturing",12850,235819,1818511,8140,18346,3919530,3.1,7.34,2009]
[332913,"Plumbing fixture fitting and trim manufacturing",14700,257753,2074866,11925,19282,4973307,2.4700000000000002,8.2899999999999991,2008]
["33291N","Valve and fitting (except plumbing) manufacturing",100212,2084324,9240366,46617,183046,21111323,3.1,7.34,2009]
["33291N","Valve and fitting (except plumbing) manufacturing",122643,2443084,11694440,62170,217130,25676531,2.4700000000000002,8.2899999999999991,2008]
[33299,"All other fabricated metal product manufacturing",216798,4102734,15352518,162897,357005,36748703,3.1,7.34,2009]
[33299,"All other fabricated metal product manufacturing",257047,4670706,19739596,232482,407256,43324690,2.4700000000000002,8.2899999999999991,2008]
[332991,"Ball and roller bearing manufacturing",31736,635412,2017573,36615,84109,5805527,3.1,7.34,2009]
[332991,"Ball and roller bearing manufacturing",41118,835068,2789854,58454,97101,7677717,2.4700000000000002,8.2899999999999991,2008]
[332992,"Small arms ammunition manufacturing",17751,386872,936119,"D",20614,3158967,3.1,7.34,2009]
[332992,"Small arms ammunition manufacturing",16419,366352,1076267,22916,20474,2685758,2.4700000000000002,8.2899999999999991,2008]
[332993,"Ammunition (except small arms) manufacturing",6707,126994,814803,12180,15989,2152558,3.1,7.34,2009]
[332993,"Ammunition (except small arms) manufacturing",7404,134034,727246,15227,15373,1895193,2.4700000000000002,8.2899999999999991,2008]
[332994,"Small arms manufacturing",13017,273790,1255539,7471,28008,3337838,3.1,7.34,2009]
[332994,"Small arms manufacturing",13566,277218,1045558,8848,27846,2963748,2.4700000000000002,8.2899999999999991,2008]
[332995,"Other ordnance and accessories manufacturing",3109,63629,827736,"D",7084,1574559,3.1,7.34,2009]
[332995,"Other ordnance and accessories manufacturing",3639,72349,855644,4995,7811,1667354,2.4700000000000002,8.2899999999999991,2008]
[332996,"Fabricated pipe and pipe fitting manufacturing",40107,746397,2869971,26484,53263,6494186,3.1,7.34,2009]
[332996,"Fabricated pipe and pipe fitting manufacturing",53922,883015,4395326,33427,69659,8690457,2.4700000000000002,8.2899999999999991,2008]
["33299N","Other fabricated metal products manufacturing",104371,1869641,6630777,58535,147938,14225068,3.1,7.34,2009]
["33299N","Other fabricated metal products manufacturing",120979,2102671,8849701,88615,168992,17744463,2.4700000000000002,8.2899999999999991,2008]
[333,"Machinery mfg",1152748,23957121,151115284,707613,1780767,287634198,3.14,6.31,2009]
[333,"Machinery mfg",1455847,29519749,190655239,917907,2036568,355599582,2.52,8.5,2008]
[3331,"Agriculture, construction, & mining machinery mfg",228161,4793886,43091686,196861,333610,75886277,3.14,6.31,2009]
[3331,"Agriculture, construction, & mining machinery mfg",287965,5947399,56543250,274427,379702,93905641,2.52,8.5,2008]
[33311,"Agricultural implement manufacturing",95465,1864800,17823887,74839,112835,30933763,3.14,6.31,2009]
[33311,"Agricultural implement manufacturing",109577,2042161,19474732,91751,118750,33162676,2.52,8.5,2008]
[333111,"Farm machinery and equipment manufacturing",65967,1432970,12455319,56256,81145,23612919,3.14,6.31,2009]
[333111,"Farm machinery and equipment manufacturing",78386,1583911,13899036,71607,86136,25088818,2.52,8.5,2008]
[333112,"Lawn and garden equipment manufacturing",29498,431830,5368568,18583,31690,7320844,3.14,6.31,2009]
[333112,"Lawn and garden equipment manufacturing",31191,458250,5575696,20144,32614,8073857,2.52,8.5,2008]
[33312,"Construction machinery manufacturing",64001,1241964,14317424,76990,98159,24689398,3.14,6.31,2009]
[33312,"Construction machinery manufacturing",96850,1982030,23275764,120166,117297,36228971,2.52,8.5,2008]
[333120,"Construction machinery manufacturing",64001,1241964,14317424,76990,98159,24689398,3.14,6.31,2009]
[333120,"Construction machinery manufacturing",96850,1982030,23275764,120166,117297,36228971,2.52,8.5,2008]
[33313,"Mining and oil and gas field machinery manufacturing",68695,1687122,10950376,45032,122616,20263115,3.14,6.31,2009]
[33313,"Mining and oil and gas field machinery manufacturing",81537,1923208,13792754,62510,143655,24513995,2.52,8.5,2008]
["33313M","Mining and oil and gas field machinery manufacturing",68695,1687122,10950376,45032,122616,20263115,3.14,6.31,2009]
["33313M","Mining and oil and gas field machinery manufacturing",81537,1923208,13792754,62510,143655,24513995,2.52,8.5,2008]
[3332,"Industrial machinery mfg",103145,2325800,13224270,79432,188851,26417663,3.14,6.31,2009]
[3332,"Industrial machinery mfg",131427,2896088,16249318,75387,207895,34915399,2.52,8.5,2008]
[33321,"Sawmill and woodworking machinery manufacturing",3724,69165,210185,1638,5143,466533,3.14,6.31,2009]
[33321,"Sawmill and woodworking machinery manufacturing",5793,112305,415376,3122,5601,962414,2.52,8.5,2008]
[333210,"Sawmill and woodworking machinery manufacturing",3724,69165,210185,1638,5143,466533,3.14,6.31,2009]
[333210,"Sawmill and woodworking machinery manufacturing",5793,112305,415376,3122,5601,962414,2.52,8.5,2008]
[33322,"Plastics and rubber industry machinery manufacturing",13961,271850,1537660,8494,24775,2959693,3.14,6.31,2009]
[33322,"Plastics and rubber industry machinery manufacturing",17345,366038,2021424,8820,28210,3947466,2.52,8.5,2008]
[333220,"Plastics and rubber industry machinery manufacturing",13961,271850,1537660,8494,24775,2959693,3.14,6.31,2009]
[333220,"Plastics and rubber industry machinery manufacturing",17345,366038,2021424,8820,28210,3947466,2.52,8.5,2008]
[33329,"Other industrial machinery manufacturing",85460,1984786,11476424,69301,158933,22991436,3.14,6.31,2009]
[33329,"Other industrial machinery manufacturing",108289,2417745,13812518,63446,174084,30005519,2.52,8.5,2008]
[333295,"Semiconductor machinery manufacturing",11082,352442,3752951,"(s)4,270",38382,5704230,3.14,6.31,2009]
[333295,"Semiconductor machinery manufacturing",11957,386552,3980629,10771,44665,9464422,2.52,8.5,2008]
["33329N","Other machinery manufacturing",74378,1632344,7723473,65031,120551,17287206,3.14,6.31,2009]
["33329N","Other machinery manufacturing",96332,2031193,9831889,52675,129419,20541096,2.52,8.5,2008]
[3333,"Commercial & service industry machinery mfg",85540,1713386,9743860,34988,135152,20930670,3.14,6.31,2009]
[3333,"Commercial & service industry machinery mfg",98713,1868032,11133108,40632,139253,23380687,2.52,8.5,2008]
[33331,"Commercial and service industry machinery manufacturing",85540,1713386,9743860,34988,135152,20930670,3.14,6.31,2009]
[33331,"Commercial and service industry machinery manufacturing",98713,1868032,11133108,40632,139253,23380687,2.52,8.5,2008]
[333313,"Office machinery manufacturing",4292,97139,656331,3764,8734,1659541,3.14,6.31,2009]
[333313,"Office machinery manufacturing",4782,99498,854082,3979,8292,2001091,2.52,8.5,2008]
[333314,"Optical instrument and lens manufacturing",20880,498370,2215696,4885,38264,4673039,3.14,6.31,2009]
[333314,"Optical instrument and lens manufacturing",21445,508337,2161920,5841,39423,4790795,2.52,8.5,2008]
[333315,"Photographic and photocopying equipment manufacturing",6458,133918,887932,3827,23401,1975217,3.14,6.31,2009]
[333315,"Photographic and photocopying equipment manufacturing",6940,135339,919660,3704,24650,2225601,2.52,8.5,2008]
["33331N","All other commercial and service industry machinery mfg",53910,983959,5983901,22512,64753,12622873,3.14,6.31,2009]
["33331N","All other commercial and service industry machinery mfg",65546,1124859,7197446,27108,66888,14363200,2.52,8.5,2008]
[3334,"Ventilation, heating, AC, & commercial refrigeration equip mfg",163248,2918886,18435602,69422,194563,34646153,3.14,6.31,2009]
[3334,"Ventilation, heating, AC, & commercial refrigeration equip mfg",206608,3455681,21379112,96786,213688,40834850,2.52,8.5,2008]
[33341,"HVAC and commercial refrigeration equipment manufacturing",163248,2918886,18435602,69422,194563,34646153,3.14,6.31,2009]
[33341,"HVAC and commercial refrigeration equipment manufacturing",206608,3455681,21379112,96786,213688,40834850,2.52,8.5,2008]
[333414,"Heating equipment (except warm air furnaces) manufacturing",17786,317278,1803720,9546,29525,3786626,3.14,6.31,2009]
[333414,"Heating equipment (except warm air furnaces) manufacturing",24190,408431,2467519,16256,30656,5307303,2.52,8.5,2008]
[333415,"AC, forced air heating, and refrigeration equipment mfg",113225,2090864,14483817,45625,132286,26308906,3.14,6.31,2009]
[333415,"AC, forced air heating, and refrigeration equipment mfg",139181,2419154,16297092,62749,146053,29867329,2.52,8.5,2008]
["33341N","Ventilation equipment manufacturing",32238,510743,2148065,14251,32752,4550622,3.14,6.31,2009]
["33341N","Ventilation equipment manufacturing",43236,628096,2614502,17780,36979,5660217,2.52,8.5,2008]
[3335,"Metalworking machinery mfg",177993,3907782,8212018,61258,254933,20604679,3.14,6.31,2009]
[3335,"Metalworking machinery mfg",225373,5004466,12063203,81900,298640,29074617,2.52,8.5,2008]
[33351,"Metalworking machinery manufacturing",177993,3907782,8212018,61258,254933,20604679,3.14,6.31,2009]
[33351,"Metalworking machinery manufacturing",225373,5004466,12063203,81900,298640,29074617,2.52,8.5,2008]
[333511,"Industrial mold manufacturing",43690,993544,1316112,13612,70875,4221870,3.14,6.31,2009]
[333511,"Industrial mold manufacturing",55440,1238303,1760311,18961,80166,5156745,2.52,8.5,2008]
[333512,"Machine tool (metal cutting types) manufacturing",17436,410492,1615920,10484,26236,3473464,3.14,6.31,2009]
[333512,"Machine tool (metal cutting types) manufacturing",24508,549307,2859285,11841,33811,5864517,2.52,8.5,2008]
[333513,"Machine tool (metal forming types) manufacturing",7807,180115,566644,2928,8979,1217675,3.14,6.31,2009]
[333513,"Machine tool (metal forming types) manufacturing",10334,224049,702017,3825,10083,1602040,2.52,8.5,2008]
[333514,"Special die and tool, die set, jig, and fixture manufacturing",59671,1323740,2203356,18241,77352,5745328,3.14,6.31,2009]
[333514,"Special die and tool, die set, jig, and fixture manufacturing",71939,1669236,2989392,23428,80932,7911595,2.52,8.5,2008]
[333515,"Cutting tool and machine tool accessory manufacturing",36058,677312,1191144,8734,54242,3502270,3.14,6.31,2009]
[333515,"Cutting tool and machine tool accessory manufacturing",47236,940264,1882606,14245,71919,5150611,2.52,8.5,2008]
[333516,"Rolling mill machinery and equipment manufacturing",4622,106477,439870,3818,6663,789668,3.14,6.31,2009]
[333516,"Rolling mill machinery and equipment manufacturing",4049,98477,470459,5164,6920,912396,2.52,8.5,2008]
[333518,"Other metalworking machinery manufacturing",8709,216103,878973,3441,10585,1654404,3.14,6.31,2009]
[333518,"Other metalworking machinery manufacturing",11867,284830,1399133,4435,14810,2476713,2.52,8.5,2008]
[3336,"Engine, turbine, & power transmission equipment mfg",109873,2412212,22334699,98998,261518,35462893,3.14,6.31,2009]
[3336,"Engine, turbine, & power transmission equipment mfg",139255,2993094,27365053,130862,301885,43647556,2.52,8.5,2008]
[33361,"Engine, turbine, and power transmission equipment mfg",109873,2412212,22334699,98998,261518,35462893,3.14,6.31,2009]
[33361,"Engine, turbine, and power transmission equipment mfg",139255,2993094,27365053,130862,301885,43647556,2.52,8.5,2008]
[333611,"Turbine and turbine generator set unit manufacturing",30964,763176,7639000,16497,77779,11873050,3.14,6.31,2009]
[333611,"Turbine and turbine generator set unit manufacturing",30152,730637,5754360,16803,77010,9770645,2.52,8.5,2008]
[333612,"Speed changer, industrial high-speed drive, and gear mfg",16942,324588,1234818,16031,31446,2787931,3.14,6.31,2009]
[333612,"Speed changer, industrial high-speed drive, and gear mfg",21140,442572,1647740,19410,36261,3697317,2.52,8.5,2008]
[333613,"Mechanical power transmission equipment manufacturing",17323,373945,1460865,16321,36520,3300479,3.14,6.31,2009]
[333613,"Mechanical power transmission equipment manufacturing",23583,481726,1964121,21905,40170,4430100,2.52,8.5,2008]
[333618,"Other engine equipment manufacturing",44644,950503,12000015,50148,115773,17501433,3.14,6.31,2009]
[333618,"Other engine equipment manufacturing",64380,1338159,17998832,72745,148445,25749494,2.52,8.5,2008]
[3339,"Other general purpose machinery mfg",284788,5885168,36073150,166653,412141,73685863,3.14,6.31,2009]
[3339,"Other general purpose machinery mfg",366507,7354989,45922195,217913,495505,89840832,2.52,8.5,2008]
[33391,"Pump and compressor manufacturing",60556,1324417,10000628,43765,101462,20927621,3.14,6.31,2009]
[33391,"Pump and compressor manufacturing",71711,1537852,11696074,50652,112682,24247429,2.52,8.5,2008]
[333911,"Pump and pumping equipment manufacturing",33740,805298,5234986,19390,55926,11461531,3.14,6.31,2009]
[333911,"Pump and pumping equipment manufacturing",39280,900833,5960078,24124,62998,13036154,2.52,8.5,2008]
[333912,"Air and gas compressor manufacturing",22664,443348,4336096,22456,39901,8375152,3.14,6.31,2009]
[333912,"Air and gas compressor manufacturing",27748,554313,5235540,24296,43207,9948409,2.52,8.5,2008]
[333913,"Measuring and dispensing pump manufacturing",4152,75771,429546,1918,5635,1090937,3.14,6.31,2009]
[333913,"Measuring and dispensing pump manufacturing",4683,82706,500456,2232,6477,1262867,2.52,8.5,2008]
[33392,"Material handling equipment manufacturing",86325,1704033,12546028,51177,92820,23479360,3.14,6.31,2009]
[33392,"Material handling equipment manufacturing",121667,2281651,15666652,71519,124953,27363117,2.52,8.5,2008]
["33392M","Material handling equipment manufacturing",86325,1704033,12546028,51177,92820,23479360,3.14,6.31,2009]
["33392M","Material handling equipment manufacturing",121667,2281651,15666652,71519,124953,27363117,2.52,8.5,2008]
[33399,"All other general purpose machinery manufacturing",137908,2856718,13526495,71712,217858,29278883,3.14,6.31,2009]
[33399,"All other general purpose machinery manufacturing",173129,3535485,18559469,95742,257870,38230285,2.52,8.5,2008]
[333991,"Power-driven hand tool manufacturing",6467,116137,684794,2792,10758,1563263,3.14,6.31,2009]
[333991,"Power-driven hand tool manufacturing",10241,190052,1101786,5004,15076,2715074,2.52,8.5,2008]
[333993,"Packaging machinery manufacturing",18634,416749,2024649,5804,20078,4127960,3.14,6.31,2009]
[333993,"Packaging machinery manufacturing",22959,478855,2440594,7524,21271,5006679,2.52,8.5,2008]
[333994,"Industrial process furnace and oven manufacturing",10786,197680,932436,6608,14927,2071558,3.14,6.31,2009]
[333994,"Industrial process furnace and oven manufacturing",13842,266590,1229234,8005,15203,2601031,2.52,8.5,2008]
["33399N","Fluid power equipment manufacturing",34624,746977,3303145,14032,64030,6965101,3.14,6.31,2009]
["33399N","Fluid power equipment manufacturing",45071,971741,4846308,21214,80168,9701300,2.52,8.5,2008]
["33399P","All other miscellaneous general purpose machinery mfg",67396,1379175,6581471,42475,108065,14551000,3.14,6.31,2009]
["33399P","All other miscellaneous general purpose machinery mfg",81015,1628248,8941547,53995,126153,18206200,2.52,8.5,2008]
[334,"Computer & electronic product mfg",795540,18136998,133896248,436058,2282321,327991364,3.67,3.33,2009]
[334,"Computer & electronic product mfg",968701,21213712,156638518,531579,2502154,383914266,3.42,2.74,2008]
[3341,"Computer & peripheral equipment mfg",57224,1195719,26457503,23193,138266,52530237,2.33,2.88,2009]
[3341,"Computer & peripheral equipment mfg",69965,1428099,29706794,46291,176896,66036492,2.09,0.59,2008]
[33411,"Computer and peripheral equipment manufacturing",57224,1195719,26457503,23193,138266,52530237,2.33,2.88,2009]
[33411,"Computer and peripheral equipment manufacturing",69965,1428099,29706794,46291,176896,66036492,2.09,0.59,2008]
[334111,"Electronic computer manufacturing",23165,490057,18087790,8348,65618,36155504,2.33,2.88,2009]
[334111,"Electronic computer manufacturing",24208,542862,19367424,9899,78006,45472310,2.09,0.59,2008]
[334112,"Computer storage device manufacturing",10323,241300,3107456,5733,29345,6321021,2.33,2.88,2009]
[334112,"Computer storage device manufacturing",16418,317551,3803462,6907,41787,7799600,2.09,0.59,2008]
[334113,"Computer terminal manufacturing",925,15356,255222,195,1256,467003,2.33,2.88,2009]
[334113,"Computer terminal manufacturing",2005,31775,253479,1344,2280,591649,2.09,0.59,2008]
[334119,"Other computer peripheral equipment manufacturing",22811,449007,5007035,8918,42047,9586709,2.33,2.88,2009]
[334119,"Other computer peripheral equipment manufacturing",27335,535912,6282429,28141,54823,12172933,2.09,0.59,2008]
[3342,"Communications equipment mfg",89463,2307317,20498754,46517,183735,45164081,2.82,0.91,2009]
[3342,"Communications equipment mfg",104070,2546553,25175712,52572,215177,53866538,2.09,0.59,2008]
[33421,"Telephone apparatus manufacturing",21634,510156,5007744,14131,39029,8551513,2.82,0.91,2009]
[33421,"Telephone apparatus manufacturing",19397,412067,5200208,"(s)13,074",35891,"(s)8,009,322",2.09,0.59,2008]
[334210,"Telephone apparatus manufacturing",21634,510156,5007744,14131,39029,8551513,2.82,0.91,2009]
[334210,"Telephone apparatus manufacturing",19397,412067,5200208,"(s)13,074",35891,"(s)8,009,322",2.09,0.59,2008]
[33422,"Broadcasting and wireless communications equipment mfg",54191,1550923,13783669,20443,125328,32610694,2.82,0.91,2009]
[33422,"Broadcasting and wireless communications equipment mfg",70746,1878945,18107674,26131,158665,41581305,2.09,0.59,2008]
[334220,"Broadcasting and wireless communications equipment mfg",54191,1550923,13783669,20443,125328,32610694,2.82,0.91,2009]
[334220,"Broadcasting and wireless communications equipment mfg",70746,1878945,18107674,26131,158665,41581305,2.09,0.59,2008]
[33429,"Other communications equipment manufacturing",13639,246238,1707340,11943,19378,4001873,2.82,0.91,2009]
[33429,"Other communications equipment manufacturing",13927,255541,1867830,13367,20621,4275912,2.09,0.59,2008]
[334290,"Other communications equipment manufacturing",13639,246238,1707340,11943,19378,4001873,2.82,0.91,2009]
[334290,"Other communications equipment manufacturing",13927,255541,1867830,13367,20621,4275912,2.09,0.59,2008]
[3343,"Audio & video equipment mfg",9503,147668,1715880,7700,17697,3275474,5.08,4.92,2009]
[3343,"Audio & video equipment mfg",14322,212247,3729559,13803,27369,5875628,4.47,5.53,2008]
[33431,"Audio and video equipment manufacturing",9503,147668,1715880,7700,17697,3275474,5.08,4.92,2009]
[33431,"Audio and video equipment manufacturing",14322,212247,3729559,13803,27369,5875628,4.47,5.53,2008]
[334310,"Audio and video equipment manufacturing",9503,147668,1715880,7700,17697,3275474,5.08,4.92,2009]
[334310,"Audio and video equipment manufacturing",14322,212247,3729559,13803,27369,5875628,4.47,5.53,2008]
[3344,"Semiconductor & other electronic component mfg",335138,7532835,36794809,226993,1221946,96459857,5.08,4.92,2009]
[3344,"Semiconductor & other electronic component mfg",443657,9265634,44087629,259202,1343028,118466743,4.47,5.53,2008]
[33441,"Semiconductor and other electronic component manufacturing",335138,7532835,36794809,226993,1221946,96459857,5.08,4.92,2009]
[33441,"Semiconductor and other electronic component manufacturing",443657,9265634,44087629,259202,1343028,118466743,4.47,5.53,2008]
[334411,"Electron tube manufacturing",7272,191715,501278,2554,15384,1106990,5.08,4.92,2009]
[334411,"Electron tube manufacturing",7568,188095,485318,2184,14720,1182674,4.47,5.53,2008]
[334412,"Bare printed circuit board manufacturing",35548,647873,1639035,17536,75892,3749722,5.08,4.92,2009]
[334412,"Bare printed circuit board manufacturing",52058,872746,2262929,25647,94362,5271754,4.47,5.53,2008]
[334413,"Semiconductor and related device manufacturing",124349,3677297,16862556,168545,884122,59240375,5.08,4.92,2009]
[334413,"Semiconductor and related device manufacturing",164371,4464832,18142699,170981,934994,70038259,4.47,5.53,2008]
[334414,"Electronic capacitor manufacturing",6883,98726,298514,2008,15972,824102,5.08,4.92,2009]
[334414,"Electronic capacitor manufacturing",8334,117322,342312,2245,16566,978118,4.47,5.53,2008]
[334415,"Electronic resistor manufacturing",4297,88543,201817,1139,8851,548694,5.08,4.92,2009]
[334415,"Electronic resistor manufacturing",5583,89011,214536,1174,8899,610899,4.47,5.53,2008]
[334416,"Electronic coil, transformer, and other inductor manufacturing",13348,207625,899385,4409,13391,1687131,5.08,4.92,2009]
[334416,"Electronic coil, transformer, and other inductor manufacturing",16502,243542,893294,5598,14300,1876554,4.47,5.53,2008]
[334417,"Electronic connector manufacturing",24093,477766,1374838,6337,36274,3987346,5.08,4.92,2009]
[334417,"Electronic connector manufacturing",28082,545648,1819648,7923,42151,5023452,4.47,5.53,2008]
[334418,"Printed circuit assembly (electronic assembly) manufacturing",67876,1128324,11736170,16444,99699,17332394,5.08,4.92,2009]
[334418,"Printed circuit assembly (electronic assembly) manufacturing",90184,1437399,15637237,26887,131669,22803803,4.47,5.53,2008]
[334419,"Other electronic component manufacturing",51472,1014965,3281217,8021,72361,7983103,5.08,4.92,2009]
[334419,"Other electronic component manufacturing",70975,1307039,4289657,16564,85369,10681229,4.47,5.53,2008]
[3345,"Navigational, measuring, medical, & control instruments mfg",272014,6375796,46085382,118834,642526,125081153,5.08,4.92,2009]
[3345,"Navigational, measuring, medical, & control instruments mfg",300617,7098748,50938935,139559,651472,133096904,4.47,5.53,2008]
[33451,"Navigational, measuring, medical, and control instruments mfg",272014,6375796,46085382,118834,642526,125081153,5.08,4.92,2009]
[33451,"Navigational, measuring, medical, and control instruments mfg",300617,7098748,50938935,139559,651472,133096904,4.47,5.53,2008]
[334510,"Electromedical and electrotherapeutic apparatus manufacturing",51615,1130422,8509687,24376,90019,24913089,5.08,4.92,2009]
[334510,"Electromedical and electrotherapeutic apparatus manufacturing",51164,1106165,8569603,22627,81326,25582245,4.47,5.53,2008]
[334511,"Search, detection, and navigation system and instrument mfg",83679,2358844,17597616,52457,304784,50552170,5.08,4.92,2009]
[334511,"Search, detection, and navigation system and instrument mfg",93304,2625050,19215908,"D",281105,50030007,4.47,5.53,2008]
[334512,"Automatic environmental control manufacturing",10277,175772,992354,2971,12880,2474232,5.08,4.92,2009]
[334512,"Automatic environmental control manufacturing",13219,211471,1216609,"D","D",2952977,4.47,5.53,2008]
[334513,"Industrial process variable instruments",27883,515214,2838735,6457,40040,7688300,5.08,4.92,2009]
[334513,"Industrial process variable instruments",33191,636311,3471452,12423,45602,9224848,4.47,5.53,2008]
[334514,"Totalizing fluid meter and counting device manufacturing",14023,299346,2699033,5380,19507,4961859,5.08,4.92,2009]
[334514,"Totalizing fluid meter and counting device manufacturing",15595,315161,3058449,7541,23168,5563575,4.47,5.53,2008]
[334515,"Electricity and signal testing instrument manufacturing",22342,494860,2632048,4700,61300,7987445,5.08,4.92,2009]
[334515,"Electricity and signal testing instrument manufacturing",26467,619558,3425973,8009,82943,10680857,4.47,5.53,2008]
[334516,"Analytical laboratory instrument manufacturing",23517,532485,4584946,9962,47449,12177335,5.08,4.92,2009]
[334516,"Analytical laboratory instrument manufacturing",25014,566371,5048991,13642,52317,13017994,4.47,5.53,2008]
[334517,"Irradiation apparatus manufacturing",9898,221829,3073308,2017,24232,6036626,5.08,4.92,2009]
[334517,"Irradiation apparatus manufacturing",10162,247764,3174861,5469,21319,6288330,4.47,5.53,2008]
[334518,"Watch, clock, and parts manufacturing",1786,28798,146354,763,2368,330417,5.08,4.92,2009]
[334518,"Watch, clock, and parts manufacturing",2652,46095,270603,"D","D",682084,4.47,5.53,2008]
[334519,"Other measuring and controlling device manufacturing",26995,618226,3011302,9752,39946,7959681,5.08,4.92,2009]
[334519,"Other measuring and controlling device manufacturing",29849,724803,3486486,10081,45235,9073986,4.47,5.53,2008]
[3346,"Mfg & reproducing magnetic & optical media",32199,577663,2343920,12820,78151,5480561,5.08,4.92,2009]
[3346,"Mfg & reproducing magnetic & optical media",36070,662431,2999889,20153,88210,6571962,4.47,5.53,2008]
[33461,"Manufacturing and reproducing magnetic and optical media",32199,577663,2343920,12820,78151,5480561,5.08,4.92,2009]
[33461,"Manufacturing and reproducing magnetic and optical media",36070,662431,2999889,20153,88210,6571962,4.47,5.53,2008]
[334611,"Software reproducing",2925,58210,266323,2050,4874,624192,5.08,4.92,2009]
[334611,"Software reproducing",3697,70788,263270,2490,4489,626162,4.47,5.53,2008]
[334612,"Audio and video media reproducing",21288,361111,753926,5836,36230,2811913,5.08,4.92,2009]
[334612,"Audio and video media reproducing",23669,393278,1059445,8150,"D",3358696,4.47,5.53,2008]
[334613,"Magnetic and optical recording media manufacturing",7986,158342,1323672,4934,37047,2044456,5.08,4.92,2009]
[334613,"Magnetic and optical recording media manufacturing",8704,198364,1677173,9513,"D",2587103,4.47,5.53,2008]
[335,"Electrical equipment, appliance, & component mfg",452643,8547715,54562019,321920,819279,106650713,2.63,8.36,2009]
[335,"Electrical equipment, appliance, & component mfg",558702,10259167,69800237,455247,969289,130334430,2.4500000000000002,7.84,2008]
[3351,"Electric lighting equipment mfg",62137,1093913,5602159,41262,86858,11540560,2.63,8.36,2009]
[3351,"Electric lighting equipment mfg",74089,1194985,6554137,49480,96488,13872075,2.4500000000000002,7.84,2008]
[33511,"Electric lamp bulb and parts manufacturing",11789,318720,969931,"D",28943,1941446,2.63,8.36,2009]
[33511,"Electric lamp bulb and parts manufacturing",14096,285150,1006556,16149,31599,2133439,2.4500000000000002,7.84,2008]
[335110,"Electric lamp bulb and parts manufacturing",11789,318720,969931,"D",28943,1941446,2.63,8.36,2009]
[335110,"Electric lamp bulb and parts manufacturing",14096,285150,1006556,16149,31599,2133439,2.4500000000000002,7.84,2008]
[33512,"Lighting fixture manufacturing",50348,775193,4632228,"D",57915,9599114,2.63,8.36,2009]
[33512,"Lighting fixture manufacturing",59993,909835,5547581,33331,64889,11738635,2.4500000000000002,7.84,2008]
["33512M","Lighting fixture manufacturing",50348,775193,4632228,"D",57915,9599114,2.63,8.36,2009]
["33512M","Lighting fixture manufacturing",59993,909835,5547581,33331,64889,11738635,2.4500000000000002,7.84,2008]
[3352,"Household appliance mfg",77591,1405721,10106555,46540,103296,18707942,2.63,8.36,2009]
[3352,"Household appliance mfg",93635,1664102,12754062,74606,117228,21504780,2.4500000000000002,7.84,2008]
[33521,"Small electrical appliance manufacturing",15990,245824,1944257,5827,20978,3875919,2.63,8.36,2009]
[33521,"Small electrical appliance manufacturing",17267,272966,2105469,6834,23484,3909705,2.4500000000000002,7.84,2008]
["33521M","Small electrical appliance manufacturing",15990,245824,1944257,5827,20978,3875919,2.63,8.36,2009]
["33521M","Small electrical appliance manufacturing",17267,272966,2105469,6834,23484,3909705,2.4500000000000002,7.84,2008]
[33522,"Major appliance manufacturing",61602,1159897,8162298,40713,82318,14832023,2.63,8.36,2009]
[33522,"Major appliance manufacturing",76368,1391136,10648593,67772,93744,17595076,2.4500000000000002,7.84,2008]
[335221,"Household cooking appliance manufacturing",16086,260362,2327777,12090,16432,3835185,2.63,8.36,2009]
[335221,"Household cooking appliance manufacturing",20651,314181,3005442,22101,24799,4261482,2.4500000000000002,7.84,2008]
[335222,"Household refrigerator and home freezer manufacturing",16566,344700,1953256,7491,27368,3649074,2.63,8.36,2009]
[335222,"Household refrigerator and home freezer manufacturing",20981,438848,2812819,12377,29088,4567239,2.4500000000000002,7.84,2008]
[335224,"Household laundry equipment manufacturing",13623,267125,2034735,7637,16495,3357541,2.63,8.36,2009]
[335224,"Household laundry equipment manufacturing",16773,315001,2464950,"D",16349,4055403,2.4500000000000002,7.84,2008]
[335228,"Other major household appliance manufacturing",15327,287711,1846530,13495,22024,3990223,2.63,8.36,2009]
[335228,"Other major household appliance manufacturing",17964,323106,2365381,"D",23509,4710952,2.4500000000000002,7.84,2008]
[3353,"Electrical equipment mfg",150413,2963297,17842293,74549,195052,36420717,2.63,8.36,2009]
[3353,"Electrical equipment mfg",186313,3511922,22585975,104405,210519,43950149,2.4500000000000002,7.84,2008]
[33531,"Electrical equipment manufacturing",150413,2963297,17842293,74549,195052,36420717,2.63,8.36,2009]
[33531,"Electrical equipment manufacturing",186313,3511922,22585975,104405,210519,43950149,2.4500000000000002,7.84,2008]
[335311,"Power, distribution, and specialty transformer manufacturing",25109,462094,3017607,21358,39390,5989002,2.63,8.36,2009]
[335311,"Power, distribution, and specialty transformer manufacturing",33165,575158,3692775,30133,41431,7306804,2.4500000000000002,7.84,2008]
[335312,"Motor and generator manufacturing",45878,855600,5503308,25898,65906,10855168,2.63,8.36,2009]
[335312,"Motor and generator manufacturing",58373,1073820,7911399,39165,73761,14016472,2.4500000000000002,7.84,2008]
[335313,"Switchgear and switchboard apparatus manufacturing",44402,908467,5201197,17573,52581,10598214,2.63,8.36,2009]
[335313,"Switchgear and switchboard apparatus manufacturing",49139,1003226,5655750,20494,48791,11321093,2.4500000000000002,7.84,2008]
[335314,"Relay and industrial control manufacturing",35024,737136,4120181,9721,37176,8978333,2.63,8.36,2009]
[335314,"Relay and industrial control manufacturing",45636,859717,5326052,14613,46536,11305779,2.4500000000000002,7.84,2008]
[3359,"Other electrical equipment & component mfg",162501,3084784,21011012,159569,434073,39981495,2.63,8.36,2009]
[3359,"Other electrical equipment & component mfg",204665,3888158,27906062,226756,545054,51007426,2.4500000000000002,7.84,2008]
[33591,"Battery manufacturing",37064,661681,4913017,57431,117666,9220680,2.63,8.36,2009]
[33591,"Battery manufacturing",42708,805636,5863595,76339,147026,9628603,2.4500000000000002,7.84,2008]
[335911,"Storage battery manufacturing",26089,444822,3001677,52136,98948,5508397,2.63,8.36,2009]
[335911,"Storage battery manufacturing",32866,627955,3934860,71120,127833,6381941,2.4500000000000002,7.84,2008]
[335912,"Primary battery manufacturing",10975,216859,1911339,5294,18718,3712283,2.63,8.36,2009]
[335912,"Primary battery manufacturing",9842,177680,1928735,5219,19193,3246663,2.4500000000000002,7.84,2008]
[33592,"Communication and energy wire and cable manufacturing",40335,764675,7337333,23101,106048,11404357,2.63,8.36,2009]
[33592,"Communication and energy wire and cable manufacturing",46950,909217,10391804,34175,131877,15601569,2.4500000000000002,7.84,2008]
["33592M","Communication and energy wire and cable manufacturing",40335,764675,7337333,23101,106048,11404357,2.63,8.36,2009]
["33592M","Communication and energy wire and cable manufacturing",46950,909217,10391804,34175,131877,15601569,2.4500000000000002,7.84,2008]
[33593,"Wiring device manufacturing",47853,864117,4165825,21282,87680,9901061,2.63,8.36,2009]
[33593,"Wiring device manufacturing",63818,1116951,5767154,30069,113032,13504960,2.4500000000000002,7.84,2008]
["33593M","Wiring device manufacturing",47853,864117,4165825,21282,87680,9901061,2.63,8.36,2009]
["33593M","Wiring device manufacturing",63818,1116951,5767154,30069,113032,13504960,2.4500000000000002,7.84,2008]
[33599,"All other electrical equipment and component manufacturing",37249,794311,4594837,57755,122679,9455398,2.63,8.36,2009]
[33599,"All other electrical equipment and component manufacturing",51189,1056353,5883510,86173,153119,12272294,2.4500000000000002,7.84,2008]
[335991,"Carbon and graphite product manufacturing",10916,217536,1052226,48140,62718,1982585,2.63,8.36,2009]
[335991,"Carbon and graphite product manufacturing",13734,281362,1564742,74161,91290,3063185,2.4500000000000002,7.84,2008]
[335999,"All other miscellaneous electrical equipment mfg",26333,576774,3542611,9614,59961,7472813,2.63,8.36,2009]
[335999,"All other miscellaneous electrical equipment mfg",37455,774990,4318768,12012,61829,9209108,2.4500000000000002,7.84,2008]
[336,"Transportation equipment mfg",1597485,41365025,319871616,1171498,2907205,545018370,3.42,0.77,2009]
[336,"Transportation equipment mfg",1998540,50407141,417917714,1745336,3406562,672783574,3.14,0.32,2008]
[3361,"Motor vehicle mfg",196432,6391521,107559844,305835,414302,149900446,4.4800000000000004,-5.3,2009]
[3361,"Motor vehicle mfg",253807,8958227,155817489,474090,495887,208079029,3.891,-5.86,2008]
[33611,"Automobile and light duty motor vehicle manufacturing",166267,5668217,95142174,280563,377109,134129035,4.4800000000000004,-5.3,2009]
[33611,"Automobile and light duty motor vehicle manufacturing",216861,8112965,140166301,438864,452196,189201508,3.891,-5.86,2008]
[336111,"Automobile manufacturing",87623,2755570,40279888,122466,181089,53724061,4.4800000000000004,-5.3,2009]
[336111,"Automobile manufacturing",106929,3794423,63038141,177809,202271,81503624,3.891,-5.86,2008]
[336112,"Light truck and utility vehicle manufacturing",78644,2912647,54862286,158097,196020,80404974,4.4800000000000004,-5.3,2009]
[336112,"Light truck and utility vehicle manufacturing",109932,4318542,77128161,261055,249925,107697885,3.891,-5.86,2008]
[33612,"Heavy duty truck manufacturing",30165,723304,12417670,25272,37193,15771411,4.4800000000000004,-5.3,2009]
[33612,"Heavy duty truck manufacturing",36947,845262,15651188,35226,43691,18877521,3.891,-5.86,2008]
[336120,"Heavy duty truck manufacturing",30165,723304,12417670,25272,37193,15771411,4.4800000000000004,-5.3,2009]
[336120,"Heavy duty truck manufacturing",36947,845262,15651188,35226,43691,18877521,3.891,-5.86,2008]
[3362,"Motor vehicle body & trailer mfg",125908,2308582,13891004,55466,99164,21289121,4.4800000000000004,-5.3,2009]
[3362,"Motor vehicle body & trailer mfg",181057,3218096,19283535,85895,131274,29472296,3.891,-5.86,2008]
[33621,"Motor vehicle body and trailer manufacturing",125908,2308582,13891004,55466,99164,21289121,4.4800000000000004,-5.3,2009]
[33621,"Motor vehicle body and trailer manufacturing",181057,3218096,19283535,85895,131274,29472296,3.891,-5.86,2008]
[336211,"Motor vehicle body manufacturing",52440,994250,6282658,26517,44738,9571235,4.4800000000000004,-5.3,2009]
[336211,"Motor vehicle body manufacturing",66675,1220788,7406098,35953,54247,11274189,3.891,-5.86,2008]
[336212,"Truck trailer manufacturing",25422,425096,2623530,11143,24335,4094631,4.4800000000000004,-5.3,2009]
[336212,"Truck trailer manufacturing",38372,637179,3877962,14735,30451,5997381,3.891,-5.86,2008]
[336213,"Motor home manufacturing",9269,166822,1155922,3893,6268,1715710,4.4800000000000004,-5.3,2009]
[336213,"Motor home manufacturing",18579,338335,2750232,11938,15270,4023785,3.891,-5.86,2008]
[336214,"Travel trailer and camper manufacturing",38778,722414,3828894,13913,23824,5907545,4.4800000000000004,-5.3,2009]
[336214,"Travel trailer and camper manufacturing",57431,1021794,5249243,23269,31306,8176940,3.891,-5.86,2008]
[3363,"Motor vehicle parts mfg",576771,11918725,78048502,394337,1226734,130520776,4.4800000000000004,-5.3,2009]
[3363,"Motor vehicle parts mfg",757679,16417449,111981134,611072,1503683,175613967,3.891,-5.86,2008]
[33631,"Motor vehicle gasoline engine and engine parts manufacturing",63401,1460048,9401498,51449,176458,16122589,4.4800000000000004,-5.3,2009]
[33631,"Motor vehicle gasoline engine and engine parts manufacturing",84614,2011543,16236369,87590,229833,24285138,3.891,-5.86,2008]
["33631M","Motor vehicle gasoline engine and engine parts manufacturing",63401,1460048,9401498,51449,176458,16122589,4.4800000000000004,-5.3,2009]
["33631M","Motor vehicle gasoline engine and engine parts manufacturing",84614,2011543,16236369,87590,229833,24285138,3.891,-5.86,2008]
[33632,"Motor vehicle electrical and electronic equipment mfg",68839,1324009,7401403,21178,100768,13796310,4.4800000000000004,-5.3,2009]
[33632,"Motor vehicle electrical and electronic equipment mfg",87644,1696569,10187894,36025,127262,18150922,3.891,-5.86,2008]
["33632M","Motor vehicle electrical and electronic equipment mfg",68839,1324009,7401403,21178,100768,13796310,4.4800000000000004,-5.3,2009]
["33632M","Motor vehicle electrical and electronic equipment mfg",87644,1696569,10187894,36025,127262,18150922,3.891,-5.86,2008]
[33633,"Motor vehicle steering and suspension component mfg",47476,832379,5015687,36525,96734,8092743,4.4800000000000004,-5.3,2009]
[33633,"Motor vehicle steering and suspension component mfg",46553,988723,5730532,43535,101859,9023645,3.891,-5.86,2008]
[336330,"Motor vehicle steering and suspension component mfg",47476,832379,5015687,36525,96734,8092743,4.4800000000000004,-5.3,2009]
[336330,"Motor vehicle steering and suspension component mfg",46553,988723,5730532,43535,101859,9023645,3.891,-5.86,2008]
[33634,"Motor vehicle brake system manufacturing",27346,455081,4431016,18333,66708,7541072,4.4800000000000004,-5.3,2009]
[33634,"Motor vehicle brake system manufacturing",36243,636510,5683108,25548,83449,9082124,3.891,-5.86,2008]
[336340,"Motor vehicle brake system manufacturing",27346,455081,4431016,18333,66708,7541072,4.4800000000000004,-5.3,2009]
[336340,"Motor vehicle brake system manufacturing",36243,636510,5683108,25548,83449,9082124,3.891,-5.86,2008]
[33635,"Motor vehicle transmission and power train parts mfg",71417,2063467,11484687,83813,210114,21046860,4.4800000000000004,-5.3,2009]
[33635,"Motor vehicle transmission and power train parts mfg",101901,3167974,17318994,132700,224989,27281344,3.891,-5.86,2008]
[336350,"Motor vehicle transmission and power train parts mfg",71417,2063467,11484687,83813,210114,21046860,4.4800000000000004,-5.3,2009]
[336350,"Motor vehicle transmission and power train parts mfg",101901,3167974,17318994,132700,224989,27281344,3.891,-5.86,2008]
[33636,"Motor vehicle seating and interior trim manufacturing",53490,916781,9042290,17835,65683,12941768,4.4800000000000004,-5.3,2009]
[33636,"Motor vehicle seating and interior trim manufacturing",68263,1170275,12867722,27841,81950,17757041,3.891,-5.86,2008]
[336360,"Motor vehicle seating and interior trim manufacturing",53490,916781,9042290,17835,65683,12941768,4.4800000000000004,-5.3,2009]
[336360,"Motor vehicle seating and interior trim manufacturing",68263,1170275,12867722,27841,81950,17757041,3.891,-5.86,2008]
[33637,"Motor vehicle metal stamping",94758,2233496,10027412,58656,225034,17738909,4.4800000000000004,-5.3,2009]
[33637,"Motor vehicle metal stamping",129880,3078735,14439670,87224,249802,24400812,3.891,-5.86,2008]
[336370,"Motor vehicle metal stamping",94758,2233496,10027412,58656,225034,17738909,4.4800000000000004,-5.3,2009]
[336370,"Motor vehicle metal stamping",129880,3078735,14439670,87224,249802,24400812,3.891,-5.86,2008]
[33639,"Other motor vehicle parts manufacturing",150044,2633465,21244510,106549,285235,33240525,4.4800000000000004,-5.3,2009]
[33639,"Other motor vehicle parts manufacturing",202582,3667120,29516844,170608,404539,45632940,3.891,-5.86,2008]
[336391,"Motor vehicle air-conditioning manufacturing",16136,313585,2598874,7544,33643,3539306,4.4800000000000004,-5.3,2009]
[336391,"Motor vehicle air-conditioning manufacturing",22108,461903,3383680,14449,37144,4523327,3.891,-5.86,2008]
[336399,"All other miscellaneous motor vehicle parts manufacturing",133908,2319880,18645636,99004,251592,29701219,4.4800000000000004,-5.3,2009]
[336399,"All other miscellaneous motor vehicle parts manufacturing",180474,3205217,26133164,156159,367395,41109614,3.891,-5.86,2008]
[3364,"Aerospace product & parts mfg",447016,15035138,86250203,238727,810741,178924241,1.98,8.4,2009]
[3364,"Aerospace product & parts mfg",492516,15215868,88706503,341780,856513,183930222,1.96,9.65,2008]
[33641,"Aerospace product and parts manufacturing",447016,15035138,86250203,238727,810741,178924241,1.98,8.4,2009]
[33641,"Aerospace product and parts manufacturing",492516,15215868,88706503,341780,856513,183930222,1.96,9.65,2008]
[336411,"Aircraft manufacturing",200836,7999635,50986702,87367,286542,95409243,1.98,8.4,2009]
[336411,"Aircraft manufacturing",217417,7851481,50289996,134979,294259,95387438,1.96,9.65,2008]
[336412,"Aircraft engine and engine parts manufacturing",80354,2370188,14417222,"D",156341,29573759,1.98,8.4,2009]
[336412,"Aircraft engine and engine parts manufacturing",88878,2506771,18025984,62726,180705,34584437,1.96,9.65,2008]
[336413,"Other aircraft parts and auxiliary equipment manufacturing",120383,3208262,11474310,"D",227107,32050688,1.98,8.4,2009]
[336413,"Other aircraft parts and auxiliary equipment manufacturing",131255,3159201,11294492,88134,235677,31941268,1.96,9.65,2008]
[336414,"Guided missile and space vehicle manufacturing",29455,997729,7559325,13667,"D",16141661,1.98,8.4,2009]
[336414,"Guided missile and space vehicle manufacturing",36719,1195888,7115583,20654,81818,15881884,1.96,9.65,2008]
[336415,"Space vehicle propulsion unit and propulsion unit parts mfg",9904,305009,1361795,18362,"D",4521328,1.98,8.4,2009]
[336415,"Space vehicle propulsion unit and propulsion unit parts mfg",11059,333786,1509837,25472,37760,4784179,1.96,9.65,2008]
[336419,"Other guided missile and space vehicle parts manufacturing",6084,154314,450850,7358,21490,1227563,1.98,8.4,2009]
[336419,"Other guided missile and space vehicle parts manufacturing",7187,168741,470612,9815,26295,1351017,1.96,9.65,2008]
[3365,"Railroad rolling stock mfg",33318,810137,7616409,89337,90748,12019211,1.98,8.4,2009]
[3365,"Railroad rolling stock mfg",41689,1011362,10581151,110200,108226,15641898,"D","D",2008]
[33651,"Railroad rolling stock manufacturing",33318,810137,7616409,89337,90748,12019211,"D","D",2009]
[33651,"Railroad rolling stock manufacturing",41689,1011362,10581151,110200,108226,15641898,"D","D",2008]
[336510,"Railroad rolling stock manufacturing",33318,810137,7616409,89337,90748,12019211,"D","D",2009]
[336510,"Railroad rolling stock manufacturing",41689,1011362,10581151,110200,108226,15641898,"D","D",2008]
[3366,"Ship & boat building",161158,3666610,10925305,52540,189099,27247521,"D","D",2009]
[3366,"Ship & boat building",202343,4152363,14022043,77532,209225,30665489,"D","D",2008]
[33661,"Ship and boat building",161158,3666610,10925305,52540,189099,27247521,"D","D",2009]
[33661,"Ship and boat building",202343,4152363,14022043,77532,209225,30665489,"D","D",2008]
[336611,"Ship building and repairing",125152,3013981,7676033,36529,151701,21801484,"D","D",2009]
[336611,"Ship building and repairing",135917,3038671,8713684,47386,158120,21505196,"D","D",2008]
[336612,"Boat building",36006,652629,3249273,16011,37398,5446037,"D","D",2009]
[336612,"Boat building",66426,1113692,5308359,30146,51104,9160293,"D","D",2008]
[3369,"Other transportation equipment mfg",56882,1234311,15580348,35257,76417,25117054,"D","D",2009]
[3369,"Other transportation equipment mfg",69449,1433776,17525859,44769,101754,29380673,"D","D",2008]
[33699,"Other transportation equipment manufacturing",56882,1234311,15580348,35257,76417,25117054,"D","D",2009]
[33699,"Other transportation equipment manufacturing",69449,1433776,17525859,44769,101754,29380673,"D","D",2008]
[336991,"Motorcycle, bicycle, and parts manufacturing",15048,317394,2551682,"D",24934,5097019,"D","D",2009]
[336991,"Motorcycle, bicycle, and parts manufacturing",18332,393499,3440690,14937,27258,6468594,"D","D",2008]
[336992,"Military armored vehicle, tank, and tank component mfg",28310,631150,9528676,"D","D",14807987,"D","D",2009]
[336992,"Military armored vehicle, tank, and tank component mfg",28851,650946,8863466,15159,51492,15307801,"D","D",2008]
[336999,"All other transportation equipment manufacturing",13524,285768,3499990,9042,"D",5212048,"D","D",2009]
[336999,"All other transportation equipment manufacturing",22266,389331,5221703,14673,23004,7604278,"D","D",2008]
[337,"Furniture & related product mfg",500738,7859665,27927766,190727,467151,60826897,2.82,3.7,2009]
[337,"Furniture & related product mfg",666464,10229312,36151355,273304,552778,79829115,2.15,5.79,2008]
[3371,"Household & institutional furniture & kitchen cabinet mfg",314307,4764580,15689822,101339,275329,32926054,2.82,3.7,2009]
[3371,"Household & institutional furniture & kitchen cabinet mfg",425730,6363917,20122604,140216,323553,44066653,2.15,5.79,2008]
[33711,"Wood kitchen cabinet and counter top manufacturing",120844,1873794,4459111,42164,111155,11130016,2.82,3.7,2009]
[33711,"Wood kitchen cabinet and counter top manufacturing",180735,2795965,6164853,60007,126296,15867283,2.15,5.79,2008]
[337110,"Wood kitchen cabinet and counter top manufacturing",120844,1873794,4459111,42164,111155,11130016,2.82,3.7,2009]
[337110,"Wood kitchen cabinet and counter top manufacturing",180735,2795965,6164853,60007,126296,15867283,2.15,5.79,2008]
[33712,"Household and institutional furniture manufacturing",193463,2890786,11230710,59175,164175,21796038,2.82,3.7,2009]
[33712,"Household and institutional furniture manufacturing",244995,3567953,13957751,80209,197257,28199370,2.15,5.79,2008]
[337121,"Upholstered household furniture manufacturing",84109,1252769,4928978,11711,48497,9034512,2.82,3.7,2009]
[337121,"Upholstered household furniture manufacturing",94110,1396937,5547298,18590,55588,10417963,2.15,5.79,2008]
[337122,"Nonupholstered wood household furniture manufacturing",52597,757569,2307068,16354,52683,4659704,2.82,3.7,2009]
[337122,"Nonupholstered wood household furniture manufacturing",79744,1090670,3699075,24330,68013,7876735,2.15,5.79,2008]
[337127,"Institutional furniture manufacturing",37918,598435,2208621,18852,39153,4982695,2.82,3.7,2009]
[337127,"Institutional furniture manufacturing",47019,738973,2687000,22417,44901,6070444,2.15,5.79,2008]
["33712N","Other household nonupholstered furniture",18839,282013,1786044,12258,23842,3119128,2.82,3.7,2009]
["33712N","Other household nonupholstered furniture",24122,341373,2024377,14871,28755,3834229,2.15,5.79,2008]
[3372,"Office furniture (including fixtures) mfg",144035,2439687,8321153,79224,162343,19604383,2.82,3.7,2009]
[3372,"Office furniture (including fixtures) mfg",189665,3129248,11453139,117290,195476,26673368,2.15,5.79,2008]
[33721,"Office furniture (including fixtures) manufacturing",144035,2439687,8321153,79224,162343,19604383,2.82,3.7,2009]
[33721,"Office furniture (including fixtures) manufacturing",189665,3129248,11453139,117290,195476,26673368,2.15,5.79,2008]
[337212,"Custom architectural woodwork and millwork manufacturing",48031,898007,2088472,16834,44582,5228164,2.82,3.7,2009]
[337212,"Custom architectural woodwork and millwork manufacturing",61075,1101407,2751456,24436,52815,6962299,2.15,5.79,2008]
[337215,"Showcase, partition, shelving, and locker manufacturing",45925,694409,2773085,30491,55445,5511919,2.82,3.7,2009]
[337215,"Showcase, partition, shelving, and locker manufacturing",61749,919121,3938246,46887,66635,7505458,2.15,5.79,2008]
["33721N","Office furniture manufacturing",50079,847271,3459596,31899,62316,8864300,2.82,3.7,2009]
["33721N","Office furniture manufacturing",66840,1108720,4763437,45967,76026,12205611,2.15,5.79,2008]
[3379,"Other furniture related product mfg",42396,655397,3916792,10164,29478,8296460,2.82,3.7,2009]
[3379,"Other furniture related product mfg",51069,736147,4575611,15798,33750,9089094,2.15,5.79,2008]
[33791,"Mattress manufacturing",26559,445531,3000500,6151,19991,6427309,2.82,3.7,2009]
[33791,"Mattress manufacturing",30062,469731,3344195,9866,21743,6650100,2.15,5.79,2008]
[337910,"Mattress manufacturing",26559,445531,3000500,6151,19991,6427309,2.82,3.7,2009]
[337910,"Mattress manufacturing",30062,469731,3344195,9866,21743,6650100,2.15,5.79,2008]
[33792,"Blind and shade manufacturing",15837,209866,916292,4013,9487,1869151,2.82,3.7,2009]
[33792,"Blind and shade manufacturing",21007,266416,1231416,5932,12007,2438993,2.15,5.79,2008]
[337920,"Blind and shade manufacturing",15837,209866,916292,4013,9487,1869151,2.82,3.7,2009]
[337920,"Blind and shade manufacturing",21007,266416,1231416,5932,12007,2438993,2.15,5.79,2008]
[339,"Miscellaneous mfg",696680,12046099,49655914,251095,817313,143915487,2.82,12.35,2009]
[339,"Miscellaneous mfg",778275,12974848,54730750,297614,868738,153366655,2.62,12.27,2008]
[3391,"Medical equipment & supplies mfg",351786,6391900,24332154,97081,398220,84560439,3.62,12.35,2009]
[3391,"Medical equipment & supplies mfg",372140,6546112,24684254,100297,401997,84397671,2.62,12.27,2008]
[33911,"Medical equipment and supplies manufacturing",351786,6391900,24332154,97081,398220,84560439,3.62,12.35,2009]
[33911,"Medical equipment and supplies manufacturing",372140,6546112,24684254,100297,401997,84397671,2.62,12.27,2008]
[339112,"Surgical and medical instrument manufacturing",129287,2439426,9889592,41507,167536,34625215,3.62,12.35,2009]
[339112,"Surgical and medical instrument manufacturing",130249,2292767,9774606,42053,176110,33970121,2.62,12.27,2008]
[339113,"Surgical appliance and supplies manufacturing",121105,2104302,10207129,41272,148984,35688860,3.62,12.35,2009]
[339113,"Surgical appliance and supplies manufacturing",132890,2279378,10648068,43385,138233,35459120,2.62,12.27,2008]
[339114,"Dental equipment and supplies manufacturing",15956,285556,1658833,4115,16348,4473531,3.62,12.35,2009]
[339114,"Dental equipment and supplies manufacturing",17792,335773,1678684,4746,16557,4743770,2.62,12.27,2008]
[339115,"Ophthalmic goods manufacturing",25268,435759,1579359,5474,39497,5512053,3.62,12.35,2009]
[339115,"Ophthalmic goods manufacturing",28085,452062,1538886,"(s)5,377",43600,5537923,2.62,12.27,2008]
[339116,"Dental laboratories",60170,1126857,997241,4712,25855,4260781,3.62,12.35,2009]
[339116,"Dental laboratories",63123,1186132,1044010,4735,27498,4686735,2.62,12.27,2008]
[3399,"Other miscellaneous mfg",344894,5654199,25323760,154014,419093,59355048,3.62,12.35,2009]
[3399,"Other miscellaneous mfg",406135,6428736,30046496,197317,466741,68968984,2.62,12.27,2008]
[33991,"Jewelry and silverware manufacturing",31600,492736,3491037,10183,29990,7048873,3.62,12.35,2009]
[33991,"Jewelry and silverware manufacturing",39965,626079,4434188,13724,43317,8733073,2.62,12.27,2008]
["33991M","Jewelry and silverware manufacturing",31600,492736,3491037,10183,29990,7048873,3.62,12.35,2009]
["33991M","Jewelry and silverware manufacturing",39965,626079,4434188,13724,43317,8733073,2.62,12.27,2008]
[33992,"Sporting and athletic goods manufacturing",47060,774570,4317305,30539,70441,10104416,3.62,12.35,2009]
[33992,"Sporting and athletic goods manufacturing",56569,819746,5297064,34919,77147,12330552,2.62,12.27,2008]
[339920,"Sporting and athletic goods manufacturing",47060,774570,4317305,30539,70441,10104416,3.62,12.35,2009]
[339920,"Sporting and athletic goods manufacturing",56569,819746,5297064,34919,77147,12330552,2.62,12.27,2008]
[33993,"Doll, toy, and game manufacturing",10122,161976,920677,5188,12997,2026851,3.62,12.35,2009]
[33993,"Doll, toy, and game manufacturing",12700,202004,1515114,8333,21606,2861473,2.62,12.27,2008]
["33993M","Doll, toy, and game manufacturing",10122,161976,920677,5188,12997,2026851,3.62,12.35,2009]
["33993M","Doll, toy, and game manufacturing",12700,202004,1515114,8333,21606,2861473,2.62,12.27,2008]
[33994,"Office supplies (except paper) manufacturing",15680,279130,1421413,9807,21875,3359350,3.62,12.35,2009]
[33994,"Office supplies (except paper) manufacturing",18392,297709,1543520,10067,20810,3596064,2.62,12.27,2008]
["33994M","Office supplies (except paper) manufacturing",15680,279130,1421413,9807,21875,3359350,3.62,12.35,2009]
["33994M","Office supplies (except paper) manufacturing",18392,297709,1543520,10067,20810,3596064,2.62,12.27,2008]
[33995,"Sign manufacturing",75722,1343806,4297582,22722,65971,10570105,3.62,12.35,2009]
[33995,"Sign manufacturing",93924,1536804,5184054,34872,72462,12702388,2.62,12.27,2008]
[339950,"Sign manufacturing",75722,1343806,4297582,22722,65971,10570105,3.62,12.35,2009]
[339950,"Sign manufacturing",93924,1536804,5184054,34872,72462,12702388,2.62,12.27,2008]
[33999,"All other miscellaneous manufacturing",164710,2601981,10875746,75575,217820,26245454,3.62,12.35,2009]
[33999,"All other miscellaneous manufacturing",184585,2946393,12072556,95402,231398,28745435,2.62,12.27,2008]
[339991,"Gasket, packing, and sealing device manufacturing",39565,627194,2137015,19459,69655,5135944,3.62,12.35,2009]
[339991,"Gasket, packing, and sealing device manufacturing",44191,734227,2578815,23361,77968,6189441,2.62,12.27,2008]
[339992,"Musical instrument manufacturing",16090,284212,571761,4957,14676,1597729,3.62,12.35,2009]
[339992,"Musical instrument manufacturing",19012,328621,696370,6152,16672,1855593,2.62,12.27,2008]
[339993,"Fastener, button, needle, and pin manufacturing",5510,88083,262990,6467,10307,734225,3.62,12.35,2009]
[339993,"Fastener, button, needle, and pin manufacturing",6330,93834,317538,8327,12102,834682,2.62,12.27,2008]
[339994,"Broom, brush, and mop manufacturing",12668,190486,1050309,3453,16428,2295436,3.62,12.35,2009]
[339994,"Broom, brush, and mop manufacturing",14882,221253,1138751,5001,16948,2222532,2.62,12.27,2008]
[339995,"Burial casket manufacturing",6141,100888,349492,4829,8577,852527,3.62,12.35,2009]
[339995,"Burial casket manufacturing",7095,115641,359754,6414,8500,870849,2.62,12.27,2008]
[339999,"All other miscellaneous manufacturing",84737,1311118,6504180,36411,98177,15629593,3.62,12.35,2009]
[339999,"All other miscellaneous manufacturing",93075,1452817,6981329,46147,99207,16772337,2.62,12.27,2008]

{"sheet":"2009-2010 Econ Census Data","index":153,"n_rows":1228,"n_cols":12,"rows_kept":1228,"cut":false,"hidden":false,"merged":[]}
["Data in the SourcingApps data base and is from the Annual Manufacturers Survey (codes 31-33), or Economic Census (published in years ending in 2 or 7) and the Quarterly Financial Report (average of four quarters, for the year selected) published by the U. S. Census Bureau."]
["2007 NAICS codes and NAICS-based rollup code code","Meaning of 2007 NAICS codes and NAICS-based rollup code code","Production workers hours (1,000)","Production workers wages ($1,000)","Total cost of materials ($1,000)","Cost of purchased fuels ($1,000)","Purchased electricity ($1,000)","Total value of shipments ($1,000)","Depreciation","Operating Income","Year code"]
["31-33","Manufacturing",14590567,299823278,2763128338,42462107,49359937,4916646802,2.97,7.41,"2010",1]
["31-33","Manufacturing",14726556,291638412,2426171049,40629285,45788006,4419501476,3.39,5.51,"2009"]
["311","Food mfg",2170326,35693372,382611979,5122654,5793350,646451483,1.55,8.61,"2010"]
["311","Food mfg",2195461,34876122,368989622,5404160,5431137,627185348,2.11,5.29,"2009"]
["3111","Animal food mfg",62175,1277531,29429718,261124,318517,46883746,1.55,8.61,"2010"]
["3111","Animal food mfg",62719,1236900,31496669,288077,327309,49998520,2.11,5.29,"2009"]
["31111","Animal food manufacturing",62175,1277531,29429718,261124,318517,46883746,1.55,8.61,"2010"]
["31111","Animal food manufacturing",62719,1236900,31496669,288077,327309,49998520,2.11,5.29,"2009"]
["311111","Dog and cat food manufacturing",27359,646185,10463472,100074,104158,19373702,1.55,8.61,"2010"]
["311111","Dog and cat food manufacturing",27702,620334,9773519,102664,96632,19691048,2.11,5.29,"2009"]
["311119","Other animal food manufacturing",34816,631345,18966246,161050,214359,27510044,1.55,8.61,"2010"]
["311119","Other animal food manufacturing",35018,616566,21723149,185414,230677,30307472,2.11,5.29,"2009"]
["3112","Grain & oilseed milling",80716,1922237,54773569,1206810,1022588,82999485,1.55,8.61,"2010"]
["3112","Grain & oilseed milling",82126,1893443,55596769,1341181,1003728,86243714,2.11,5.29,"2009"]
["31121","Flour milling and malt manufacturing",24595,491790,11829202,101364,300869,16641625,1.55,8.61,"2010"]
["31121","Flour milling and malt manufacturing",24148,457434,12512672,99994,300985,17228374,2.11,5.29,"2009"]
["31121M","Flour milling and malt manufacturing",24595,491790,11829202,101364,300869,16641625,1.55,8.61,"2010"]
["31121M","Flour milling and malt manufacturing",24148,457434,12512672,99994,300985,17228374,2.11,5.29,"2009"]
["31122","Starch and vegetable fats and oils manufacturing",34848,798862,39771446,1029759,631504,55706754,1.55,8.61,"2010"]
["31122","Starch and vegetable fats and oils manufacturing",36617,827459,39706048,1159316,615288,57847222,2.11,5.29,"2009"]
["311221","Wet corn milling",9946,294618,8054690,717322,376146,15110024,1.55,8.61,"2010"]
["311221","Wet corn milling",11629,318890,8335548,816124,365917,16112286,2.11,5.29,"2009"]
["311225","Fats and oils refining and blending",13650,271968,10750823,73409,59703,13534328,1.55,8.61,"2010"]
["311225","Fats and oils refining and blending",13531,273823,10756008,90559,63047,14228761,2.11,5.29,"2009"]
["31122N","Soybean and other oilseed processing",11252,232276,20965932,239027,195655,27062402,1.55,8.61,"2010"]
["31122N","Soybean and other oilseed processing",11457,234746,20614492,252633,186324,27506175,2.11,5.29,"2009"]
["31123","Breakfast cereal manufacturing",21273,631585,3172920,75688,90216,10651105,1.55,8.61,"2010"]
["31123","Breakfast cereal manufacturing",21361,608550,3378049,81871,87455,11168117,2.11,5.29,"2009"]
["311230","Breakfast cereal manufacturing",21273,631585,3172920,75688,90216,10651105,1.55,8.61,"2010"]
["311230","Breakfast cereal manufacturing",21361,608550,3378049,81871,87455,11168117,2.11,5.29,"2009"]
["3113","Sugar & confectionery product mfg",92877,1858023,14939623,347917,241138,28963140,1.55,8.61,"2010"]
["3113","Sugar & confectionery product mfg",90800,1764313,13832826,362394,224960,27492027,2.11,5.29,"2009"]
["31131","Sugar manufacturing",22431,469657,5154015,250100,71967,8206088,1.55,8.61,"2010"]
["31131","Sugar manufacturing",21464,436949,4704524,256595,68042,7522955,2.11,5.29,"2009"]
["311313","Beet sugar manufacturing",11571,226266,1973769,152298,41557,3518774,1.55,8.61,"2010"]
["311313","Beet sugar manufacturing",11210,218468,1774902,156523,38735,3213436,2.11,5.29,"2009"]
["31131N","Sugar cane mills and refining",10860,243391,3180246,97802,30410,4687314,1.55,8.61,"2010"]
["31131N","Sugar cane mills and refining",10254,218481,2929622,100072,29307,4309519,2.11,5.29,"2009"]
["31132","Chocolate and confectionery manufacturing from cacao beans",10044,224042,3212729,15468,34816,4548531,1.55,8.61,"2010"]
["31132","Chocolate and confectionery manufacturing from cacao beans",10696,217723,2709336,18882,31070,4138513,2.11,5.29,"2009"]
["311320","Chocolate and confectionery manufacturing from cacao beans",10044,224042,3212729,15468,34816,4548531,1.55,8.61,"2010"]
["311320","Chocolate and confectionery manufacturing from cacao beans",10696,217723,2709336,18882,31070,4138513,2.11,5.29,"2009"]
["31133","Confectionery manufacturing from purchased chocolate",35576,703800,3919602,55384,81425,9829983,1.55,8.61,"2010"]
["31133","Confectionery manufacturing from purchased chocolate",34615,661849,3881437,58969,77735,9615935,2.11,5.29,"2009"]
["311330","Confectionery manufacturing from purchased chocolate",35576,703800,3919602,55384,81425,9829983,1.55,8.61,"2010"]
["311330","Confectionery manufacturing from purchased chocolate",34615,661849,3881437,58969,77735,9615935,2.11,5.29,"2009"]
["31134","Nonchocolate confectionery manufacturing",24826,460523,2653277,26965,52929,6378538,1.55,8.61,"2010"]
["31134","Nonchocolate confectionery manufacturing",24026,447792,2537529,27949,48112,6214624,2.11,5.29,"2009"]
["311340","Nonchocolate confectionery manufacturing",24826,460523,2653277,26965,52929,6378538,1.55,8.61,"2010"]
["311340","Nonchocolate confectionery manufacturing",24026,447792,2537529,27949,48112,6214624,2.11,5.29,"2009"]
["3114","Fruit & vegetable preserving & specialty food mfg",274634,4649815,34986614,684496,694800,64330889,1.55,8.61,"2010"]
["3114","Fruit & vegetable preserving & specialty food mfg",278865,4639382,35730274,820496,722355,64754922,2.11,5.29,"2009"]
["31141","Frozen food manufacturing",142303,2222991,14108123,229239,359125,26791199,1.55,8.61,"2010"]
["31141","Frozen food manufacturing",141609,2172208,13911871,293250,387333,26428234,2.11,5.29,"2009"]
["31141M","Frozen food manufacturing",142303,2222991,14108123,229239,359125,26791199,1.55,8.61,"2010"]
["31141M","Frozen food manufacturing",141609,2172208,13911871,293250,387333,26428234,2.11,5.29,"2009"]
["31142","Fruit and vegetable canning, pickling, and drying",132330,2426824,20878491,455257,335675,37539689,1.55,8.61,"2010"]
["31142","Fruit and vegetable canning, pickling, and drying",137256,2467174,21818404,527246,335023,38326688,2.11,5.29,"2009"]
["31142M","Fruit and vegetable canning, pickling, and drying",132330,2426824,20878491,455257,335675,37539689,1.55,8.61,"2010"]
["31142M","Fruit and vegetable canning, pickling, and drying",137256,2467174,21818404,527246,335023,38326688,2.11,5.29,"2009"]
["3115","Dairy product mfg",198107,4159433,63502694,536644,708837,94101868,1.55,8.61,"2010"]
["3115","Dairy product mfg",194349,3990238,55906435,536746,678088,84484189,2.11,5.29,"2009"]
["31151","Dairy product (except frozen) manufacturing",168362,3530677,59674088,517728,605352,86734058,1.55,8.61,"2010"]
["31151","Dairy product (except frozen) manufacturing",164609,3401655,52193149,514908,574975,76844031,2.11,5.29,"2009"]
["311513","Cheese manufacturing",76113,1447970,27655414,201009,217363,35806357,1.55,8.61,"2010"]
["311513","Cheese manufacturing",70415,1357925,23493186,197496,190164,30603935,2.11,5.29,"2009"]
["311514","Dry, condensed, and evaporated dairy product manufacturing",21701,483184,8160116,127638,108954,14554203,1.55,8.61,"2010"]
["311514","Dry, condensed, and evaporated dairy product manufacturing",21496,461045,7275462,136495,102653,12659413,2.11,5.29,"2009"]
["31151N","Fluid milk and butter manufacturing",70549,1599524,23858558,189081,279035,36373498,1.55,8.61,"2010"]
["31151N","Fluid milk and butter manufacturing",72699,1582686,21424501,180917,282158,33580684,2.11,5.29,"2009"]
["31152","Ice cream and frozen dessert manufacturing",29745,628756,3828606,18915,103485,7367810,1.55,8.61,"2010"]
["31152","Ice cream and frozen dessert manufacturing",29740,588583,3713286,21838,103114,7640158,2.11,5.29,"2009"]
["311520","Ice cream and frozen dessert manufacturing",29745,628756,3828606,18915,103485,7367810,1.55,8.61,"2010"]
["311520","Ice cream and frozen dessert manufacturing",29740,588583,3713286,21838,103114,7640158,2.11,5.29,"2009"]
["3116","Animal  slaughtering & processing",871557,11825908,118735983,1180176,1626687,175588599,1.55,8.61,"2010"]
["3116","Animal  slaughtering & processing",901256,11776635,110082824,1024986,1309982,163124976,2.11,5.29,"2009"]
["31161","Animal slaughtering and processing",871557,11825908,118735983,1180176,1626687,175588599,1.55,8.61,"2010"]
["31161","Animal slaughtering and processing",901256,11776635,110082824,1024986,1309982,163124976,2.11,5.29,"2009"]
["311615","Poultry processing",405431,4897238,28873488,490283,813486,51133965,1.55,8.61,"2010"]
["311615","Poultry processing",422634,4981790,29891762,339408,580019,51957051,2.11,5.29,"2009"]
["31161N","Animal (except poultry) slaughtering and processing",466126,6928670,89862495,689893,813202,124454634,1.55,8.61,"2010"]
["31161N","Animal (except poultry) slaughtering and processing",478622,6794846,80191062,685578,729963,111167925,2.11,5.29,"2009"]
["3117","Seafood product preparation & packaging",47554,690544,6137745,126497,82824,10680882,1.55,8.61,"2010"]
["3117","Seafood product preparation & packaging",50008,683420,6095093,155819,85146,10541655,2.11,5.29,"2009"]
["31171","Seafood product preparation and packaging",47554,690544,6137745,126497,82824,10680882,1.55,8.61,"2010"]
["31171","Seafood product preparation and packaging",50008,683420,6095093,155819,85146,10541655,2.11,5.29,"2009"]
["31171M","Seafood product preparation and packaging",47554,690544,6137745,126497,82824,10680882,1.55,8.61,"2010"]
["31171M","Seafood product preparation and packaging",50008,683420,6095093,155819,85146,10541655,2.11,5.29,"2009"]
["3118","Bakeries & tortilla mfg",321186,5499303,22879597,348047,587297,58887781,1.55,8.61,"2010"]
["3118","Bakeries & tortilla mfg",323906,5313601,23847962,402569,583718,58939598,2.11,5.29,"2009"]
["31181","Bread and bakery product manufacturing",226871,3737530,12824198,224423,383916,34789282,1.55,8.61,"2010"]
["31181","Bread and bakery product manufacturing",224563,3581214,13535616,262722,384009,35258422,2.11,5.29,"2009"]
["31181M","Bread and bakery product manufacturing",226871,3737530,12824198,224423,383916,34789282,1.55,8.61,"2010"]
["31181M","Bread and bakery product manufacturing",224563,3581214,13535616,262722,384009,35258422,2.11,5.29,"2009"]
["31182","Cookie, cracker, and pasta manufacturing",72337,1459411,8762415,94786,168703,20984200,1.55,8.61,"2010"]
["31182","Cookie, cracker, and pasta manufacturing",76796,1439232,8941155,106110,163666,20540404,2.11,5.29,"2009"]
["31182M","Cookie, cracker, and pasta manufacturing",72337,1459411,8762415,94786,168703,20984200,1.55,8.61,"2010"]
["31182M","Cookie, cracker, and pasta manufacturing",76796,1439232,8941155,106110,163666,20540404,2.11,5.29,"2009"]
["31183","Tortilla manufacturing",21979,302361,1292984,28838,34677,3114300,1.55,8.61,"2010"]
["31183","Tortilla manufacturing",22547,293154,1371191,33737,36043,3140772,2.11,5.29,"2009"]
["311830","Tortilla manufacturing",21979,302361,1292984,28838,34677,3114300,1.55,8.61,"2010"]
["311830","Tortilla manufacturing",22547,293154,1371191,33737,36043,3140772,2.11,5.29,"2009"]
["3119","Other food mfg",221519,3810578,37226437,430942,510662,84015093,1.55,8.61,"2010"]
["3119","Other food mfg",211430,3578190,36400770,471892,495850,81605749,2.11,5.29,"2009"]
["31191","Snack food manufacturing",55119,1013517,10688234,188192,128571,27172331,1.55,8.61,"2010"]
["31191","Snack food manufacturing",53300,927530,10234372,220327,126361,26203463,2.11,5.29,"2009"]
["31191M","Snack food manufacturing",55119,1013517,10688234,188192,128571,27172331,1.55,8.61,"2010"]
["31191M","Snack food manufacturing",53300,927530,10234372,220327,126361,26203463,2.11,5.29,"2009"]
["31192","Coffee and tea manufacturing",16123,326708,4539016,52205,52229,10120191,1.55,8.61,"2010"]
["31192","Coffee and tea manufacturing",16607,320402,4663409,53978,53315,8926550,2.11,5.29,"2009"]
["311920","Coffee and tea manufacturing",16123,326708,4539016,52205,52229,10120191,1.55,8.61,"2010"]
["311920","Coffee and tea manufacturing",16607,320402,4663409,53978,53315,8926550,2.11,5.29,"2009"]
["31193","Flavoring syrup and concentrate manufacturing",8666,183871,2116418,13787,26096,8957723,1.55,8.61,"2010"]
["31193","Flavoring syrup and concentrate manufacturing",7347,151087,2062709,14328,22139,9098584,2.11,5.29,"2009"]
["311930","Flavoring syrup and concentrate manufacturing",8666,183871,2116418,13787,26096,8957723,1.55,8.61,"2010"]
["311930","Flavoring syrup and concentrate manufacturing",7347,151087,2062709,14328,22139,9098584,2.11,5.29,"2009"]
["31194","Seasoning and dressing manufacturing",43017,839055,8486079,45962,91288,16544907,1.55,8.61,"2010"]
["31194","Seasoning and dressing manufacturing",41738,793698,8429884,48306,94060,16307946,2.11,5.29,"2009"]
["31194M","Seasoning and dressing manufacturing",43017,839055,8486079,45962,91288,16544907,1.55,8.61,"2010"]
["31194M","Seasoning and dressing manufacturing",41738,793698,8429884,48306,94060,16307946,2.11,5.29,"2009"]
["31199","All other food manufacturing",98595,1447428,11396691,130796,212478,21219941,1.55,8.61,"2010"]
["31199","All other food manufacturing",92437,1385473,11010397,134953,199975,21069204,2.11,5.29,"2009"]
["31199M","All other food manufacturing",98595,1447428,11396691,130796,212478,21219941,1.55,8.61,"2010"]
["31199M","All other food manufacturing",92437,1385473,11010397,134953,199975,21069204,2.11,5.29,"2009"]
["312","Beverage & tobacco product mfg",152682,3671206,51652477,461737,727171,131845314,3,19.59,"2010"]
["312","Beverage & tobacco product mfg",163440,3771086,51683388,468289,738083,127943495,3.23,20.51,"2009"]
["3121","Beverage mfg",132184,3068263,45596639,424898,660860,92860249,3,19.59,"2010"]
["3121","Beverage mfg",141001,3151329,46021071,421348,669339,91381731,3.23,20.51,"2009"]
["31211","Soft drink and ice manufacturing",71115,1532194,27938290,178662,377577,45098981,3,19.59,"2010"]
["31211","Soft drink and ice manufacturing",73368,1511900,28102134,176516,380623,44847323,3.23,20.51,"2009"]
["31211M","Soft drink and ice manufacturing",71115,1532194,27938290,178662,377577,45098981,3,19.59,"2010"]
["31211M","Soft drink and ice manufacturing",73368,1511900,28102134,176516,380623,44847323,3.23,20.51,"2009"]
["31212","Breweries",25903,766608,8863623,178757,162954,25723279,3,19.59,"2010"]
["31212","Breweries",30811,832778,9362628,183730,176444,24071483,3.23,20.51,"2009"]
["312120","Breweries",25903,766608,8863623,178757,162954,25723279,3,19.59,"2010"]
["312120","Breweries",30811,832778,9362628,183730,176444,24071483,3.23,20.51,"2009"]
["31213","Wineries",27775,581040,6332887,36003,96401,14973157,3,19.59,"2010"]
["31213","Wineries",27889,589434,6164658,30111,90150,14839120,3.23,20.51,"2009"]
["312130","Wineries",27775,581040,6332887,36003,96401,14973157,3,19.59,"2010"]
["312130","Wineries",27889,589434,6164658,30111,90150,14839120,3.23,20.51,"2009"]
["31214","Distilleries",7391,188422,2461839,31476,23928,7064833,3,19.59,"2010"]
["31214","Distilleries",8933,217217,2391652,30992,22121,7623805,3.23,20.51,"2009"]
["312140","Distilleries",7391,188422,2461839,31476,23928,7064833,3,19.59,"2010"]
["312140","Distilleries",8933,217217,2391652,30992,22121,7623805,3.23,20.51,"2009"]
["3122","Tobacco mfg",20498,602943,6055838,36839,66311,38985065,3,19.59,"2010"]
["3122","Tobacco mfg",22439,619757,5662317,46941,68744,36561764,3.23,20.51,"2009"]
["31221","Tobacco stemming and redrying",2894,38113,841762,"D",7580,1418370,3,19.59,"2010"]
["31221","Tobacco stemming and redrying",2848,39297,661230,4363,5275,1213323,3.23,20.51,"2009"]
["312210","Tobacco stemming and redrying",2894,38113,841762,"D",7580,1418370,3,19.59,"2010"]
["312210","Tobacco stemming and redrying",2848,39297,661230,4363,5275,1213323,3.23,20.51,"2009"]
["31222","Tobacco product manufacturing",17604,564830,5214076,"D",58731,37566695,3,19.59,"2010"]
["31222","Tobacco product manufacturing",19591,580460,5001087,42578,63469,35348441,3.23,20.51,"2009"]
["31222M","Tobacco product manufacturing",17604,564830,5214076,"D",58731,37566695,3,19.59,"2010"]
["31222M","Tobacco product manufacturing",19591,580460,5001087,42578,63469,35348441,3.23,20.51,"2009"]
["313","Textile mills",170609,2710365,16417583,344267,770367,29108825,3.25,2.91,"2010"]
["313","Textile mills",172173,2723177,14486358,326448,692112,26324170,3.86,2.4,"2009"]
["3131","Fiber, yarn, & thread mills",45801,663366,4964308,43026,300892,7388518,3.25,2.91,"2010"]
["3131","Fiber, yarn, & thread mills",46855,648758,4148261,49297,273806,6431013,3.86,2.4,"2009"]
["31311","Fiber, yarn, and thread mills",45801,663366,4964308,43026,300892,7388518,3.25,2.91,"2010"]
["31311","Fiber, yarn, and thread mills",46855,648758,4148261,49297,273806,6431013,3.86,2.4,"2009"]
["31311M","Fiber, yarn, and thread mills",45801,663366,4964308,43026,300892,7388518,3.25,2.91,"2010"]
["31311M","Fiber, yarn, and thread mills",46855,648758,4148261,49297,273806,6431013,3.86,2.4,"2009"]
["3132","Fabric mills",80686,1367367,7366760,153363,350701,14683221,3.25,2.91,"2010"]
["3132","Fabric mills",82888,1438631,6643157,126188,309128,13660464,3.86,2.4,"2009"]
["31321","Broadwoven fabric mills",34380,510062,2811922,39673,136048,4444224,3.25,2.91,"2010"]
["31321","Broadwoven fabric mills",35251,496486,2663688,35487,120715,4365696,3.86,2.4,"2009"]
["313210","Broadwoven fabric mills",34380,510062,2811922,39673,136048,4444224,3.25,2.91,"2010"]
["313210","Broadwoven fabric mills",35251,496486,2663688,35487,120715,4365696,3.86,2.4,"2009"]
["31322","Narrow fabric mills and schiffli machine embroidery",11201,156778,392741,11624,14637,974757,3.25,2.91,"2010"]
["31322","Narrow fabric mills and schiffli machine embroidery",10852,145786,391498,10572,15943,922062,3.86,2.4,"2009"]
["31322M","Narrow fabric mills and schiffli machine embroidery",11201,156778,392741,11624,14637,974757,3.25,2.91,"2010"]
["31322M","Narrow fabric mills and schiffli machine embroidery",10852,145786,391498,10572,15943,922062,3.86,2.4,"2009"]
["31323","Nonwoven fabric mills",24420,542597,3376418,82061,170603,7970232,3.25,2.91,"2010"]
["31323","Nonwoven fabric mills",25889,646024,2895951,60656,146893,7216428,3.86,2.4,"2009"]
["313230","Nonwoven fabric mills",24420,542597,3376418,82061,170603,7970232,3.25,2.91,"2010"]
["313230","Nonwoven fabric mills",25889,646024,2895951,60656,146893,7216428,3.86,2.4,"2009"]
["31324","Knit fabric mills",10685,157930,785680,20005,29414,1294009,3.25,2.91,"2010"]
["31324","Knit fabric mills",10896,150335,692021,19473,25577,1156278,3.86,2.4,"2009"]
["31324M","Knit fabric mills",10685,157930,785680,20005,29414,1294009,3.25,2.91,"2010"]
["31324M","Knit fabric mills",10896,150335,692021,19473,25577,1156278,3.86,2.4,"2009"]
["3133","Textile & fabric finishing & fabric coating mills",44121,679632,4086515,147878,118773,7037087,3.25,2.91,"2010"]
["3133","Textile & fabric finishing & fabric coating mills",42430,635789,3694939,150963,109178,6232693,3.86,2.4,"2009"]
["31331","Textile and fabric finishing mills",34267,490215,2538757,125556,93440,4621732,3.25,2.91,"2010"]
["31331","Textile and fabric finishing mills",33290,463270,2353380,129002,87041,4248505,3.86,2.4,"2009"]
["31331M","Textile and fabric finishing mills",34267,490215,2538757,125556,93440,4621732,3.25,2.91,"2010"]
["31331M","Textile and fabric finishing mills",33290,463270,2353380,129002,87041,4248505,3.86,2.4,"2009"]
["31332","Fabric coating mills",9854,189417,1547758,22322,25333,2415355,3.25,2.91,"2010"]
["31332","Fabric coating mills",9140,172519,1341559,21961,22137,1984188,3.86,2.4,"2009"]
["313320","Fabric coating mills",9854,189417,1547758,22322,25333,2415355,3.25,2.91,"2010"]
["313320","Fabric coating mills",9140,172519,1341559,21961,22137,1984188,3.86,2.4,"2009"]
["314","Textile product mills",161201,2180301,12081426,116841,212192,21818005,3.25,2.91,"2010"]
["314","Textile product mills",164586,2182066,11658274,239594,224296,21366432,3.86,2.4,"2009"]
["3141","Textile furnishings mills",86512,1094587,7131694,76344,109119,12512594,3.25,2.91,"2010"]
["3141","Textile furnishings mills",89327,1121649,7118225,202735,123472,12710987,3.86,2.4,"2009"]
["31411","Carpet and rug mills",51464,692715,5137996,67226,85284,8816893,3.25,2.91,"2010"]
["31411","Carpet and rug mills",52247,705882,5033507,192778,99325,8945698,3.86,2.4,"2009"]
["314110","Carpet and rug mills",51464,692715,5137996,67226,85284,8816893,3.25,2.91,"2010"]
["314110","Carpet and rug mills",52247,705882,5033507,192778,99325,8945698,3.86,2.4,"2009"]
["31412","Curtain and linen mills",35049,401872,1993698,9119,23834,3695701,3.25,2.91,"2010"]
["31412","Curtain and linen mills",37081,415768,2084717,9956,24147,3765289,3.86,2.4,"2009"]
["31412M","Curtain and linen mills",35049,401872,1993698,9119,23834,3695701,3.25,2.91,"2010"]
["31412M","Curtain and linen mills",37081,415768,2084717,9956,24147,3765289,3.86,2.4,"2009"]
["3149","Other textile product mills",74688,1085714,4949732,40497,103073,9305411,3.25,2.91,"2010"]
["3149","Other textile product mills",75259,1060417,4540049,36859,100824,8655445,3.86,2.4,"2009"]
["31491","Textile bag and canvas mills",25530,339895,1461896,8732,15358,2796729,3.25,2.91,"2010"]
["31491","Textile bag and canvas mills",26395,352243,1335462,7648,16705,2689514,3.86,2.4,"2009"]
["31491M","Textile bag and canvas mills",25530,339895,1461896,8732,15358,2796729,3.25,2.91,"2010"]
["31491M","Textile bag and canvas mills",26395,352243,1335462,7648,16705,2689514,3.86,2.4,"2009"]
["31499","All other textile product mills",49158,745820,3487836,31765,87715,6508682,3.25,2.91,"2010"]
["31499","All other textile product mills",48863,708174,3204587,29211,84119,5965931,3.86,2.4,"2009"]
["314991","Rope, cordage, and twine mills",4914,72244,436908,2769,12024,840787,3.25,2.91,"2010"]
["314991","Rope, cordage, and twine mills",5253,75337,418054,2352,9964,785918,3.86,2.4,"2009"]
["314992","Tire cord and tire fabric mills",3970,83795,657818,9073,28984,963015,3.25,2.91,"2010"]
["314992","Tire cord and tire fabric mills",3829,73604,571696,9618,29962,846821,3.86,2.4,"2009"]
["314999","All other miscellaneous textile product mills",40274,589781,2393109,19923,46707,4704880,3.25,2.91,"2010"]
["314999","All other miscellaneous textile product mills",39782,559233,2214837,17241,44193,4333192,3.86,2.4,"2009"]
["315","Apparel mfg",159057,1808544,6851394,36072,84281,13642517,2.29,8.26,"2010"]
["315","Apparel mfg",171880,1873325,6878167,37297,84562,13909045,2.0299999999999998,7.26,"2009"]
["3151","Apparel knitting mills",22203,284441,1039512,14463,35124,2151252,2.29,8.26,"2010"]
["3151","Apparel knitting mills",22001,275486,961500,15683,33557,2002722,2.0299999999999998,7.26,"2009"]
["31511","Hosiery and sock mills",17651,223656,727642,12292,30586,1643444,2.29,8.26,"2010"]
["31511","Hosiery and sock mills",17094,209840,719830,14253,29950,1574816,2.0299999999999998,7.26,"2009"]
["31511M","Hosiery and sock mills",17651,223656,727642,12292,30586,1643444,2.29,8.26,"2010"]
["31511M","Hosiery and sock mills",17094,209840,719830,14253,29950,1574816,2.0299999999999998,7.26,"2009"]
["31519","Other apparel knitting mills",4552,60786,311870,2171,4538,507807,2.29,8.26,"2010"]
["31519","Other apparel knitting mills",4907,65646,241670,1430,3608,427906,2.0299999999999998,7.26,"2009"]
["31519M","Other apparel knitting mills",4552,60786,311870,2171,4538,507807,2.29,8.26,"2010"]
["31519M","Other apparel knitting mills",4907,65646,241670,1430,3608,427906,2.0299999999999998,7.26,"2009"]
["3152","Cut & sew apparel mfg",123360,1375901,5303302,19876,43176,10359073,2.29,8.26,"2010"]
["3152","Cut & sew apparel mfg",135220,1437335,5359485,18986,44786,10744957,2.0299999999999998,7.26,"2009"]
["31521","Cut and sew apparel contractors",58410,633806,1265536,10652,16505,2814602,2.29,8.26,"2010"]
["31521","Cut and sew apparel contractors",65100,647414,1233972,8304,16213,2891211,2.0299999999999998,7.26,"2009"]
["31521M","Cut and sew apparel contractors",58410,633806,1265536,10652,16505,2814602,2.29,8.26,"2010"]
["31521M","Cut and sew apparel contractors",65100,647414,1233972,8304,16213,2891211,2.0299999999999998,7.26,"2009"]
["31522","Men's and boys' cut and sew apparel manufacturing",22854,241172,962466,4419,10456,1858676,2.29,8.26,"2010"]
["31522","Men's and boys' cut and sew apparel manufacturing",25852,265848,1037191,5192,11400,2041840,2.0299999999999998,7.26,"2009"]
["31522M","Men's and boys' cut and sew apparel manufacturing",22854,241172,962466,4419,10456,1858676,2.29,8.26,"2010"]
["31522M","Men's and boys' cut and sew apparel manufacturing",25852,265848,1037191,5192,11400,2041840,2.0299999999999998,7.26,"2009"]
["31523","Women's and girls' cut and sew apparel manufacturing",32210,377294,2704828,3786,11075,4800388,2.29,8.26,"2010"]
["31523","Women's and girls' cut and sew apparel manufacturing",33433,392056,2712876,4331,11835,4922197,2.0299999999999998,7.26,"2009"]
["31523M","Women's and girls' cut and sew apparel manufacturing",32210,377294,2704828,3786,11075,4800388,2.29,8.26,"2010"]
["31523M","Women's and girls' cut and sew apparel manufacturing",33433,392056,2712876,4331,11835,4922197,2.0299999999999998,7.26,"2009"]
["31529","Other cut and sew apparel manufacturing",9886,123628,370472,1019,5141,885406,2.29,8.26,"2010"]
["31529","Other cut and sew apparel manufacturing",10835,132016,375445,1159,5337,889709,2.0299999999999998,7.26,"2009"]
["31529M","Other cut and sew apparel manufacturing",9886,123628,370472,1019,5141,885406,2.29,8.26,"2010"]
["31529M","Other cut and sew apparel manufacturing",10835,132016,375445,1159,5337,889709,2.0299999999999998,7.26,"2009"]
["3159","Apparel accessories & other apparel mfg",13493,148202,508579,1733,5981,1132193,2.29,8.26,"2010"]
["3159","Apparel accessories & other apparel mfg",14659,160504,557183,2628,6219,1161365,2.0299999999999998,7.26,"2009"]
["31599","Apparel accessories and other apparel manufacturing",13493,148202,508579,1733,5981,1132193,2.29,8.26,"2010"]
["31599","Apparel accessories and other apparel manufacturing",14659,160504,557183,2628,6219,1161365,2.0299999999999998,7.26,"2009"]
["31599M","Apparel accessories and other apparel manufacturing",13493,148202,508579,1733,5981,1132193,2.29,8.26,"2010"]
["31599M","Apparel accessories and other apparel manufacturing",14659,160504,557183,2628,6219,1161365,2.0299999999999998,7.26,"2009"]
["316","Leather & allied product mfg",37861,511605,2610069,22051,35373,5049444,2.29,8.26,"2010"]
["316","Leather & allied product mfg",37040,494883,2129152,15085,26670,4327306,2.0299999999999998,7.26,"2009"]
["3161","Leather & hide tanning & finishing",5401,81240,993023,15975,16775,1581118,2.29,8.26,"2010"]
["3161","Leather & hide tanning & finishing",5461,82643,593576,9819,9997,953381,2.0299999999999998,7.26,"2009"]
["31611","Leather and hide tanning and finishing",5401,81240,993023,15975,16775,1581118,2.29,8.26,"2010"]
["31611","Leather and hide tanning and finishing",5461,82643,593576,9819,9997,953381,2.0299999999999998,7.26,"2009"]
["316110","Leather and hide tanning and finishing",5401,81240,993023,15975,16775,1581118,2.29,8.26,"2010"]
["316110","Leather and hide tanning and finishing",5461,82643,593576,9819,9997,953381,2.0299999999999998,7.26,"2009"]
["3162","Footwear mfg",16913,239516,853322,2706,10695,1775697,2.29,8.26,"2010"]
["3162","Footwear mfg",15557,223231,811753,2782,9574,1706700,2.0299999999999998,7.26,"2009"]
["31621","Footwear manufacturing",16913,239516,853322,2706,10695,1775697,2.29,8.26,"2010"]
["31621","Footwear manufacturing",15557,223231,811753,2782,9574,1706700,2.0299999999999998,7.26,"2009"]
["31621M","Footwear manufacturing",16913,239516,853322,2706,10695,1775697,2.29,8.26,"2010"]
["31621M","Footwear manufacturing",15557,223231,811753,2782,9574,1706700,2.0299999999999998,7.26,"2009"]
["3169","Other leather & allied product mfg",15547,190850,763725,3370,7903,1692629,2.29,8.26,"2010"]
["3169","Other leather & allied product mfg",16022,189010,723823,2484,7098,1667225,2.0299999999999998,7.26,"2009"]
["31699","Other leather and allied product manufacturing",15547,190850,763725,3370,7903,1692629,2.29,8.26,"2010"]
["31699","Other leather and allied product manufacturing",16022,189010,723823,2484,7098,1667225,2.0299999999999998,7.26,"2009"]
["31699M","Other leather and allied product manufacturing",15547,190850,763725,3370,7903,1692629,2.29,8.26,"2010"]
["31699M","Other leather and allied product manufacturing",16022,189010,723823,2484,7098,1667225,2.0299999999999998,7.26,"2009"]
["321","Wood product mfg",519001,8202997,41149455,595969,1400929,69956935,4.4000000000000004,3.54,"2010"]
["321","Wood product mfg",525675,8170627,38139605,584037,1291766,65000228,5.15,2.4300000000000002,"2009"]
["3211","Sawmills & wood preservation",125669,2171212,14010850,201118,517328,22209463,4.4000000000000004,3.54,"2010"]
["3211","Sawmills & wood preservation",124796,2045304,12370225,192262,445958,18879310,5.15,2.4300000000000002,"2009"]
["32111","Sawmills and wood preservation",125669,2171212,14010850,201118,517328,22209463,4.4000000000000004,3.54,"2010"]
["32111","Sawmills and wood preservation",124796,2045304,12370225,192262,445958,18879310,5.15,2.4300000000000002,"2009"]
["32111M","Sawmills and wood preservation",125669,2171212,14010850,201118,517328,22209463,4.4000000000000004,3.54,"2010"]
["32111M","Sawmills and wood preservation",124796,2045304,12370225,192262,445958,18879310,5.15,2.4300000000000002,"2009"]
["3212","Veneer, plywood, & engineered wood product mfg",96160,1593390,8466624,211353,437874,14014401,4.4000000000000004,3.54,"2010"]
["3212","Veneer, plywood, & engineered wood product mfg",96442,1577605,7924724,208891,423842,12758184,5.15,2.4300000000000002,"2009"]
["32121","Veneer, plywood, and engineered wood product manufacturing",96160,1593390,8466624,211353,437874,14014401,4.4000000000000004,3.54,"2010"]
["32121","Veneer, plywood, and engineered wood product manufacturing",96442,1577605,7924724,208891,423842,12758184,5.15,2.4300000000000002,"2009"]
["321219","Reconstituted wood product manufacturing",22206,422279,3164999,136522,272972,5308919,4.4000000000000004,3.54,"2010"]
["321219","Reconstituted wood product manufacturing",22123,425503,2907958,139508,262529,4765730,5.15,2.4300000000000002,"2009"]
["32121N","Veneer and plywood manufacturing",46226,756928,3430377,63726,132965,5460695,4.4000000000000004,3.54,"2010"]
["32121N","Veneer and plywood manufacturing",45018,718718,3186038,57842,128711,4817149,5.15,2.4300000000000002,"2009"]
["32121P","Engineered wood product manufacturing",27729,414184,1871248,11105,31937,3244787,4.4000000000000004,3.54,"2010"]
["32121P","Engineered wood product manufacturing",29301,433384,1830728,11541,32601,3175305,5.15,2.4300000000000002,"2009"]
["3219","Other wood product mfg",297171,4438394,18671982,183498,445727,33733071,4.4000000000000004,3.54,"2010"]
["3219","Other wood product mfg",304437,4547718,17844656,182884,421966,33362734,5.15,2.4300000000000002,"2009"]
["32191","Millwork",138375,2238338,9577355,76877,223188,17240163,4.4000000000000004,3.54,"2010"]
["32191","Millwork",143937,2349271,9307881,79301,215887,17265983,5.15,2.4300000000000002,"2009"]
["32191M","Millwork",138375,2238338,9577355,76877,223188,17240163,4.4000000000000004,3.54,"2010"]
["32191M","Millwork",143937,2349271,9307881,79301,215887,17265983,5.15,2.4300000000000002,"2009"]
["32192","Wood container and pallet manufacturing",72567,942581,3441945,49787,78639,6244518,4.4000000000000004,3.54,"2010"]
["32192","Wood container and pallet manufacturing",70631,899485,3086069,43244,67899,5875192,5.15,2.4300000000000002,"2009"]
["321920","Wood container and pallet manufacturing",72567,942581,3441945,49787,78639,6244518,4.4000000000000004,3.54,"2010"]
["321920","Wood container and pallet manufacturing",70631,899485,3086069,43244,67899,5875192,5.15,2.4300000000000002,"2009"]
["32199","All other wood product manufacturing",86229,1257475,5652682,56834,143900,10248389,4.4000000000000004,3.54,"2010"]
["32199","All other wood product manufacturing",89869,1298963,5450705,60338,138181,10221558,5.15,2.4300000000000002,"2009"]
["321991","Manufactured home (mobile home) manufacturing",30118,410764,1825459,6048,15065,3139191,4.4000000000000004,3.54,"2010"]
["321991","Manufactured home (mobile home) manufacturing",32888,436187,1846557,8007,18862,3235308,5.15,2.4300000000000002,"2009"]
["321992","Prefabricated wood building manufacturing",16787,270615,1265425,6464,16955,2103457,4.4000000000000004,3.54,"2010"]
["321992","Prefabricated wood building manufacturing",17825,292453,1279794,6963,14143,2274983,5.15,2.4300000000000002,"2009"]
["321999","All other miscellaneous wood product manufacturing",39323,576096,2561798,44322,111880,5005742,4.4000000000000004,3.54,"2010"]
["321999","All other miscellaneous wood product manufacturing",39157,570323,2324355,45368,105176,4711268,5.15,2.4300000000000002,"2009"]
["322","Paper mfg",563408,13124520,91185311,4389303,3697051,169954396,4.93,7.04,"2010"]
["322","Paper mfg",577972,12920645,84415747,4429934,3602072,161635961,5.53,8.43,"2009"]
["3221","Pulp, paper, & paperboard mills",184742,5648845,38673927,3923253,2717681,79324230,4.93,7.04,"2010"]
["3221","Pulp, paper, & paperboard mills",190441,5574372,34596125,3946226,2648492,74397401,5.53,8.43,"2009"]
["32211","Pulp mills",10511,344994,2235911,223040,71889,4238094,4.93,7.04,"2010"]
["32211","Pulp mills",10988,355278,2379818,240252,89339,4300857,5.53,8.43,"2009"]
["322110","Pulp mills",10511,344994,2235911,223040,71889,4238094,4.93,7.04,"2010"]
["322110","Pulp mills",10988,355278,2379818,240252,89339,4300857,5.53,8.43,"2009"]
["32212","Paper mills",115163,3479173,22506142,2029541,1523919,47711825,4.93,7.04,"2010"]
["32212","Paper mills",121350,3514868,21084175,2112929,1535108,46977422,5.53,8.43,"2009"]
["32212M","Paper and newsprint mills",115163,3479173,22506142,2029541,1523919,47711825,4.93,7.04,"2010"]
["32212M","Paper and newsprint mills",121350,3514868,21084175,2112929,1535108,46977422,5.53,8.43,"2009"]
["32213","Paperboard mills",59068,1824679,13931874,1670672,1121873,27374311,4.93,7.04,"2010"]
["32213","Paperboard mills",58104,1704226,11132131,1593044,1024045,23119121,5.53,8.43,"2009"]
["322130","Paperboard mills",59068,1824679,13931874,1670672,1121873,27374311,4.93,7.04,"2010"]
["322130","Paperboard mills",58104,1704226,11132131,1593044,1024045,23119121,5.53,8.43,"2009"]
["3222","Converted paper product mfg",378666,7475675,52511383,466050,979369,90630166,4.93,7.04,"2010"]
["3222","Converted paper product mfg",387531,7346273,49819622,483708,953580,87238560,5.53,8.43,"2009"]
["32221","Paperboard container manufacturing",220118,4310075,30331344,258273,484359,50219086,4.93,7.04,"2010"]
["32221","Paperboard container manufacturing",225668,4194562,28711921,268859,476582,47325688,5.53,8.43,"2009"]
["32221M","Paperboard container manufacturing",220118,4310075,30331344,258273,484359,50219086,4.93,7.04,"2010"]
["32221M","Paperboard container manufacturing",225668,4194562,28711921,268859,476582,47325688,5.53,8.43,"2009"]
["32222","Paper bag and coated and treated paper manufacturing",75517,1520862,11029469,122186,227894,19579320,4.93,7.04,"2010"]
["32222","Paper bag and coated and treated paper manufacturing",75121,1497700,9959406,129695,216504,18339601,5.53,8.43,"2009"]
["32222N","Coated and laminated paper and packaging manufacturing",49117,1036505,7967809,102672,176603,14579982,4.93,7.04,"2010"]
["32222N","Coated and laminated paper and packaging manufacturing",47826,1003021,7050324,107447,166644,13355818,5.53,8.43,"2009"]
["32222P","Coated, uncoated, and multiwall bag and packaging mfg",26400,484356,3061659,19515,51291,4999338,4.93,7.04,"2010"]
["32222P","Coated, uncoated, and multiwall bag and packaging mfg",27295,494680,2909082,22248,49861,4983783,5.53,8.43,"2009"]
["32223","Stationery product manufacturing",32411,595396,3773016,8220,61475,5938771,4.93,7.04,"2010"]
["32223","Stationery product manufacturing",36214,631444,4167348,10179,71258,6763255,5.53,8.43,"2009"]
["32223M","Stationery product manufacturing",32411,595396,3773016,8220,61475,5938771,4.93,7.04,"2010"]
["32223M","Stationery product manufacturing",36214,631444,4167348,10179,71258,6763255,5.53,8.43,"2009"]
["32229","Other converted paper product manufacturing",50620,1049341,7377554,77371,205641,14892990,4.93,7.04,"2010"]
["32229","Other converted paper product manufacturing",50527,1022568,6980946,74976,189236,14810016,5.53,8.43,"2009"]
["322291","Sanitary paper product manufacturing",27992,648828,5241665,40870,133602,10692539,4.93,7.04,"2010"]
["322291","Sanitary paper product manufacturing",28108,644233,4968942,35432,122033,10811415,5.53,8.43,"2009"]
["322299","All other converted paper product manufacturing",22628,400513,2135889,36500,72040,4200451,4.93,7.04,"2010"]
["322299","All other converted paper product manufacturing",22419,378335,2012005,39544,67203,3998602,5.53,8.43,"2009"]
["323","Printing & related support activities",639271,12442149,33061100,286823,1116806,82488372,4.72,7.36,"2010"]
["323","Printing & related support activities",679103,13031645,33080051,331777,1111285,82919219,4.99,6.8,"2009"]
["3231","Printing & related support activities",639271,12442149,33061100,286823,1116806,82488372,4.72,7.36,"2010"]
["3231","Printing & related support activities",679103,13031645,33080051,331777,1111285,82919219,4.99,6.8,"2009"]
["32311","Printing",598177,11615668,32109665,275521,1071879,78389295,4.72,7.36,"2010"]
["32311","Printing",633970,12124352,32118310,309245,1065552,78754906,4.99,6.8,"2009"]
["32311M","Printing",598177,11615668,32109665,275521,1071879,78389295,4.72,7.36,"2010"]
["32311M","Printing",633970,12124352,32118310,309245,1065552,78754906,4.99,6.8,"2009"]
["32312","Support activities for printing",41094,826481,951435,11302,44927,4099077,4.72,7.36,"2010"]
["32312","Support activities for printing",45133,907293,961740,22533,45733,4164313,4.99,6.8,"2009"]
["32312M","Support activities for printing",41094,826481,951435,11302,44927,4099077,4.72,7.36,"2010"]
["32312M","Support activities for printing",45133,907293,961740,22533,45733,4164313,4.99,6.8,"2009"]
["324","Petroleum & coal products mfg",143499,4947533,537476672,7159115,2690894,627571677,2.86,2.9,"2010"]
["324","Petroleum & coal products mfg",147215,4880070,420309730,6417467,2595514,495776672,3.36,1.61,"2009"]
["3241","Petroleum & coal products mfg",143499,4947533,537476672,7159115,2690894,627571677,2.86,2.9,"2010"]
["3241","Petroleum & coal products mfg",147215,4880070,420309730,6417467,2595514,495776672,3.36,1.61,"2009"]
["32411","Petroleum refineries",89428,3600872,511894454,6504049,2410419,588663680,2.86,2.9,"2010"]
["32411","Petroleum refineries",93783,3613445,398363825,5806694,2336698,461591600,3.36,1.61,"2009"]
["324110","Petroleum refineries",89428,3600872,511894454,6504049,2410419,588663680,2.86,2.9,"2010"]
["324110","Petroleum refineries",93783,3613445,398363825,5806694,2336698,461591600,3.36,1.61,"2009"]
["32412","Asphalt paving, roofing, and saturated materials manufacturing",36060,895620,14408206,556112,207636,22913915,2.86,2.9,"2010"]
["32412","Asphalt paving, roofing, and saturated materials manufacturing",35569,839646,12231020,511699,190438,20787838,3.36,1.61,"2009"]
["324121","Asphalt paving mixture and block manufacturing",20522,499593,9216655,475144,142499,13344008,2.86,2.9,"2010"]
["324121","Asphalt paving mixture and block manufacturing",20745,477648,7346193,437281,128569,11633349,3.36,1.61,"2009"]
["324122","Asphalt shingle and coating materials manufacturing",15538,396027,5191551,80967,65136,9569907,2.86,2.9,"2010"]
["324122","Asphalt shingle and coating materials manufacturing",14824,361998,4884827,74418,61869,9154488,3.36,1.61,"2009"]
["32419","Other petroleum and coal products manufacturing",18011,451041,11174011,98955,72840,15994082,2.86,2.9,"2010"]
["32419","Other petroleum and coal products manufacturing",17862,426979,9714885,99075,68378,13397235,3.36,1.61,"2009"]
["324191","Petroleum lubricating oil and grease manufacturing",13046,318708,8615956,47868,36487,12083101,2.86,2.9,"2010"]
["324191","Petroleum lubricating oil and grease manufacturing",13157,305839,7535344,47633,35667,10158867,3.36,1.61,"2009"]
["324199","All other petroleum and coal products manufacturing",4965,132333,2558055,51086,36352,3910981,2.86,2.9,"2010"]
["324199","All other petroleum and coal products manufacturing",4705,121140,2179541,51442,32711,3238368,3.36,1.61,"2009"]
["325","Chemical mfg",834643,22353074,351218078,11492702,8378600,701230232,3.47,12.06,"2010"]
["325","Chemical mfg",828048,21739419,297236597,10115485,7526906,624366731,3.94,12.16,"2009"]
["3251","Basic chemical mfg",176922,5858479,138526465,7885377,4549748,225898138,3.86,5.85,"2010"]
["3251","Basic chemical mfg",176355,5471318,106270311,6676546,4059771,172523277,5.53,2.88,"2009"]
["32511","Petrochemical manufacturing",11227,517938,45209660,1779991,437315,78162641,3.86,5.85,"2010"]
["32511","Petrochemical manufacturing",12415,517466,33092027,1544052,403690,52239782,5.53,2.88,"2009"]
["325110","Petrochemical manufacturing",11227,517938,45209660,1779991,437315,78162641,3.86,5.85,"2010"]
["325110","Petrochemical manufacturing",12415,517466,33092027,1544052,403690,52239782,5.53,2.88,"2009"]
["32512","Industrial gas manufacturing",14056,419636,3082607,"737,868 <sup>(s)</sup>",956924,7202654,3.86,5.85,"2010"]
["32512","Industrial gas manufacturing",13566,401475,2555339,334401,880648,7471140,5.53,2.88,"2009"]
["325120","Industrial gas manufacturing",14056,419636,3082607,"737,868 <sup>(s)</sup>",956924,7202654,3.86,5.85,"2010"]
["325120","Industrial gas manufacturing",13566,401475,2555339,334401,880648,7471140,5.53,2.88,"2009"]
["32513","Synthetic dye and pigment manufacturing",13193,361187,3572850,215575,176038,7186205,3.86,5.85,"2010"]
["32513","Synthetic dye and pigment manufacturing",12779,349606,2972633,174585,161233,6052445,5.53,2.88,"2009"]
["32513M","Synthetic dye and pigment manufacturing",13193,361187,3572850,215575,176038,7186205,3.86,5.85,"2010"]
["32513M","Synthetic dye and pigment manufacturing",12779,349606,2972633,174585,161233,6052445,5.53,2.88,"2009"]
["32518","Other basic inorganic chemical manufacturing",44596,1475835,13052725,1041155,1526583,31414851,3.86,5.85,"2010"]
["32518","Other basic inorganic chemical manufacturing",44893,1383640,11575741,1056286,1397899,27617797,5.53,2.88,"2009"]
["325181","Alkalies and chlorine manufacturing",7656,282831,2977781,560778,"D",5984806,3.86,5.85,"2010"]
["325181","Alkalies and chlorine manufacturing",7632,272689,2498935,533566,"D",5279802,5.53,2.88,"2009"]
["325182","Carbon black manufacturing",2356,70926,1116873,44036,"D",1635511,3.86,5.85,"2010"]
["325182","Carbon black manufacturing",2354,67063,733310,33596,"D",1183144,5.53,2.88,"2009"]
["325188","All other basic inorganic chemical manufacturing",34585,1122078,8958071,436342,1004962,23794534,3.86,5.85,"2010"]
["325188","All other basic inorganic chemical manufacturing",34908,1043889,8343496,489124,968782,21154850,5.53,2.88,"2009"]
["32519","Other basic organic chemical manufacturing",93849,3083883,73608623,4110788,1452888,101931787,3.86,5.85,"2010"]
["32519","Other basic organic chemical manufacturing",92703,2819131,56074571,3567222,1216301,79142112,5.53,2.88,"2009"]
["32519M","Other basic organic chemical manufacturing",93849,3083883,73608623,4110788,1452888,101931787,3.86,5.85,"2010"]
["32519M","Other basic organic chemical manufacturing",92703,2819131,56074571,3567222,1216301,79142112,5.53,2.88,"2009"]
["3252","Resin, syn rubber, & artificial syn fibers & filaments mfg",111935,3132617,61233562,1759747,1677930,94905065,3.86,5.85,"2010"]
["3252","Resin, syn rubber, & artificial syn fibers & filaments mfg",109528,2983491,45272343,1565279,1472485,73438383,5.53,2.88,"2009"]
["32521","Resin and synthetic rubber manufacturing",89655,2675487,56482530,1634584,1472062,88114145,3.86,5.85,"2010"]
["32521","Resin and synthetic rubber manufacturing",89178,2576586,41903121,1407016,1312929,68154566,5.53,2.88,"2009"]
["325211","Plastics material and resin manufacturing",78152,2324924,50764350,1469326,1364889,79887398,3.86,5.85,"2010"]
["325211","Plastics material and resin manufacturing",77943,2222000,38140230,1212089,1213479,62029475,5.53,2.88,"2009"]
["325212","Synthetic rubber manufacturing",11503,350563,5718180,165257,107174,8226746,3.86,5.85,"2010"]
["325212","Synthetic rubber manufacturing",11235,354586,3762891,194927,99450,6125092,5.53,2.88,"2009"]
["32522","Artificial and synthetic fibers and filaments manufacturing",22280,457130,4751031,125163,205868,6790920,3.86,5.85,"2010"]
["32522","Artificial and synthetic fibers and filaments manufacturing",20349,406905,3369221,158262,159556,5283816,5.53,2.88,"2009"]
["32522M","Artificial and synthetic fibers and filaments manufacturing",22280,457130,4751031,125163,205868,6790920,3.86,5.85,"2010"]
["32522M","Artificial and synthetic fibers and filaments manufacturing",20349,406905,3369221,158262,159556,5283816,5.53,2.88,"2009"]
["3253","Pesticide, fertilizer, & other agricultural chemical mfg",37714,942624,16848942,528651,377345,31154675,3.06,13.79,"2010"]
["3253","Pesticide, fertilizer, & other agricultural chemical mfg",37954,917184,16056300,478075,367038,31863094,3.22,14.29,"2009"]
["32531","Fertilizer manufacturing",26812,661867,12203965,477450,316784,20572966,3.06,13.79,"2010"]
["32531","Fertilizer manufacturing",26139,620365,11472193,415663,308659,20061106,3.22,14.29,"2009"]
["325311","Nitrogenous fertilizer manufacturing",6741,224815,3356742,397210,185446,7170904,3.06,13.79,"2010"]
["325311","Nitrogenous fertilizer manufacturing",6165,205284,3127300,338939,180495,6825111,3.22,14.29,"2009"]
["325312","Phosphatic fertilizer manufacturing",9502,247447,5801224,56771,105846,8593102,3.06,13.79,"2010"]
["325312","Phosphatic fertilizer manufacturing",9813,242529,5155661,56631,102498,8077791,3.22,14.29,"2009"]
["325314","Fertilizer (mixing only) manufacturing",10569,189605,3045998,23469,25491,4808960,3.06,13.79,"2010"]
["325314","Fertilizer (mixing only) manufacturing",10162,172552,3189233,20094,25667,5158204,3.22,14.29,"2009"]
["32532","Pesticide and other agricultural chemical manufacturing",10902,280757,4644978,51201,60561,10581709,3.06,13.79,"2010"]
["32532","Pesticide and other agricultural chemical manufacturing",11815,296818,4584107,62412,58379,11801988,3.22,14.29,"2009"]
["325320","Pesticide and other agricultural chemical manufacturing",10902,280757,4644978,51201,60561,10581709,3.06,13.79,"2010"]
["325320","Pesticide and other agricultural chemical manufacturing",11815,296818,4584107,62412,58379,11801988,3.22,14.29,"2009"]
["3254","Pharmaceutical & medicine mfg",225608,6258226,53097123,530566,816935,185759084,3.42,15.53,"2010"]
["3254","Pharmaceutical & medicine mfg",220824,6291952,51655327,563899,743937,190618341,3.43,16.7,"2009"]
["32541","Pharmaceutical and medicine manufacturing",225608,6258226,53097123,530566,816935,185759084,3.42,15.53,"2010"]
["32541","Pharmaceutical and medicine manufacturing",220824,6291952,51655327,563899,743937,190618341,3.43,16.7,"2009"]
["325411","Medicinal and botanical manufacturing",25306,649533,4406942,113991,153087,11218828,3.42,15.53,"2010"]
["325411","Medicinal and botanical manufacturing",26122,654814,3993384,111343,132623,10636194,3.43,16.7,"2009"]
["325412","Pharmaceutical preparation manufacturing",137433,3775126,37919470,276901,476101,137659334,3.42,15.53,"2010"]
["325412","Pharmaceutical preparation manufacturing",133458,3764952,36000342,290435,434209,141568418,3.43,16.7,"2009"]
["325413","In-vitro diagnostic substance manufacturing",20950,569245,4054828,19741,67049,12510652,3.42,15.53,"2010"]
["325413","In-vitro diagnostic substance manufacturing",19793,541271,3729277,21331,61895,11765005,3.43,16.7,"2009"]
["325414","Biological product (except diagnostic) manufacturing",41919,1264321,6715883,119933,120697,24370269,3.42,15.53,"2010"]
["325414","Biological product (except diagnostic) manufacturing",41452,1330914,7932325,140791,115211,26648724,3.43,16.7,"2009"]
["3255","Paint, coating, & adhesive mfg",63065,1368416,16109223,112510,185346,31335308,3.06,13.79,"2010"]
["3255","Paint, coating, & adhesive mfg",64600,1344910,14987587,116178,182582,29049679,3.22,14.29,"2009"]
["32551","Paint and coating manufacturing",38652,844847,10580434,55328,102829,21042836,3.06,13.79,"2010"]
["32551","Paint and coating manufacturing",38697,834326,9712622,56173,100003,19408875,3.22,14.29,"2009"]
["325510","Paint and coating manufacturing",38652,844847,10580434,55328,102829,21042836,3.06,13.79,"2010"]
["325510","Paint and coating manufacturing",38697,834326,9712622,56173,100003,19408875,3.22,14.29,"2009"]
["32552","Adhesive manufacturing",24413,523569,5528789,57182,82517,10292472,3.06,13.79,"2010"]
["32552","Adhesive manufacturing",25903,510584,5274966,60005,82580,9640805,3.22,14.29,"2009"]
["325520","Adhesive manufacturing",24413,523569,5528789,57182,82517,10292472,3.06,13.79,"2010"]
["325520","Adhesive manufacturing",25903,510584,5274966,60005,82580,9640805,3.22,14.29,"2009"]
["3256","Soap, cleaning compound, & toilet preparation mfg",111884,2378073,40967222,308933,288224,86707319,3.06,13.79,"2010"]
["3256","Soap, cleaning compound, & toilet preparation mfg",111047,2442135,42274903,369610,300903,86724520,3.22,14.29,"2009"]
["32561","Soap and cleaning compound manufacturing",53934,1255568,23461360,267776,176111,49113858,3.06,13.79,"2010"]
["32561","Soap and cleaning compound manufacturing",53590,1253923,24894228,326779,183521,49149069,3.22,14.29,"2009"]
["32561M","Soap and cleaning compound manufacturing",53934,1255568,23461360,267776,176111,49113858,3.06,13.79,"2010"]
["32561M","Soap and cleaning compound manufacturing",53590,1253923,24894228,326779,183521,49149069,3.22,14.29,"2009"]
["32562","Toilet preparation manufacturing",57951,1122505,17505862,41158,112114,37593461,3.06,13.79,"2010"]
["32562","Toilet preparation manufacturing",57457,1188213,17380675,42831,117382,37575451,3.22,14.29,"2009"]
["325620","Toilet preparation manufacturing",57951,1122505,17505862,41158,112114,37593461,3.06,13.79,"2010"]
["325620","Toilet preparation manufacturing",57457,1188213,17380675,42831,117382,37575451,3.22,14.29,"2009"]
["3259","Other chemical product & preparation mfg",107514,2414639,24435542,366917,483073,45470643,3.06,13.79,"2010"]
["3259","Other chemical product & preparation mfg",107740,2288429,20719826,345898,400190,40149438,3.22,14.29,"2009"]
["32591","Printing ink manufacturing",17002,345380,2907461,15977,48881,5064601,3.06,13.79,"2010"]
["32591","Printing ink manufacturing",16569,312064,2355584,10627,30767,4085365,3.22,14.29,"2009"]
["325910","Printing ink manufacturing",17002,345380,2907461,15977,48881,5064601,3.06,13.79,"2010"]
["325910","Printing ink manufacturing",16569,312064,2355584,10627,30767,4085365,3.22,14.29,"2009"]
["32592","Explosives manufacturing",8235,200663,954597,6095,15617,2194764,3.06,13.79,"2010"]
["32592","Explosives manufacturing",8426,190876,858374,5143,13207,2031708,3.22,14.29,"2009"]
["325920","Explosives manufacturing",8235,200663,954597,6095,15617,2194764,3.06,13.79,"2010"]
["325920","Explosives manufacturing",8426,190876,858374,5143,13207,2031708,3.22,14.29,"2009"]
["32599","All other chemical product and preparation manufacturing",82277,1868596,20573484,344845,418574,38211278,3.06,13.79,"2010"]
["32599","All other chemical product and preparation manufacturing",82745,1785489,17505869,330128,356217,34032365,3.22,14.29,"2009"]
["325991","Custom compounding of purchased resins",24247,489743,6825437,36352,165493,9873431,3.06,13.79,"2010"]
["325991","Custom compounding of purchased resins",22789,428184,4689716,28488,120942,6963243,3.22,14.29,"2009"]
["32599N","All other miscellaneous chemical product and preparation mfg",58030,1378852,13748047,308493,253081,28337847,3.06,13.79,"2010"]
["32599N","All other miscellaneous chemical product and preparation mfg",59955,1357306,12816152,301640,235275,27069122,3.22,14.29,"2009"]
["326","Plastics & rubber products mfg",1037262,18109448,100143882,802714,3601364,188582731,3.76,5.67,"2010"]
["326","Plastics & rubber products mfg",1023123,17134534,87735484,818705,3349394,171115105,4.17,4.21,"2009"]
["3261","Plastics product mfg",845371,14187288,79251687,564724,3101003,151312240,3.76,5.67,"2010"]
["3261","Plastics product mfg",842174,13491110,70247183,562791,2889466,138503092,4.17,4.21,"2009"]
["32611","Unsupported plastics film, sheet, and bag manufacturing",142984,2803250,19057450,165155,662981,33697297,3.76,5.67,"2010"]
["32611","Unsupported plastics film, sheet, and bag manufacturing",143053,2693123,16367312,156290,619249,30279477,4.17,4.21,"2009"]
["326111","Plastics bag manufacturing",50474,839939,5116540,16186,173970,8989357,3.76,5.67,"2010"]
["326111","Plastics bag manufacturing",51925,843559,4522421,17429,161512,8698532,4.17,4.21,"2009"]
["326112","Plastics packaging film and sheet (including laminated) mfg",39396,860205,5478426,51267,155744,9593099,3.76,5.67,"2010"]
["326112","Plastics packaging film and sheet (including laminated) mfg",37289,807629,4677353,49325,141098,8704670,4.17,4.21,"2009"]
["326113","Unlaminated plastics film and sheet (except packaging) mfg",53114,1103106,8462483,97703,333267,15114841,3.76,5.67,"2010"]
["326113","Unlaminated plastics film and sheet (except packaging) mfg",53839,1041935,7167537,89537,316639,12876275,4.17,4.21,"2009"]
["32612","Plastics pipe, pipe fitting, and unsupported profile shape mfg",55199,968230,6187483,31829,223544,11137428,3.76,5.67,"2010"]
["32612","Plastics pipe, pipe fitting, and unsupported profile shape mfg",57510,911584,5151637,32998,204208,9722842,4.17,4.21,"2009"]
["326121","Unsupported plastics profile shape manufacturing",25770,479041,1946321,22889,77563,4255060,3.76,5.67,"2010"]
["326121","Unsupported plastics profile shape manufacturing",24814,421883,1673367,24494,68382,3686355,4.17,4.21,"2009"]
["326122","Plastics pipe and pipe fitting manufacturing",29429,489188,4241163,8940,145980,6882368,3.76,5.67,"2010"]
["326122","Plastics pipe and pipe fitting manufacturing",32696,489701,3478270,8504,135826,6036488,4.17,4.21,"2009"]
["32613","Laminated plastics plate, sheet, and shape manufacturing",14326,296035,1556234,26942,53032,3072176,3.76,5.67,"2010"]
["32613","Laminated plastics plate, sheet, and shape manufacturing",14250,266574,1258833,29065,44442,2584019,4.17,4.21,"2009"]
["326130","Laminated plastics plate, sheet, and shape manufacturing",14326,296035,1556234,26942,53032,3072176,3.76,5.67,"2010"]
["326130","Laminated plastics plate, sheet, and shape manufacturing",14250,266574,1258833,29065,44442,2584019,4.17,4.21,"2009"]
["32614","Polystyrene foam product manufacturing",41000,650132,4232937,71111,153796,7995962,3.76,5.67,"2010"]
["32614","Polystyrene foam product manufacturing",42311,652793,3970459,71461,147234,7808373,4.17,4.21,"2009"]
["326140","Polystyrene foam product manufacturing",41000,650132,4232937,71111,153796,7995962,3.76,5.67,"2010"]
["326140","Polystyrene foam product manufacturing",42311,652793,3970459,71461,147234,7808373,4.17,4.21,"2009"]
["32615","Urethane and other foam product (except polystyrene) mfg",38489,645291,4690835,30625,75984,7899032,3.76,5.67,"2010"]
["32615","Urethane and other foam product (except polystyrene) mfg",35235,570136,4113502,32611,71261,7118527,4.17,4.21,"2009"]
["326150","Urethane and other foam product (except polystyrene) mfg",38489,645291,4690835,30625,75984,7899032,3.76,5.67,"2010"]
["326150","Urethane and other foam product (except polystyrene) mfg",35235,570136,4113502,32611,71261,7118527,4.17,4.21,"2009"]
["32616","Plastics bottle manufacturing",57388,1004909,6021039,19833,437891,10846368,3.76,5.67,"2010"]
["32616","Plastics bottle manufacturing",60061,1025691,5918609,19932,435872,10745603,4.17,4.21,"2009"]
["326160","Plastics bottle manufacturing",57388,1004909,6021039,19833,437891,10846368,3.76,5.67,"2010"]
["326160","Plastics bottle manufacturing",60061,1025691,5918609,19932,435872,10745603,4.17,4.21,"2009"]
["32619","Other plastics product manufacturing",495985,7819443,37505709,219228,1493776,76663976,3.76,5.67,"2010"]
["32619","Other plastics product manufacturing",489754,7371210,33466832,220432,1367200,70244252,4.17,4.21,"2009"]
["32619M","Other plastics product manufacturing",495985,7819443,37505709,219228,1493776,76663976,3.76,5.67,"2010"]
["32619M","Other plastics product manufacturing",489754,7371210,33466832,220432,1367200,70244252,4.17,4.21,"2009"]
["3262","Rubber product mfg",191890,3922159,20892196,237991,500361,37270491,3.76,5.67,"2010"]
["3262","Rubber product mfg",180948,3643424,17488300,255914,459928,32612013,4.17,4.21,"2009"]
["32621","Tire manufacturing",78790,2023137,10524527,137938,243431,17666922,3.76,5.67,"2010"]
["32621","Tire manufacturing",76998,1951075,8790004,148668,231911,16053884,4.17,4.21,"2009"]
["32621M","Tire manufacturing",78790,2023137,10524527,137938,243431,17666922,3.76,5.67,"2010"]
["32621M","Tire manufacturing",76998,1951075,8790004,148668,231911,16053884,4.17,4.21,"2009"]
["32622","Rubber and plastics hoses and belting manufacturing",25980,467957,2107472,26290,52369,4375412,3.76,5.67,"2010"]
["32622","Rubber and plastics hoses and belting manufacturing",22889,391611,1812423,27358,48030,3720128,4.17,4.21,"2009"]
["326220","Rubber and plastics hoses and belting manufacturing",25980,467957,2107472,26290,52369,4375412,3.76,5.67,"2010"]
["326220","Rubber and plastics hoses and belting manufacturing",22889,391611,1812423,27358,48030,3720128,4.17,4.21,"2009"]
["32629","Other rubber product manufacturing",87121,1431065,8260196,73764,204561,15228157,3.76,5.67,"2010"]
["32629","Other rubber product manufacturing",81061,1300738,6885873,79888,179987,12838001,4.17,4.21,"2009"]
["32629M","Other rubber product manufacturing",87121,1431065,8260196,73764,204561,15228157,3.76,5.67,"2010"]
["32629M","Other rubber product manufacturing",81061,1300738,6885873,79888,179987,12838001,4.17,4.21,"2009"]
["327","Nonmetallic mineral product mfg",518668,10466477,41354309,3083388,2369176,90780700,7.81,1.1200000000000001,"2010"]
["327","Nonmetallic mineral product mfg",546465,10627830,39534970,3195425,2268185,89661997,7.67,1.23,"2009"]
["3271","Clay product & refractory mfg",47178,905859,2765300,271730,148063,6899129,7.81,1.1200000000000001,"2010"]
["3271","Clay product & refractory mfg",47296,847308,2396819,288133,142953,6225248,7.67,1.23,"2009"]
["32711","Pottery, ceramics, and plumbing fixture manufacturing",18498,356282,769051,45525,40876,2176322,7.81,1.1200000000000001,"2010"]
["32711","Pottery, ceramics, and plumbing fixture manufacturing",18550,311728,579323,42309,37074,1780382,7.67,1.23,"2009"]
["327111","Vitreous china plumbing fixture manufacturing","D","D",138635,7329,4997,469655,7.81,1.1200000000000001,"2010"]
["327111","Vitreous china plumbing fixture manufacturing","D","D","D",7227,"D","D",7.67,1.23,"2009"]
["327112","Vitreous china and earthenware articles mfg",7642,"D",281932,16644,14058,828433,7.81,1.1200000000000001,"2010"]
["327112","Vitreous china and earthenware articles mfg",7818,"D","D",16351,"D","D",7.67,1.23,"2009"]
["327113","Porcelain electrical supply manufacturing","D",165665,348485,21552,21821,878233,7.81,1.1200000000000001,"2010"]
["327113","Porcelain electrical supply manufacturing","D",121448,269865,18731,18425,715591,7.67,1.23,"2009"]
["32712","Clay building material and refractories manufacturing",28681,549577,1996249,226205,107187,4722807,7.81,1.1200000000000001,"2010"]
["32712","Clay building material and refractories manufacturing",28746,535580,1817497,245823,105879,4444865,7.67,1.23,"2009"]
["327121","Brick and structural clay tile manufacturing",10801,182733,334913,120277,41716,1070349,7.81,1.1200000000000001,"2010"]
["327121","Brick and structural clay tile manufacturing",11035,189121,361123,137914,43184,1129680,7.67,1.23,"2009"]
["327122","Ceramic wall and floor tile manufacturing",5227,96590,280944,28124,17883,849994,7.81,1.1200000000000001,"2010"]
["327122","Ceramic wall and floor tile manufacturing",5886,103767,285926,31650,19568,901302,7.67,1.23,"2009"]
["327123","Other structural clay product manufacturing",1638,27094,38029,9506,3652,128003,7.81,1.1200000000000001,"2010"]
["327123","Other structural clay product manufacturing",1671,29170,45970,10284,3912,151412,7.67,1.23,"2009"]
["32712N","Refractory manufacturing",11014,243160,1342363,68298,43935,2674462,7.81,1.1200000000000001,"2010"]
["32712N","Refractory manufacturing",10154,213523,1124479,65975,39215,2262471,7.67,1.23,"2009"]
["3272","Glass & glass product mfg",121560,2573932,9180443,845943,709996,20712765,7.81,1.1200000000000001,"2010"]
["3272","Glass & glass product mfg",129267,2630998,9102145,1007429,709103,20374344,7.67,1.23,"2009"]
["32721","Glass and glass product manufacturing",121560,2573932,9180443,845943,709996,20712765,7.81,1.1200000000000001,"2010"]
["32721","Glass and glass product manufacturing",129267,2630998,9102145,1007429,709103,20374344,7.67,1.23,"2009"]
["327211","Flat glass manufacturing",11733,243107,1200883,233193,106369,2466529,7.81,1.1200000000000001,"2010"]
["327211","Flat glass manufacturing",14334,293620,1352289,319180,119930,2587669,7.67,1.23,"2009"]
["327212","Other pressed and blown glass and glassware manufacturing",27773,561228,1595756,232220,156893,3920833,7.81,1.1200000000000001,"2010"]
["327212","Other pressed and blown glass and glassware manufacturing",27338,532351,1455881,251947,144848,3724288,7.67,1.23,"2009"]
["327213","Glass container manufacturing",24375,678153,1938600,331866,223537,4937651,7.81,1.1200000000000001,"2010"]
["327213","Glass container manufacturing",25631,683654,2068931,384653,230429,5171853,7.67,1.23,"2009"]
["327215","Glass product manufacturing made of purchased glass",57679,1091444,4445203,48664,223197,9387753,7.81,1.1200000000000001,"2010"]
["327215","Glass product manufacturing made of purchased glass",61964,1121373,4225044,51649,213896,8890535,7.67,1.23,"2009"]
["3273","Cement & concrete product mfg",240639,4722168,19265728,932454,866624,39429959,7.81,1.1200000000000001,"2010"]
["3273","Cement & concrete product mfg",257353,4888338,18591075,848825,789812,40918768,7.67,1.23,"2009"]
["32731","Cement manufacturing",19665,537891,2425367,556698,542083,5205537,7.81,1.1200000000000001,"2010"]
["32731","Cement manufacturing",21349,593077,2131652,520921,525352,5749876,7.67,1.23,"2009"]
["327310","Cement manufacturing",19665,537891,2425367,556698,542083,5205537,7.81,1.1200000000000001,"2010"]
["327310","Cement manufacturing",21349,593077,2131652,520921,525352,5749876,7.67,1.23,"2009"]
["32732","Ready-mix concrete manufacturing",123565,2488215,10957246,262615,170884,20254720,7.81,1.1200000000000001,"2010"]
["32732","Ready-mix concrete manufacturing",129203,2526563,10246752,208707,124723,19898056,7.67,1.23,"2009"]
["327320","Ready-mix concrete manufacturing",123565,2488215,10957246,262615,170884,20254720,7.81,1.1200000000000001,"2010"]
["327320","Ready-mix concrete manufacturing",129203,2526563,10246752,208707,124723,19898056,7.67,1.23,"2009"]
["32733","Concrete pipe, brick, and block manufacturing",34087,625174,2667638,53028,61934,6343990,7.81,1.1200000000000001,"2010"]
["32733","Concrete pipe, brick, and block manufacturing",35135,630211,2722744,52654,62430,6535364,7.67,1.23,"2009"]
["32733M","Concrete pipe, brick, and block manufacturing",34087,625174,2667638,53028,61934,6343990,7.81,1.1200000000000001,"2010"]
["32733M","Concrete pipe, brick, and block manufacturing",35135,630211,2722744,52654,62430,6535364,7.67,1.23,"2009"]
["32739","Other concrete product manufacturing",63321,1070888,3215478,60113,91723,7625713,7.81,1.1200000000000001,"2010"]
["32739","Other concrete product manufacturing",71665,1138488,3489927,66543,77306,8735472,7.67,1.23,"2009"]
["327390","Other concrete product manufacturing",63321,1070888,3215478,60113,91723,7625713,7.81,1.1200000000000001,"2010"]
["327390","Other concrete product manufacturing",71665,1138488,3489927,66543,77306,8735472,7.67,1.23,"2009"]
["3274","Lime & gypsum product mfg",19029,447876,2788172,628841,201723,5178108,7.81,1.1200000000000001,"2010"]
["3274","Lime & gypsum product mfg",20106,458972,2756014,611434,195511,5235553,7.67,1.23,"2009"]
["32741","Lime manufacturing",7206,174714,902468,360896,98932,2117585,7.81,1.1200000000000001,"2010"]
["32741","Lime manufacturing",6895,169342,754113,302352,89717,1815320,7.67,1.23,"2009"]
["327410","Lime manufacturing",7206,174714,902468,360896,98932,2117585,7.81,1.1200000000000001,"2010"]
["327410","Lime manufacturing",6895,169342,754113,302352,89717,1815320,7.67,1.23,"2009"]
["32742","Gypsum product manufacturing",11823,273162,1885704,267945,102791,3060523,7.81,1.1200000000000001,"2010"]
["32742","Gypsum product manufacturing",13211,289630,2001901,309083,105794,3420233,7.67,1.23,"2009"]
["327420","Gypsum product manufacturing",11823,273162,1885704,267945,102791,3060523,7.81,1.1200000000000001,"2010"]
["327420","Gypsum product manufacturing",13211,289630,2001901,309083,105794,3420233,7.67,1.23,"2009"]
["3279","Other nonmetallic mineral product mfg",90263,1816643,7354666,404420,442770,18560738,7.81,1.1200000000000001,"2010"]
["3279","Other nonmetallic mineral product mfg",92443,1802213,6688917,439604,430806,16908084,7.67,1.23,"2009"]
["32791","Abrasive product manufacturing",15753,305361,1386187,33552,60850,4474611,7.81,1.1200000000000001,"2010"]
["32791","Abrasive product manufacturing",15051,274340,1013383,29721,51052,3456262,7.67,1.23,"2009"]
["327910","Abrasive product manufacturing",15753,305361,1386187,33552,60850,4474611,7.81,1.1200000000000001,"2010"]
["327910","Abrasive product manufacturing",15051,274340,1013383,29721,51052,3456262,7.67,1.23,"2009"]
["32799","All other nonmetallic mineral product manufacturing",74510,1511282,5968479,370868,381920,14086127,7.81,1.1200000000000001,"2010"]
["32799","All other nonmetallic mineral product manufacturing",77392,1527873,5675534,409883,379754,13451822,7.67,1.23,"2009"]
["327991","Cut stone and stone product manufacturing",28276,505061,1013047,18070,31160,2763331,7.81,1.1200000000000001,"2010"]
["327991","Cut stone and stone product manufacturing",30944,531117,993665,18474,30061,2805125,7.67,1.23,"2009"]
["327992","Ground or treated mineral and earth manufacturing",8938,197332,1339438,140858,101823,3390973,7.81,1.1200000000000001,"2010"]
["327992","Ground or treated mineral and earth manufacturing",9229,203082,1292265,131055,100897,3057091,7.67,1.23,"2009"]
["327993","Mineral wool manufacturing",25656,585128,2350243,156043,207927,4944592,7.81,1.1200000000000001,"2010"]
["327993","Mineral wool manufacturing",25236,567384,2103778,194645,209818,4739963,7.67,1.23,"2009"]
["327999","All other miscellaneous nonmetallic mineral product mfg",11640,223760,1265751,55896,41010,2987232,7.81,1.1200000000000001,"2010"]
["327999","All other miscellaneous nonmetallic mineral product mfg",11983,226290,1285826,65709,38979,2849643,7.67,1.23,"2009"]
["331","Primary metal mfg",575572,14196452,150886123,4136470,5920928,231185309,3.25,5.12,"2010"]
["331","Primary metal mfg",541583,12544939,114359934,3677470,5012711,168927121,4.1900000000000004,1.49,"2009"]
["3311","Iron & steel mills & ferroalloy mfg",164301,5115310,63451373,2460376,2708608,94042570,3.16,1.28,"2010"]
["3311","Iron & steel mills & ferroalloy mfg",151599,4518512,47629749,2250028,2269047,64189944,4.17,-5.99,"2009"]
["33111","Iron and steel mills and ferroalloy manufacturing",164301,5115310,63451373,2460376,2708608,94042570,3.16,1.28,"2010"]
["33111","Iron and steel mills and ferroalloy manufacturing",151599,4518512,47629749,2250028,2269047,64189944,4.17,-5.99,"2009"]
["33111M","Iron and steel mills and ferroalloy manufacturing",164301,5115310,63451373,2460376,2708608,94042570,3.16,1.28,"2010"]
["33111M","Iron and steel mills and ferroalloy manufacturing",151599,4518512,47629749,2250028,2269047,64189944,4.17,-5.99,"2009"]
["3312","Steel product mfg from purchased steel",62389,1413659,15196793,192131,301971,21582066,3.16,1.28,"2010"]
["3312","Steel product mfg from purchased steel",56081,1185401,11025006,139544,236516,15205998,4.17,-5.99,"2009"]
["33121","Iron and steel pipe and tube mfg from purchased steel",27600,650185,6199420,84463,137227,9173586,3.16,1.28,"2010"]
["33121","Iron and steel pipe and tube mfg from purchased steel",24620,552812,4358314,66490,103997,6438093,4.17,-5.99,"2009"]
["331210","Iron and steel pipe and tube mfg from purchased steel",27600,650185,6199420,84463,137227,9173586,3.16,1.28,"2010"]
["331210","Iron and steel pipe and tube mfg from purchased steel",24620,552812,4358314,66490,103997,6438093,4.17,-5.99,"2009"]
["33122","Rolling and drawing of purchased steel",34789,763475,8997373,107668,164744,12408480,3.16,1.28,"2010"]
["33122","Rolling and drawing of purchased steel",31461,632589,6666692,73054,132519,8767905,4.17,-5.99,"2009"]
["33122M","Rolling and drawing of purchased steel",34789,763475,8997373,107668,164744,12408480,3.16,1.28,"2010"]
["33122M","Rolling and drawing of purchased steel",31461,632589,6666692,73054,132519,8767905,4.17,-5.99,"2009"]
["3313","Alumina & aluminum production & processing",77209,1801208,24317462,714277,1383858,32277596,3.43,8.75,"2010"]
["3313","Alumina & aluminum production & processing",75881,1676674,18979637,581547,1179278,25479192,4.26,5.43,"2009"]
["33131","Alumina and aluminum production and processing",77209,1801208,24317462,714277,1383858,32277596,3.43,8.75,"2010"]
["33131","Alumina and aluminum production and processing",75881,1676674,18979637,581547,1179278,25479192,4.26,5.43,"2009"]
["331311","Alumina refining",2275,69889,782981,138991,16873,1014988,3.43,8.75,"2010"]
["331311","Alumina refining",2262,60398,485923,89137,14821,746255,4.26,5.43,"2009"]
["331312","Primary aluminum production",11603,303808,3316392,49107,935698,4639929,3.43,8.75,"2010"]
["331312","Primary aluminum production",12187,313099,2864000,47357,835401,3725325,4.26,5.43,"2009"]
["331314","Secondary smelting and alloying of aluminum",7258,149729,4198575,148545,89034,5088144,3.43,8.75,"2010"]
["331314","Secondary smelting and alloying of aluminum",6550,128835,2867498,162951,60496,3458902,4.26,5.43,"2009"]
["331316","Aluminum extruded product manufacturing",27073,527513,4085235,83784,96865,6384300,3.43,8.75,"2010"]
["331316","Aluminum extruded product manufacturing",25575,452445,3120882,65466,78026,4771823,4.26,5.43,"2009"]
["33131N","Aluminum rolling and drawing",29000,750268,11934279,293850,245388,15150235,3.43,8.75,"2010"]
["33131N","Aluminum rolling and drawing",29306,721897,9641334,216636,190534,12776887,4.26,5.43,"2009"]
["3314","Nonferrous metal (except aluminum) production & processing",80975,1985294,35539057,357523,733532,56182902,3.43,8.75,"2010"]
["3314","Nonferrous metal (except aluminum) production & processing",77216,1801407,26589598,304062,634975,41230038,4.26,5.43,"2009"]
["33141","Nonferrous metal (except aluminum) smelting and refining",15297,411600,7364803,161353,361189,18437801,3.43,8.75,"2010"]
["33141","Nonferrous metal (except aluminum) smelting and refining",14560,371706,5643461,130492,321406,13023720,4.26,5.43,"2009"]
["331411","Primary smelting and refining of copper",2624,67567,"D","D",26783,10032041,3.43,8.75,"2010"]
["331411","Primary smelting and refining of copper",2298,57815,"D",19843,29339,6359348,4.26,5.43,"2009"]
["331419","Primary nonferrous metal (except copper and aluminum)",12673,344033,"D","D",334406,8405760,3.43,8.75,"2010"]
["331419","Primary nonferrous metal (except copper and aluminum)",12262,313891,"D",110649,292067,6664372,4.26,5.43,"2009"]
["33142","Copper rolling, drawing, extruding, and alloying",30269,678710,16215318,65127,162688,19707490,3.43,8.75,"2010"]
["33142","Copper rolling, drawing, extruding, and alloying",28525,617608,11443599,67994,142882,14360807,4.26,5.43,"2009"]
["33142M","Copper rolling, drawing, extruding, and alloying",30269,678710,16215318,65127,162688,19707490,3.43,8.75,"2010"]
["33142M","Copper rolling, drawing, extruding, and alloying",28525,617608,11443599,67994,142882,14360807,4.26,5.43,"2009"]
["33149","Nonferrous metal (except copper and aluminum) shaping",35410,894985,11958935,131042,209655,18037611,3.43,8.75,"2010"]
["33149","Nonferrous metal (except copper and aluminum) shaping",34131,812093,9502538,105576,170687,13845510,4.26,5.43,"2009"]
["33149M","Nonferrous metal (except copper and aluminum) shaping",35410,894985,11958935,131042,209655,18037611,3.43,8.75,"2010"]
["33149M","Nonferrous metal (except copper and aluminum) shaping",34131,812093,9502538,105576,170687,13845510,4.26,5.43,"2009"]
["3315","Foundries",190697,3880981,12381437,412162,792959,27100175,2.95,12.44,"2010"]
["3315","Foundries",180806,3362945,10135945,402289,692895,22821949,4.01,10.79,"2009"]
["33151","Ferrous metal foundries",108986,2307267,7387867,248059,558985,16280668,2.95,12.44,"2010"]
["33151","Ferrous metal foundries",104737,1999498,6239082,242650,496389,13734819,4.01,10.79,"2009"]
["33151M","Ferrous metal foundries",108986,2307267,7387867,248059,558985,16280668,2.95,12.44,"2010"]
["33151M","Ferrous metal foundries",104737,1999498,6239082,242650,496389,13734819,4.01,10.79,"2009"]
["33152","Nonferrous metal foundries",81712,1573714,4993570,164103,233974,10819507,2.95,12.44,"2010"]
["33152","Nonferrous metal foundries",76069,1363447,3896863,159639,196506,9087130,4.01,10.79,"2009"]
["33152N","Aluminum foundries",58615,1112870,3510935,138409,165037,7426202,2.95,12.44,"2010"]
["33152N","Aluminum foundries",52932,937575,2573540,132204,130788,5753875,4.01,10.79,"2009"]
["33152P","Foundries not aluminum",23097,460844,1482636,25695,68937,3393305,2.95,12.44,"2010"]
["33152P","Foundries not aluminum",23137,425872,1323323,27434,65718,3333256,4.01,10.79,"2009"]
["332","Fabricated metal product mfg",1825567,35831069,139111445,1467392,3166074,295187168,2.82,7.87,"2010"]
["332","Fabricated metal product mfg",1828523,34358481,130827143,1533861,2934737,280938965,3.12,7.28,"2009"]
["3321","Forging & stamping",150472,2931492,16301305,287926,429337,29235091,2.82,7.87,"2010"]
["3321","Forging & stamping",144646,2687639,14411436,288730,387359,25979990,3.12,7.28,"2009"]
["33211","Forging and stamping",150472,2931492,16301305,287926,429337,29235091,2.82,7.87,"2010"]
["33211","Forging and stamping",144646,2687639,14411436,288730,387359,25979990,3.12,7.28,"2009"]
["332114","Custom roll forming",25024,510577,4681951,37744,91585,6957714,2.82,7.87,"2010"]
["332114","Custom roll forming",24605,473312,3948425,34242,89001,5971521,3.12,7.28,"2009"]
["332117","Powder metallurgy parts manufacturing",10855,199293,920829,19709,39965,1763580,2.82,7.87,"2010"]
["332117","Powder metallurgy parts manufacturing",9786,169078,685729,15604,32814,1324318,3.12,7.28,"2009"]
["33211N","Forging",40350,865550,5508248,187041,172265,9562138,2.82,7.87,"2010"]
["33211N","Forging",39430,817330,5010762,192434,154120,8941672,3.12,7.28,"2009"]
["33211P","Crown, closure, and metal stamping manufacturing",74242,1356071,5190277,43432,125521,10951660,2.82,7.87,"2010"]
["33211P","Crown, closure, and metal stamping manufacturing",70825,1227918,4766520,46449,111424,9742480,3.12,7.28,"2009"]
["3322","Cutlery & handtool mfg",51604,1016666,3661191,35695,100152,11047932,2.82,7.87,"2010"]
["3322","Cutlery & handtool mfg",53162,1003212,3158164,43944,101069,9860129,3.12,7.28,"2009"]
["33221","Cutlery and hand tool manufacturing",51604,1016666,3661191,35695,100152,11047932,2.82,7.87,"2010"]
["33221","Cutlery and hand tool manufacturing",53162,1003212,3158164,43944,101069,9860129,3.12,7.28,"2009"]
["33221N","Cutlery, kitchen utensil, pot, and pan manufacturing",9858,211635,1269736,13598,31123,4568739,2.82,7.87,"2010"]
["33221N","Cutlery, kitchen utensil, pot, and pan manufacturing",9825,198753,952440,19705,28573,3855980,3.12,7.28,"2009"]
["33221P","Hand tool and saw blade manufacturing",41746,805031,2391455,22097,69029,6479193,2.82,7.87,"2010"]
["33221P","Hand tool and saw blade manufacturing",43337,804459,2205724,24240,72496,6004148,3.12,7.28,"2009"]
["3323","Architectural & structural metals mfg",420559,7801278,33961341,181038,484702,66237214,2.82,7.87,"2010"]
["3323","Architectural & structural metals mfg",454932,8061896,35881139,195033,475409,70948373,3.12,7.28,"2009"]
["33231","Plate work and fabricated structural product manufacturing",185145,3729336,18339515,88028,234473,33610924,2.82,7.87,"2010"]
["33231","Plate work and fabricated structural product manufacturing",206640,3935689,20062538,98569,235780,37395604,3.12,7.28,"2009"]
["33231M","Plate work and fabricated structural product manufacturing",185145,3729336,18339515,88028,234473,33610924,2.82,7.87,"2010"]
["33231M","Plate work and fabricated structural product manufacturing",206640,3935689,20062538,98569,235780,37395604,3.12,7.28,"2009"]
["33232","Ornamental and architectural metal work manufacturing",235414,4071942,15621826,93010,250230,32626290,2.82,7.87,"2010"]
["33232","Ornamental and architectural metal work manufacturing",248292,4126207,15818602,96463,239629,33552769,3.12,7.28,"2009"]
["33232M","Ornamental and architectural metal work manufacturing",235414,4071942,15621826,93010,250230,32626290,2.82,7.87,"2010"]
["33232M","Ornamental and architectural metal work manufacturing",248292,4126207,15818602,96463,239629,33552769,3.12,7.28,"2009"]
["3324","Boiler, tank, & shipping container mfg",112788,2588107,17433145,138201,307836,30365048,2.82,7.87,"2010"]
["3324","Boiler, tank, & shipping container mfg",114080,2589215,17039992,142374,301824,29268303,3.12,7.28,"2009"]
["33241","Power boiler and heat exchanger manufacturing",26622,609824,2432849,11719,36955,5473127,2.82,7.87,"2010"]
["33241","Power boiler and heat exchanger manufacturing",29167,672903,2553650,13534,40546,5728894,3.12,7.28,"2009"]
["332410","Power boiler and heat exchanger manufacturing",26622,609824,2432849,11719,36955,5473127,2.82,7.87,"2010"]
["332410","Power boiler and heat exchanger manufacturing",29167,672903,2553650,13534,40546,5728894,3.12,7.28,"2009"]
["33242","Metal tank (heavy gauge) manufacturing",36771,831977,3063887,24942,51399,6123786,2.82,7.87,"2010"]
["33242","Metal tank (heavy gauge) manufacturing",37137,833408,3109054,26386,50022,6242425,3.12,7.28,"2009"]
["332420","Metal tank (heavy gauge) manufacturing",36771,831977,3063887,24942,51399,6123786,2.82,7.87,"2010"]
["332420","Metal tank (heavy gauge) manufacturing",37137,833408,3109054,26386,50022,6242425,3.12,7.28,"2009"]
["33243","Metal can, box, and other metal container (light gauge) mfg",49395,1146306,11936410,101540,219483,18768135,2.82,7.87,"2010"]
["33243","Metal can, box, and other metal container (light gauge) mfg",47776,1082904,11377288,102453,211256,17296984,3.12,7.28,"2009"]
["33243M","Metal can, box, and other metal container (light gauge) mfg",49395,1146306,11936410,101540,219483,18768135,2.82,7.87,"2010"]
["33243M","Metal can, box, and other metal container (light gauge) mfg",47776,1082904,11377288,102453,211256,17296984,3.12,7.28,"2009"]
["3325","Hardware mfg",35538,630536,3345704,21660,51705,7250189,2.82,7.87,"2010"]
["3325","Hardware mfg",37422,633756,3099214,26666,50645,6793943,3.12,7.28,"2009"]
["33251","Hardware manufacturing",35538,630536,3345704,21660,51705,7250189,2.82,7.87,"2010"]
["33251","Hardware manufacturing",37422,633756,3099214,26666,50645,6793943,3.12,7.28,"2009"]
["332510","Hardware manufacturing",35538,630536,3345704,21660,51705,7250189,2.82,7.87,"2010"]
["332510","Hardware manufacturing",37422,633756,3099214,26666,50645,6793943,3.12,7.28,"2009"]
["3326","Spring & wire product mfg",62244,1019772,4436313,39069,97200,8838872,2.82,7.87,"2010"]
["3326","Spring & wire product mfg",58523,942861,4015130,40224,85974,8034213,3.12,7.28,"2009"]
["33261","Spring and wire product manufacturing",62244,1019772,4436313,39069,97200,8838872,2.82,7.87,"2010"]
["33261","Spring and wire product manufacturing",58523,942861,4015130,40224,85974,8034213,3.12,7.28,"2009"]
["33261M","Spring and wire product manufacturing",62244,1019772,4436313,39069,97200,8838872,2.82,7.87,"2010"]
["33261M","Spring and wire product manufacturing",58523,942861,4015130,40224,85974,8034213,3.12,7.28,"2009"]
["3327","Machine shops, turned product, & screw, nut, & bolt mfg",492071,10151535,20714741,180032,653747,54534112,2.82,7.87,"2010"]
["3327","Machine shops, turned product, & screw, nut, & bolt mfg",476580,9266662,18035453,179305,563042,48611831,3.12,7.28,"2009"]
["33271","Machine shops",319855,6612744,11879752,107579,370577,32986087,2.82,7.87,"2010"]
["33271","Machine shops",310885,6062043,10561085,108281,323059,29635200,3.12,7.28,"2009"]
["332710","Machine shops",319855,6612744,11879752,107579,370577,32986087,2.82,7.87,"2010"]
["332710","Machine shops",310885,6062043,10561085,108281,323059,29635200,3.12,7.28,"2009"]
["33272","Turned product and screw, nut, and bolt manufacturing",172216,3538791,8834989,72454,283170,21548025,2.82,7.87,"2010"]
["33272","Turned product and screw, nut, and bolt manufacturing",165696,3204619,7474368,71024,239983,18976631,3.12,7.28,"2009"]
["332721","Precision turned product manufacturing",123124,2532824,5060229,33951,188613,13314415,2.82,7.87,"2010"]
["332721","Precision turned product manufacturing",115819,2242537,4212081,33598,157002,11456887,3.12,7.28,"2009"]
["332722","Bolt, nut, screw, rivet, and washer manufacturing",49092,1005967,3774760,38503,94557,8233609,2.82,7.87,"2010"]
["332722","Bolt, nut, screw, rivet, and washer manufacturing",49876,962081,3262287,37426,82981,7519744,3.12,7.28,"2009"]
["3328","Coating, engraving, heat treating, & allied activities",164271,2966953,10274026,371216,443312,23875752,2.82,7.87,"2010"]
["3328","Coating, engraving, heat treating, & allied activities",162252,2781066,8563075,399296,418328,20279197,3.12,7.28,"2009"]
["33281","Coating, engraving, heat treating, and allied activities",164271,2966953,10274026,371216,443312,23875752,2.82,7.87,"2010"]
["33281","Coating, engraving, heat treating, and allied activities",162252,2781066,8563075,399296,418328,20279197,3.12,7.28,"2009"]
["33281M","Coating, engraving, heat treating, and allied activities",164271,2966953,10274026,371216,443312,23875752,2.82,7.87,"2010"]
["33281M","Coating, engraving, heat treating, and allied activities",162252,2781066,8563075,399296,418328,20279197,3.12,7.28,"2009"]
["3329","Other fabricated metal product mfg",336021,6724730,28983679,212554,598081,63802958,2.82,7.87,"2010"]
["3329","Other fabricated metal product mfg",326926,6392174,26623540,218290,551087,61162985,3.12,7.28,"2009"]
["33291","Metal valve manufacturing",114715,2418502,12032457,52163,215460,26375595,2.82,7.87,"2010"]
["33291","Metal valve manufacturing",110783,2272829,10846220,54572,195964,24559000,3.12,7.28,"2009"]
["332913","Plumbing fixture fitting and trim manufacturing",11374,211618,1657727,5711,21046,3380650,2.82,7.87,"2010"]
["332913","Plumbing fixture fitting and trim manufacturing",12138,221405,1766327,8062,17982,3820826,3.12,7.28,"2009"]
["33291N","Valve and fitting (except plumbing) manufacturing",103341,2206884,10374730,46452,194415,22994945,2.82,7.87,"2010"]
["33291N","Valve and fitting (except plumbing) manufacturing",98646,2051425,9079893,46510,177982,20738174,3.12,7.28,"2009"]
["33299","All other fabricated metal product manufacturing",221305,4306228,16951223,160392,382621,37427363,2.82,7.87,"2010"]
["33299","All other fabricated metal product manufacturing",216143,4119345,15777320,163718,355123,36603985,3.12,7.28,"2009"]
["332991","Ball and roller bearing manufacturing",34903,751999,2530304,"D",98645,5961667,2.82,7.87,"2010"]
["332991","Ball and roller bearing manufacturing",30735,636068,1967625,"D",82712,5751605,3.12,7.28,"2009"]
["332992","Small arms ammunition manufacturing",18254,404741,1617788,"D","D",3397055,2.82,7.87,"2010"]
["332992","Small arms ammunition manufacturing",17516,386234,1288082,"D","D",3061464,3.12,7.28,"2009"]
["332993","Ammunition (except small arms) manufacturing",8241,154500,820649,13141,"D",2358439,2.82,7.87,"2010"]
["332993","Ammunition (except small arms) manufacturing",7571,137785,817641,"D",15251,2153833,3.12,7.28,"2009"]
["332994","Small arms manufacturing",12172,270123,1127737,"D",25535,2913822,2.82,7.87,"2010"]
["332994","Small arms manufacturing",13049,274428,1260112,7471,28154,3366166,3.12,7.28,"2009"]
["332995","Other ordnance and accessories manufacturing",3013,65570,779711,3953,6258,1430025,2.82,7.87,"2010"]
["332995","Other ordnance and accessories manufacturing",3130,64077,828708,4589,"D",1570665,3.12,7.28,"2009"]
["332996","Fabricated pipe and pipe fitting manufacturing",39416,746352,3016906,23196,54042,6354699,2.82,7.87,"2010"]
["332996","Fabricated pipe and pipe fitting manufacturing",39481,736089,2832218,26134,52891,6424717,3.12,7.28,"2009"]
["33299N","Other fabricated metal products manufacturing",105306,1912944,7058128,58607,154993,15011655,2.82,7.87,"2010"]
["33299N","Other fabricated metal products manufacturing",104661,1884664,6782935,59661,148551,14275535,3.12,7.28,"2009"]
["333","Machinery mfg",1170214,25218397,163215009,699329,1863501,317694153,2.98,7.52,"2010"]
["333","Machinery mfg",1149072,23813746,151439351,710193,1775590,288005526,3.19,5.78,"2009"]
["3331","Agriculture, construction, & mining machinery mfg",227175,4980526,47582686,207096,341999,87600894,2.98,7.52,"2010"]
["3331","Agriculture, construction, & mining machinery mfg",227799,4756159,43475802,200099,335468,76471443,3.19,5.78,"2009"]
["33311","Agricultural implement manufacturing",98171,1869482,19600976,76939,125237,34224180,2.98,7.52,"2010"]
["33311","Agricultural implement manufacturing",94270,1820567,17895198,75117,112995,31366889,3.19,5.78,"2009"]
["333111","Farm machinery and equipment manufacturing",67477,1395612,13704429,58095,89755,25945299,2.98,7.52,"2010"]
["333111","Farm machinery and equipment manufacturing",64782,1388914,12489003,56539,81314,23958533,3.19,5.78,"2009"]
["333112","Lawn and garden equipment manufacturing",30694,473870,5896547,18843,35482,8278880,2.98,7.52,"2010"]
["333112","Lawn and garden equipment manufacturing",29488,431653,5406195,18578,31681,7408356,3.19,5.78,"2009"]
["33312","Construction machinery manufacturing",62651,1434487,16657068,84232,101891,32095699,2.98,7.52,"2010"]
["33312","Construction machinery manufacturing",65127,1261196,14624651,78309,99660,24818820,3.19,5.78,"2009"]
["333120","Construction machinery manufacturing",62651,1434487,16657068,84232,101891,32095699,2.98,7.52,"2010"]
["333120","Construction machinery manufacturing",65127,1261196,14624651,78309,99660,24818820,3.19,5.78,"2009"]
["33313","Mining and oil and gas field machinery manufacturing",66353,1676557,11324643,45925,114871,21281015,2.98,7.52,"2010"]
["33313","Mining and oil and gas field machinery manufacturing",68402,1674396,10955954,46673,122813,20285734,3.19,5.78,"2009"]
["33313M","Mining and oil and gas field machinery manufacturing",66353,1676557,11324643,45925,114871,21281015,2.98,7.52,"2010"]
["33313M","Mining and oil and gas field machinery manufacturing",68402,1674396,10955954,46673,122813,20285734,3.19,5.78,"2009"]
["3332","Industrial machinery mfg",107206,2521014,14321765,71648,214633,31110549,2.98,7.52,"2010"]
["3332","Industrial machinery mfg",102324,2298498,13162709,78303,188733,26207983,3.19,5.78,"2009"]
["33321","Sawmill and woodworking machinery manufacturing",3448,65092,243475,1725,7603,516287,2.98,7.52,"2010"]
["33321","Sawmill and woodworking machinery manufacturing",3733,69441,208768,1638,5119,463772,3.19,5.78,"2009"]
["333210","Sawmill and woodworking machinery manufacturing",3448,65092,243475,1725,7603,516287,2.98,7.52,"2010"]
["333210","Sawmill and woodworking machinery manufacturing",3733,69441,208768,1638,5119,463772,3.19,5.78,"2009"]
["33322","Plastics and rubber industry machinery manufacturing",14151,282156,1596356,9249,25793,3095661,2.98,7.52,"2010"]
["33322","Plastics and rubber industry machinery manufacturing",13698,256746,1449353,7794,24286,2750615,3.19,5.78,"2009"]
["333220","Plastics and rubber industry machinery manufacturing",14151,282156,1596356,9249,25793,3095661,2.98,7.52,"2010"]
["333220","Plastics and rubber industry machinery manufacturing",13698,256746,1449353,7794,24286,2750615,3.19,5.78,"2009"]
["33329","Other industrial machinery manufacturing",89608,2173766,12481933,60673,181236,27498601,2.98,7.52,"2010"]
["33329","Other industrial machinery manufacturing",84894,1972311,11504588,68871,159327,22993595,3.19,5.78,"2009"]
["333295","Semiconductor machinery manufacturing",13032,427033,4299038,5735,41221,9203748,2.98,7.52,"2010"]
["333295","Semiconductor machinery manufacturing",10872,353878,3822651,"4,374 <sup>(s)</sup>",38804,5818377,3.19,5.78,"2009"]
["33329N","Other machinery manufacturing",76575,1746732,8182896,54939,140016,18294853,2.98,7.52,"2010"]
["33329N","Other machinery manufacturing",74022,1618433,7681937,64497,120523,17175219,3.19,5.78,"2009"]
["3333","Commercial & service industry machinery mfg",82128,1668968,10209759,38039,132902,21464932,2.98,7.52,"2010"]
["3333","Commercial & service industry machinery mfg",85628,1697704,9793567,34506,136074,20809036,3.19,5.78,"2009"]
["33331","Commercial and service industry machinery manufacturing",82128,1668968,10209759,38039,132902,21464932,2.98,7.52,"2010"]
["33331","Commercial and service industry machinery manufacturing",85628,1697704,9793567,34506,136074,20809036,3.19,5.78,"2009"]
["333313","Office machinery manufacturing",3710,84978,567386,3863,8594,1343046,2.98,7.52,"2010"]
["333313","Office machinery manufacturing",4164,91197,590173,3716,8591,1387473,3.19,5.78,"2009"]
["333314","Optical instrument and lens manufacturing",19267,464287,1951528,5747,43254,4571433,2.98,7.52,"2010"]
["333314","Optical instrument and lens manufacturing",20401,475329,2177310,4894,37843,4597913,3.19,5.78,"2009"]
["333315","Photographic and photocopying equipment manufacturing",6741,137594,1007523,5743,8722,2175999,2.98,7.52,"2010"]
["333315","Photographic and photocopying equipment manufacturing",6396,132652,886553,3813,23356,1971498,3.19,5.78,"2009"]
["33331N","All other commercial and service industry machinery mfg",52410,982109,6683322,22686,72331,13374455,2.98,7.52,"2010"]
["33331N","All other commercial and service industry machinery mfg",54667,998526,6139531,22083,66284,12852152,3.19,5.78,"2009"]
["3334","Ventilation, heating, AC, & commercial refrigeration equip mfg",168077,3006692,18750054,72289,207730,36604359,2.98,7.52,"2010"]
["3334","Ventilation, heating, AC, & commercial refrigeration equip mfg",162365,2940519,18434309,69376,194686,35152505,3.19,5.78,"2009"]
["33341","HVAC and commercial refrigeration equipment manufacturing",168077,3006692,18750054,72289,207730,36604359,2.98,7.52,"2010"]
["33341","HVAC and commercial refrigeration equipment manufacturing",162365,2940519,18434309,69376,194686,35152505,3.19,5.78,"2009"]
["333414","Heating equipment (except warm air furnaces) manufacturing",17514,311836,1860344,9911,35778,3886886,2.98,7.52,"2010"]
["333414","Heating equipment (except warm air furnaces) manufacturing",17197,311619,1760537,9507,29436,3761560,3.19,5.78,"2009"]
["333415","AC, forced air heating, and refrigeration equipment mfg",121061,2190519,14788400,49824,139178,28118409,2.98,7.52,"2010"]
["333415","AC, forced air heating, and refrigeration equipment mfg",113182,2116209,14524579,45621,132426,26829762,3.19,5.78,"2009"]
["33341N","Ventilation equipment manufacturing",29502,504337,2101310,12554,32774,4599064,2.98,7.52,"2010"]
["33341N","Ventilation equipment manufacturing",31987,512692,2149194,14248,32824,4561182,3.19,5.78,"2009"]
["3335","Metalworking machinery mfg",182335,4166787,9242423,68841,282615,23352713,2.98,7.52,"2010"]
["3335","Metalworking machinery mfg",176942,3857928,8248730,63908,249001,20471214,3.19,5.78,"2009"]
["33351","Metalworking machinery manufacturing",182335,4166787,9242423,68841,282615,23352713,2.98,7.52,"2010"]
["33351","Metalworking machinery manufacturing",176942,3857928,8248730,63908,249001,20471214,3.19,5.78,"2009"]
["333511","Industrial mold manufacturing",44657,1049448,1585170,14567,78425,4685981,2.98,7.52,"2010"]
["333511","Industrial mold manufacturing",43583,990002,1362299,14733,70562,4183301,3.19,5.78,"2009"]
["333512","Machine tool (metal cutting types) manufacturing",16202,375200,1508837,16182,25502,3364403,2.98,7.52,"2010"]
["333512","Machine tool (metal cutting types) manufacturing",17755,410332,1604384,10706,26306,3474247,3.19,5.78,"2009"]
["333513","Machine tool (metal forming types) manufacturing",8787,216198,601829,2570,10300,1372260,2.98,7.52,"2010"]
["333513","Machine tool (metal forming types) manufacturing",7766,179373,565091,2925,8966,1213488,3.19,5.78,"2009"]
["333514","Special die and tool, die set, jig, and fixture manufacturing",62177,1424740,2517445,17894,80686,6745483,2.98,7.52,"2010"]
["333514","Special die and tool, die set, jig, and fixture manufacturing",58649,1283092,2122802,18137,69513,5554154,3.19,5.78,"2009"]
["333515","Cutting tool and machine tool accessory manufacturing",37084,751294,1495894,9036,67363,4384195,2.98,7.52,"2010"]
["333515","Cutting tool and machine tool accessory manufacturing",35353,659649,1190148,8844,54362,3486946,3.19,5.78,"2009"]
["333516","Rolling mill machinery and equipment manufacturing",4596,114528,508422,4764,8663,883585,2.98,7.52,"2010"]
["333516","Rolling mill machinery and equipment manufacturing",5127,119376,525032,5122,8707,904674,3.19,5.78,"2009"]
["333518","Other metalworking machinery manufacturing",8831,235379,1024827,3827,11677,1916806,2.98,7.52,"2010"]
["333518","Other metalworking machinery manufacturing",8709,216103,878973,3441,10585,1654404,3.19,5.78,"2009"]
["3336","Engine, turbine, & power transmission equipment mfg",111425,2615099,22599727,87317,252334,36949424,2.98,7.52,"2010"]
["3336","Engine, turbine, & power transmission equipment mfg",110325,2414675,22299371,99112,261817,35564653,3.19,5.78,"2009"]
["33361","Engine, turbine, and power transmission equipment mfg",111425,2615099,22599727,87317,252334,36949424,2.98,7.52,"2010"]
["33361","Engine, turbine, and power transmission equipment mfg",110325,2414675,22299371,99112,261817,35564653,3.19,5.78,"2009"]
["333611","Turbine and turbine generator set unit manufacturing",27724,788042,6759098,18603,61905,10653277,2.98,7.52,"2010"]
["333611","Turbine and turbine generator set unit manufacturing",30829,757473,7643293,16535,77854,11885398,3.19,5.78,"2009"]
["333612","Speed changer, industrial high-speed drive, and gear mfg",16866,364317,1285157,13312,31404,3004991,2.98,7.52,"2010"]
["333612","Speed changer, industrial high-speed drive, and gear mfg",17385,340233,1253412,16254,32012,2831424,3.19,5.78,"2009"]
["333613","Mechanical power transmission equipment manufacturing",19146,413478,1659762,12273,38566,3745995,2.98,7.52,"2010"]
["333613","Mechanical power transmission equipment manufacturing",17326,369209,1453534,16233,36337,3266210,3.19,5.78,"2009"]
["333618","Other engine equipment manufacturing",47690,1049261,12895709,43128,120460,19545160,2.98,7.52,"2010"]
["333618","Other engine equipment manufacturing",44784,947760,11949131,50089,115614,17581621,3.19,5.78,"2009"]
["3339","Other general purpose machinery mfg",291866,6259311,40508597,154101,431289,80611282,2.98,7.52,"2010"]
["3339","Other general purpose machinery mfg",283690,5848264,36024863,164889,409811,73328691,3.19,5.78,"2009"]
["33391","Pump and compressor manufacturing",61494,1417618,10448746,39578,107251,21913199,2.98,7.52,"2010"]
["33391","Pump and compressor manufacturing",61622,1341509,10035713,43874,101640,21081559,3.19,5.78,"2009"]
["333911","Pump and pumping equipment manufacturing",35503,884739,5483809,16455,61581,12215833,2.98,7.52,"2010"]
["333911","Pump and pumping equipment manufacturing",34588,819899,5281208,19424,56141,11578191,3.19,5.78,"2009"]
["333912","Air and gas compressor manufacturing",21729,459980,4415849,20954,39757,8396411,2.98,7.52,"2010"]
["333912","Air and gas compressor manufacturing",22589,442198,4283170,22456,39633,8300579,3.19,5.78,"2009"]
["333913","Measuring and dispensing pump manufacturing",4262,72899,549088,2169,5913,1300955,2.98,7.52,"2010"]
["333913","Measuring and dispensing pump manufacturing",4445,79411,471335,1993,5866,1202789,3.19,5.78,"2009"]
["33392","Material handling equipment manufacturing",88856,1772861,14439293,42710,93154,25659158,2.98,7.52,"2010"]
["33392","Material handling equipment manufacturing",85427,1687014,12406769,49714,91416,23106044,3.19,5.78,"2009"]
["33392M","Material handling equipment manufacturing",88856,1772861,14439293,42710,93154,25659158,2.98,7.52,"2010"]
["33392M","Material handling equipment manufacturing",85427,1687014,12406769,49714,91416,23106044,3.19,5.78,"2009"]
["33399","All other general purpose machinery manufacturing",141517,3068832,15620559,71812,230883,33038924,2.98,7.52,"2010"]
["33399","All other general purpose machinery manufacturing",136640,2819742,13582382,71301,216755,29141088,3.19,5.78,"2009"]
["333991","Power-driven hand tool manufacturing",6507,119616,773235,3003,12674,1802941,2.98,7.52,"2010"]
["333991","Power-driven hand tool manufacturing",6435,115352,689831,2869,11627,1557672,3.19,5.78,"2009"]
["333993","Packaging machinery manufacturing",18377,426488,2144869,5379,20364,4523615,2.98,7.52,"2010"]
["333993","Packaging machinery manufacturing",18529,418219,2006156,5815,20119,4128228,3.19,5.78,"2009"]
["333994","Industrial process furnace and oven manufacturing",11219,220879,1019880,6082,15766,2263868,2.98,7.52,"2010"]
["333994","Industrial process furnace and oven manufacturing",10830,198078,923881,6533,14775,2043742,3.19,5.78,"2009"]
["33399N","Fluid power equipment manufacturing",36202,841276,4276346,13791,69964,8487220,2.98,7.52,"2010"]
["33399N","Fluid power equipment manufacturing",34769,746268,3442129,14429,64047,7051714,3.19,5.78,"2009"]
["33399P","All other miscellaneous general purpose machinery mfg",69211,1460572,7406229,43558,112116,15961280,2.98,7.52,"2010"]
["33399P","All other miscellaneous general purpose machinery mfg",66076,1341824,6520385,41655,106188,14359730,3.19,5.78,"2009"]
["334","Computer & electronic product mfg",753685,18169655,135111423,365026,2104861,340683117,3.21,8.11,"2010"]
["334","Computer & electronic product mfg",769253,17579223,128750500,401872,2122663,320723569,3.67,3.57,"2009"]
["3341","Computer & peripheral equipment mfg",33861,759762,17274224,22341,111537,36644487,1.97,8.7100000000000009,"2010"]
["3341","Computer & peripheral equipment mfg",46425,1045878,24002056,20707,135503,50487139,3.67,3.57,"2009"]
["33411","Computer and peripheral equipment manufacturing",33861,759762,17274224,22341,111537,36644487,1.97,8.7100000000000009,"2010"]
["33411","Computer and peripheral equipment manufacturing",46425,1045878,24002056,20707,135503,50487139,3.67,3.57,"2009"]
["334111","Electronic computer manufacturing",11081,192044,8613645,6036,29556,19678991,1.97,8.7100000000000009,"2010"]
["334111","Electronic computer manufacturing",21724,463029,15832144,8166,65160,34705317,3.67,3.57,"2009"]
["334112","Computer storage device manufacturing",8577,217415,3750923,8465,43157,7149551,1.97,8.7100000000000009,"2010"]
["334112","Computer storage device manufacturing",10152,238471,3279152,5715,29793,6240648,3.67,3.57,"2009"]
["334113","Computer terminal manufacturing",810,13184,378250,217,1267,623934,1.97,8.7100000000000009,"2010"]
["334113","Computer terminal manufacturing",925,15356,255222,195,1256,467003,3.67,3.57,"2009"]
["334119","Other computer peripheral equipment manufacturing",13393,337119,4531407,7623,37557,9192011,1.97,8.7100000000000009,"2010"]
["334119","Other computer peripheral equipment manufacturing",13625,329023,4635538,6632,39294,9074170,3.67,3.57,"2009"]
["3342","Communications equipment mfg",80782,2295869,23031549,42362,198651,47262044,2.83,6.47,"2010"]
["3342","Communications equipment mfg",90211,2326100,20314636,46726,183313,44220973,2.33,2.93,"2009"]
["33421","Telephone apparatus manufacturing",17567,440552,5107194,11996,35667,8768235,2.83,6.47,"2010"]
["33421","Telephone apparatus manufacturing",19800,450917,4768650,14102,37563,8243282,2.33,2.93,"2009"]
["334210","Telephone apparatus manufacturing",17567,440552,5107194,11996,35667,8768235,2.83,6.47,"2010"]
["334210","Telephone apparatus manufacturing",19800,450917,4768650,14102,37563,8243282,2.33,2.93,"2009"]
["33422","Broadcasting and wireless communications equipment mfg",50275,1614769,16092392,18188,143008,34342576,2.83,6.47,"2010"]
["33422","Broadcasting and wireless communications equipment mfg",56728,1626712,13815817,20671,126317,31942122,2.33,2.93,"2009"]
["334220","Broadcasting and wireless communications equipment mfg",50275,1614769,16092392,18188,143008,34342576,2.83,6.47,"2010"]
["334220","Broadcasting and wireless communications equipment mfg",56728,1626712,13815817,20671,126317,31942122,2.33,2.93,"2009"]
["33429","Other communications equipment manufacturing",12939,240548,1831964,12178,19976,4151234,2.83,6.47,"2010"]
["33429","Other communications equipment manufacturing",13684,248471,1730169,11953,19433,4035568,2.33,2.93,"2009"]
["334290","Other communications equipment manufacturing",12939,240548,1831964,12178,19976,4151234,2.83,6.47,"2010"]
["334290","Other communications equipment manufacturing",13684,248471,1730169,11953,19433,4035568,2.33,2.93,"2009"]
["3343","Audio & video equipment mfg",6251,121816,1818137,4669,11693,2889194,4.24,8.52,"2010"]
["3343","Audio & video equipment mfg",9398,146329,1919146,7605,17068,3194922,5,5.0599999999999996,"2009"]
["33431","Audio and video equipment manufacturing",6251,121816,1818137,4669,11693,2889194,4.24,8.52,"2010"]
["33431","Audio and video equipment manufacturing",9398,146329,1919146,7605,17068,3194922,5,5.0599999999999996,"2009"]
["334310","Audio and video equipment manufacturing",6251,121816,1818137,4669,11693,2889194,4.24,8.52,"2010"]
["334310","Audio and video equipment manufacturing",9398,146329,1919146,7605,17068,3194922,5,5.0599999999999996,"2009"]
["3344","Semiconductor & other electronic component mfg",334061,7627029,40594692,171015,1109720,117070704,4.24,8.52,"2010"]
["3344","Semiconductor & other electronic component mfg",325151,7110844,34828541,197786,1092357,94776623,5,5.0599999999999996,"2009"]
["33441","Semiconductor and other electronic component manufacturing",334061,7627029,40594692,171015,1109720,117070704,4.24,8.52,"2010"]
["33441","Semiconductor and other electronic component manufacturing",325151,7110844,34828541,197786,1092357,94776623,5,5.0599999999999996,"2009"]
["334411","Electron tube manufacturing",7672,198408,558269,2467,17086,1298621,4.24,8.52,"2010"]
["334411","Electron tube manufacturing",7111,190023,484950,2492,14864,1085564,5,5.0599999999999996,"2009"]
["334412","Bare printed circuit board manufacturing",38134,705388,1978664,13807,83571,4481878,4.24,8.52,"2010"]
["334412","Bare printed circuit board manufacturing",36392,650374,1675400,17156,75224,3750222,5,5.0599999999999996,"2009"]
["334413","Semiconductor and related device manufacturing",112760,3417349,17007758,110382,741763,72924096,4.24,8.52,"2010"]
["334413","Semiconductor and related device manufacturing",114714,3253479,14616908,139143,756077,57366541,5,5.0599999999999996,"2009"]
["334414","Electronic capacitor manufacturing",6853,99778,345346,2464,18305,1040675,4.24,8.52,"2010"]
["334414","Electronic capacitor manufacturing",6883,98726,298514,2008,15972,824102,5,5.0599999999999996,"2009"]
["334415","Electronic resistor manufacturing",4295,88424,225206,1052,9367,622808,4.24,8.52,"2010"]
["334415","Electronic resistor manufacturing",3900,79515,185986,1092,8435,510837,5,5.0599999999999996,"2009"]
["334416","Electronic coil, transformer, and other inductor manufacturing",13485,214763,1043204,4376,15096,1919276,4.24,8.52,"2010"]
["334416","Electronic coil, transformer, and other inductor manufacturing",13316,207249,897140,4387,13369,1661818,5,5.0599999999999996,"2009"]
["334417","Electronic connector manufacturing",27642,534442,1790018,6360,39905,4517804,4.24,8.52,"2010"]
["334417","Electronic connector manufacturing",24451,484339,1399137,6549,37011,4015022,5,5.0599999999999996,"2009"]
["334418","Printed circuit assembly (electronic assembly) manufacturing",70341,1277468,14153030,20173,108923,21478283,4.24,8.52,"2010"]
["334418","Printed circuit assembly (electronic assembly) manufacturing",68102,1145027,11965943,17317,99136,17554846,5,5.0599999999999996,"2009"]
["334419","Other electronic component manufacturing",52879,1091009,3493198,9933,75703,8787264,4.24,8.52,"2010"]
["334419","Other electronic component manufacturing",50283,1002111,3304564,7642,72268,8007673,5,5.0599999999999996,"2009"]
["3345","Navigational, measuring, medical, & control instruments mfg",272982,6910960,49752629,112624,618726,132022617,4.24,8.52,"2010"]
["3345","Navigational, measuring, medical, & control instruments mfg",271006,6456730,45511254,117043,631143,123087478,5,5.0599999999999996,"2009"]
["33451","Navigational, measuring, medical, and control instruments mfg",272982,6910960,49752629,112624,618726,132022617,4.24,8.52,"2010"]
["33451","Navigational, measuring, medical, and control instruments mfg",271006,6456730,45511254,117043,631143,123087478,5,5.0599999999999996,"2009"]
["334510","Electromedical and electrotherapeutic apparatus manufacturing",49291,1176754,9215937,23643,77485,25794372,4.24,8.52,"2010"]
["334510","Electromedical and electrotherapeutic apparatus manufacturing",51552,1153587,8170998,22185,80779,23430037,5,5.0599999999999996,"2009"]
["334511","Search, detection, and navigation system and instrument mfg",89841,2570811,17896113,48480,282450,52201895,4.24,8.52,"2010"]
["334511","Search, detection, and navigation system and instrument mfg",85085,2416797,17505022,53408,304485,50609758,5,5.0599999999999996,"2009"]
["334512","Automatic environmental control manufacturing",11010,202837,1270963,2847,13964,2927237,4.24,8.52,"2010"]
["334512","Automatic environmental control manufacturing",10161,175118,992609,2975,12806,2463784,5,5.0599999999999996,"2009"]
["334513","Industrial process variable instruments",27294,561982,2944893,5705,39800,8019070,4.24,8.52,"2010"]
["334513","Industrial process variable instruments",26948,525344,2792601,6504,39207,7561721,5,5.0599999999999996,"2009"]
["334514","Totalizing fluid meter and counting device manufacturing",15599,396416,3435831,6843,24552,5760863,4.24,8.52,"2010"]
["334514","Totalizing fluid meter and counting device manufacturing",13689,289287,2644481,5387,18950,4859652,5,5.0599999999999996,"2009"]
["334515","Electricity and signal testing instrument manufacturing",21778,543877,3507308,3801,52193,9174981,4.24,8.52,"2010"]
["334515","Electricity and signal testing instrument manufacturing",22619,509635,2643675,4713,61147,7982044,5,5.0599999999999996,"2009"]
["334516","Analytical laboratory instrument manufacturing",22874,554164,4702433,7878,50047,12930218,4.24,8.52,"2010"]
["334516","Analytical laboratory instrument manufacturing",22133,504805,4509587,9549,47537,11907776,5,5.0599999999999996,"2009"]
["334517","Irradiation apparatus manufacturing",8427,239213,3196086,2368,34543,6280687,4.24,8.52,"2010"]
["334517","Irradiation apparatus manufacturing",9830,232874,3064064,2007,24168,6011228,5,5.0599999999999996,"2009"]
["334518","Watch, clock, and parts manufacturing",1769,30229,161855,450,2208,333780,4.24,8.52,"2010"]
["334518","Watch, clock, and parts manufacturing",1882,29552,146354,763,2368,332265,5,5.0599999999999996,"2009"]
["334519","Other measuring and controlling device manufacturing",25099,634678,3421210,10608,41484,8599513,4.24,8.52,"2010"]
["334519","Other measuring and controlling device manufacturing",27106,619730,3041864,9552,39697,7929214,5,5.0599999999999996,"2009"]
["3346","Mfg & reproducing magnetic & optical media",25748,454220,2640192,12015,54535,4794070,4.24,8.52,"2010"]
["3346","Mfg & reproducing magnetic & optical media",27061,493342,2174868,12006,63279,4956435,5,5.0599999999999996,"2009"]
["33461","Manufacturing and reproducing magnetic and optical media",25748,454220,2640192,12015,54535,4794070,4.24,8.52,"2010"]
["33461","Manufacturing and reproducing magnetic and optical media",27061,493342,2174868,12006,63279,4956435,5,5.0599999999999996,"2009"]
["334611","Software reproducing",2754,55657,232827,1609,3815,526057,4.24,8.52,"2010"]
["334611","Software reproducing",2499,49762,233115,1364,4207,524526,5,5.0599999999999996,"2009"]
["334612","Audio and video media reproducing",19113,304282,663283,5113,29250,2088315,4.24,8.52,"2010"]
["334612","Audio and video media reproducing",21232,357864,753570,5836,36173,2809374,5,5.0599999999999996,"2009"]
["334613","Magnetic and optical recording media manufacturing",3881,94281,1744082,5293,21470,2179698,4.24,8.52,"2010"]
["334613","Magnetic and optical recording media manufacturing",3330,85716,1188184,4806,22899,1622535,5,5.0599999999999996,"2009"]
["335","Electrical equipment, appliance, & component mfg",443038,8749938,56567823,321889,864852,110993040,1.95,9.35,"2010"]
["335","Electrical equipment, appliance, & component mfg",447022,8577239,52895753,320289,813670,105417276,2.65,8.33,"2009"]
["3351","Electric lighting equipment mfg",58771,1047636,5432832,43552,84891,11092700,1.95,9.35,"2010"]
["3351","Electric lighting equipment mfg",61057,1067128,5385280,38858,83442,11091220,2.65,8.33,"2009"]
["33511","Electric lamp bulb and parts manufacturing",11960,312523,1134849,"D",32193,2189043,1.95,9.35,"2010"]
["33511","Electric lamp bulb and parts manufacturing",11736,316734,953939,"D",28320,1946040,2.65,8.33,"2009"]
["335110","Electric lamp bulb and parts manufacturing",11960,312523,1134849,"D",32193,2189043,1.95,9.35,"2010"]
["335110","Electric lamp bulb and parts manufacturing",11736,316734,953939,"D",28320,1946040,2.65,8.33,"2009"]
["33512","Lighting fixture manufacturing",46811,735113,4297984,"D",52698,8903656,1.95,9.35,"2010"]
["33512","Lighting fixture manufacturing",49321,750394,4431341,"D",55122,9145180,2.65,8.33,"2009"]
["33512M","Lighting fixture manufacturing",46811,735113,4297984,"D",52698,8903656,1.95,9.35,"2010"]
["33512M","Lighting fixture manufacturing",49321,750394,4431341,"D",55122,9145180,2.65,8.33,"2009"]
["3352","Household appliance mfg",76410,1389512,10344677,38180,96820,18179103,1.95,9.35,"2010"]
["3352","Household appliance mfg",76332,1388036,9996481,45148,102876,18510938,2.65,8.33,"2009"]
["33521","Small electrical appliance manufacturing",13021,209972,1785987,4500,16863,3520499,1.95,9.35,"2010"]
["33521","Small electrical appliance manufacturing",14806,229526,1898530,4549,20806,3745331,2.65,8.33,"2009"]
["33521M","Small electrical appliance manufacturing",13021,209972,1785987,4500,16863,3520499,1.95,9.35,"2010"]
["33521M","Small electrical appliance manufacturing",14806,229526,1898530,4549,20806,3745331,2.65,8.33,"2009"]
["33522","Major appliance manufacturing",63389,1179540,8558690,33681,79957,14658604,1.95,9.35,"2010"]
["33522","Major appliance manufacturing",61527,1158510,8097951,40599,82070,14765607,2.65,8.33,"2009"]
["335221","Household cooking appliance manufacturing",16540,258683,2392404,10458,16676,3826369,1.95,9.35,"2010"]
["335221","Household cooking appliance manufacturing",16076,260133,2286992,12058,16359,3798353,2.65,8.33,"2009"]
["335222","Household refrigerator and home freezer manufacturing",16832,352688,"D","D","D",3406965,1.95,9.35,"2010"]
["335222","Household refrigerator and home freezer manufacturing",16464,343016,1927130,"D",27215,3615139,2.65,8.33,"2009"]
["335224","Household laundry equipment manufacturing",14418,279769,"D","D","D",3362027,1.95,9.35,"2010"]
["335224","Household laundry equipment manufacturing",13603,266753,2033892,"D",16360,3356095,2.65,8.33,"2009"]
["335228","Other major household appliance manufacturing",15599,288400,1973567,11671,22424,4063243,1.95,9.35,"2010"]
["335228","Other major household appliance manufacturing",15384,288609,1849937,13551,22137,3996020,2.65,8.33,"2009"]
["3353","Electrical equipment mfg",143850,2862755,17103028,67612,187363,35218618,1.95,9.35,"2010"]
["3353","Electrical equipment mfg",148728,2915182,17582421,76150,195753,36194928,2.65,8.33,"2009"]
["33531","Electrical equipment manufacturing",143850,2862755,17103028,67612,187363,35218618,1.95,9.35,"2010"]
["33531","Electrical equipment manufacturing",148728,2915182,17582421,76150,195753,36194928,2.65,8.33,"2009"]
["335311","Power, distribution, and specialty transformer manufacturing",23449,464489,2885983,18153,38230,5425744,1.95,9.35,"2010"]
["335311","Power, distribution, and specialty transformer manufacturing",25022,463667,2918211,21401,38945,5776693,2.65,8.33,"2009"]
["335312","Motor and generator manufacturing",44383,821018,5129845,25693,64078,10305138,1.95,9.35,"2010"]
["335312","Motor and generator manufacturing",45432,838496,5428055,25800,65829,10726133,2.65,8.33,"2009"]
["335313","Switchgear and switchboard apparatus manufacturing",40440,820845,4724425,15737,43160,10057418,1.95,9.35,"2010"]
["335313","Switchgear and switchboard apparatus manufacturing",43186,884839,4925064,17745,52145,10396883,2.65,8.33,"2009"]
["335314","Relay and industrial control manufacturing",35578,756403,4362775,8029,41896,9430317,1.95,9.35,"2010"]
["335314","Relay and industrial control manufacturing",35088,728180,4311091,11204,38833,9295219,2.65,8.33,"2009"]
["3359","Other electrical equipment & component mfg",164008,3450035,23687285,172544,495779,46502619,1.95,9.35,"2010"]
["3359","Other electrical equipment & component mfg",160904,3206893,19931571,160134,431599,39620191,2.65,8.33,"2009"]
["33591","Battery manufacturing",39906,872429,5329948,46515,130224,10754568,1.95,9.35,"2010"]
["33591","Battery manufacturing",36783,795481,4893554,51644,114321,9119209,2.65,8.33,"2009"]
["335911","Storage battery manufacturing",28018,621683,3118955,40056,103776,6061042,1.95,9.35,"2010"]
["335911","Storage battery manufacturing",25756,577582,2981269,46242,95545,5399240,2.65,8.33,"2009"]
["335912","Primary battery manufacturing",11888,250747,2210994,6459,26447,4693526,1.95,9.35,"2010"]
["335912","Primary battery manufacturing",11027,217899,1912284,5401,18776,3719968,2.65,8.33,"2009"]
["33592","Communication and energy wire and cable manufacturing",42669,822367,8431058,37972,130830,13671652,1.95,9.35,"2010"]
["33592","Communication and energy wire and cable manufacturing",39850,758942,6639090,23095,106003,11325691,2.65,8.33,"2009"]
["33592M","Communication and energy wire and cable manufacturing",42669,822367,8431058,37972,130830,13671652,1.95,9.35,"2010"]
["33592M","Communication and energy wire and cable manufacturing",39850,758942,6639090,23095,106003,11325691,2.65,8.33,"2009"]
["33593","Wiring device manufacturing",45054,894467,4540649,20783,93867,10788053,1.95,9.35,"2010"]
["33593","Wiring device manufacturing",47171,870503,4146597,21766,87546,9960856,2.65,8.33,"2009"]
["33593M","Wiring device manufacturing",45054,894467,4540649,20783,93867,10788053,1.95,9.35,"2010"]
["33593M","Wiring device manufacturing",47171,870503,4146597,21766,87546,9960856,2.65,8.33,"2009"]
["33599","All other electrical equipment and component manufacturing",36379,860771,5385630,67274,140858,11288346,1.95,9.35,"2010"]
["33599","All other electrical equipment and component manufacturing",37100,781966,4252330,63629,123730,9214435,2.65,8.33,"2009"]
["335991","Carbon and graphite product manufacturing",11132,243142,1374466,54932,83169,2797155,1.95,9.35,"2010"]
["335991","Carbon and graphite product manufacturing",10916,217536,1052226,48140,62718,1983255,2.65,8.33,"2009"]
["335999","All other miscellaneous electrical equipment mfg",25246,617629,4011164,12342,57689,8491191,1.95,9.35,"2010"]
["335999","All other miscellaneous electrical equipment mfg",26183,564430,3200104,15489,61012,7231180,2.65,8.33,"2009"]
["336","Transportation equipment mfg",1572190,42095378,369081413,1150468,3212157,633274768,2.2599999999999998,5.82,"2010"]
["336","Transportation equipment mfg",1573721,40632338,314135802,1165943,2895134,539921444,3.45,0.65,"2009"]
["3361","Motor vehicle mfg",222631,7446195,140558251,320649,434492,207542991,2.34,4.13,"2010"]
["3361","Motor vehicle mfg",198384,6448762,106860635,300729,412500,148604013,4.51,-5.47,"2009"]
["33611","Automobile and light duty motor vehicle manufacturing",192716,6680733,124901603,287740,391088,186594498,2.34,4.13,"2010"]
["33611","Automobile and light duty motor vehicle manufacturing",168219,5705823,94519335,274535,372492,132811602,4.51,-5.47,"2009"]
["336111","Automobile manufacturing",97095,3187844,53463714,122837,204357,74301507,2.34,4.13,"2010"]
["336111","Automobile manufacturing",89575,2793176,39657049,116438,176472,52406627,4.51,-5.47,"2009"]
["336112","Light truck and utility vehicle manufacturing",95621,3492889,71437889,164903,186731,112292991,2.34,4.13,"2010"]
["336112","Light truck and utility vehicle manufacturing",78644,2912647,54862286,158097,196020,80404975,4.51,-5.47,"2009"]
["33612","Heavy duty truck manufacturing",29915,765462,15656649,32909,43404,20948493,2.34,4.13,"2010"]
["33612","Heavy duty truck manufacturing",30165,742939,12341300,26194,40008,15792411,4.51,-5.47,"2009"]
["336120","Heavy duty truck manufacturing",29915,765462,15656649,32909,43404,20948493,2.34,4.13,"2010"]
["336120","Heavy duty truck manufacturing",30165,742939,12341300,26194,40008,15792411,4.51,-5.47,"2009"]
["3362","Motor vehicle body & trailer mfg",134789,2548111,16040188,52823,108919,24180414,2.34,4.13,"2010"]
["3362","Motor vehicle body & trailer mfg",125111,2331812,13816477,55036,99050,21322293,4.51,-5.47,"2009"]
["33621","Motor vehicle body and trailer manufacturing",134789,2548111,16040188,52823,108919,24180414,2.34,4.13,"2010"]
["33621","Motor vehicle body and trailer manufacturing",125111,2331812,13816477,55036,99050,21322293,4.51,-5.47,"2009"]
["336211","Motor vehicle body manufacturing",51055,979081,6167966,24915,47675,9649541,2.34,4.13,"2010"]
["336211","Motor vehicle body manufacturing",52006,992610,6198858,26396,44309,9518534,4.51,-5.47,"2009"]
["336212","Truck trailer manufacturing",29363,524053,3331430,"D",28635,5110502,2.34,4.13,"2010"]
["336212","Truck trailer manufacturing",25532,450314,2684537,11276,25227,4202097,4.51,-5.47,"2009"]
["336213","Motor home manufacturing",9958,191837,1466456,"D",6208,2114199,2.34,4.13,"2010"]
["336213","Motor home manufacturing",8672,157645,1115068,3675,5885,1630692,4.51,-5.47,"2009"]
["336214","Travel trailer and camper manufacturing",44414,853140,5074336,15554,26401,7306172,2.34,4.13,"2010"]
["336214","Travel trailer and camper manufacturing",38902,731242,3818013,13689,23630,5970971,4.51,-5.47,"2009"]
["3363","Motor vehicle parts mfg",593493,12973468,101882672,405452,1396872,168296739,2.34,4.13,"2010"]
["3363","Motor vehicle parts mfg",567025,11888494,78211673,394951,1228808,132418506,4.51,-5.47,"2009"]
["33631","Motor vehicle gasoline engine and engine parts manufacturing",71870,1761847,12665753,49443,211823,21839437,2.34,4.13,"2010"]
["33631","Motor vehicle gasoline engine and engine parts manufacturing",64786,1490535,9481435,51449,176640,16231786,4.51,-5.47,"2009"]
["33631M","Motor vehicle gasoline engine and engine parts manufacturing",71870,1761847,12665753,49443,211823,21839437,2.34,4.13,"2010"]
["33631M","Motor vehicle gasoline engine and engine parts manufacturing",64786,1490535,9481435,51449,176640,16231786,4.51,-5.47,"2009"]
["33632","Motor vehicle electrical and electronic equipment mfg",58784,1208728,8987497,24293,108920,15460504,2.34,4.13,"2010"]
["33632","Motor vehicle electrical and electronic equipment mfg",67830,1319070,7266773,20755,100936,13615681,4.51,-5.47,"2009"]
["33632M","Motor vehicle electrical and electronic equipment mfg",58784,1208728,8987497,24293,108920,15460504,2.34,4.13,"2010"]
["33632M","Motor vehicle electrical and electronic equipment mfg",67830,1319070,7266773,20755,100936,13615681,4.51,-5.47,"2009"]
["33633","Motor vehicle steering and suspension component mfg",39007,791408,6166003,29925,91708,9398339,2.34,4.13,"2010"]
["33633","Motor vehicle steering and suspension component mfg",39673,832379,5173480,36934,97168,8092741,4.51,-5.47,"2009"]
["336330","Motor vehicle steering and suspension component mfg",39007,791408,6166003,29925,91708,9398339,2.34,4.13,"2010"]
["336330","Motor vehicle steering and suspension component mfg",39673,832379,5173480,36934,97168,8092741,4.51,-5.47,"2009"]
["33634","Motor vehicle brake system manufacturing",28643,526807,5222614,20773,80420,8639568,2.34,4.13,"2010"]
["33634","Motor vehicle brake system manufacturing",27727,464883,4419155,18339,66701,7606866,4.51,-5.47,"2009"]
["336340","Motor vehicle brake system manufacturing",28643,526807,5222614,20773,80420,8639568,2.34,4.13,"2010"]
["336340","Motor vehicle brake system manufacturing",27727,464883,4419155,18339,66701,7606866,4.51,-5.47,"2009"]
["33635","Motor vehicle transmission and power train parts mfg",76317,2188467,15878476,85958,234029,29999554,2.34,4.13,"2010"]
["33635","Motor vehicle transmission and power train parts mfg",71447,2012619,11570735,83801,210104,22923873,4.51,-5.47,"2009"]
["336350","Motor vehicle transmission and power train parts mfg",76317,2188467,15878476,85958,234029,29999554,2.34,4.13,"2010"]
["336350","Motor vehicle transmission and power train parts mfg",71447,2012619,11570735,83801,210104,22923873,4.51,-5.47,"2009"]
["33636","Motor vehicle seating and interior trim manufacturing",57460,1006659,11145843,14948,75559,15569749,2.34,4.13,"2010"]
["33636","Motor vehicle seating and interior trim manufacturing",54231,907024,9060745,16976,64596,12951484,4.51,-5.47,"2009"]
["336360","Motor vehicle seating and interior trim manufacturing",57460,1006659,11145843,14948,75559,15569749,2.34,4.13,"2010"]
["336360","Motor vehicle seating and interior trim manufacturing",54231,907024,9060745,16976,64596,12951484,4.51,-5.47,"2009"]
["33637","Motor vehicle metal stamping",108620,2650084,14168407,62742,258888,24806448,2.34,4.13,"2010"]
["33637","Motor vehicle metal stamping",94404,2216527,10025018,58447,224623,17753692,4.51,-5.47,"2009"]
["336370","Motor vehicle metal stamping",108620,2650084,14168407,62742,258888,24806448,2.34,4.13,"2010"]
["336370","Motor vehicle metal stamping",94404,2216527,10025018,58447,224623,17753692,4.51,-5.47,"2009"]
["33639","Other motor vehicle parts manufacturing",152792,2839468,27648080,117371,335522,42583140,2.34,4.13,"2010"]
["33639","Other motor vehicle parts manufacturing",146927,2645458,21214333,108251,288041,33242383,4.51,-5.47,"2009"]
["336391","Motor vehicle air-conditioning manufacturing",15514,340662,2985224,8067,35241,4461928,2.34,4.13,"2010"]
["336391","Motor vehicle air-conditioning manufacturing",16426,358341,2654300,7965,34309,3684271,4.51,-5.47,"2009"]
["336399","All other miscellaneous motor vehicle parts manufacturing",137278,2498807,24662856,109304,300282,38121213,2.34,4.13,"2010"]
["336399","All other miscellaneous motor vehicle parts manufacturing",130502,2287117,18560033,100285,253731,29558113,4.51,-5.47,"2009"]
["3364","Aerospace product & parts mfg",391466,13684856,79525575,207497,933895,171618477,2.0499999999999998,8.2799999999999994,"2010"]
["3364","Aerospace product & parts mfg",430386,14210130,80942938,236539,796645,172882950,1.98,8.4,"2009"]
["33641","Aerospace product and parts manufacturing",391466,13684856,79525575,207497,933895,171618477,2.0499999999999998,8.2799999999999994,"2010"]
["33641","Aerospace product and parts manufacturing",430386,14210130,80942938,236539,796645,172882950,1.98,8.4,"2009"]
["336411","Aircraft manufacturing",159492,6745273,43742697,63126,373735,85838728,2.0499999999999998,8.2799999999999994,"2010"]
["336411","Aircraft manufacturing",183621,7150448,45521949,85123,265592,88983971,1.98,8.4,"2009"]
["336412","Aircraft engine and engine parts manufacturing",79235,2378274,13808050,"D","D",29187872,2.0499999999999998,8.2799999999999994,"2010"]
["336412","Aircraft engine and engine parts manufacturing",81675,2381781,14549141,"D",159775,29848621,1.98,8.4,"2009"]
["336413","Other aircraft parts and auxiliary equipment manufacturing",112457,3251440,12264837,"D",241250,33386655,2.0499999999999998,8.2799999999999994,"2010"]
["336413","Other aircraft parts and auxiliary equipment manufacturing",120345,3217059,11494600,"D",228506,32134207,1.98,8.4,"2009"]
["336414","Guided missile and space vehicle manufacturing",25510,899511,7925058,"D","D",17580564,2.0499999999999998,8.2799999999999994,"2010"]
["336414","Guided missile and space vehicle manufacturing",28851,997729,7559325,13667,80610,16141661,1.98,8.4,"2009"]
["336415","Space vehicle propulsion unit and propulsion unit parts mfg",9182,291828,1363729,"D","D",4465081,2.0499999999999998,8.2799999999999994,"2010"]
["336415","Space vehicle propulsion unit and propulsion unit parts mfg",9904,305009,1361795,18362,38650,4521328,1.98,8.4,"2009"]
["336419","Other guided missile and space vehicle parts manufacturing",5590,118530,421205,"D",24997,1159577,2.0499999999999998,8.2799999999999994,"2010"]
["336419","Other guided missile and space vehicle parts manufacturing",5990,158103,456129,7270,23512,1253162,1.98,8.4,"2009"]
["3365","Railroad rolling stock mfg",30443,824361,6593586,83644,89745,11137199,"D","D","2010"]
["3365","Railroad rolling stock mfg",33286,808512,7590363,89254,90706,11973648,"D","D","2009"]
["33651","Railroad rolling stock manufacturing",30443,824361,6593586,83644,89745,11137199,"D","D","2010"]
["33651","Railroad rolling stock manufacturing",33286,808512,7590363,89254,90706,11973648,"D","D","2009"]
["336510","Railroad rolling stock manufacturing",30443,824361,6593586,83644,89745,11137199,"D","D","2010"]
["336510","Railroad rolling stock manufacturing",33286,808512,7590363,89254,90706,11973648,"D","D","2009"]
["3366","Ship & boat building",151957,3538469,10714348,54602,175380,27690003,"D","D","2010"]
["3366","Ship & boat building",162861,3709628,11142143,54181,191032,27609383,"D","D","2009"]
["33661","Ship and boat building",151957,3538469,10714348,54602,175380,27690003,"D","D","2010"]
["33661","Ship and boat building",162861,3709628,11142143,54181,191032,27609383,"D","D","2009"]
["336611","Ship building and repairing",119089,2934803,7552207,41834,141782,22274617,"D","D","2010"]
["336611","Ship building and repairing",126810,3056473,7882593,38119,153562,22153746,"D","D","2009"]
["336612","Boat building",32868,603665,3162140,12768,33598,5415386,"D","D","2010"]
["336612","Boat building",36051,653155,3259551,16062,37470,5455638,"D","D","2009"]
["3369","Other transportation equipment mfg",47411,1079919,13766792,25801,72854,22808946,"D","D","2010"]
["3369","Other transportation equipment mfg",56669,1234998,15571573,35254,76392,25110651,"D","D","2009"]
["33699","Other transportation equipment manufacturing",47411,1079919,13766792,25801,72854,22808946,"D","D","2010"]
["33699","Other transportation equipment manufacturing",56669,1234998,15571573,35254,76392,25110651,"D","D","2009"]
["336991","Motorcycle, bicycle, and parts manufacturing",11790,265070,2276501,10633,25154,4765200,"D","D","2010"]
["336991","Motorcycle, bicycle, and parts manufacturing",15056,317506,2552914,"D",24950,5102469,"D","D","2009"]
["336992","Military armored vehicle, tank, and tank component mfg",21749,511307,7338009,7713,28086,11588622,"D","D","2010"]
["336992","Military armored vehicle, tank, and tank component mfg",28067,632491,9528676,"D","D",14807987,"D","D","2009"]
["336999","All other transportation equipment manufacturing",13873,303542,4152283,7455,19614,6455124,"D","D","2010"]
["336999","All other transportation equipment manufacturing",13546,285002,3489983,9028,"D",5200195,"D","D","2009"]
["337","Furniture & related product mfg",467278,7282852,28200337,170237,468189,58795469,5.68,4.46,"2010"]
["337","Furniture & related product mfg",495225,7781553,27773021,187681,464599,60287057,2.83,3.64,"2009"]
["3371","Household & institutional furniture & kitchen cabinet mfg",290128,4338191,15926656,93016,275486,31972747,5.68,4.46,"2010"]
["3371","Household & institutional furniture & kitchen cabinet mfg",310022,4706973,15379291,98311,272171,32270850,2.83,3.64,"2009"]
["33711","Wood kitchen cabinet and counter top manufacturing",110479,1686990,4566169,39445,108891,10594138,5.68,4.46,"2010"]
["33711","Wood kitchen cabinet and counter top manufacturing",120460,1874437,4443828,42255,111045,11072001,2.83,3.64,"2009"]
["337110","Wood kitchen cabinet and counter top manufacturing",110479,1686990,4566169,39445,108891,10594138,5.68,4.46,"2010"]
["337110","Wood kitchen cabinet and counter top manufacturing",120460,1874437,4443828,42255,111045,11072001,2.83,3.64,"2009"]
["33712","Household and institutional furniture manufacturing",179649,2651202,11360487,53570,166595,21378610,5.68,4.46,"2010"]
["33712","Household and institutional furniture manufacturing",189562,2832536,10935462,56056,161126,21198850,2.83,3.64,"2009"]
["337121","Upholstered household furniture manufacturing",78917,1198117,5291385,10593,55087,9438598,5.68,4.46,"2010"]
["337121","Upholstered household furniture manufacturing",83203,1239517,4816739,10807,47606,8824994,2.83,3.64,"2009"]
["337122","Nonupholstered wood household furniture manufacturing",47784,655912,2179114,17463,47594,4217708,5.68,4.46,"2010"]
["337122","Nonupholstered wood household furniture manufacturing",51534,745921,2246064,15899,52239,4519037,2.83,3.64,"2009"]
["337127","Institutional furniture manufacturing",35265,548697,2055234,15289,39087,4605751,5.68,4.46,"2010"]
["337127","Institutional furniture manufacturing",37293,588533,2122646,17239,37652,4788796,2.83,3.64,"2009"]
["33712N","Other household nonupholstered furniture",17683,248476,1834754,10225,24827,3116553,5.68,4.46,"2010"]
["33712N","Other household nonupholstered furniture",17531,258565,1750014,12111,23629,3066022,2.83,3.64,"2009"]
["3372","Office furniture (including fixtures) mfg",135447,2292656,8349772,67558,163637,18776877,5.68,4.46,"2010"]
["3372","Office furniture (including fixtures) mfg",142129,2410215,8467756,79217,162831,19704304,2.83,3.64,"2009"]
["33721","Office furniture (including fixtures) manufacturing",135447,2292656,8349772,67558,163637,18776877,5.68,4.46,"2010"]
["33721","Office furniture (including fixtures) manufacturing",142129,2410215,8467756,79217,162831,19704304,2.83,3.64,"2009"]
["337212","Custom architectural woodwork and millwork manufacturing",42681,803336,2103105,15332,44513,4876688,5.68,4.46,"2010"]
["337212","Custom architectural woodwork and millwork manufacturing",47863,892091,2083894,16802,44550,5219291,2.83,3.64,"2009"]
["337215","Showcase, partition, shelving, and locker manufacturing",45170,675676,2930762,27510,57302,5567346,5.68,4.46,"2010"]
["337215","Showcase, partition, shelving, and locker manufacturing",46259,700942,2892931,31029,56820,5601568,2.83,3.64,"2009"]
["33721N","Office furniture manufacturing",47596,813644,3315906,24716,61822,8332843,5.68,4.46,"2010"]
["33721N","Office furniture manufacturing",48007,817181,3490932,31386,61461,8883446,2.83,3.64,"2009"]
["3379","Other furniture related product mfg",41703,652005,3923909,9663,29066,8045845,5.68,4.46,"2010"]
["3379","Other furniture related product mfg",43074,664365,3925974,10153,29596,8311903,2.83,3.64,"2009"]
["33791","Mattress manufacturing",27778,461999,3075643,5965,19738,6333542,5.68,4.46,"2010"]
["33791","Mattress manufacturing",27310,455743,3024266,6255,20202,6466860,2.83,3.64,"2009"]
["337910","Mattress manufacturing",27778,461999,3075643,5965,19738,6333542,5.68,4.46,"2010"]
["337910","Mattress manufacturing",27310,455743,3024266,6255,20202,6466860,2.83,3.64,"2009"]
["33792","Blind and shade manufacturing",13925,190006,848265,3698,9328,1712303,5.68,4.46,"2010"]
["33792","Blind and shade manufacturing",15764,208623,901708,3899,9394,1845043,2.83,3.64,"2009"]
["337920","Blind and shade manufacturing",13925,190006,848265,3698,9328,1712303,5.68,4.46,"2010"]
["337920","Blind and shade manufacturing",15764,208623,901708,3899,9394,1845043,2.83,3.64,"2009"]
["339","Miscellaneous mfg",675535,12057946,53141029,237659,881822,150353148,3.51,12.26,"2010"]
["339","Miscellaneous mfg",689976,11925462,49712400,248273,826920,143748806,3.62,12.34,"2009"]
["3391","Medical equipment & supplies mfg",335869,6356843,25945521,97276,428761,88188762,3.51,12.26,"2010"]
["3391","Medical equipment & supplies mfg",348072,6326940,24562802,96896,397067,85000322,3.62,12.34,"2009"]
["33911","Medical equipment and supplies manufacturing",335869,6356843,25945521,97276,428761,88188762,3.51,12.26,"2010"]
["33911","Medical equipment and supplies manufacturing",348072,6326940,24562802,96896,397067,85000322,3.62,12.34,"2009"]
["339112","Surgical and medical instrument manufacturing",124149,2405070,10427064,38811,178329,36086886,3.51,12.26,"2010"]
["339112","Surgical and medical instrument manufacturing",126314,2383736,10090626,40003,165763,34588193,3.62,12.34,"2009"]
["339113","Surgical appliance and supplies manufacturing",114608,2089275,10679416,40198,156715,36558766,3.51,12.26,"2010"]
["339113","Surgical appliance and supplies manufacturing",120294,2094629,10179317,42695,149961,36015521,3.62,12.34,"2009"]
["339114","Dental equipment and supplies manufacturing",17404,326404,2104912,7495,20978,5326291,3.51,12.26,"2010"]
["339114","Dental equipment and supplies manufacturing",16009,283754,1668571,4122,16355,4475712,3.62,12.34,"2009"]
["339115","Ophthalmic goods manufacturing",26081,469633,1711599,5782,44801,5983587,3.51,12.26,"2010"]
["339115","Ophthalmic goods manufacturing",26185,454659,1633645,5372,39370,5679597,3.62,12.34,"2009"]
["339116","Dental laboratories",53628,1066462,1022531,4990,27938,4233231,3.51,12.26,"2010"]
["339116","Dental laboratories",59270,1110162,990643,4705,25618,4241300,3.62,12.34,"2009"]
["3399","Other miscellaneous mfg",339666,5701103,27195508,140383,453061,62164387,3.51,12.26,"2010"]
["3399","Other miscellaneous mfg",341904,5598522,25149598,151376,429854,58748484,3.62,12.34,"2009"]
["33991","Jewelry and silverware manufacturing",28867,480059,4187177,10418,25792,8344086,3.51,12.26,"2010"]
["33991","Jewelry and silverware manufacturing",31552,490579,3459446,10039,29965,6970345,3.62,12.34,"2009"]
["33991M","Jewelry and silverware manufacturing",28867,480059,4187177,10418,25792,8344086,3.51,12.26,"2010"]
["33991M","Jewelry and silverware manufacturing",31552,490579,3459446,10039,29965,6970345,3.62,12.34,"2009"]
["33992","Sporting and athletic goods manufacturing",43179,731761,4655065,30238,73837,10177025,3.51,12.26,"2010"]
["33992","Sporting and athletic goods manufacturing",45662,759378,4337623,30248,69737,9938258,3.62,12.34,"2009"]
["339920","Sporting and athletic goods manufacturing",43179,731761,4655065,30238,73837,10177025,3.51,12.26,"2010"]
["339920","Sporting and athletic goods manufacturing",45662,759378,4337623,30248,69737,9938258,3.62,12.34,"2009"]
["33993","Doll, toy, and game manufacturing",11369,181071,1061445,5619,14927,2307707,3.51,12.26,"2010"]
["33993","Doll, toy, and game manufacturing",10600,165431,920186,4972,12818,2115219,3.62,12.34,"2009"]
["33993M","Doll, toy, and game manufacturing",11369,181071,1061445,5619,14927,2307707,3.51,12.26,"2010"]
["33993M","Doll, toy, and game manufacturing",10600,165431,920186,4972,12818,2115219,3.62,12.34,"2009"]
["33994","Office supplies (except paper) manufacturing",13767,256900,1414590,7281,22500,3614994,3.51,12.26,"2010"]
["33994","Office supplies (except paper) manufacturing",15516,270956,1384642,9657,21785,3341870,3.62,12.34,"2009"]
["33994M","Office supplies (except paper) manufacturing",13767,256900,1414590,7281,22500,3614994,3.51,12.26,"2010"]
["33994M","Office supplies (except paper) manufacturing",15516,270956,1384642,9657,21785,3341870,3.62,12.34,"2009"]
["33995","Sign manufacturing",70391,1254460,4268954,18924,67475,10138503,3.51,12.26,"2010"]
["33995","Sign manufacturing",74223,1312143,4314716,21218,65890,10503017,3.62,12.34,"2009"]
["339950","Sign manufacturing",70391,1254460,4268954,18924,67475,10138503,3.51,12.26,"2010"]
["339950","Sign manufacturing",74223,1312143,4314716,21218,65890,10503017,3.62,12.34,"2009"]
["33999","All other miscellaneous manufacturing",172094,2796852,11608277,67904,248530,27582072,3.51,12.26,"2010"]
["33999","All other miscellaneous manufacturing",164350,2600034,10732985,75241,229659,25879774,3.62,12.34,"2009"]
["339991","Gasket, packing, and sealing device manufacturing",42822,755597,2467788,21066,74461,5920884,3.51,12.26,"2010"]
["339991","Gasket, packing, and sealing device manufacturing",40386,650425,2102396,18701,68841,5062305,3.62,12.34,"2009"]
["339992","Musical instrument manufacturing",15673,285680,620840,5496,16096,1691399,3.51,12.26,"2010"]
["339992","Musical instrument manufacturing",16076,283984,571159,4953,14666,1597891,3.62,12.34,"2009"]
["339993","Fastener, button, needle, and pin manufacturing",5127,86256,245693,3630,13672,705627,3.51,12.26,"2010"]
["339993","Fastener, button, needle, and pin manufacturing",5545,87771,263133,6480,12544,738167,3.62,12.34,"2009"]
["339994","Broom, brush, and mop manufacturing",14214,208474,1168400,3305,17486,2573912,3.51,12.26,"2010"]
["339994","Broom, brush, and mop manufacturing",12668,190486,1050309,3453,16428,2295436,3.62,12.34,"2009"]
["339995","Burial casket manufacturing",5547,92286,315055,3584,8533,733994,3.51,12.26,"2010"]
["339995","Burial casket manufacturing",6143,99107,349670,4830,8579,852935,3.62,12.34,"2009"]
["339999","All other miscellaneous manufacturing",88711,1368559,6790502,30822,118282,15956256,3.51,12.26,"2010"]
["339999","All other miscellaneous manufacturing",83532,1288260,6396318,36825,108600,15333040,3.62,12.34,"2009"]

{"sheet":"2010-2011 Econ Census Data","index":154,"n_rows":1228,"n_cols":11,"rows_kept":1228,"cut":false,"hidden":false,"merged":[]}
["Data in the SourcingApps data base and is from the Annual Manufacturers Survey (codes 31-33), or Economic Census (published in years ending in 2 or 7) and the Quarterly Financial Report (average of four quarters, for the year selected) published by the U. S. Census Bureau."]
["NAICS","NAICS Meaning","Production Workers Hours (1,000)","Production Workers Wages ($1,000)","Total Cost of Materials ($1,000)","Cost of Purchased Fuels ($1,000)","Purchased Electricity ($1,000)","Total Value of Shipments ($1,000)","Depreciation","Operating Income","YEAR"]
["31-33","Manufacturing",14866954,313709882,3240477063,42275939,52032153,5498599159,2.56,7.43,2011]
["31-33","Manufacturing",14550473,299613996,2782192359,41658205,49142022,4905446064,2.91,7.29,2010]
[311,"Food manufacturing",2172236,36089009,448203618,5027771,6104136,710365597,1.84,6.94,2011]
[311,"Food manufacturing",2177377,35800855,392452944,5041070,5727453,649338759,2.0099999999999998,8.32,2010]
[3111,"Animal food manufacturing",61110,1310741,38024007,308926,359209,54082330,1.84,6.94,2011]
[3111,"Animal food manufacturing",62417,1289689,31859976,273043,312730,48146262,2.0099999999999998,8.32,2010]
[31111,"Animal food manufacturing",61110,1310741,38024007,308926,359209,54082330,1.84,6.94,2011]
[31111,"Animal food manufacturing",62417,1289689,31859976,273043,312730,48146262,2.0099999999999998,8.32,2010]
[311111,"Dog and cat food manufacturing",26607,656521,11439632,91344,108023,20585563,1.84,6.94,2011]
[311111,"Dog and cat food manufacturing",27260,647159,10780551,101546,103500,20386975,2.0099999999999998,8.32,2010]
[311119,"Other animal food manufacturing",34503,654220,26584376,217582,251186,33496767,1.84,6.94,2011]
[311119,"Other animal food manufacturing",35157,642531,21079425,171497,209230,27759287,2.0099999999999998,8.32,2010]
[3112,"Grain and oilseed milling",81406,1927848,64937087,1038469,1055367,94025296,1.84,6.94,2011]
[3112,"Grain and oilseed milling",80636,1913541,55129180,1140002,1020415,82801451,2.0099999999999998,8.32,2010]
[31121,"Flour milling and malt manufacturing",24965,501182,13939588,94066,333344,19837318,1.84,6.94,2011]
[31121,"Flour milling and malt manufacturing",24322,485169,11603968,"D",299406,16402180,2.0099999999999998,8.32,2010]
["31121M","Flour milling and malt manufacturing",24965,501182,13939588,94066,333344,19837318,1.84,6.94,2011]
["31121M","Flour milling and malt manufacturing",24322,485169,11603968,"D",299406,16402180,2.0099999999999998,8.32,2010]
[31122,"Starch and vegetable fats and oils manufacturing",35958,827500,47321076,891826,642162,63755277,1.84,6.94,2011]
[31122,"Starch and vegetable fats and oils manufacturing",35040,796787,39968543,974505,634814,55939299,2.0099999999999998,8.32,2010]
[311221,"Wet corn milling",10597,304248,9613418,574286,373021,15708376,1.84,6.94,2011]
[311221,"Wet corn milling",9936,294342,8069515,656460,374063,15103250,2.0099999999999998,8.32,2010]
[311225,"Fats and oils refining and blending",13869,275270,13014931,90291,66788,16172990,1.84,6.94,2011]
[311225,"Fats and oils refining and blending",13797,269145,10743500,78715,64497,13551087,2.0099999999999998,8.32,2010]
["31122N","Soybean and other oilseed processing",11492,247982,24692727,227249,202353,31873911,1.84,6.94,2011]
["31122N","Soybean and other oilseed processing",11307,233300,21155527,239329,196254,27284962,2.0099999999999998,8.32,2010]
[31123,"Breakfast cereal manufacturing",20483,599167,3676423,52577,79860,10432700,1.84,6.94,2011]
[31123,"Breakfast cereal manufacturing",21273,631585,3556669,"D",86196,10459971,2.0099999999999998,8.32,2010]
[311230,"Breakfast cereal manufacturing",20483,599167,3676423,52577,79860,10432700,1.84,6.94,2011]
[311230,"Breakfast cereal manufacturing",21273,631585,3556669,"D",86196,10459971,2.0099999999999998,8.32,2010]
[3113,"Sugar and confectionery product manufacturing",95942,1930466,17637273,368199,260813,33120351,1.84,6.94,2011]
[3113,"Sugar and confectionery product manufacturing",95833,1927450,15868748,355265,248662,31058103,2.0099999999999998,8.32,2010]
[31131,"Sugar manufacturing",22406,496208,6374490,277632,77870,9727957,1.84,6.94,2011]
[31131,"Sugar manufacturing",22584,473530,5391118,255978,73204,8530031,2.0099999999999998,8.32,2010]
[311313,"Beet sugar manufacturing",11548,237306,2598461,166261,45355,4219581,1.84,6.94,2011]
[311313,"Beet sugar manufacturing",11571,226266,1973769,152298,41557,3518774,2.0099999999999998,8.32,2010]
["31131N","Sugar cane mills and refining",10858,258902,3776029,111371,32515,5508376,1.84,6.94,2011]
["31131N","Sugar cane mills and refining",11013,247264,3417349,103680,31647,5011257,2.0099999999999998,8.32,2010]
[31132,"Chocolate and confectionery manufacturing from cacao beans",9794,233567,3471104,15753,38439,4757594,1.84,6.94,2011]
[31132,"Chocolate and confectionery manufacturing from cacao beans",9867,220215,3212729,15468,34816,4548531,2.0099999999999998,8.32,2010]
[311320,"Chocolate and confectionery manufacturing from cacao beans",9794,233567,3471104,15753,38439,4757594,1.84,6.94,2011]
[311320,"Chocolate and confectionery manufacturing from cacao beans",9867,220215,3212729,15468,34816,4548531,2.0099999999999998,8.32,2010]
[31133,"Confectionery manufacturing from purchased chocolate",36588,679396,4273655,47837,81835,9988087,1.84,6.94,2011]
[31133,"Confectionery manufacturing from purchased chocolate",35208,695105,3955734,52941,81157,9792753,2.0099999999999998,8.32,2010]
[311330,"Confectionery manufacturing from purchased chocolate",36588,679396,4273655,47837,81835,9988087,1.84,6.94,2011]
[311330,"Confectionery manufacturing from purchased chocolate",35208,695105,3955734,52941,81157,9792753,2.0099999999999998,8.32,2010]
[31134,"Nonchocolate confectionery manufacturing",27154,521295,3518025,26977,62670,8646713,1.84,6.94,2011]
[31134,"Nonchocolate confectionery manufacturing",28174,538599,3309166,30878,59484,8186789,2.0099999999999998,8.32,2010]
[311340,"Nonchocolate confectionery manufacturing",27154,521295,3518025,26977,62670,8646713,1.84,6.94,2011]
[311340,"Nonchocolate confectionery manufacturing",28174,538599,3309166,30878,59484,8186789,2.0099999999999998,8.32,2010]
[3114,"Fruit and vegetable preserving and specialty food manufacturing",269844,4545238,35550703,639061,686910,65019666,1.84,6.94,2011]
[3114,"Fruit and vegetable preserving and specialty food manufacturing",269478,4538657,34382979,667851,653278,63186582,2.0099999999999998,8.32,2010]
[31141,"Frozen food manufacturing",142998,2209090,14915100,224493,366783,26967196,1.84,6.94,2011]
[31141,"Frozen food manufacturing",141401,2194448,14379739,226802,353853,26421876,2.0099999999999998,8.32,2010]
["31141M","Frozen food manufacturing",142998,2209090,14915100,224493,366783,26967196,1.84,6.94,2011]
["31141M","Frozen food manufacturing",141401,2194448,14379739,226802,353853,26421876,2.0099999999999998,8.32,2010]
[31142,"Fruit and vegetable canning, pickling, and drying",126847,2336148,20635604,414568,320127,38052470,1.84,6.94,2011]
[31142,"Fruit and vegetable canning, pickling, and drying",128077,2344209,20003240,441049,299425,36764706,2.0099999999999998,8.32,2010]
["31142M","Fruit and vegetable canning, pickling, and drying",126847,2336148,20635604,414568,320127,38052470,1.84,6.94,2011]
["31142M","Fruit and vegetable canning, pickling, and drying",128077,2344209,20003240,441049,299425,36764706,2.0099999999999998,8.32,2010]
[3115,"Dairy product manufacturing",197265,4190018,74349489,557295,748696,106001994,1.84,6.94,2011]
[3115,"Dairy product manufacturing",200488,4188478,63910579,542819,721193,95166952,2.0099999999999998,8.32,2010]
[31151,"Dairy product (except frozen) manufacturing",167272,3551783,70344574,539343,658262,98618666,1.84,6.94,2011]
[31151,"Dairy product (except frozen) manufacturing",170650,3559744,60083343,523745,617816,87813843,2.0099999999999998,8.32,2010]
[311513,"Cheese manufacturing",73897,1462684,33206079,214605,251418,41425715,1.84,6.94,2011]
[311513,"Cheese manufacturing",76109,1450834,28029133,207144,227329,36115618,2.0099999999999998,8.32,2010]
[311514,"Dry, condensed, and evaporated dairy product manufacturing",21537,480498,9828586,133366,115729,16686168,1.84,6.94,2011]
[311514,"Dry, condensed, and evaporated dairy product manufacturing",21619,484141,8231722,126870,108799,14576251,2.0099999999999998,8.32,2010]
["31151N","Fluid milk and butter manufacturing",71838,1608600,27309909,191372,291115,40506783,1.84,6.94,2011]
["31151N","Fluid milk and butter manufacturing",72922,1624769,23822488,189731,281688,37121974,2.0099999999999998,8.32,2010]
[31152,"Ice cream and frozen dessert manufacturing",29993,638236,4004915,17951,90433,7383329,1.84,6.94,2011]
[31152,"Ice cream and frozen dessert manufacturing",29838,628734,3827237,19073,103377,7353109,2.0099999999999998,8.32,2010]
[311520,"Ice cream and frozen dessert manufacturing",29993,638236,4004915,17951,90433,7383329,1.84,6.94,2011]
[311520,"Ice cream and frozen dessert manufacturing",29838,628734,3827237,19073,103377,7353109,2.0099999999999998,8.32,2010]
[3116,"Animal  slaughtering and processing",862411,11841635,142597171,1226672,1753644,195726679,1.84,6.94,2011]
[3116,"Animal  slaughtering and processing",871906,11799096,123049584,1177059,1601943,175496986,2.0099999999999998,8.32,2010]
[31161,"Animal slaughtering and processing",862411,11841635,142597171,1226672,1753644,195726679,1.84,6.94,2011]
[31161,"Animal slaughtering and processing",871906,11799096,123049584,1177059,1601943,175496986,2.0099999999999998,8.32,2010]
[311615,"Poultry processing",395355,4860706,33876337,514821,829468,52918290,1.84,6.94,2011]
[311615,"Poultry processing",406131,4906886,31124872,489038,769553,51139646,2.0099999999999998,8.32,2010]
["31161N","Animal (except poultry) slaughtering and processing",467056,6980928,108720834,711851,924176,142808390,1.84,6.94,2011]
["31161N","Animal (except poultry) slaughtering and processing",465775,6892210,91924712,688021,832390,124357340,2.0099999999999998,8.32,2010]
[3117,"Seafood product preparation and packaging",49762,783622,6642528,160853,84964,10579683,1.84,6.94,2011]
[3117,"Seafood product preparation and packaging",46225,674189,6199099,125274,80446,10110249,2.0099999999999998,8.32,2010]
[31171,"Seafood product preparation and packaging",49762,783622,6642528,160853,84964,10579683,1.84,6.94,2011]
[31171,"Seafood product preparation and packaging",46225,674189,6199099,125274,80446,10110249,2.0099999999999998,8.32,2010]
["31171M","Seafood product preparation and packaging",49762,783622,6642528,160853,84964,10579683,1.84,6.94,2011]
["31171M","Seafood product preparation and packaging",46225,674189,6199099,125274,80446,10110249,2.0099999999999998,8.32,2010]
[3118,"Bakeries and tortilla manufacturing",324637,5502705,26101995,346342,634283,61051462,1.84,6.94,2011]
[3118,"Bakeries and tortilla manufacturing",323110,5521245,23510817,344731,590955,59061895,2.0099999999999998,8.32,2010]
[31181,"Bread and bakery product manufacturing",228305,3646463,14103434,217401,402182,35790737,1.84,6.94,2011]
[31181,"Bread and bakery product manufacturing",227217,3711723,12724342,223221,381678,34472106,2.0099999999999998,8.32,2010]
["31181M","Bread and bakery product manufacturing",228305,3646463,14103434,217401,402182,35790737,1.84,6.94,2011]
["31181M","Bread and bakery product manufacturing",227217,3711723,12724342,223221,381678,34472106,2.0099999999999998,8.32,2010]
[31182,"Cookie, cracker, and pasta manufacturing",76860,1564919,10648849,102428,199729,22109204,1.84,6.94,2011]
[31182,"Cookie, cracker, and pasta manufacturing",74002,1507291,9494057,92681,174614,21476568,2.0099999999999998,8.32,2010]
["31182M","Cookie, cracker, and pasta manufacturing",76860,1564919,10648849,102428,199729,22109204,1.84,6.94,2011]
["31182M","Cookie, cracker, and pasta manufacturing",74002,1507291,9494057,92681,174614,21476568,2.0099999999999998,8.32,2010]
[31183,"Tortilla manufacturing",19471,291323,1349712,26513,32372,3151521,1.84,6.94,2011]
[31183,"Tortilla manufacturing",21892,302231,1292418,28829,34663,3113221,2.0099999999999998,8.32,2010]
[311830,"Tortilla manufacturing",19471,291323,1349712,26513,32372,3151521,1.84,6.94,2011]
[311830,"Tortilla manufacturing",21892,302231,1292418,28829,34663,3113221,2.0099999999999998,8.32,2010]
[3119,"Other food manufacturing",229859,4056736,42363364,381954,520251,90758135,1.84,6.94,2011]
[3119,"Other food manufacturing",227284,3948509,38541983,415026,497832,84310280,2.0099999999999998,8.32,2010]
[31191,"Snack food manufacturing",63021,1174786,12335613,154683,131081,29729526,1.84,6.94,2011]
[31191,"Snack food manufacturing",61964,1142673,10951923,171167,119485,27438004,2.0099999999999998,8.32,2010]
["31191M","Snack food manufacturing",63021,1174786,12335613,154683,131081,29729526,1.84,6.94,2011]
["31191M","Snack food manufacturing",61964,1142673,10951923,171167,119485,27438004,2.0099999999999998,8.32,2010]
[31192,"Coffee and tea manufacturing",18101,378337,6492247,48603,54650,12405938,1.84,6.94,2011]
[31192,"Coffee and tea manufacturing",17789,356000,5567659,52547,51877,10439203,2.0099999999999998,8.32,2010]
[311920,"Coffee and tea manufacturing",18101,378337,6492247,48603,54650,12405938,1.84,6.94,2011]
[311920,"Coffee and tea manufacturing",17789,356000,5567659,52547,51877,10439203,2.0099999999999998,8.32,2010]
[31193,"Flavoring syrup and concentrate manufacturing",8918,191833,2219528,13978,27099,9750011,1.84,6.94,2011]
[31193,"Flavoring syrup and concentrate manufacturing",8666,183871,2116418,13787,26096,8957723,2.0099999999999998,8.32,2010]
[311930,"Flavoring syrup and concentrate manufacturing",8918,191833,2219528,13978,27099,9750011,1.84,6.94,2011]
[311930,"Flavoring syrup and concentrate manufacturing",8666,183871,2116418,13787,26096,8957723,2.0099999999999998,8.32,2010]
[31194,"Seasoning and dressing manufacturing",43491,835439,9738073,45135,98205,17734906,1.84,6.94,2011]
[31194,"Seasoning and dressing manufacturing",42519,830036,8761774,46124,90665,16973821,2.0099999999999998,8.32,2010]
["31194M","Seasoning and dressing manufacturing",43491,835439,9738073,45135,98205,17734906,1.84,6.94,2011]
["31194M","Seasoning and dressing manufacturing",42519,830036,8761774,46124,90665,16973821,2.0099999999999998,8.32,2010]
[31199,"All other food manufacturing",96328,1476341,11577903,119555,209216,21137755,1.84,6.94,2011]
[31199,"All other food manufacturing",96347,1435929,11144209,131401,209709,20501528,2.0099999999999998,8.32,2010]
["31199M","All other food manufacturing",96328,1476341,11577903,119555,209216,21137755,1.84,6.94,2011]
["31199M","All other food manufacturing",96347,1435929,11144209,131401,209709,20501528,2.0099999999999998,8.32,2010]
[312,"Beverage and tobacco product manufacturing",165657,4029969,53872488,415688,731410,136888125,2.9,20.37,2011]
[312,"Beverage and tobacco product manufacturing",156296,3795237,49736103,449736,727142,130550662,2.99,19.02,2010]
[3121,"Beverage manufacturing",146279,3456730,47717175,376883,667821,97867337,2.9,20.37,2011]
[3121,"Beverage manufacturing",135786,3201373,43711005,412989,661015,91689485,2.99,19.02,2010]
[31211,"Soft drink and ice manufacturing",79495,1687013,29847031,146372,383414,47655399,2.9,20.37,2011]
[31211,"Soft drink and ice manufacturing",72467,1547989,26613424,176596,382139,44371913,2.99,19.02,2010]
["31211M","Soft drink and ice manufacturing",79495,1687013,29847031,146372,383414,47655399,2.9,20.37,2011]
["31211M","Soft drink and ice manufacturing",72467,1547989,26613424,176596,382139,44371913,2.99,19.02,2010]
[31212,"Breweries",29994,912278,8816479,161236,163189,26461203,2.9,20.37,2011]
[31212,"Breweries",27713,856458,8844495,171329,161041,25346077,2.99,19.02,2010]
[312120,"Breweries",29994,912278,8816479,161236,163189,26461203,2.9,20.37,2011]
[312120,"Breweries",27713,856458,8844495,171329,161041,25346077,2.99,19.02,2010]
[31213,"Wineries",29172,651133,6709792,36003,96339,15540577,2.9,20.37,2011]
[31213,"Wineries",28040,599680,6229220,35872,95400,14803846,2.99,19.02,2010]
[312130,"Wineries",29172,651133,6709792,36003,96339,15540577,2.9,20.37,2011]
[312130,"Wineries",28040,599680,6229220,35872,95400,14803846,2.99,19.02,2010]
[31214,"Distilleries",7618,206306,2343873,33272,24880,8210159,2.9,20.37,2011]
[31214,"Distilleries",7566,197246,2023866,29191,22435,7167650,2.99,19.02,2010]
[312140,"Distilleries",7618,206306,2343873,33272,24880,8210159,2.9,20.37,2011]
[312140,"Distilleries",7566,197246,2023866,29191,22435,7167650,2.99,19.02,2010]
[3122,"Tobacco manufacturing",19378,573239,6155313,38805,63589,39020788,2.9,20.37,2011]
[3122,"Tobacco manufacturing",20510,593864,6025098,36747,66127,38861177,2.99,19.02,2010]
[31221,"Tobacco stemming and redrying",2737,29895,702406,"D",7514,1177422,2.9,20.37,2011]
[31221,"Tobacco stemming and redrying",2894,29254,841762,"D",7580,1418370,2.99,19.02,2010]
[312210,"Tobacco stemming and redrying",2737,29895,702406,"D",7514,1177422,2.9,20.37,2011]
[312210,"Tobacco stemming and redrying",2894,29254,841762,"D",7580,1418370,2.99,19.02,2010]
[31222,"Tobacco product manufacturing",16641,543344,5452907,"D",56075,37843366,2.9,20.37,2011]
[31222,"Tobacco product manufacturing",17616,564610,5183336,"D",58547,37442807,2.99,19.02,2010]
["31222M","Tobacco product manufacturing",16641,543344,5452907,"D",56075,37843366,2.9,20.37,2011]
["31222M","Tobacco product manufacturing",17616,564610,5183336,"D",58547,37442807,2.99,19.02,2010]
[313,"Textile mills",166289,2607900,18347835,348994,781507,31472727,2.36,3.84,2011]
[313,"Textile mills",168472,2603606,16334800,357515,763700,29330654,2.87,4.1500000000000004,2010]
[3131,"Fiber, yarn, and thread mills",43269,620192,5833027,36212,302710,7914463,2.36,3.84,2011]
[3131,"Fiber, yarn, and thread mills",45646,651025,4854223,42443,293289,7079774,2.87,4.1500000000000004,2010]
[31311,"Fiber, yarn, and thread mills",43269,620192,5833027,36212,302710,7914463,2.36,3.84,2011]
[31311,"Fiber, yarn, and thread mills",45646,651025,4854223,42443,293289,7079774,2.87,4.1500000000000004,2010]
["31311M","Fiber, yarn, and thread mills",43269,620192,5833027,36212,302710,7914463,2.36,3.84,2011]
["31311M","Fiber, yarn, and thread mills",45646,651025,4854223,42443,293289,7079774,2.87,4.1500000000000004,2010]
[3132,"Fabric mills",78455,1282086,8157015,157043,353802,15641159,2.36,3.84,2011]
[3132,"Fabric mills",77889,1264802,7353875,151572,345515,14730852,2.87,4.1500000000000004,2010]
[31321,"Broadwoven fabric mills",34942,520404,3206026,39122,139937,4824976,2.36,3.84,2011]
[31321,"Broadwoven fabric mills",34216,510117,2830214,39142,135379,4511164,2.87,4.1500000000000004,2010]
[313210,"Broadwoven fabric mills",34942,520404,3206026,39122,139937,4824976,2.36,3.84,2011]
[313210,"Broadwoven fabric mills",34216,510117,2830214,39142,135379,4511164,2.87,4.1500000000000004,2010]
[31322,"Narrow fabric mills and schiffli machine embroidery",10907,154781,439964,11698,15087,1064058,2.36,3.84,2011]
[31322,"Narrow fabric mills and schiffli machine embroidery",11368,156778,395270,11624,14417,974757,2.87,4.1500000000000004,2010]
["31322M","Narrow fabric mills and schiffli machine embroidery",10907,154781,439964,11698,15087,1064058,2.36,3.84,2011]
["31322M","Narrow fabric mills and schiffli machine embroidery",11368,156778,395270,11624,14417,974757,2.87,4.1500000000000004,2010]
[31323,"Nonwoven fabric mills",21612,446039,3648502,87072,173232,8384391,2.36,3.84,2011]
[31323,"Nonwoven fabric mills",21770,443772,3335475,81587,169971,7948074,2.87,4.1500000000000004,2010]
[313230,"Nonwoven fabric mills",21612,446039,3648502,87072,173232,8384391,2.36,3.84,2011]
[313230,"Nonwoven fabric mills",21770,443772,3335475,81587,169971,7948074,2.87,4.1500000000000004,2010]
[31324,"Knit fabric mills",10993,160862,862523,19151,25546,1367734,2.36,3.84,2011]
[31324,"Knit fabric mills",10535,154135,792916,19219,25747,1296858,2.87,4.1500000000000004,2010]
["31324M","Knit fabric mills",10993,160862,862523,19151,25546,1367734,2.36,3.84,2011]
["31324M","Knit fabric mills",10535,154135,792916,19219,25747,1296858,2.87,4.1500000000000004,2010]
[3133,"Textile and fabric finishing and fabric coating mills",44565,705622,4357793,155738,124995,7917105,2.36,3.84,2011]
[3133,"Textile and fabric finishing and fabric coating mills",44937,687778,4126703,163499,124896,7520028,2.87,4.1500000000000004,2010]
[31331,"Textile and fabric finishing mills",34615,508928,2744290,133733,99724,5329349,2.36,3.84,2011]
[31331,"Textile and fabric finishing mills",35227,501804,2594492,141332,99708,5114753,2.87,4.1500000000000004,2010]
["31331M","Textile and fabric finishing mills",34615,508928,2744290,133733,99724,5329349,2.36,3.84,2011]
["31331M","Textile and fabric finishing mills",35227,501804,2594492,141332,99708,5114753,2.87,4.1500000000000004,2010]
[31332,"Fabric coating mills",9950,196694,1613504,22005,25271,2587756,2.36,3.84,2011]
[31332,"Fabric coating mills",9710,185974,1532210,22167,25188,2405275,2.87,4.1500000000000004,2010]
[313320,"Fabric coating mills",9950,196694,1613504,22005,25271,2587756,2.36,3.84,2011]
[313320,"Fabric coating mills",9710,185974,1532210,22167,25188,2405275,2.87,4.1500000000000004,2010]
[314,"Textile product mills",156301,2226527,12574892,102787,233794,22080684,2.36,3.84,2011]
[314,"Textile product mills",160994,2199424,12176876,111281,212366,20968906,2.87,4.1500000000000004,2010]
[3141,"Textile furnishings mills",83716,1120477,7589012,66004,119201,12529892,2.36,3.84,2011]
[3141,"Textile furnishings mills",86345,1110397,7259217,73961,105446,11513253,2.87,4.1500000000000004,2010]
[31411,"Carpet and rug mills",50031,717487,5382600,57101,97533,8674993,2.36,3.84,2011]
[31411,"Carpet and rug mills",51464,705393,5229772,64805,84920,7755661,2.87,4.1500000000000004,2010]
[314110,"Carpet and rug mills",50031,717487,5382600,57101,97533,8674993,2.36,3.84,2011]
[314110,"Carpet and rug mills",51464,705393,5229772,64805,84920,7755661,2.87,4.1500000000000004,2010]
[31412,"Curtain and linen mills",33685,402990,2206412,8904,21668,3854898,2.36,3.84,2011]
[31412,"Curtain and linen mills",34882,405004,2029445,9157,20526,3757592,2.87,4.1500000000000004,2010]
["31412M","Curtain and linen mills",33685,402990,2206412,8904,21668,3854898,2.36,3.84,2011]
["31412M","Curtain and linen mills",34882,405004,2029445,9157,20526,3757592,2.87,4.1500000000000004,2010]
[3149,"Other textile product mills",72585,1106050,4985880,36782,114593,9550792,2.36,3.84,2011]
[3149,"Other textile product mills",74649,1089027,4917659,37320,106920,9455654,2.87,4.1500000000000004,2010]
[31491,"Textile bag and canvas mills",25048,351567,1333345,5460,16752,2824541,2.36,3.84,2011]
[31491,"Textile bag and canvas mills",25651,341538,1416622,5966,15340,2940354,2.87,4.1500000000000004,2010]
["31491M","Textile bag and canvas mills",25048,351567,1333345,5460,16752,2824541,2.36,3.84,2011]
["31491M","Textile bag and canvas mills",25651,341538,1416622,5966,15340,2940354,2.87,4.1500000000000004,2010]
[31499,"All other textile product mills",47536,754483,3652535,31323,97842,6726251,2.36,3.84,2011]
[31499,"All other textile product mills",48998,747489,3501037,31354,91580,6515299,2.87,4.1500000000000004,2010]
[314991,"Rope, cordage, and twine mills",4853,76920,475597,2451,12799,890629,2.36,3.84,2011]
[314991,"Rope, cordage, and twine mills",4906,72219,421535,2767,12008,826458,2.87,4.1500000000000004,2010]
[314992,"Tire cord and tire fabric mills",3979,85234,684149,8263,32150,949718,2.36,3.84,2011]
[314992,"Tire cord and tire fabric mills",3970,83795,661835,9073,33001,963015,2.87,4.1500000000000004,2010]
[314999,"All other miscellaneous textile product mills",38705,592329,2492789,20609,52892,4885904,2.36,3.84,2011]
[314999,"All other miscellaneous textile product mills",40122,591475,2417666,19514,46571,4725827,2.87,4.1500000000000004,2010]
[315,"Apparel manufacturing",141856,1692647,6494543,30043,83319,12860199,1.85,8.14,2011]
[315,"Apparel manufacturing",146646,1727871,6726494,31400,85440,13366110,2.0099999999999998,8.39,2010]
[3151,"Apparel knitting mills",22052,261173,864276,14495,30984,1851445,1.85,8.14,2011]
[3151,"Apparel knitting mills",22014,284237,1023399,14503,35187,2129908,2.0099999999999998,8.39,2010]
[31511,"Hosiery and sock mills",17428,200193,585557,12864,27151,1404288,1.85,8.14,2011]
[31511,"Hosiery and sock mills",17649,224072,725909,12292,30586,1643444,2.0099999999999998,8.39,2010]
["31511M","Hosiery and sock mills",17428,200193,585557,12864,27151,1404288,1.85,8.14,2011]
["31511M","Hosiery and sock mills",17649,224072,725909,12292,30586,1643444,2.0099999999999998,8.39,2010]
[31519,"Other apparel knitting mills",4624,60980,278719,1631,3833,447156,1.85,8.14,2011]
[31519,"Other apparel knitting mills",4365,60165,297490,2211,4601,486463,2.0099999999999998,8.39,2010]
["31519M","Other apparel knitting mills",4624,60980,278719,1631,3833,447156,1.85,8.14,2011]
["31519M","Other apparel knitting mills",4365,60165,297490,2211,4601,486463,2.0099999999999998,8.39,2010]
[3152,"Cut and sew apparel manufacturing",106748,1286592,4965872,14316,46530,9575873,1.85,8.14,2011]
[3152,"Cut and sew apparel manufacturing",111247,1296165,5086473,15160,44282,9874997,2.0099999999999998,8.39,2010]
[31521,"Cut and sew apparel contractors",53838,606564,965292,6215,21748,2231315,1.85,8.14,2011]
[31521,"Cut and sew apparel contractors",57097,618327,1012814,6722,19598,2342653,2.0099999999999998,8.39,2010]
["31521M","Cut and sew apparel contractors",53838,606564,965292,6215,21748,2231315,1.85,8.14,2011]
["31521M","Cut and sew apparel contractors",57097,618327,1012814,6722,19598,2342653,2.0099999999999998,8.39,2010]
[31522,"Men's and boys' cut and sew apparel manufacturing",19378,217366,745708,3420,8689,1490605,1.85,8.14,2011]
[31522,"Men's and boys' cut and sew apparel manufacturing",19533,211485,730490,3732,8613,1459184,2.0099999999999998,8.39,2010]
["31522M","Men's and boys' cut and sew apparel manufacturing",19378,217366,745708,3420,8689,1490605,1.85,8.14,2011]
["31522M","Men's and boys' cut and sew apparel manufacturing",19533,211485,730490,3732,8613,1459184,2.0099999999999998,8.39,2010]
[31523,"Women's and girls' cut and sew apparel manufacturing",23720,339191,2877795,3975,10981,4931876,1.85,8.14,2011]
[31523,"Women's and girls' cut and sew apparel manufacturing",24833,344674,2979154,3697,10948,5189275,2.0099999999999998,8.39,2010]
["31523M","Women's and girls' cut and sew apparel manufacturing",23720,339191,2877795,3975,10981,4931876,1.85,8.14,2011]
["31523M","Women's and girls' cut and sew apparel manufacturing",24833,344674,2979154,3697,10948,5189275,2.0099999999999998,8.39,2010]
[31529,"Other cut and sew apparel manufacturing",9812,123472,377076,"706(s)",5112,922078,1.85,8.14,2011]
[31529,"Other cut and sew apparel manufacturing",9784,121679,364014,1009,5124,883885,2.0099999999999998,8.39,2010]
["31529M","Other cut and sew apparel manufacturing",9812,123472,377076,"706(s)",5112,922078,1.85,8.14,2011]
["31529M","Other cut and sew apparel manufacturing",9784,121679,364014,1009,5124,883885,2.0099999999999998,8.39,2010]
[3159,"Apparel accessories and other apparel manufacturing",13056,144881,664395,1231,5805,1432881,1.85,8.14,2011]
[3159,"Apparel accessories and other apparel manufacturing",13385,147469,616622,1736,5971,1361205,2.0099999999999998,8.39,2010]
[31599,"Apparel accessories and other apparel manufacturing",13056,144881,664395,1231,5805,1432881,1.85,8.14,2011]
[31599,"Apparel accessories and other apparel manufacturing",13385,147469,616622,1736,5971,1361205,2.0099999999999998,8.39,2010]
["31599M","Apparel accessories and other apparel manufacturing",13056,144881,664395,1231,5805,1432881,1.85,8.14,2011]
["31599M","Apparel accessories and other apparel manufacturing",13385,147469,616622,1736,5971,1361205,2.0099999999999998,8.39,2010]
[316,"Leather and allied product manufacturing",37419,509157,3217204,19798,37027,5597748,1.85,8.14,2011]
[316,"Leather and allied product manufacturing",37630,516924,2708048,18333,33474,4952612,2.0099999999999998,8.39,2010]
[3161,"Leather and hide tanning and finishing",5385,85447,1385540,13851,17894,1758896,1.85,8.14,2011]
[3161,"Leather and hide tanning and finishing",5419,84425,1126560,12214,14892,1519193,2.0099999999999998,8.39,2010]
[31611,"Leather and hide tanning and finishing",5385,85447,1385540,13851,17894,1758896,1.85,8.14,2011]
[31611,"Leather and hide tanning and finishing",5419,84425,1126560,12214,14892,1519193,2.0099999999999998,8.39,2010]
[316110,"Leather and hide tanning and finishing",5385,85447,1385540,13851,17894,1758896,1.85,8.14,2011]
[316110,"Leather and hide tanning and finishing",5419,84425,1126560,12214,14892,1519193,2.0099999999999998,8.39,2010]
[3162,"Footwear manufacturing",16966,238577,900456,2359,10693,1836725,1.85,8.14,2011]
[3162,"Footwear manufacturing",17293,245939,830544,2766,10875,1780804,2.0099999999999998,8.39,2010]
[31621,"Footwear manufacturing",16966,238577,900456,2359,10693,1836725,1.85,8.14,2011]
[31621,"Footwear manufacturing",17293,245939,830544,2766,10875,1780804,2.0099999999999998,8.39,2010]
["31621M","Footwear manufacturing",16966,238577,900456,2359,10693,1836725,1.85,8.14,2011]
["31621M","Footwear manufacturing",17293,245939,830544,2766,10875,1780804,2.0099999999999998,8.39,2010]
[3169,"Other leather and allied product manufacturing",15068,185133,931208,3588,8440,2002127,1.85,8.14,2011]
[3169,"Other leather and allied product manufacturing",14918,186561,750945,3353,7707,1652615,2.0099999999999998,8.39,2010]
[31699,"Other leather and allied product manufacturing",15068,185133,931208,3588,8440,2002127,1.85,8.14,2011]
[31699,"Other leather and allied product manufacturing",14918,186561,750945,3353,7707,1652615,2.0099999999999998,8.39,2010]
["31699M","Other leather and allied product manufacturing",15068,185133,931208,3588,8440,2002127,1.85,8.14,2011]
["31699M","Other leather and allied product manufacturing",14918,186561,750945,3353,7707,1652615,2.0099999999999998,8.39,2010]
[321,"Wood product manufacturing",518178,8363625,41934178,606002,1449237,70558453,3.52,3.18,2011]
[321,"Wood product manufacturing",514093,8166756,40891217,592484,1391257,69565982,3.81,3.2,2010]
[3211,"Sawmills and wood preservation",128194,2215084,13808294,209452,533870,21613250,3.52,3.18,2011]
[3211,"Sawmills and wood preservation",122998,2107314,13503638,196844,508188,21455763,3.81,3.2,2010]
[32111,"Sawmills and wood preservation",128194,2215084,13808294,209452,533870,21613250,3.52,3.18,2011]
[32111,"Sawmills and wood preservation",122998,2107314,13503638,196844,508188,21455763,3.81,3.2,2010]
["32111M","Sawmills and wood preservation",128194,2215084,13808294,209452,533870,21613250,3.52,3.18,2011]
["32111M","Sawmills and wood preservation",122998,2107314,13503638,196844,508188,21455763,3.81,3.2,2010]
[3212,"Veneer, plywood, and engineered wood product manufacturing",93134,1597393,8674369,204811,439054,13901811,3.52,3.18,2011]
[3212,"Veneer, plywood, and engineered wood product manufacturing",94503,1580847,8358567,211610,436424,13915958,3.81,3.2,2010]
[32121,"Veneer, plywood, and engineered wood product manufacturing",93134,1597393,8674369,204811,439054,13901811,3.52,3.18,2011]
[32121,"Veneer, plywood, and engineered wood product manufacturing",94503,1580847,8358567,211610,436424,13915958,3.81,3.2,2010]
[321219,"Reconstituted wood product manufacturing",21411,425830,3352370,123020,273435,5131408,3.52,3.18,2011]
[321219,"Reconstituted wood product manufacturing",22217,423708,3149746,136590,272619,5290532,3.81,3.2,2010]
["32121N","Veneer and plywood manufacturing",45583,780931,3527123,71749,136637,5620729,3.52,3.18,2011]
["32121N","Veneer and plywood manufacturing",45543,759990,3423398,64591,134084,5498323,3.81,3.2,2010]
["32121P","Engineered wood product manufacturing",26140,390632,1794876,10042,28982,3149675,3.52,3.18,2011]
["32121P","Engineered wood product manufacturing",26743,397149,1785424,10430,29721,3127103,3.81,3.2,2010]
[3219,"Other wood product manufacturing",296850,4551148,19451514,191738,476313,35043391,3.52,3.18,2011]
[3219,"Other wood product manufacturing",296592,4478595,19029012,184030,446646,34194261,3.81,3.2,2010]
[32191,"Millwork",137550,2273903,9970689,78267,237489,18025096,3.52,3.18,2011]
[32191,"Millwork",140406,2279033,10053748,77482,224725,17898733,3.81,3.2,2010]
["32191M","Millwork",137550,2273903,9970689,78267,237489,18025096,3.52,3.18,2011]
["32191M","Millwork",140406,2279033,10053748,77482,224725,17898733,3.81,3.2,2010]
[32192,"Wood container and pallet manufacturing",74427,998890,3595575,54949,88373,6544516,3.52,3.18,2011]
[32192,"Wood container and pallet manufacturing",71825,943697,3387000,49676,78578,6175058,3.81,3.2,2010]
[321920,"Wood container and pallet manufacturing",74427,998890,3595575,54949,88373,6544516,3.52,3.18,2011]
[321920,"Wood container and pallet manufacturing",71825,943697,3387000,49676,78578,6175058,3.81,3.2,2010]
[32199,"All other wood product manufacturing",84874,1278355,5885251,58522,150451,10473779,3.52,3.18,2011]
[32199,"All other wood product manufacturing",84361,1255865,5588264,56872,143343,10120469,3.81,3.2,2010]
[321991,"Manufactured home (mobile home) manufacturing",29990,428553,1894975,5079,15107,3159191,3.52,3.18,2011]
[321991,"Manufactured home (mobile home) manufacturing",30136,417151,1817299,6107,15212,3127399,3.81,3.2,2010]
[321992,"Prefabricated wood building manufacturing",14560,256977,1257078,5285,14176,2023713,3.52,3.18,2011]
[321992,"Prefabricated wood building manufacturing",15499,266204,1266025,6473,16947,2093601,3.81,3.2,2010]
[321999,"All other miscellaneous wood product manufacturing",40324,592825,2733198,48159,121168,5290875,3.52,3.18,2011]
[321999,"All other miscellaneous wood product manufacturing",38726,572511,2504940,44292,111184,4899469,3.81,3.2,2010]
[322,"Paper manufacturing",554886,13114087,94348108,4249868,3747770,175877319,4.37,6.93,2011]
[322,"Paper manufacturing",563032,13136225,91377081,4376895,3693384,170043386,4.63,6.94,2010]
[3221,"Pulp, paper, and paperboard mills",181444,5615506,40373758,3785446,2738140,82274752,4.37,6.93,2011]
[3221,"Pulp, paper, and paperboard mills",184387,5636051,38649547,3913964,2711559,79342167,4.63,6.94,2010]
[32211,"Pulp mills",11804,359472,2799478,276764,79206,5263150,4.37,6.93,2011]
[32211,"Pulp mills",11444,375205,2408360,251245,82817,4503520,4.63,6.94,2010]
[322110,"Pulp mills",11804,359472,2799478,276764,79206,5263150,4.37,6.93,2011]
[322110,"Pulp mills",11444,375205,2408360,251245,82817,4503520,4.63,6.94,2010]
[32212,"Paper mills",110672,3394085,23146163,1885050,1518224,48627171,4.37,6.93,2011]
[32212,"Paper mills",114122,3444443,22379259,2008603,1514045,47543067,4.63,6.94,2010]
["32212M","Paper and newsprint mills",110672,3394085,23146163,1885050,1518224,48627171,4.37,6.93,2011]
["32212M","Paper and newsprint mills",114122,3444443,22379259,2008603,1514045,47543067,4.63,6.94,2010]
[32213,"Paperboard mills",58969,1861949,14428117,1623632,1140711,28384430,4.37,6.93,2011]
[32213,"Paperboard mills",58821,1816404,13861928,1654116,1114697,27295580,4.63,6.94,2010]
[322130,"Paperboard mills",58969,1861949,14428117,1623632,1140711,28384430,4.37,6.93,2011]
[322130,"Paperboard mills",58821,1816404,13861928,1654116,1114697,27295580,4.63,6.94,2010]
[3222,"Converted paper product manufacturing",373442,7498581,53974350,464422,1009630,93602567,4.37,6.93,2011]
[3222,"Converted paper product manufacturing",378645,7500174,52727534,462931,981825,90701219,4.63,6.94,2010]
[32221,"Paperboard container manufacturing",217835,4347003,30944798,265267,498882,51949634,4.37,6.93,2011]
[32221,"Paperboard container manufacturing",219191,4311463,30222349,257711,481864,49918016,4.63,6.94,2010]
["32221M","Paperboard container manufacturing",217835,4347003,30944798,265267,498882,51949634,4.37,6.93,2011]
["32221M","Paperboard container manufacturing",219191,4311463,30222349,257711,481864,49918016,4.63,6.94,2010]
[32222,"Paper bag and coated and treated paper manufacturing",73328,1527782,11462257,"109113(s)",226804,19997267,4.37,6.93,2011]
[32222,"Paper bag and coated and treated paper manufacturing",76884,1555288,11188345,"116638(s)",228224,19772812,4.63,6.94,2010]
["32222N","Coated and laminated paper and packaging manufacturing",47408,1037641,8231758,"91260(s)",176957,14738326,4.37,6.93,2011]
["32222N","Coated and laminated paper and packaging manufacturing",49002,1034310,7960356,"96104(s)",175271,14527196,4.63,6.94,2010]
["32222P","Coated, uncoated, and multiwall bag and packaging manufacturing",25920,490141,3230499,17852,49847,5258941,4.37,6.93,2011]
["32222P","Coated, uncoated, and multiwall bag and packaging manufacturing",27882,520977,3227989,20534,52953,5245616,4.63,6.94,2010]
[32223,"Stationery product manufacturing",31958,568984,4006880,8371,71296,6415940,4.37,6.93,2011]
[32223,"Stationery product manufacturing",32365,594534,4029507,8715,65254,6272480,4.63,6.94,2010]
["32223M","Stationery product manufacturing",31958,568984,4006880,8371,71296,6415940,4.37,6.93,2011]
["32223M","Stationery product manufacturing",32365,594534,4029507,8715,65254,6272480,4.63,6.94,2010]
[32229,"Other converted paper product manufacturing",50322,1054811,7560415,81672,212647,15239726,4.37,6.93,2011]
[32229,"Other converted paper product manufacturing",50205,1038889,7287332,79867,206483,14737912,4.63,6.94,2010]
[322291,"Sanitary paper product manufacturing",26848,653744,5389610,42528,137240,11078015,4.37,6.93,2011]
[322291,"Sanitary paper product manufacturing",27668,639882,5168033,43399,134519,10559667,4.63,6.94,2010]
[322299,"All other converted paper product manufacturing",23474,401067,2170805,39144,75408,4161711,4.37,6.93,2011]
[322299,"All other converted paper product manufacturing",22537,399007,2119299,36467,71965,4178245,4.63,6.94,2010]
[323,"Printing and related support activities",623649,12042635,34183403,279966,1109656,82706979,3.92,6.19,2011]
[323,"Printing and related support activities",639781,12418932,33206935,287454,1115396,82410185,4.34,4.99,2010]
[3231,"Printing and related support activities",623649,12042635,34183403,279966,1109656,82706979,3.92,6.19,2011]
[3231,"Printing and related support activities",639781,12418932,33206935,287454,1115396,82410185,4.34,4.99,2010]
[32311,"Printing",585243,11257445,33226215,269824,1063335,78699145,3.92,6.19,2011]
[32311,"Printing",599283,11608635,32290119,276165,1071890,78421076,4.34,4.99,2010]
["32311M","Printing",585243,11257445,33226215,269824,1063335,78699145,3.92,6.19,2011]
["32311M","Printing",599283,11608635,32290119,276165,1071890,78421076,4.34,4.99,2010]
[32312,"Support activities for printing",38406,785190,957188,10142,46321,4007834,3.92,6.19,2011]
[32312,"Support activities for printing",40498,810297,916817,11289,43506,3989109,4.34,4.99,2010]
["32312M","Support activities for printing",38406,785190,957188,10142,46321,4007834,3.92,6.19,2011]
["32312M","Support activities for printing",40498,810297,916817,11289,43506,3989109,4.34,4.99,2010]
[324,"Petroleum and coal products manufacturing",142086,5161314,716909469,7159898,2829534,836812547,2.09,3.64,2011]
[324,"Petroleum and coal products manufacturing",142124,4924766,538127711,6947601,2687818,627091991,2.86,2.91,2010]
[3241,"Petroleum and coal products manufacturing",142086,5161314,716909469,7159898,2829534,836812547,2.09,3.64,2011]
[3241,"Petroleum and coal products manufacturing",142124,4924766,538127711,6947601,2687818,627091991,2.86,2.91,2010]
[32411,"Petroleum refineries",88763,3791680,688912090,6505509,2543933,794601649,2.09,3.64,2011]
[32411,"Petroleum refineries",89420,3601755,512843464,6309857,2410430,588542416,2.86,2.91,2010]
[324110,"Petroleum refineries",88763,3791680,688912090,6505509,2543933,794601649,2.09,3.64,2011]
[324110,"Petroleum refineries",89420,3601755,512843464,6309857,2410430,588542416,2.86,2.91,2010]
[32412,"Asphalt paving, roofing, and saturated materials manufacturing",34819,888155,14864769,545630,206514,22696249,2.09,3.64,2011]
[32412,"Asphalt paving, roofing, and saturated materials manufacturing",34935,875960,14025118,538896,202754,22442682,2.86,2.91,2010]
[324121,"Asphalt paving mixture and block manufacturing",20259,508535,8861913,475766,136871,12608585,2.09,3.64,2011]
[324121,"Asphalt paving mixture and block manufacturing",19402,480443,8858501,459125,137829,12873284,2.86,2.91,2010]
[324122,"Asphalt shingle and coating materials manufacturing",14560,379620,6002855,69864,69644,10087664,2.09,3.64,2011]
[324122,"Asphalt shingle and coating materials manufacturing",15533,395518,5166616,79772,64925,9569398,2.86,2.91,2010]
[32419,"Other petroleum and coal products manufacturing",18504,481478,13132610,108758,79087,19514649,2.09,3.64,2011]
[32419,"Other petroleum and coal products manufacturing",17769,447051,11259129,98848,74635,16106893,2.86,2.91,2010]
[324191,"Petroleum lubricating oil and grease manufacturing",13410,342458,10611323,58426,45458,14908415,2.09,3.64,2011]
[324191,"Petroleum lubricating oil and grease manufacturing",12814,315080,8687287,47898,36582,12144665,2.86,2.91,2010]
[324199,"All other petroleum and coal products manufacturing",5094,139020,2521287,50332,33629,4606234,2.09,3.64,2011]
[324199,"All other petroleum and coal products manufacturing",4955,131971,2571842,50949,38052,3962228,2.86,2.91,2010]
[325,"Chemical manufacturing",839396,23451904,406686352,11221703,8701708,776817357,2.97,12.75,2011]
[325,"Chemical manufacturing",829443,22417905,354712255,11065796,8335203,697812384,3.41,11.89,2010]
[3251,"Basic chemical manufacturing",181916,6249425,169081273,7874347,4813558,267404383,2.4900000000000002,7.07,2011]
[3251,"Basic chemical manufacturing",176728,5851099,137980512,7580274,4528002,226085007,3.8,5.99,2010]
[32511,"Petrochemical manufacturing",11680,544958,51411989,1824325,448918,91791400,2.4900000000000002,7.07,2011]
[32511,"Petrochemical manufacturing",11478,524407,44793187,1780068,437453,77710479,3.8,5.99,2010]
[325110,"Petrochemical manufacturing",11680,544958,51411989,1824325,448918,91791400,2.4900000000000002,7.07,2011]
[325110,"Petrochemical manufacturing",11478,524407,44793187,1780068,437453,77710479,3.8,5.99,2010]
[32512,"Industrial gas manufacturing",13885,431909,2919269,537246,935059,7281809,2.4900000000000002,7.07,2011]
[32512,"Industrial gas manufacturing",13929,415713,2810553,479418,954833,7208835,3.8,5.99,2010]
[325120,"Industrial gas manufacturing",13885,431909,2919269,537246,935059,7281809,2.4900000000000002,7.07,2011]
[325120,"Industrial gas manufacturing",13929,415713,2810553,479418,954833,7208835,3.8,5.99,2010]
[32513,"Synthetic dye and pigment manufacturing",12434,353741,3655910,199406,164926,7542381,2.4900000000000002,7.07,2011]
[32513,"Synthetic dye and pigment manufacturing",12670,347412,3426801,212246,166094,7044085,3.8,5.99,2010]
["32513M","Synthetic dye and pigment manufacturing",12434,353741,3655910,199406,164926,7542381,2.4900000000000002,7.07,2011]
["32513M","Synthetic dye and pigment manufacturing",12670,347412,3426801,212246,166094,7044085,3.8,5.99,2010]
[32518,"Other basic inorganic chemical manufacturing",46593,1592424,14986779,997409,1604626,34842839,2.4900000000000002,7.07,2011]
[32518,"Other basic inorganic chemical manufacturing",44487,1474066,13444662,1036878,1523367,31171344,3.8,5.99,2010]
[325181,"Alkalies and chlorine manufacturing",8192,309730,3223344,488840,498185,7101186,2.4900000000000002,7.07,2011]
[325181,"Alkalies and chlorine manufacturing",7656,282831,2977781,560778,"D",5965217,3.8,5.99,2010]
[325182,"Carbon black manufacturing",2727,79556,1546985,38547,31130,2116212,2.4900000000000002,7.07,2011]
[325182,"Carbon black manufacturing",2492,74538,1162082,42853,"D",1657610,3.8,5.99,2010]
[325188,"All other basic inorganic chemical manufacturing",35674,1203138,10216450,470023,1075311,25625441,2.4900000000000002,7.07,2011]
[325188,"All other basic inorganic chemical manufacturing",34340,1116697,9304799,433247,1001519,23548517,3.8,5.99,2010]
[32519,"Other basic organic chemical manufacturing",97325,3326393,96107326,4315961,1660029,125945954,2.4900000000000002,7.07,2011]
[32519,"Other basic organic chemical manufacturing",94165,3089501,73505309,4071664,1446255,102950264,3.8,5.99,2010]
["32519M","Other basic organic chemical manufacturing",97325,3326393,96107326,4315961,1660029,125945954,2.4900000000000002,7.07,2011]
["32519M","Other basic organic chemical manufacturing",94165,3089501,73505309,4071664,1446255,102950264,3.8,5.99,2010]
[3252,"Resin, synthetic rubber, and artificial synthetic fibers and filaments manufacturing",112713,3296686,74738257,1666845,1710661,103972032,2.4900000000000002,7.07,2011]
[3252,"Resin, synthetic rubber, and artificial synthetic fibers and filaments manufacturing",111886,3134454,63548759,1748317,1670862,94925165,3.8,5.99,2010]
[32521,"Resin and synthetic rubber manufacturing",90454,2831683,68893575,1534947,1500305,95866433,2.4900000000000002,7.07,2011]
[32521,"Resin and synthetic rubber manufacturing",89529,2673457,58563535,1617931,1467138,87853581,3.8,5.99,2010]
[325211,"Plastics material and resin manufacturing",78274,2461275,60902541,1369624,1382301,85368070,2.4900000000000002,7.07,2011]
[325211,"Plastics material and resin manufacturing",77960,2322700,52880737,1455272,1360463,79665264,3.8,5.99,2010]
[325212,"Synthetic rubber manufacturing",12180,370408,7991033,165323,118003,10498363,2.4900000000000002,7.07,2011]
[325212,"Synthetic rubber manufacturing",11570,350757,5682798,162658,106676,8188316,3.8,5.99,2010]
[32522,"Artificial and synthetic fibers and filaments manufacturing",22259,465003,5844682,131898,210357,8105599,2.4900000000000002,7.07,2011]
[32522,"Artificial and synthetic fibers and filaments manufacturing",22357,460997,4985223,130386,203724,7071584,3.8,5.99,2010]
["32522M","Artificial and synthetic fibers and filaments manufacturing",22259,465003,5844682,131898,210357,8105599,2.4900000000000002,7.07,2011]
["32522M","Artificial and synthetic fibers and filaments manufacturing",22357,460997,4985223,130386,203724,7071584,3.8,5.99,2010]
[3253,"Pesticide, fertilizer, and other agricultural chemical manufacturing",36805,964276,18444062,532537,388628,34853112,2.72,13.83,2011]
[3253,"Pesticide, fertilizer, and other agricultural chemical manufacturing",37746,935582,17132297,526229,374168,31181603,2.91,13.21,2010]
[32531,"Fertilizer manufacturing",26033,673452,12633786,483479,326045,23911575,2.72,13.83,2011]
[32531,"Fertilizer manufacturing",26801,656592,12135003,475951,313625,20591764,2.91,13.21,2010]
[325311,"Nitrogenous fertilizer manufacturing",6529,213342,3456977,396915,202914,8614367,2.72,13.83,2011]
[325311,"Nitrogenous fertilizer manufacturing",6680,220698,3339098,396076,182682,7089558,2.91,13.21,2010]
[325312,"Phosphatic fertilizer manufacturing",9168,261160,6274977,61331,99912,10239056,2.72,13.83,2011]
[325312,"Phosphatic fertilizer manufacturing",9502,247447,5801264,56771,105846,8784942,2.91,13.21,2010]
[325314,"Fertilizer (mixing only) manufacturing",10336,198951,2901832,25233,23219,5058152,2.72,13.83,2011]
[325314,"Fertilizer (mixing only) manufacturing",10620,188446,2994641,23103,25096,4717264,2.91,13.21,2010]
[32532,"Pesticide and other agricultural chemical manufacturing",10773,290824,5810276,49058,62583,10941536,2.72,13.83,2011]
[32532,"Pesticide and other agricultural chemical manufacturing",10945,278990,4997295,50278,60543,10589839,2.91,13.21,2010]
[325320,"Pesticide and other agricultural chemical manufacturing",10773,290824,5810276,49058,62583,10941536,2.72,13.83,2011]
[325320,"Pesticide and other agricultural chemical manufacturing",10945,278990,4997295,50278,60543,10589839,2.91,13.21,2010]
[3254,"Pharmaceutical and medicine manufacturing",224623,6635142,56955610,460926,818201,195732264,2.94,16.850000000000001,2011]
[3254,"Pharmaceutical and medicine manufacturing",223352,6348812,54133213,479886,805364,181955349,3.42,15.35,2010]
[32541,"Pharmaceutical and medicine manufacturing",224623,6635142,56955610,460926,818201,195732264,2.94,16.850000000000001,2011]
[32541,"Pharmaceutical and medicine manufacturing",223352,6348812,54133213,479886,805364,181955349,3.42,15.35,2010]
[325411,"Medicinal and botanical manufacturing",25254,689067,4222549,85519,141560,11866663,2.94,16.850000000000001,2011]
[325411,"Medicinal and botanical manufacturing",25045,645687,4093409,90297,143656,10684553,3.42,15.35,2010]
[325412,"Pharmaceutical preparation manufacturing",136445,3968880,42892702,227580,489608,146216658,2.94,16.850000000000001,2011]
[325412,"Pharmaceutical preparation manufacturing",137678,3803847,39746729,247444,475880,134203851,3.42,15.35,2010]
[325413,"In-vitro diagnostic substance manufacturing",20383,563942,3517803,14840,58031,12415045,2.94,16.850000000000001,2011]
[325413,"In-vitro diagnostic substance manufacturing",20240,537949,3692513,18778,64194,12022704,3.42,15.35,2010]
[325414,"Biological product (except diagnostic) manufacturing",42541,1413253,6322556,132988,129002,25233898,2.94,16.850000000000001,2011]
[325414,"Biological product (except diagnostic) manufacturing",40390,1361329,6600561,123367,121634,25044241,3.42,15.35,2010]
[3255,"Paint, coating, and adhesive manufacturing",63741,1406368,18208097,110021,197583,33825464,2.72,13.83,2011]
[3255,"Paint, coating, and adhesive manufacturing",63026,1368571,16112674,113094,189310,31427239,2.91,13.21,2010]
[32551,"Paint and coating manufacturing",39792,874890,12007412,53773,108974,22427606,2.72,13.83,2011]
[32551,"Paint and coating manufacturing",38786,847721,10652432,58062,106011,21159331,2.91,13.21,2010]
[325510,"Paint and coating manufacturing",39792,874890,12007412,53773,108974,22427606,2.72,13.83,2011]
[325510,"Paint and coating manufacturing",38786,847721,10652432,58062,106011,21159331,2.91,13.21,2010]
[32552,"Adhesive manufacturing",23949,531479,6200684,56248,88609,11397858,2.72,13.83,2011]
[32552,"Adhesive manufacturing",24240,520850,5460242,55032,83299,10267908,2.91,13.21,2010]
[325520,"Adhesive manufacturing",23949,531479,6200684,56248,88609,11397858,2.72,13.83,2011]
[325520,"Adhesive manufacturing",24240,520850,5460242,55032,83299,10267908,2.91,13.21,2010]
[3256,"Soap, cleaning compound, and toilet preparation manufacturing",114200,2495981,42377090,238780,297164,94361909,2.72,13.83,2011]
[3256,"Soap, cleaning compound, and toilet preparation manufacturing",112275,2428835,41287922,262795,293417,87134887,2.91,13.21,2010]
[32561,"Soap and cleaning compound manufacturing",55209,1321593,23677846,196053,176501,53134695,2.72,13.83,2011]
[32561,"Soap and cleaning compound manufacturing",53915,1303075,23328408,217962,175660,48503095,2.91,13.21,2010]
["32561M","Soap and cleaning compound manufacturing",55209,1321593,23677846,196053,176501,53134695,2.72,13.83,2011]
["32561M","Soap and cleaning compound manufacturing",53915,1303075,23328408,217962,175660,48503095,2.91,13.21,2010]
[32562,"Toilet preparation manufacturing",58991,1174388,18699244,42727,120663,41227215,2.72,13.83,2011]
[32562,"Toilet preparation manufacturing",58360,1125760,17959514,44834,117758,38631792,2.91,13.21,2010]
[325620,"Toilet preparation manufacturing",58991,1174388,18699244,42727,120663,41227215,2.72,13.83,2011]
[325620,"Toilet preparation manufacturing",58360,1125760,17959514,44834,117758,38631792,2.91,13.21,2010]
[3259,"Other chemical product and preparation manufacturing",105399,2404025,26881963,338246,475912,46668193,2.72,13.83,2011]
[3259,"Other chemical product and preparation manufacturing",104430,2350552,24516878,355201,474079,45103135,2.91,13.21,2010]
[32591,"Printing ink manufacturing",14705,297304,3158696,10366,36184,4891531,2.72,13.83,2011]
[32591,"Printing ink manufacturing",14882,287847,2786563,12417,38830,4631198,2.91,13.21,2010]
[325910,"Printing ink manufacturing",14705,297304,3158696,10366,36184,4891531,2.72,13.83,2011]
[325910,"Printing ink manufacturing",14882,287847,2786563,12417,38830,4631198,2.91,13.21,2010]
[32592,"Explosives manufacturing",7808,203183,918009,5256,14150,2091343,2.72,13.83,2011]
[32592,"Explosives manufacturing",7638,202356,992702,6026,15476,2183557,2.91,13.21,2010]
[325920,"Explosives manufacturing",7808,203183,918009,5256,14150,2091343,2.72,13.83,2011]
[325920,"Explosives manufacturing",7638,202356,992702,6026,15476,2183557,2.91,13.21,2010]
[32599,"All other chemical product and preparation manufacturing",82886,1903538,22805259,322623,425578,39685320,2.72,13.83,2011]
[32599,"All other chemical product and preparation manufacturing",81910,1860349,20737613,336758,419773,38288380,2.91,13.21,2010]
[325991,"Custom compounding of purchased resins",23285,493894,6974278,41274,166510,10439515,2.72,13.83,2011]
[325991,"Custom compounding of purchased resins",24029,488104,6881919,36698,166801,9928451,2.91,13.21,2010]
["32599N","All other miscellaneous chemical product and preparation manufacturing (including photographic)",59600,1409644,15830980,281349,259067,29245805,2.72,13.83,2011]
["32599N","All other miscellaneous chemical product and preparation manufacturing (including photographic)",57881,1372245,13855694,300060,252972,28359929,2.91,13.21,2010]
[326,"Plastics and rubber products manufacturing",1053373,18798118,113855250,792652,3708674,204515134,2.98,6.24,2011]
[326,"Plastics and rubber products manufacturing",1037532,18154420,100519380,802747,3589109,188785332,3.4,5.86,2010]
[3261,"Plastics product manufacturing",852087,14672684,87809880,560268,3173443,160534077,2.98,6.24,2011]
[3261,"Plastics product manufacturing",845075,14214440,79572241,564937,3087320,151291438,3.4,5.86,2010]
[32611,"Unsupported plastics film, sheet, and bag manufacturing",142981,2882656,21013553,154945,669535,35423528,2.98,6.24,2011]
[32611,"Unsupported plastics film, sheet, and bag manufacturing",143293,2821735,19016740,164514,661448,33650562,3.4,5.86,2010]
[326111,"Plastics bag manufacturing",50362,849679,5705617,17657,176550,9605795,2.98,6.24,2011]
[326111,"Plastics bag manufacturing",50448,841984,5087696,16187,173003,8947341,3.4,5.86,2010]
[326112,"Plastics packaging film and sheet (including laminated) manufacturing",38288,881953,6035659,46258,160658,9909427,2.98,6.24,2011]
[326112,"Plastics packaging film and sheet (including laminated) manufacturing",39442,863884,5491296,51065,156165,9628947,3.4,5.86,2010]
[326113,"Unlaminated plastics film and sheet (except packaging) manufacturing",54331,1151024,9272277,91030,332327,15908306,2.98,6.24,2011]
[326113,"Unlaminated plastics film and sheet (except packaging) manufacturing",53403,1115867,8437748,97263,332280,15074274,3.4,5.86,2010]
[32612,"Plastics pipe, pipe fitting, and unsupported profile shape manufacturing",56884,1018901,7272255,34938,263839,12745103,2.98,6.24,2011]
[32612,"Plastics pipe, pipe fitting, and unsupported profile shape manufacturing",55844,981386,6374431,33313,239567,11443387,3.4,5.86,2010]
[326121,"Unsupported plastics profile shape manufacturing",26844,506773,2334647,26027,98519,4834333,2.98,6.24,2011]
[326121,"Unsupported plastics profile shape manufacturing",26575,493289,2143416,24723,94539,4573656,3.4,5.86,2010]
[326122,"Plastics pipe and pipe fitting manufacturing",30040,512128,4937609,8911,165320,7910771,2.98,6.24,2011]
[326122,"Plastics pipe and pipe fitting manufacturing",29269,488097,4231015,8590,145028,6869731,3.4,5.86,2010]
[32613,"Laminated plastics plate, sheet, and shape manufacturing",14397,308166,1650096,25338,50702,3241106,2.98,6.24,2011]
[32613,"Laminated plastics plate, sheet, and shape manufacturing",13902,286692,1489197,25953,51053,2953107,3.4,5.86,2010]
[326130,"Laminated plastics plate, sheet, and shape manufacturing",14397,308166,1650096,25338,50702,3241106,2.98,6.24,2011]
[326130,"Laminated plastics plate, sheet, and shape manufacturing",13902,286692,1489197,25953,51053,2953107,3.4,5.86,2010]
[32614,"Polystyrene foam product manufacturing",40697,667199,4707165,71637,165628,8533388,2.98,6.24,2011]
[32614,"Polystyrene foam product manufacturing",39973,633177,4202658,71081,154130,7948469,3.4,5.86,2010]
[326140,"Polystyrene foam product manufacturing",40697,667199,4707165,71637,165628,8533388,2.98,6.24,2011]
[326140,"Polystyrene foam product manufacturing",39973,633177,4202658,71081,154130,7948469,3.4,5.86,2010]
[32615,"Urethane and other foam product (except polystyrene) manufacturing",39692,668293,5214997,31834,78884,8561153,2.98,6.24,2011]
[32615,"Urethane and other foam product (except polystyrene) manufacturing",38455,645283,4695082,30606,75815,7896802,3.4,5.86,2010]
[326150,"Urethane and other foam product (except polystyrene) manufacturing",39692,668293,5214997,31834,78884,8561153,2.98,6.24,2011]
[326150,"Urethane and other foam product (except polystyrene) manufacturing",38455,645283,4695082,30606,75815,7896802,3.4,5.86,2010]
[32616,"Plastics bottle manufacturing",55173,987025,7092760,18266,430522,11773322,2.98,6.24,2011]
[32616,"Plastics bottle manufacturing",56965,995794,6018400,17499,423352,10673474,3.4,5.86,2010]
[326160,"Plastics bottle manufacturing",55173,987025,7092760,18266,430522,11773322,2.98,6.24,2011]
[326160,"Plastics bottle manufacturing",56965,995794,6018400,17499,423352,10673474,3.4,5.86,2010]
[32619,"Other plastics product manufacturing",502262,8140444,40859054,223310,1514332,80256476,2.98,6.24,2011]
[32619,"Other plastics product manufacturing",496642,7850373,37775734,221970,1481955,76725637,3.4,5.86,2010]
["32619M","Other plastics product manufacturing",502262,8140444,40859054,223310,1514332,80256476,2.98,6.24,2011]
["32619M","Other plastics product manufacturing",496642,7850373,37775734,221970,1481955,76725637,3.4,5.86,2010]
[3262,"Rubber product manufacturing",201286,4125434,26045370,232384,535232,43981057,2.98,6.24,2011]
[3262,"Rubber product manufacturing",192458,3939980,20947139,237810,501789,37493895,3.4,5.86,2010]
[32621,"Tire manufacturing",84310,2110400,13745715,130738,257641,22011112,2.98,6.24,2011]
[32621,"Tire manufacturing",78836,2025642,10520237,137897,243286,17746161,3.4,5.86,2010]
["32621M","Tire manufacturing",84310,2110400,13745715,130738,257641,22011112,2.98,6.24,2011]
["32621M","Tire manufacturing",78836,2025642,10520237,137897,243286,17746161,3.4,5.86,2010]
[32622,"Rubber and plastics hoses and belting manufacturing",27103,485149,2557579,26945,58807,5103614,2.98,6.24,2011]
[32622,"Rubber and plastics hoses and belting manufacturing",26032,467178,2098795,26009,52189,4344274,3.4,5.86,2010]
[326220,"Rubber and plastics hoses and belting manufacturing",27103,485149,2557579,26945,58807,5103614,2.98,6.24,2011]
[326220,"Rubber and plastics hoses and belting manufacturing",26032,467178,2098795,26009,52189,4344274,3.4,5.86,2010]
[32629,"Other rubber product manufacturing",89873,1529885,9742076,74700,218784,16866332,2.98,6.24,2011]
[32629,"Other rubber product manufacturing",87590,1447160,8328106,73905,206315,15403460,3.4,5.86,2010]
["32629M","Other rubber product manufacturing",89873,1529885,9742076,74700,218784,16866332,2.98,6.24,2011]
["32629M","Other rubber product manufacturing",87590,1447160,8328106,73905,206315,15403460,3.4,5.86,2010]
[327,"Nonmetallic mineral product manufacturing",519685,10700264,42449043,3140505,2366431,92967504,6.4,2.76,2011]
[327,"Nonmetallic mineral product manufacturing",516515,10454064,41096033,3058537,2331394,90104149,7.1,1.37,2010]
[3271,"Clay product and refractory manufacturing",47672,918746,2895712,252562,147669,7040958,6.4,2.76,2011]
[3271,"Clay product and refractory manufacturing",46769,888246,2754710,270892,147436,6880114,7.1,1.37,2010]
[32711,"Pottery, ceramics, and plumbing fixture manufacturing",18747,358898,703625,38548,38237,2040855,6.4,2.76,2011]
[32711,"Pottery, ceramics, and plumbing fixture manufacturing",18072,338716,759166,44764,40281,2138638,7.1,1.37,2010]
[327111,"Vitreous china plumbing fixture and china and earthenware bathroom accessories manufacturing",3284,72064,120034,5641,4524,421504,6.4,2.76,2011]
[327111,"Vitreous china plumbing fixture and china and earthenware bathroom accessories manufacturing","D","D",139130,7333,5007,470905,7.1,1.37,2010]
[327112,"Vitreous china, fine earthenware, and other pottery product manufacturing",7871,124826,231960,12734,13214,779412,6.4,2.76,2011]
[327112,"Vitreous china, fine earthenware, and other pottery product manufacturing",7492,"D",281932,16644,14058,830898,7.1,1.37,2010]
[327113,"Porcelain electrical supply manufacturing",7592,162008,351632,20173,20498,839939,6.4,2.76,2011]
[327113,"Porcelain electrical supply manufacturing","D",146803,338105,20787,21216,836835,7.1,1.37,2010]
[32712,"Clay building material and refractories manufacturing",28925,559848,2192087,214014,109432,5000103,6.4,2.76,2011]
[32712,"Clay building material and refractories manufacturing",28697,549530,1995544,226128,107155,4741476,7.1,1.37,2010]
[327121,"Brick and structural clay tile manufacturing",10455,170087,316644,106084,40471,1051991,6.4,2.76,2011]
[327121,"Brick and structural clay tile manufacturing",10801,182733,334913,120277,41716,1089759,7.1,1.37,2010]
[327122,"Ceramic wall and floor tile manufacturing",5486,103226,275735,26391,17488,831695,6.4,2.76,2011]
[327122,"Ceramic wall and floor tile manufacturing",5223,96543,280239,28047,17851,849253,7.1,1.37,2010]
[327123,"Other structural clay product manufacturing",1541,26703,39961,8515,3811,136999,6.4,2.76,2011]
[327123,"Other structural clay product manufacturing",1638,27094,38029,9506,3652,128003,7.1,1.37,2010]
["32712N","Refractory manufacturing",11443,259832,1559746,73025,47662,2979418,6.4,2.76,2011]
["32712N","Refractory manufacturing",11034,243160,1342363,68298,43935,2674462,7.1,1.37,2010]
[3272,"Glass and glass product manufacturing",123873,2695400,9363371,813366,737322,21834312,6.4,2.76,2011]
[3272,"Glass and glass product manufacturing",121433,2582150,9155012,845936,708444,20637765,7.1,1.37,2010]
[32721,"Glass and glass product manufacturing",123873,2695400,9363371,813366,737322,21834312,6.4,2.76,2011]
[32721,"Glass and glass product manufacturing",121433,2582150,9155012,845936,708444,20637765,7.1,1.37,2010]
[327211,"Flat glass manufacturing",13349,265279,1363591,234250,115774,2776887,6.4,2.76,2011]
[327211,"Flat glass manufacturing",11733,243107,1200883,233193,106369,2466529,7.1,1.37,2010]
[327212,"Other pressed and blown glass and glassware manufacturing",27229,570338,1646858,214593,162771,4209646,6.4,2.76,2011]
[327212,"Other pressed and blown glass and glassware manufacturing",28063,573969,1595756,232220,156893,3920833,7.1,1.37,2010]
[327213,"Glass container manufacturing",24365,684493,1837178,326025,226741,4938529,6.4,2.76,2011]
[327213,"Glass container manufacturing",24174,675513,1913901,331866,222022,4864038,7.1,1.37,2010]
[327215,"Glass product manufacturing made of purchased glass",58930,1175290,4515745,38498,232036,9909250,6.4,2.76,2011]
[327215,"Glass product manufacturing made of purchased glass",57463,1089561,4444471,48657,223160,9386366,7.1,1.37,2010]
[3273,"Cement and concrete product manufacturing",237756,4720907,19227675,1021270,830785,38920293,6.4,2.76,2011]
[3273,"Cement and concrete product manufacturing",238715,4702117,19001061,912770,835158,38932181,7.1,1.37,2010]
[32731,"Cement manufacturing",18771,520882,2498296,619174,525123,5340515,6.4,2.76,2011]
[32731,"Cement manufacturing",19598,536731,2425199,556259,541947,5189849,7.1,1.37,2010]
[327310,"Cement manufacturing",18771,520882,2498296,619174,525123,5340515,6.4,2.76,2011]
[327310,"Cement manufacturing",19598,536731,2425199,556259,541947,5189849,7.1,1.37,2010]
[32732,"Ready-mix concrete manufacturing",123995,2552681,10782584,284609,169788,19815463,6.4,2.76,2011]
[32732,"Ready-mix concrete manufacturing",122234,2485157,10823914,244811,161229,19944487,7.1,1.37,2010]
[327320,"Ready-mix concrete manufacturing",123995,2552681,10782584,284609,169788,19815463,6.4,2.76,2011]
[327320,"Ready-mix concrete manufacturing",122234,2485157,10823914,244811,161229,19944487,7.1,1.37,2010]
[32733,"Concrete pipe, brick, and block manufacturing",31704,576835,2742055,53237,63550,6053573,6.4,2.76,2011]
[32733,"Concrete pipe, brick, and block manufacturing",33396,608869,2603968,52299,61099,6222997,7.1,1.37,2010]
["32733M","Concrete pipe, brick, and block manufacturing",31704,576835,2742055,53237,63550,6053573,6.4,2.76,2011]
["32733M","Concrete pipe, brick, and block manufacturing",33396,608869,2603968,52299,61099,6222997,7.1,1.37,2010]
[32739,"Other concrete product manufacturing",63287,1070510,3204739,64251,72324,7710743,6.4,2.76,2011]
[32739,"Other concrete product manufacturing",63486,1071360,3147980,59400,70883,7574848,7.1,1.37,2010]
[327390,"Other concrete product manufacturing",63287,1070510,3204739,64251,72324,7710743,6.4,2.76,2011]
[327390,"Other concrete product manufacturing",63486,1071360,3147980,59400,70883,7574848,7.1,1.37,2010]
[3274,"Lime and gypsum product manufacturing",19825,479676,2946028,673381,208202,5388446,6.4,2.76,2011]
[3274,"Lime and gypsum product manufacturing",19197,466286,2788172,628841,201723,5178108,7.1,1.37,2010]
[32741,"Lime manufacturing",7622,199368,982217,409703,103486,2281778,6.4,2.76,2011]
[32741,"Lime manufacturing",7253,193887,902468,360896,98932,2117585,7.1,1.37,2010]
[327410,"Lime manufacturing",7622,199368,982217,409703,103486,2281778,6.4,2.76,2011]
[327410,"Lime manufacturing",7253,193887,902468,360896,98932,2117585,7.1,1.37,2010]
[32742,"Gypsum product manufacturing",12203,280308,1963812,263678,104716,3106668,6.4,2.76,2011]
[32742,"Gypsum product manufacturing",11944,272399,1885704,267945,102791,3060523,7.1,1.37,2010]
[327420,"Gypsum product manufacturing",12203,280308,1963812,263678,104716,3106668,6.4,2.76,2011]
[327420,"Gypsum product manufacturing",11944,272399,1885704,267945,102791,3060523,7.1,1.37,2010]
[3279,"Other nonmetallic mineral product manufacturing",90558,1885535,8016257,379927,442455,19783494,6.4,2.76,2011]
[3279,"Other nonmetallic mineral product manufacturing",90401,1815265,7397078,400098,438633,18475980,7.1,1.37,2010]
[32791,"Abrasive product manufacturing",16651,334272,1539221,33936,66381,4950098,6.4,2.76,2011]
[32791,"Abrasive product manufacturing",15850,306382,1403328,33145,61257,4459028,7.1,1.37,2010]
[327910,"Abrasive product manufacturing",16651,334272,1539221,33936,66381,4950098,6.4,2.76,2011]
[327910,"Abrasive product manufacturing",15850,306382,1403328,33145,61257,4459028,7.1,1.37,2010]
[32799,"All other nonmetallic mineral product manufacturing",73907,1551264,6477036,345991,376074,14833397,6.4,2.76,2011]
[32799,"All other nonmetallic mineral product manufacturing",74550,1508883,5993750,366953,377376,14016952,7.1,1.37,2010]
[327991,"Cut stone and stone product manufacturing",26346,490144,1129574,17988,32159,2856050,6.4,2.76,2011]
[327991,"Cut stone and stone product manufacturing",28490,504088,1035958,18331,31167,2777050,7.1,1.37,2010]
[327992,"Ground or treated mineral and earth manufacturing",8846,213836,1415983,124963,97587,3438885,6.4,2.76,2011]
[327992,"Ground or treated mineral and earth manufacturing",8926,198162,1373851,139121,100017,3383151,7.1,1.37,2010]
[327993,"Mineral wool manufacturing",26453,616531,2575815,143676,207436,5408588,6.4,2.76,2011]
[327993,"Mineral wool manufacturing",25476,582761,2320607,153643,205200,4871236,7.1,1.37,2010]
[327999,"All other miscellaneous nonmetallic mineral product manufacturing",12262,230752,1355665,59364,38892,3129874,6.4,2.76,2011]
[327999,"All other miscellaneous nonmetallic mineral product manufacturing",11659,223871,1263335,55857,40992,2985515,7.1,1.37,2010]
[331,"Primary metal manufacturing",618229,15623001,185100264,4466883,6733234,280153236,2.64,7.03,2011]
[331,"Primary metal manufacturing",572603,14140416,152468724,4148493,5927251,232790545,3.15,5.22,2010]
[3311,"Iron and steel mills and ferroalloy manufacturing",176673,5737346,76982811,2787868,3043683,115365309,2.67,5,2011]
[3311,"Iron and steel mills and ferroalloy manufacturing",163708,5101786,63184059,2473668,2684817,93477237,3.09,1.65,2010]
[33111,"Iron and steel mills and ferroalloy manufacturing",176673,5737346,76982811,2787868,3043683,115365309,2.67,5,2011]
[33111,"Iron and steel mills and ferroalloy manufacturing",163708,5101786,63184059,2473668,2684817,93477237,3.09,1.65,2010]
["33111M","Iron and steel mills and ferroalloy manufacturing",176673,5737346,76982811,2787868,3043683,115365309,2.67,5,2011]
["33111M","Iron and steel mills and ferroalloy manufacturing",163708,5101786,63184059,2473668,2684817,93477237,3.09,1.65,2010]
[3312,"Steel product manufacturing from purchased steel",65079,1498920,19672264,145631,322000,26770034,2.67,5,2011]
[3312,"Steel product manufacturing from purchased steel",62847,1394184,16239926,169920,299274,22239603,3.09,1.65,2010]
[33121,"Iron and steel pipe and tube manufacturing from purchased steel",31454,769842,8417284,67330,141899,11833875,2.67,5,2011]
[33121,"Iron and steel pipe and tube manufacturing from purchased steel",29030,664366,6391504,60771,132359,9112582,3.09,1.65,2010]
[331210,"Iron and steel pipe and tube manufacturing from purchased steel",31454,769842,8417284,67330,141899,11833875,2.67,5,2011]
[331210,"Iron and steel pipe and tube manufacturing from purchased steel",29030,664366,6391504,60771,132359,9112582,3.09,1.65,2010]
[33122,"Rolling and drawing of purchased steel",33625,729079,11254981,78301,180101,14936158,2.67,5,2011]
[33122,"Rolling and drawing of purchased steel",33817,729818,9848422,109148,166915,13127021,3.09,1.65,2010]
["33122M","Rolling and drawing of purchased steel",33625,729079,11254981,78301,180101,14936158,2.67,5,2011]
["33122M","Rolling and drawing of purchased steel",33817,729818,9848422,109148,166915,13127021,3.09,1.65,2010]
[3313,"Alumina and aluminum production and processing",85630,2031092,29423341,745533,1649258,38895046,2.64,8.6199999999999992,2011]
[3313,"Alumina and aluminum production and processing",77978,1826668,24942562,727804,1390929,32925440,3.27,8.59,2010]
[33131,"Alumina and aluminum production and processing",85630,2031092,29423341,745533,1649258,38895046,2.64,8.6199999999999992,2011]
[33131,"Alumina and aluminum production and processing",77978,1826668,24942562,727804,1390929,32925440,3.27,8.59,2010]
[331311,"Alumina refining",2640,76350,1058131,139705,20333,1363179,2.64,8.6199999999999992,2011]
[331311,"Alumina refining",2283,70258,928218,138991,17323,1120942,3.27,8.59,2010]
[331312,"Primary aluminum production",12862,349336,4342004,49568,1141977,5675444,2.64,8.6199999999999992,2011]
[331312,"Primary aluminum production",11595,303439,3315942,49107,935248,4638269,3.27,8.59,2010]
[331314,"Secondary smelting and alloying of aluminum",7888,165785,5261120,154813,85241,6179638,2.64,8.6199999999999992,2011]
[331314,"Secondary smelting and alloying of aluminum",7175,147370,4376544,147360,88852,5266615,3.27,8.59,2010]
[331316,"Aluminum extruded product manufacturing",30100,594070,4722554,94710,106350,7274536,2.64,8.6199999999999992,2011]
[331316,"Aluminum extruded product manufacturing",27073,530991,4102694,83891,97009,6420782,3.27,8.59,2010]
["33131N","Aluminum rolling and drawing",32140,845551,14039532,306737,295357,18402249,2.64,8.6199999999999992,2011]
["33131N","Aluminum rolling and drawing",29852,774609,12219163,308455,252498,15478832,3.27,8.59,2010]
[3314,"Nonferrous metal (except aluminum) production and processing",84446,2107477,44015560,363947,810136,67795806,2.64,8.6199999999999992,2011]
[3314,"Nonferrous metal (except aluminum) production and processing",81060,1989191,35409349,355477,744528,57048667,3.27,8.59,2010]
[33141,"Nonferrous metal (except aluminum) smelting and refining",15435,430160,8162856,142512,420411,20910390,2.64,8.6199999999999992,2011]
[33141,"Nonferrous metal (except aluminum) smelting and refining",15178,407129,6615850,160652,377497,18293748,3.27,8.59,2010]
[331411,"Primary smelting and refining of copper",2712,66376,"D","D",24333,10849970,2.64,8.6199999999999992,2011]
[331411,"Primary smelting and refining of copper",2624,67567,"D","D",26783,10032041,3.27,8.59,2010]
[331419,"Primary smelting and refining of nonferrous metal (except copper and aluminum)",12723,363784,"D","D",396078,10060420,2.64,8.6199999999999992,2011]
[331419,"Primary smelting and refining of nonferrous metal (except copper and aluminum)",12554,339562,"D","D",350714,8261707,3.27,8.59,2010]
[33142,"Copper rolling, drawing, extruding, and alloying",31107,672584,20601091,70032,166680,24534720,2.64,8.6199999999999992,2011]
[33142,"Copper rolling, drawing, extruding, and alloying",30527,686003,17213033,65976,163351,21131370,3.27,8.59,2010]
["33142M","Copper rolling, drawing, extruding, and alloying",31107,672584,20601091,70032,166680,24534720,2.64,8.6199999999999992,2011]
["33142M","Copper rolling, drawing, extruding, and alloying",30527,686003,17213033,65976,163351,21131370,3.27,8.59,2010]
[33149,"Nonferrous metal (except copper and aluminum) rolling, drawing, extruding, and alloying",37904,1004732,15251613,151403,223045,22350695,2.64,8.6199999999999992,2011]
[33149,"Nonferrous metal (except copper and aluminum) rolling, drawing, extruding, and alloying",35355,896059,11580465,128848,203679,17623549,3.27,8.59,2010]
["33149M","Nonferrous metal (except copper and aluminum) rolling, drawing, extruding, and alloying",37904,1004732,15251613,151403,223045,22350695,2.64,8.6199999999999992,2011]
["33149M","Nonferrous metal (except copper and aluminum) rolling, drawing, extruding, and alloying",35355,896059,11580465,128848,203679,17623549,3.27,8.59,2010]
[3315,"Foundries",206402,4248166,15006287,423904,908157,31327043,2.64,12.43,2011]
[3315,"Foundries",187009,3828587,12692828,421623,807702,27099599,2.91,11.35,2010]
[33151,"Ferrous metal foundries",117747,2509536,9251933,266169,646874,19012658,24.6,12.43,2011]
[33151,"Ferrous metal foundries",104396,2238947,7658020,263375,570273,16102724,2.91,11.35,2010]
["33151M","Ferrous metal foundries",117747,2509536,9251933,266169,646874,19012658,24.6,12.43,2011]
["33151M","Ferrous metal foundries",104396,2238947,7658020,263375,570273,16102724,2.91,11.35,2010]
[33152,"Nonferrous metal foundries",88655,1738629,5754354,157735,261283,12314385,24.6,12.43,2011]
[33152,"Nonferrous metal foundries",82613,1589640,5034808,158249,237429,10996874,2.91,11.35,2010]
["33152N","Aluminum foundries",63377,1231793,3945161,132828,190007,8421359,24.6,12.43,2011]
["33152N","Aluminum foundries",59137,1124561,3482506,132387,166911,7494669,2.91,11.35,2010]
["33152P","Foundries not aluminum",25279,506836,1809193,24906,71276,3893026,24.6,12.43,2011]
["33152P","Foundries not aluminum",23477,465079,1552303,25862,70518,3502206,2.91,11.35,2010]
[332,"Fabricated metal product manufacturing",1921327,38937642,156821790,1497428,3438300,326796980,2.48,8.6999999999999993,2011]
[332,"Fabricated metal product manufacturing",1817192,35832849,138596846,1476838,3157789,293888983,2.72,7.96,2010]
[3321,"Forging and stamping",156121,3158048,18423381,301560,471574,33120698,2.48,8.6999999999999993,2011]
[3321,"Forging and stamping",149592,2968124,16178163,305534,429655,29258671,2.72,7.96,2010]
[33211,"Forging and stamping",156121,3158048,18423381,301560,471574,33120698,2.48,8.6999999999999993,2011]
[33211,"Forging and stamping",149592,2968124,16178163,305534,429655,29258671,2.72,7.96,2010]
[332114,"Custom roll forming",24973,541416,5356000,35368,93894,7645962,2.48,8.6999999999999993,2011]
[332114,"Custom roll forming",25235,513618,4673189,37904,91905,7043405,2.72,7.96,2010]
[332117,"Powder metallurgy parts manufacturing",11399,226994,1046364,20603,46489,1992905,2.48,8.6999999999999993,2011]
[332117,"Powder metallurgy parts manufacturing",10887,200035,923399,19722,40003,1768597,2.72,7.96,2010]
["33211N","Forging",42487,938020,6140269,202153,196059,11307781,2.48,8.6999999999999993,2011]
["33211N","Forging",39807,888491,5422374,204650,172465,9566532,2.72,7.96,2010]
["33211P","Crown, closure, and metal stamping manufacturing",77261,1451617,5880748,43436,135133,12174050,2.48,8.6999999999999993,2011]
["33211P","Crown, closure, and metal stamping manufacturing",73662,1365980,5159201,43258,125280,10880138,2.72,7.96,2010]
[3322,"Cutlery and handtool manufacturing",53276,1042545,3731819,34727,98455,10850698,2.48,8.6999999999999993,2011]
[3322,"Cutlery and handtool manufacturing",52006,1015758,3715525,35693,99945,10888597,2.72,7.96,2010]
[33221,"Cutlery and hand tool manufacturing",53276,1042545,3731819,34727,98455,10850698,2.48,8.6999999999999993,2011]
[33221,"Cutlery and hand tool manufacturing",52006,1015758,3715525,35693,99945,10888597,2.72,7.96,2010]
["33221N","Cutlery, kitchen utensil, pot, and pan manufacturing",9487,196192,1091461,13811,26285,4125778,2.48,8.6999999999999993,2011]
["33221N","Cutlery, kitchen utensil, pot, and pan manufacturing",9850,208526,1267844,13592,30902,4549361,2.72,7.96,2010]
["33221P","Hand tool and saw blade manufacturing",43789,846353,2640358,20916,72170,6724920,2.48,8.6999999999999993,2011]
["33221P","Hand tool and saw blade manufacturing",42156,807232,2447681,22101,69043,6339236,2.72,7.96,2010]
[3323,"Architectural and structural metals manufacturing",432776,8327272,38403975,181821,541109,72186909,2.48,8.6999999999999993,2011]
[3323,"Architectural and structural metals manufacturing",422462,7866832,34322799,182549,488863,66390214,2.72,7.96,2010]
[33231,"Plate work and fabricated structural product manufacturing",198932,4107986,21527217,90547,286671,37527381,2.48,8.6999999999999993,2011]
[33231,"Plate work and fabricated structural product manufacturing",187650,3791246,18574494,89380,239702,33897568,2.72,7.96,2010]
["33231M","Plate work and fabricated structural product manufacturing",198932,4107986,21527217,90547,286671,37527381,2.48,8.6999999999999993,2011]
["33231M","Plate work and fabricated structural product manufacturing",187650,3791246,18574494,89380,239702,33897568,2.72,7.96,2010]
[33232,"Ornamental and architectural metal work manufacturing",233844,4219287,16876758,91274,254438,34659528,2.48,8.6999999999999993,2011]
[33232,"Ornamental and architectural metal work manufacturing",234812,4075585,15748305,93169,249162,32492647,2.72,7.96,2010]
["33232M","Ornamental and architectural metal work manufacturing",233844,4219287,16876758,91274,254438,34659528,2.48,8.6999999999999993,2011]
["33232M","Ornamental and architectural metal work manufacturing",234812,4075585,15748305,93169,249162,32492647,2.72,7.96,2010]
[3324,"Boiler, tank, and shipping container manufacturing",117457,2760980,18673105,135602,311649,31992075,2.48,8.6999999999999993,2011]
[3324,"Boiler, tank, and shipping container manufacturing",109785,2533990,16873318,135513,298887,29457832,2.72,7.96,2010]
[33241,"Power boiler and heat exchanger manufacturing",30336,703401,2795603,12869,39852,6199073,2.48,8.6999999999999993,2011]
[33241,"Power boiler and heat exchanger manufacturing",27085,622586,2470139,12566,37694,5552588,2.72,7.96,2010]
[332410,"Power boiler and heat exchanger manufacturing",30336,703401,2795603,12869,39852,6199073,2.48,8.6999999999999993,2011]
[332410,"Power boiler and heat exchanger manufacturing",27085,622586,2470139,12566,37694,5552588,2.72,7.96,2010]
[33242,"Metal tank (heavy gauge) manufacturing",38601,893853,3760246,27942,56211,7150804,2.48,8.6999999999999993,2011]
[33242,"Metal tank (heavy gauge) manufacturing",34841,802231,2912962,24742,49890,5809075,2.72,7.96,2010]
[332420,"Metal tank (heavy gauge) manufacturing",38601,893853,3760246,27942,56211,7150804,2.48,8.6999999999999993,2011]
[332420,"Metal tank (heavy gauge) manufacturing",34841,802231,2912962,24742,49890,5809075,2.72,7.96,2010]
[33243,"Metal can, box, and other metal container (light gauge) manufacturing",48520,1163726,12117256,94791,215587,18642198,2.48,8.6999999999999993,2011]
[33243,"Metal can, box, and other metal container (light gauge) manufacturing",47859,1109172,11490217,98206,211303,18096169,2.72,7.96,2010]
["33243M","Metal can, box, and other metal container (light gauge) manufacturing",48520,1163726,12117256,94791,215587,18642198,2.48,8.6999999999999993,2011]
["33243M","Metal can, box, and other metal container (light gauge) manufacturing",47859,1109172,11490217,98206,211303,18096169,2.72,7.96,2010]
[3325,"Hardware manufacturing",33047,608078,3362268,21592,52530,6915044,2.48,8.6999999999999993,2011]
[3325,"Hardware manufacturing",33600,589552,3042696,21012,48387,6595664,2.72,7.96,2010]
[33251,"Hardware manufacturing",33047,608078,3362268,21592,52530,6915044,2.48,8.6999999999999993,2011]
[33251,"Hardware manufacturing",33600,589552,3042696,21012,48387,6595664,2.72,7.96,2010]
[332510,"Hardware manufacturing",33047,608078,3362268,21592,52530,6915044,2.48,8.6999999999999993,2011]
[332510,"Hardware manufacturing",33600,589552,3042696,21012,48387,6595664,2.72,7.96,2010]
[3326,"Spring and wire product manufacturing",62368,1057963,4666760,36552,100239,9185837,2.48,8.6999999999999993,2011]
[3326,"Spring and wire product manufacturing",61303,1005704,4338878,37603,95986,8694944,2.72,7.96,2010]
[33261,"Spring and wire product manufacturing",62368,1057963,4666760,36552,100239,9185837,2.48,8.6999999999999993,2011]
[33261,"Spring and wire product manufacturing",61303,1005704,4338878,37603,95986,8694944,2.72,7.96,2010]
["33261M","Spring and wire product manufacturing",62368,1057963,4666760,36552,100239,9185837,2.48,8.6999999999999993,2011]
["33261M","Spring and wire product manufacturing",61303,1005704,4338878,37603,95986,8694944,2.72,7.96,2010]
[3327,"Machine shops; turned product; and screw, nut, and bolt manufacturing",533571,11464056,24695973,194397,746798,63473605,2.48,8.6999999999999993,2011]
[3327,"Machine shops; turned product; and screw, nut, and bolt manufacturing",487449,10130421,20698693,179283,652909,54391345,2.72,7.96,2010]
[33271,"Machine shops",345458,7464614,14000596,120912,435039,38503363,2.48,8.6999999999999993,2011]
[33271,"Machine shops",318261,6585078,11836993,107588,369431,32767580,2.72,7.96,2010]
[332710,"Machine shops",345458,7464614,14000596,120912,435039,38503363,2.48,8.6999999999999993,2011]
[332710,"Machine shops",318261,6585078,11836993,107588,369431,32767580,2.72,7.96,2010]
[33272,"Turned product and screw, nut, and bolt manufacturing",188113,3999442,10695378,73485,311759,24970242,2.48,8.6999999999999993,2011]
[33272,"Turned product and screw, nut, and bolt manufacturing",169188,3545343,8861701,71694,283478,21623765,2.72,7.96,2010]
[332721,"Precision turned product manufacturing",135420,2889032,6175193,35786,209417,15609924,2.48,8.6999999999999993,2011]
[332721,"Precision turned product manufacturing",120029,2529509,5060987,33766,188150,13318056,2.72,7.96,2010]
[332722,"Bolt, nut, screw, rivet, and washer manufacturing",52694,1110410,4520185,37699,102341,9360318,2.48,8.6999999999999993,2011]
[332722,"Bolt, nut, screw, rivet, and washer manufacturing",49159,1015834,3800714,37928,95328,8305708,2.72,7.96,2010]
[3328,"Coating, engraving, heat treating, and allied activities",178999,3298716,11180630,373168,481850,27069190,2.48,8.6999999999999993,2011]
[3328,"Coating, engraving, heat treating, and allied activities",165194,2990800,10223804,367670,442120,24116062,2.72,7.96,2010]
[33281,"Coating, engraving, heat treating, and allied activities",178999,3298716,11180630,373168,481850,27069190,2.48,8.6999999999999993,2011]
[33281,"Coating, engraving, heat treating, and allied activities",165194,2990800,10223804,367670,442120,24116062,2.72,7.96,2010]
["33281M","Coating, engraving, heat treating, and allied activities",178999,3298716,11180630,373168,481850,27069190,2.48,8.6999999999999993,2011]
["33281M","Coating, engraving, heat treating, and allied activities",165194,2990800,10223804,367670,442120,24116062,2.72,7.96,2010]
[3329,"Other fabricated metal product manufacturing",353710,7219983,33683878,218009,634095,72002923,2.48,8.6999999999999993,2011]
[3329,"Other fabricated metal product manufacturing",335801,6731669,29202969,211981,601037,64095654,2.72,7.96,2010]
[33291,"Metal valve manufacturing",120719,2638647,14054396,55947,225628,30033079,2.48,8.6999999999999993,2011]
[33291,"Metal valve manufacturing",114627,2428997,12024493,52398,215354,26426051,2.72,7.96,2010]
[332913,"Plumbing fixture fitting and trim manufacturing",11057,206589,1726082,4131,17205,3360696,2.48,8.6999999999999993,2011]
[332913,"Plumbing fixture fitting and trim manufacturing",11424,213807,1655962,5707,21034,3377070,2.72,7.96,2010]
["33291N","Valve and fitting (except plumbing) manufacturing",109662,2432058,12328315,51816,208423,26672383,2.48,8.6999999999999993,2011]
["33291N","Valve and fitting (except plumbing) manufacturing",103203,2215190,10368531,46691,194320,23048981,2.72,7.96,2010]
[33299,"All other fabricated metal product manufacturing",232991,4581336,19629482,162062,408467,41969844,2.48,8.6999999999999993,2011]
[33299,"All other fabricated metal product manufacturing",221174,4302672,17178476,159583,385683,37669603,2.72,7.96,2010]
[332991,"Ball and roller bearing manufacturing",37637,801240,3002564,"D",101200,6835157,2.48,8.6999999999999993,2011]
[332991,"Ball and roller bearing manufacturing",34903,751999,2530304,"D",98645,5961667,2.72,7.96,2010]
[332992,"Small arms ammunition manufacturing",16943,394697,1830247,"D","D",3378098,2.48,8.6999999999999993,2011]
[332992,"Small arms ammunition manufacturing",18301,405091,1703298,"D","D",3396570,2.72,7.96,2010]
[332993,"Ammunition (except small arms) manufacturing",6696,138489,774484,14201,"D",2263648,2.48,8.6999999999999993,2011]
[332993,"Ammunition (except small arms) manufacturing",6989,131533,820649,13141,"D",2351328,2.72,7.96,2010]
[332994,"Small arms manufacturing",14126,299655,1538129,5632,27895,3634635,2.48,8.6999999999999993,2011]
[332994,"Small arms manufacturing",12552,273533,1264828,"D",25554,3112740,2.72,7.96,2010]
[332995,"Other ordnance and accessories manufacturing",3693,67656,748198,3928,6880,1513301,2.48,8.6999999999999993,2011]
[332995,"Other ordnance and accessories manufacturing",3778,69170,782289,3953,6258,1430025,2.72,7.96,2010]
[332996,"Fabricated pipe and pipe fitting manufacturing",40701,816017,3729028,24586,61316,7599113,2.48,8.6999999999999993,2011]
[332996,"Fabricated pipe and pipe fitting manufacturing",39377,746461,2966820,23096,54325,6275471,2.72,7.96,2010]
["33299N","Other fabricated metal products manufacturing",113195,2063583,8006832,64939,172810,16745892,2.48,8.6999999999999993,2011]
["33299N","Other fabricated metal products manufacturing",105274,1924885,7110289,57940,157754,15141801,2.72,7.96,2010]
[333,"Machinery manufacturing",1241262,27793012,192543995,704313,1999918,365734798,2.44,8.76,2011]
[333,"Machinery manufacturing",1156807,24935776,165000141,668327,1814981,317696523,2.81,7.55,2010]
[3331,"Agriculture, construction, and mining machinery manufacturing",246323,5726618,59197116,219918,372017,103090304,2.44,8.76,2011]
[3331,"Agriculture, construction, and mining machinery manufacturing",218581,4853432,48085266,198789,321786,86537044,2.81,7.55,2010]
[33311,"Agricultural implement manufacturing",100205,2160069,23712702,79748,146833,37929761,2.44,8.76,2011]
[33311,"Agricultural implement manufacturing",94452,1853002,20462426,74390,124095,34100924,2.81,7.55,2010]
[333111,"Farm machinery and equipment manufacturing",74954,1734064,17497134,62883,110608,28897136,2.44,8.76,2011]
[333111,"Farm machinery and equipment manufacturing",68515,1416277,14384491,57943,89500,25418225,2.81,7.55,2010]
[333112,"Lawn and garden tractor and home lawn and garden equipment manufacturing",25251,426005,6215568,16865,36225,9032626,2.44,8.76,2011]
[333112,"Lawn and garden tractor and home lawn and garden equipment manufacturing",25937,436724,6077935,16446,34595,8682699,2.81,7.55,2010]
[33312,"Construction machinery manufacturing",72336,1662170,20719153,95405,110807,39685456,2.44,8.76,2011]
[33312,"Construction machinery manufacturing",60145,1382065,15966360,79217,97732,31350123,2.81,7.55,2010]
[333120,"Construction machinery manufacturing",72336,1662170,20719153,95405,110807,39685456,2.44,8.76,2011]
[333120,"Construction machinery manufacturing",60145,1382065,15966360,79217,97732,31350123,2.81,7.55,2010]
[33313,"Mining and oil and gas field machinery manufacturing",73782,1904379,14765261,44765,114377,25475086,2.44,8.76,2011]
[33313,"Mining and oil and gas field machinery manufacturing",63984,1618365,11656481,45182,99959,21085996,2.81,7.55,2010]
["33313M","Mining and oil and gas field machinery manufacturing",73782,1904379,14765261,44765,114377,25475086,2.44,8.76,2011]
["33313M","Mining and oil and gas field machinery manufacturing",63984,1618365,11656481,45182,99959,21085996,2.81,7.55,2010]
[3332,"Industrial machinery manufacturing",110143,2707514,16208357,58778,210399,35686311,2.44,8.76,2011]
[3332,"Industrial machinery manufacturing",104464,2448825,14222819,58436,188980,30619809,2.81,7.55,2010]
[33321,"Sawmill and woodworking machinery manufacturing",3277,67289,258903,1551,8120,520229,2.44,8.76,2011]
[33321,"Sawmill and woodworking machinery manufacturing",3571,66830,251382,1756,7666,504474,2.81,7.55,2010]
[333210,"Sawmill and woodworking machinery manufacturing",3277,67289,258903,1551,8120,520229,2.44,8.76,2011]
[333210,"Sawmill and woodworking machinery manufacturing",3571,66830,251382,1756,7666,504474,2.81,7.55,2010]
[33322,"Plastics and rubber industry machinery manufacturing",14445,300277,1586644,7021,24744,3153695,2.44,8.76,2011]
[33322,"Plastics and rubber industry machinery manufacturing",13965,277693,1474424,8286,22057,2914390,2.81,7.55,2010]
[333220,"Plastics and rubber industry machinery manufacturing",14445,300277,1586644,7021,24744,3153695,2.44,8.76,2011]
[333220,"Plastics and rubber industry machinery manufacturing",13965,277693,1474424,8286,22057,2914390,2.81,7.55,2010]
[33329,"Other industrial machinery manufacturing",92421,2339949,14362810,50207,177536,32012387,2.44,8.76,2011]
[33329,"Other industrial machinery manufacturing",86927,2104303,12497012,48393,159256,27200945,2.81,7.55,2010]
[333295,"Semiconductor machinery manufacturing",13544,418716,5289584,6665,45067,12362506,2.44,8.76,2011]
[333295,"Semiconductor machinery manufacturing",12518,389053,4474754,6699,41516,9562890,2.81,7.55,2010]
["33329N","Other machinery manufacturing",78877,1921233,9073226,43542,132469,19649881,2.44,8.76,2011]
["33329N","Other machinery manufacturing",74409,1715249,8022259,41694,117740,17638055,2.81,7.55,2010]
[3333,"Commercial and service industry machinery manufacturing",84375,1803513,11267320,38363,142810,22826892,2.44,8.76,2011]
[3333,"Commercial and service industry machinery manufacturing",83837,1687241,10609993,38007,133726,21614959,2.81,7.55,2010]
[33331,"Commercial and service industry machinery manufacturing",84375,1803513,11267320,38363,142810,22826892,2.44,8.76,2011]
[33331,"Commercial and service industry machinery manufacturing",83837,1687241,10609993,38007,133726,21614959,2.81,7.55,2010]
[333313,"Office machinery manufacturing",5583,120837,776915,"D",12671,1483130,2.44,8.76,2011]
[333313,"Office machinery manufacturing",5563,116509,771555,"D",12319,1484883,2.81,7.55,2010]
[333314,"Optical instrument and lens manufacturing",18873,494164,1979500,"D",47409,4682148,2.44,8.76,2011]
[333314,"Optical instrument and lens manufacturing",19365,462902,1944567,"D",43235,4525184,2.81,7.55,2010]
[333315,"Photographic and photocopying equipment manufacturing",6484,122816,1287719,3312,9576,2187309,2.44,8.76,2011]
[333315,"Photographic and photocopying equipment manufacturing",6563,127869,1168007,"5135(s)",8612,2150888,2.81,7.55,2010]
["33331N","All other commercial and service industry machinery manufacturing",53436,1065696,7223186,23442,73154,14474306,2.44,8.76,2011]
["33331N","All other commercial and service industry machinery manufacturing",52346,979961,6725864,22663,69560,13454005,2.81,7.55,2010]
[3334,"Ventilation, heating, air-conditioning, and commercial refrigeration equipment manufacturing",170634,3101017,20611604,65214,218119,38678450,2.44,8.76,2011]
[3334,"Ventilation, heating, air-conditioning, and commercial refrigeration equipment manufacturing",167098,2988756,18696546,63336,206362,36307851,2.81,7.55,2010]
[33341,"Ventilation, heating, air-conditioning, and commercial refrigeration equipment manufacturing",170634,3101017,20611604,65214,218119,38678450,2.44,8.76,2011]
[33341,"Ventilation, heating, air-conditioning, and commercial refrigeration equipment manufacturing",167098,2988756,18696546,63336,206362,36307851,2.81,7.55,2010]
[333414,"Heating equipment (except warm air furnaces) manufacturing",18806,346312,1968956,10840,41594,4153470,2.44,8.76,2011]
[333414,"Heating equipment (except warm air furnaces) manufacturing",17353,309205,1848793,9818,35426,3863327,2.81,7.55,2010]
[333415,"Air-conditioning and warm air heating equipment and commercial and industrial refrigeration equipment manufacturing",121212,2220642,16258974,39794,141953,29503777,2.44,8.76,2011]
[333415,"Air-conditioning and warm air heating equipment and commercial and industrial refrigeration equipment manufacturing",120766,2182689,14754346,41168,138476,27887718,2.81,7.55,2010]
["33341N","Ventilation equipment manufacturing",30616,534062,2383673,14580,34573,5021202,2.44,8.76,2011]
["33341N","Ventilation equipment manufacturing",28979,496862,2093407,12349,32460,4556807,2.81,7.55,2010]
[3335,"Metalworking machinery manufacturing",198920,4613655,11491043,66638,319280,27784994,2.44,8.76,2011]
[3335,"Metalworking machinery manufacturing",181401,4126067,9282670,60944,284451,23476561,2.81,7.55,2010]
[33351,"Metalworking machinery manufacturing",198920,4613655,11491043,66638,319280,27784994,2.44,8.76,2011]
[33351,"Metalworking machinery manufacturing",181401,4126067,9282670,60944,284451,23476561,2.81,7.55,2010]
[333511,"Industrial mold manufacturing",48588,1136483,1947813,12772,85605,5391485,2.44,8.76,2011]
[333511,"Industrial mold manufacturing",44601,1041565,1619226,14342,78699,4714201,2.81,7.55,2010]
[333512,"Machine tool (metal cutting types) manufacturing",18871,433758,2269830,9189,30161,4842078,2.44,8.76,2011]
[333512,"Machine tool (metal cutting types) manufacturing",16328,373508,1632523,7798,25621,3563160,2.81,7.55,2010]
[333513,"Machine tool (metal forming types) manufacturing",9645,244074,831185,3193,13556,1680733,2.44,8.76,2011]
[333513,"Machine tool (metal forming types) manufacturing",8693,214454,609667,2696,10388,1438132,2.81,7.55,2010]
[333514,"Special die and tool, die set, jig, and fixture manufacturing",68652,1596722,2959729,19664,92014,7692614,2.44,8.76,2011]
[333514,"Special die and tool, die set, jig, and fixture manufacturing",62037,1408207,2474164,17962,81203,6637790,2.81,7.55,2010]
[333515,"Cutting tool and machine tool accessory manufacturing",40667,853527,1875995,11756,75756,5240583,2.44,8.76,2011]
[333515,"Cutting tool and machine tool accessory manufacturing",37735,769214,1533430,9705,68598,4499517,2.81,7.55,2010]
[333516,"Rolling mill machinery and equipment manufacturing",3228,88562,446079,4735,8226,815683,2.44,8.76,2011]
[333516,"Rolling mill machinery and equipment manufacturing",3083,80494,445714,4589,8302,774159,2.81,7.55,2010]
[333518,"Other metalworking machinery manufacturing",9268,260528,1160412,5327,13960,2121817,2.44,8.76,2011]
[333518,"Other metalworking machinery manufacturing",8924,238624,967946,3851,11640,1849602,2.81,7.55,2010]
[3336,"Engine, turbine, and power transmission equipment manufacturing",120831,2934807,27848655,97270,276180,46226107,2.44,8.76,2011]
[3336,"Engine, turbine, and power transmission equipment manufacturing",110296,2583498,22513166,83782,246661,36657223,2.81,7.55,2010]
[33361,"Engine, turbine, and power transmission equipment manufacturing",120831,2934807,27848655,97270,276180,46226107,2.44,8.76,2011]
[33361,"Engine, turbine, and power transmission equipment manufacturing",110296,2583498,22513166,83782,246661,36657223,2.81,7.55,2010]
[333611,"Turbine and turbine generator set unit manufacturing",27350,815094,7157558,16133,61319,11441817,2.44,8.76,2011]
[333611,"Turbine and turbine generator set unit manufacturing",27075,778271,6635719,15989,59180,10401762,2.81,7.55,2010]
[333612,"Speed changer, industrial high-speed drive, and gear manufacturing",19485,434758,1637220,14494,36031,3624633,2.44,8.76,2011]
[333612,"Speed changer, industrial high-speed drive, and gear manufacturing",16870,364415,1295688,13137,31102,3001356,2.81,7.55,2010]
[333613,"Mechanical power transmission equipment manufacturing",20246,455458,1970964,12095,41997,4341665,2.44,8.76,2011]
[333613,"Mechanical power transmission equipment manufacturing",18904,397864,1617726,11879,37208,3629955,2.81,7.55,2010]
[333618,"Other engine equipment manufacturing",53750,1229498,17082913,54548,136834,26817991,2.44,8.76,2011]
[333618,"Other engine equipment manufacturing",47448,1042947,12964032,42776,119172,19624149,2.81,7.55,2010]
[3339,"Other general purpose machinery manufacturing",310035,6905888,45919900,158131,461112,91441741,2.44,8.76,2011]
[3339,"Other general purpose machinery manufacturing",291130,6247956,41589681,165034,433017,82483076,2.81,7.55,2010]
[33391,"Pump and compressor manufacturing",67273,1610811,11908694,34556,114631,24080963,2.44,8.76,2011]
[33391,"Pump and compressor manufacturing",61168,1403068,10263791,49068,104522,21252678,2.81,7.55,2010]
[333911,"Pump and pumping equipment manufacturing",40476,1015952,6644045,17067,68981,13904877,2.44,8.76,2011]
[333911,"Pump and pumping equipment manufacturing",35472,859584,5392811,27189,60669,11616910,2.81,7.55,2010]
[333912,"Air and gas compressor manufacturing",23037,516557,4686216,15360,39594,8860055,2.44,8.76,2011]
[333912,"Air and gas compressor manufacturing",21989,469552,4292730,19947,38070,8301654,2.81,7.55,2010]
[333913,"Measuring and dispensing pump manufacturing",3761,78302,578433,2129,6057,1316030,2.44,8.76,2011]
[333913,"Measuring and dispensing pump manufacturing",3708,73932,578251,1933,5783,1334114,2.81,7.55,2010]
[33392,"Material handling equipment manufacturing",94735,1986456,15883625,50765,106141,29666837,2.44,8.76,2011]
[33392,"Material handling equipment manufacturing",87764,1743818,15081198,43858,97786,27333045,2.81,7.55,2010]
["33392M","Material handling equipment manufacturing",94735,1986456,15883625,50765,106141,29666837,2.44,8.76,2011]
["33392M","Material handling equipment manufacturing",87764,1743818,15081198,43858,97786,27333045,2.81,7.55,2010]
[33399,"All other general purpose machinery manufacturing",148027,3308622,18127581,72810,240340,37693941,2.44,8.76,2011]
[33399,"All other general purpose machinery manufacturing",142198,3101070,16244692,72108,230709,33897353,2.81,7.55,2010]
[333991,"Power-driven hand tool manufacturing",6803,141230,881339,3368,14810,2077248,2.44,8.76,2011]
[333991,"Power-driven hand tool manufacturing",6484,119100,753090,2980,12638,1779525,2.81,7.55,2010]
[333993,"Packaging machinery manufacturing",19235,459674,2398713,5946,21189,5019619,2.44,8.76,2011]
[333993,"Packaging machinery manufacturing",18376,431169,2208012,5657,20438,4576987,2.81,7.55,2010]
[333994,"Industrial process furnace and oven manufacturing",11925,248790,1146024,6603,16629,2674216,2.44,8.76,2011]
[333994,"Industrial process furnace and oven manufacturing",11216,222452,1041263,6081,15557,2317934,2.81,7.55,2010]
["33399N","Fluid power equipment manufacturing",36074,873166,4581505,11053,64321,8956681,2.44,8.76,2011]
["33399N","Fluid power equipment manufacturing",36378,855829,4278633,13734,69825,8558495,2.81,7.55,2010]
["33399P","All other miscellaneous general purpose machinery manufacturing",73989,1585761,9120000,45839,123390,18966177,2.44,8.76,2011]
["33399P","All other miscellaneous general purpose machinery manufacturing",69745,1472520,7963693,43656,112251,16664411,2.81,7.55,2010]
[334,"Computer and electronic product manufacturing",757953,19167380,131720627,349541,2066459,337860603,3.3,7.83,2011]
[334,"Computer and electronic product manufacturing",751975,18259941,132193961,358903,2051434,331330304,3.13,7.9,2010]
[3341,"Computer and peripheral equipment manufacturing",35232,846929,16017103,19930,148117,28892720,2.34,10.029999999999999,2011]
[3341,"Computer and peripheral equipment manufacturing",42688,982433,20188214,21751,150601,38082707,1.94,8.32,2010]
[33411,"Computer and peripheral equipment manufacturing",35232,846929,16017103,19930,148117,28892720,2.34,10.029999999999999,2011]
[33411,"Computer and peripheral equipment manufacturing",42688,982433,20188214,21751,150601,38082707,1.94,8.32,2010]
[334111,"Electronic computer manufacturing",7719,146610,4933601,"D","D",8267416,2.34,10.029999999999999,2011]
[334111,"Electronic computer manufacturing",15991,304345,9970483,4361,34383,19001206,1.94,8.32,2010]
[334112,"Computer storage device manufacturing",11553,286043,6120277,7355,"D",10096068,2.34,10.029999999999999,2011]
[334112,"Computer storage device manufacturing",10840,274865,5488386,8780,62544,9111049,1.94,8.32,2010]
[334113,"Computer terminal manufacturing",584,11933,376935,196,"D",615676,2.34,10.029999999999999,2011]
[334113,"Computer terminal manufacturing",619,13124,375262,209,1244,618288,1.94,8.32,2010]
[334119,"Other computer peripheral equipment manufacturing",15376,402342,4586290,"D",72097,9913560,2.34,10.029999999999999,2011]
[334119,"Other computer peripheral equipment manufacturing",15238,390100,4354084,8402,52430,9352163,1.94,8.32,2010]
[3342,"Communications equipment manufacturing",83250,2937249,23434922,41294,163030,44632409,2.69,4.4800000000000004,2011]
[3342,"Communications equipment manufacturing",79541,2498836,21807114,43538,168934,42799553,2.79,6.47,2010]
[33421,"Telephone apparatus manufacturing",15806,444617,5088285,11427,29807,9049384,2.69,4.4800000000000004,2011]
[33421,"Telephone apparatus manufacturing",16124,448823,5344167,13581,31302,9124364,2.79,6.47,2010]
[334210,"Telephone apparatus manufacturing",15806,444617,5088285,11427,29807,9049384,2.69,4.4800000000000004,2011]
[334210,"Telephone apparatus manufacturing",16124,448823,5344167,13581,31302,9124364,2.79,6.47,2010]
[33422,"Radio and television broadcasting and wireless communications equipment manufacturing",54218,2225008,16270882,16172,111191,30231588,2.69,4.4800000000000004,2011]
[33422,"Radio and television broadcasting and wireless communications equipment manufacturing",49587,1761977,14405128,16675,115742,28288009,2.79,6.47,2010]
[334220,"Radio and television broadcasting and wireless communications equipment manufacturing",54218,2225008,16270882,16172,111191,30231588,2.69,4.4800000000000004,2011]
[334220,"Radio and television broadcasting and wireless communications equipment manufacturing",49587,1761977,14405128,16675,115742,28288009,2.79,6.47,2010]
[33429,"Other communications equipment manufacturing",13226,267623,2075755,13695,22033,5351437,2.69,4.4800000000000004,2011]
[33429,"Other communications equipment manufacturing",13830,288037,2057819,13283,21890,5387180,2.79,6.47,2010]
[334290,"Other communications equipment manufacturing",13226,267623,2075755,13695,22033,5351437,2.69,4.4800000000000004,2011]
[334290,"Other communications equipment manufacturing",13830,288037,2057819,13283,21890,5387180,2.79,6.47,2010]
[3343,"Audio and video equipment manufacturing",7020,128263,1181001,4710,11942,2674867,4.22,7.85,2011]
[3343,"Audio and video equipment manufacturing",6013,115080,1043365,4590,11063,2251168,4.07,8.3000000000000007,2010]
[33431,"Audio and video equipment manufacturing",7020,128263,1181001,4710,11942,2674867,4.22,7.85,2011]
[33431,"Audio and video equipment manufacturing",6013,115080,1043365,4590,11063,2251168,4.07,8.3000000000000007,2010]
[334310,"Audio and video equipment manufacturing",7020,128263,1181001,4710,11942,2674867,4.22,7.85,2011]
[334310,"Audio and video equipment manufacturing",6013,115080,1043365,4590,11063,2251168,4.07,8.3000000000000007,2010]
[3344,"Semiconductor and other electronic component manufacturing",333479,7536900,38682968,169639,1082178,123487115,4.22,7.85,2011]
[3344,"Semiconductor and other electronic component manufacturing",327164,7370811,38818885,168670,1077598,115103864,4.07,8.3000000000000007,2010]
[33441,"Semiconductor and other electronic component manufacturing",333479,7536900,38682968,169639,1082178,123487115,4.22,7.85,2011]
[33441,"Semiconductor and other electronic component manufacturing",327164,7370811,38818885,168670,1077598,115103864,4.07,8.3000000000000007,2010]
[334411,"Electron tube manufacturing",7774,210713,597027,2390,15475,1261320,4.22,7.85,2011]
[334411,"Electron tube manufacturing",7749,200362,566085,2467,17299,1316826,4.07,8.3000000000000007,2010]
[334412,"Bare printed circuit board manufacturing",37746,700027,1951970,12809,82240,4289981,4.22,7.85,2011]
[334412,"Bare printed circuit board manufacturing",37515,693417,1935142,13114,83178,4333478,4.07,8.3000000000000007,2010]
[334413,"Semiconductor and related device manufacturing",109359,3230209,17051807,109436,718742,80814398,4.22,7.85,2011]
[334413,"Semiconductor and related device manufacturing",109886,3326624,16703868,108861,724255,73442462,4.07,8.3000000000000007,2010]
[334414,"Electronic capacitor manufacturing",6991,107415,482524,2312,17589,1200289,4.22,7.85,2011]
[334414,"Electronic capacitor manufacturing",6767,98316,377208,2448,16239,1035262,4.07,8.3000000000000007,2010]
[334415,"Electronic resistor manufacturing",5320,96859,229057,1501,9015,621245,4.22,7.85,2011]
[334415,"Electronic resistor manufacturing",4704,90313,232894,1368,9135,635108,4.07,8.3000000000000007,2010]
[334416,"Electronic coil, transformer, and other inductor manufacturing",14596,238411,1113727,4008,16631,2130239,4.22,7.85,2011]
[334416,"Electronic coil, transformer, and other inductor manufacturing",13353,214057,1044509,4373,15132,1922419,4.07,8.3000000000000007,2010]
[334417,"Electronic connector manufacturing",28170,569215,1965656,7199,46114,4926723,4.22,7.85,2011]
[334417,"Electronic connector manufacturing",27121,531149,1819716,6291,40768,4557456,4.07,8.3000000000000007,2010]
[334418,"Printed circuit assembly (electronic assembly) manufacturing",71625,1308639,11987254,19788,111048,19581985,4.22,7.85,2011]
[334418,"Printed circuit assembly (electronic assembly) manufacturing",69286,1193230,13042677,19760,109383,19721401,4.07,8.3000000000000007,2010]
[334419,"Other electronic component manufacturing",51899,1075411,3303946,10195,65324,8660935,4.22,7.85,2011]
[334419,"Other electronic component manufacturing",50781,1023343,3096785,9987,62209,8139453,4.07,8.3000000000000007,2010]
[3345,"Navigational, measuring, electromedical, and control instruments manufacturing",277918,7338863,51318157,106306,625007,135271201,4.22,7.85,2011]
[3345,"Navigational, measuring, electromedical, and control instruments manufacturing",272129,6874630,49144093,111097,605189,129825942,4.07,8.3000000000000007,2010]
[33451,"Navigational, measuring, medical, and control instruments manufacturing",277918,7338863,51318157,106306,625007,135271201,4.22,7.85,2011]
[33451,"Navigational, measuring, medical, and control instruments manufacturing",272129,6874630,49144093,111097,605189,129825942,4.07,8.3000000000000007,2010]
[334510,"Electromedical and electrotherapeutic apparatus manufacturing",49197,1164399,9110463,24188,83911,25438322,4.22,7.85,2011]
[334510,"Electromedical and electrotherapeutic apparatus manufacturing",48707,1158119,9136255,23574,77545,25319398,4.07,8.3000000000000007,2010]
[334511,"Search, detection, navigation, guidance, aeronautical, and nautical system and instrument manufacturing",94032,2901539,17766732,42257,273281,52145504,4.22,7.85,2011]
[334511,"Search, detection, navigation, guidance, aeronautical, and nautical system and instrument manufacturing",91033,2624936,17584815,48118,281114,51254933,4.07,8.3000000000000007,2010]
[334512,"Automatic environmental control manufacturing for residential, commercial, and appliance use",10537,205296,1364136,3018,14161,2938005,4.22,7.85,2011]
[334512,"Automatic environmental control manufacturing for residential, commercial, and appliance use",10604,194220,1214887,2726,13171,2765964,4.07,8.3000000000000007,2010]
[334513,"Instruments and related products manufacturing for measuring, displaying, and controlling industrial process variables",29589,644865,3473460,5652,42762,9245968,4.22,7.85,2011]
[334513,"Instruments and related products manufacturing for measuring, displaying, and controlling industrial process variables",27791,578504,2949940,5520,39791,7978748,4.07,8.3000000000000007,2010]
[334514,"Totalizing fluid meter and counting device manufacturing",15097,386160,3561622,6403,27795,5904042,4.22,7.85,2011]
[334514,"Totalizing fluid meter and counting device manufacturing",15417,393495,3466490,6837,24484,5743094,4.07,8.3000000000000007,2010]
[334515,"Instrument manufacturing for measuring and testing electricity and electrical signals",20166,539510,4104355,5877,52142,9941711,4.22,7.85,2011]
[334515,"Instrument manufacturing for measuring and testing electricity and electrical signals",21685,538822,3444314,4387,52078,8955897,4.07,8.3000000000000007,2010]
[334516,"Analytical laboratory instrument manufacturing",23115,577549,4871520,7099,48448,13728536,4.22,7.85,2011]
[334516,"Analytical laboratory instrument manufacturing",22788,560789,4762735,8022,46864,13302023,4.07,8.3000000000000007,2010]
[334517,"Irradiation apparatus manufacturing",8176,210379,3100668,2564,26030,6066418,4.22,7.85,2011]
[334517,"Irradiation apparatus manufacturing",7632,192604,3083554,2370,23308,5922284,4.07,8.3000000000000007,2010]
[334518,"Watch, clock, and parts manufacturing",1768,31956,162147,462,2119,328789,4.22,7.85,2011]
[334518,"Watch, clock, and parts manufacturing",1761,30929,161855,450,2208,333780,4.07,8.3000000000000007,2010]
[334519,"Other measuring and controlling device manufacturing",26240,677209,3803054,8786,54359,9533908,4.22,7.85,2011]
[334519,"Other measuring and controlling device manufacturing",24711,602213,3339248,9092,44626,8249821,4.07,8.3000000000000007,2010]
[3346,"Manufacturing and reproducing magnetic and optical media",21053,379177,1086476,7662,36184,2902291,4.22,7.85,2011]
[3346,"Manufacturing and reproducing magnetic and optical media",24440,418151,1192291,9256,38049,3267071,4.07,8.3000000000000007,2010]
[33461,"Manufacturing and reproducing magnetic and optical media",21053,379177,1086476,7662,36184,2902291,4.22,7.85,2011]
[33461,"Manufacturing and reproducing magnetic and optical media",24440,418151,1192291,9256,38049,3267071,4.07,8.3000000000000007,2010]
[334611,"Software reproducing",3060,61113,214684,1450,3888,508698,4.22,7.85,2011]
[334611,"Software reproducing",2650,56039,229118,1557,3750,517171,4.07,8.3000000000000007,2010]
[334612,"Prerecorded compact disc (except software), tape, and record reproducing",16072,272722,691323,5211,29065,1832345,4.22,7.85,2011]
[334612,"Prerecorded compact disc (except software), tape, and record reproducing",18994,301564,656010,5113,29065,2039038,4.07,8.3000000000000007,2010]
[334613,"Magnetic and optical recording media manufacturing",1920,45342,180469,1001,3231,561248,4.22,7.85,2011]
[334613,"Magnetic and optical recording media manufacturing",2796,60548,307163,2586,5234,710862,4.07,8.3000000000000007,2010]
[335,"Electrical equipment, appliance, and component manufacturing",444360,8959932,62276536,320149,901300,120023469,2.0099999999999998,7.19,2011]
[335,"Electrical equipment, appliance, and component manufacturing",440215,8664547,55889696,320510,853487,110036235,1.91,9.0399999999999991,2010]
[3351,"Electric lighting equipment manufacturing",57873,1036249,5869301,42634,84633,11981572,2.0099999999999998,7.19,2011]
[3351,"Electric lighting equipment manufacturing",58597,1044952,5410586,43464,84744,11058738,1.91,9.0399999999999991,2010]
[33511,"Electric lamp bulb and parts manufacturing",11711,287178,1137963,20729,"D",2118755,2.0099999999999998,7.19,2011]
[33511,"Electric lamp bulb and parts manufacturing",11921,311308,1130985,"D",32058,2181283,1.91,9.0399999999999991,2010]
[335110,"Electric lamp bulb and parts manufacturing",11711,287178,1137963,20729,"D",2118755,2.0099999999999998,7.19,2011]
[335110,"Electric lamp bulb and parts manufacturing",11921,311308,1130985,"D",32058,2181283,1.91,9.0399999999999991,2010]
[33512,"Lighting fixture manufacturing",46162,749071,4731338,21905,"D",9862817,2.0099999999999998,7.19,2011]
[33512,"Lighting fixture manufacturing",46676,733644,4279601,"D",52686,8877455,1.91,9.0399999999999991,2010]
["33512M","Lighting fixture manufacturing",46162,749071,4731338,21905,"D",9862817,2.0099999999999998,7.19,2011]
["33512M","Lighting fixture manufacturing",46676,733644,4279601,"D",52686,8877455,1.91,9.0399999999999991,2010]
[3352,"Household appliance manufacturing",69822,1309190,10002149,37089,95079,17969800,2.0099999999999998,7.19,2011]
[3352,"Household appliance manufacturing",75524,1379291,10116928,36994,94624,18019808,1.91,9.0399999999999991,2010]
[33521,"Small electrical appliance manufacturing",11592,206097,1603775,3492,14654,3013027,2.0099999999999998,7.19,2011]
[33521,"Small electrical appliance manufacturing",12352,201417,1634229,4453,14025,3327209,1.91,9.0399999999999991,2010]
["33521M","Small electrical appliance manufacturing",11592,206097,1603775,3492,14654,3013027,2.0099999999999998,7.19,2011]
["33521M","Small electrical appliance manufacturing",12352,201417,1634229,4453,14025,3327209,1.91,9.0399999999999991,2010]
[33522,"Major appliance manufacturing",58230,1103093,8398374,33597,80425,14956773,2.0099999999999998,7.19,2011]
[33522,"Major appliance manufacturing",63172,1177874,8482699,32542,80599,14692599,1.91,9.0399999999999991,2010]
[335221,"Household cooking appliance manufacturing",16090,272032,2260413,10924,"D",3809552,2.0099999999999998,7.19,2011]
[335221,"Household cooking appliance manufacturing",16334,257022,2319917,10219,"D",3740373,1.91,9.0399999999999991,2010]
[335222,"Household refrigerator and home freezer manufacturing",14116,286183,"D",2929,"D",3542612,2.0099999999999998,7.19,2011]
[335222,"Household refrigerator and home freezer manufacturing",16832,352688,"D","D","D",3532133,1.91,9.0399999999999991,2010]
[335224,"Household laundry equipment manufacturing",12644,259913,"D",7374,"D",3440312,2.0099999999999998,7.19,2011]
[335224,"Household laundry equipment manufacturing",14418,279812,"D","D","D",3362027,1.91,9.0399999999999991,2010]
[335228,"Other major household appliance manufacturing",15380,284965,1981742,12370,22438,4164297,2.0099999999999998,7.19,2011]
[335228,"Other major household appliance manufacturing",15588,288352,1973850,11671,22424,4058066,1.91,9.0399999999999991,2010]
[3353,"Electrical equipment manufacturing",146297,3002011,19414213,60824,192492,38734429,2.0099999999999998,7.19,2011]
[3353,"Electrical equipment manufacturing",142900,2850068,17147778,67526,187253,35224385,1.91,9.0399999999999991,2010]
[33531,"Electrical equipment manufacturing",146297,3002011,19414213,60824,192492,38734429,2.0099999999999998,7.19,2011]
[33531,"Electrical equipment manufacturing",142900,2850068,17147778,67526,187253,35224385,1.91,9.0399999999999991,2010]
[335311,"Power, distribution, and specialty transformer manufacturing",26209,526575,3143932,18587,40351,5880583,2.0099999999999998,7.19,2011]
[335311,"Power, distribution, and specialty transformer manufacturing",23737,471913,2857500,18369,38292,5439101,1.91,9.0399999999999991,2010]
[335312,"Motor and generator manufacturing",44909,877504,5928852,22925,63053,11500234,2.0099999999999998,7.19,2011]
[335312,"Motor and generator manufacturing",44292,814649,5124634,25912,63797,10271483,1.91,9.0399999999999991,2010]
[335313,"Switchgear and switchboard apparatus manufacturing",39691,802664,5259244,11579,43006,10801629,2.0099999999999998,7.19,2011]
[335313,"Switchgear and switchboard apparatus manufacturing",39605,805887,4690392,15341,42846,9935829,1.91,9.0399999999999991,2010]
[335314,"Relay and industrial control manufacturing",35487,795267,5082184,7734,46082,10551984,2.0099999999999998,7.19,2011]
[335314,"Relay and industrial control manufacturing",35265,757618,4475251,7904,42319,9577972,1.91,9.0399999999999991,2010]
[3359,"Other electrical equipment and component manufacturing",170369,3612482,26990873,179602,529096,51337668,2.0099999999999998,7.19,2011]
[3359,"Other electrical equipment and component manufacturing",163195,3390236,23214404,172525,486865,45733304,1.91,9.0399999999999991,2010]
[33591,"Battery manufacturing",39626,894330,5598528,44805,141277,11149559,2.0099999999999998,7.19,2011]
[33591,"Battery manufacturing",38144,832886,5096714,45126,128661,10348044,1.91,9.0399999999999991,2010]
[335911,"Storage battery manufacturing",28072,648070,3569840,38805,114680,6530234,2.0099999999999998,7.19,2011]
[335911,"Storage battery manufacturing",27049,596023,3059905,39287,102135,5936693,1.91,9.0399999999999991,2010]
[335912,"Primary battery manufacturing",11554,246261,2028688,6000,26596,4619324,2.0099999999999998,7.19,2011]
[335912,"Primary battery manufacturing",11095,236864,2036810,5839,26525,4411351,1.91,9.0399999999999991,2010]
[33592,"Communication and energy wire and cable manufacturing",44909,905734,10225580,41954,141345,16095978,2.0099999999999998,7.19,2011]
[33592,"Communication and energy wire and cable manufacturing",42266,813568,8341185,37934,129908,13527719,1.91,9.0399999999999991,2010]
["33592M","Communication and energy wire and cable manufacturing",44909,905734,10225580,41954,141345,16095978,2.0099999999999998,7.19,2011]
["33592M","Communication and energy wire and cable manufacturing",42266,813568,8341185,37934,129908,13527719,1.91,9.0399999999999991,2010]
[33593,"Wiring device manufacturing",45637,856307,4646372,21222,92832,10951942,2.0099999999999998,7.19,2011]
[33593,"Wiring device manufacturing",43611,859436,4353886,20558,86919,10310862,1.91,9.0399999999999991,2010]
["33593M","Wiring device manufacturing",45637,856307,4646372,21222,92832,10951942,2.0099999999999998,7.19,2011]
["33593M","Wiring device manufacturing",43611,859436,4353886,20558,86919,10310862,1.91,9.0399999999999991,2010]
[33599,"All other electrical equipment and component manufacturing",40197,956111,6520393,71620,153642,13140190,2.0099999999999998,7.19,2011]
[33599,"All other electrical equipment and component manufacturing",39174,884346,5422619,68907,141378,11546678,1.91,9.0399999999999991,2010]
[335991,"Carbon and graphite product manufacturing",11697,271393,1680026,55608,93430,3177921,2.0099999999999998,7.19,2011]
[335991,"Carbon and graphite product manufacturing",11128,243046,1373985,54913,83136,2783241,1.91,9.0399999999999991,2010]
[335999,"All other miscellaneous electrical equipment and component manufacturing",28500,684718,4840367,16013,60212,9962269,2.0099999999999998,7.19,2011]
[335999,"All other miscellaneous electrical equipment and component manufacturing",28046,641299,4048634,13994,58242,8763438,1.91,9.0399999999999991,2010]
[336,"Transportation equipment manufacturing",1656597,44807380,433407748,1154038,3651635,690437301,2.1,6.12,2011]
[336,"Transportation equipment manufacturing",1576953,42170260,376501720,1145645,3298381,636824768,2.25,5.77,2010]
[3361,"Motor vehicle manufacturing",243234,7993908,179079486,296752,485187,233785658,2.15,4.0599999999999996,2011]
[3361,"Motor vehicle manufacturing",224938,7470579,142664272,313366,423209,207431559,2.34,4.1500000000000004,2010]
[33611,"Automobile and light duty motor vehicle manufacturing",205193,6936153,156436626,272904,441700,206870618,2.15,4.0599999999999996,2011]
[33611,"Automobile and light duty motor vehicle manufacturing",195130,6707667,127023131,281051,381186,186505401,2.34,4.1500000000000004,2010]
[336111,"Automobile manufacturing",98378,3079955,63648042,119279,215055,85126880,2.15,4.0599999999999996,2011]
[336111,"Automobile manufacturing",98452,3216274,53412698,122406,203917,74229884,2.34,4.1500000000000004,2010]
[336112,"Light truck and utility vehicle manufacturing",106815,3856198,92788584,153625,226645,121743738,2.15,4.0599999999999996,2011]
[336112,"Light truck and utility vehicle manufacturing",96678,3491393,73610433,158645,177269,112275517,2.34,4.1500000000000004,2010]
[33612,"Heavy duty truck manufacturing",38042,1057755,22642860,23847,43488,26915040,2.15,4.0599999999999996,2011]
[33612,"Heavy duty truck manufacturing",29808,762912,15641142,32315,42023,20926158,2.34,4.1500000000000004,2010]
[336120,"Heavy duty truck manufacturing",38042,1057755,22642860,23847,43488,26915040,2.15,4.0599999999999996,2011]
[336120,"Heavy duty truck manufacturing",29808,762912,15641142,32315,42023,20926158,2.34,4.1500000000000004,2010]
[3362,"Motor vehicle body and trailer manufacturing",148831,2798186,17954460,55493,116478,26739312,2.15,4.0599999999999996,2011]
[3362,"Motor vehicle body and trailer manufacturing",134313,2537429,15926232,52213,107593,24043120,2.34,4.1500000000000004,2010]
[33621,"Motor vehicle body and trailer manufacturing",148831,2798186,17954460,55493,116478,26739312,2.15,4.0599999999999996,2011]
[33621,"Motor vehicle body and trailer manufacturing",134313,2537429,15926232,52213,107593,24043120,2.34,4.1500000000000004,2010]
[336211,"Motor vehicle body manufacturing",55327,1065671,6592186,23409,50268,10101806,2.15,4.0599999999999996,2011]
[336211,"Motor vehicle body manufacturing",50885,976826,6156254,24177,46776,9636555,2.34,4.1500000000000004,2010]
[336212,"Truck trailer manufacturing",37677,662235,4319651,11100,33298,6819024,2.15,4.0599999999999996,2011]
[336212,"Truck trailer manufacturing",29589,530065,3336532,"D",28687,5149571,2.34,4.1500000000000004,2010]
[336213,"Motor home manufacturing",10021,193476,1558642,2829,6290,2192971,2.15,4.0599999999999996,2011]
[336213,"Motor home manufacturing",9958,191837,1466456,"D",6208,2114199,2.34,4.1500000000000004,2010]
[336214,"Travel trailer and camper manufacturing",45805,876804,5483981,18155,26622,7625510,2.15,4.0599999999999996,2011]
[336214,"Travel trailer and camper manufacturing",43882,838701,4966991,15605,25922,7142795,2.34,4.1500000000000004,2010]
[3363,"Motor vehicle parts manufacturing",623699,13902843,122560993,385307,1466985,184764425,2.15,4.0599999999999996,2011]
[3363,"Motor vehicle parts manufacturing",594294,12981626,106368826,402872,1393940,169218138,2.34,4.1500000000000004,2010]
[33631,"Motor vehicle gasoline engine and engine parts manufacturing",78050,1977951,16587562,52968,229552,23804666,2.15,4.0599999999999996,2011]
[33631,"Motor vehicle gasoline engine and engine parts manufacturing",72959,1799835,12730233,52349,216482,22394832,2.34,4.1500000000000004,2010]
["33631M","Motor vehicle gasoline engine and engine parts manufacturing",78050,1977951,16587562,52968,229552,23804666,2.15,4.0599999999999996,2011]
["33631M","Motor vehicle gasoline engine and engine parts manufacturing",72959,1799835,12730233,52349,216482,22394832,2.34,4.1500000000000004,2010]
[33632,"Motor vehicle electrical and electronic equipment manufacturing",55320,1156402,9333423,23194,105208,14584666,2.15,4.0599999999999996,2011]
[33632,"Motor vehicle electrical and electronic equipment manufacturing",56509,1174121,9006732,21609,104180,14995301,2.34,4.1500000000000004,2010]
["33632M","Motor vehicle electrical and electronic equipment manufacturing",55320,1156402,9333423,23194,105208,14584666,2.15,4.0599999999999996,2011]
["33632M","Motor vehicle electrical and electronic equipment manufacturing",56509,1174121,9006732,21609,104180,14995301,2.34,4.1500000000000004,2010]
[33633,"Motor vehicle steering and suspension component (except spring) manufacturing",42858,875280,7118140,28484,98390,10533383,2.15,4.0599999999999996,2011]
[33633,"Motor vehicle steering and suspension component (except spring) manufacturing",40365,815923,6268806,29468,91064,9528887,2.34,4.1500000000000004,2010]
[336330,"Motor vehicle steering and suspension component (except spring) manufacturing",42858,875280,7118140,28484,98390,10533383,2.15,4.0599999999999996,2011]
[336330,"Motor vehicle steering and suspension component (except spring) manufacturing",40365,815923,6268806,29468,91064,9528887,2.34,4.1500000000000004,2010]
[33634,"Motor vehicle brake system manufacturing",29829,574974,5949747,21449,85148,9671569,2.15,4.0599999999999996,2011]
[33634,"Motor vehicle brake system manufacturing",28577,523542,5212886,20748,80292,8636317,2.34,4.1500000000000004,2010]
[336340,"Motor vehicle brake system manufacturing",29829,574974,5949747,21449,85148,9671569,2.15,4.0599999999999996,2011]
[336340,"Motor vehicle brake system manufacturing",28577,523542,5212886,20748,80292,8636317,2.34,4.1500000000000004,2010]
[33635,"Motor vehicle transmission and power train parts manufacturing",79900,2245366,21330671,67709,231413,32406021,2.15,4.0599999999999996,2011]
[33635,"Motor vehicle transmission and power train parts manufacturing",76360,2189067,19699706,82505,229962,30151315,2.34,4.1500000000000004,2010]
[336350,"Motor vehicle transmission and power train parts manufacturing",79900,2245366,21330671,67709,231413,32406021,2.15,4.0599999999999996,2011]
[336350,"Motor vehicle transmission and power train parts manufacturing",76360,2189067,19699706,82505,229962,30151315,2.34,4.1500000000000004,2010]
[33636,"Motor vehicle seating and interior trim manufacturing",57710,1033401,13379525,15589,84961,18289424,2.15,4.0599999999999996,2011]
[33636,"Motor vehicle seating and interior trim manufacturing",57900,1002533,11415690,14935,75979,16106933,2.34,4.1500000000000004,2010]
[336360,"Motor vehicle seating and interior trim manufacturing",57710,1033401,13379525,15589,84961,18289424,2.15,4.0599999999999996,2011]
[336360,"Motor vehicle seating and interior trim manufacturing",57900,1002533,11415690,14935,75979,16106933,2.34,4.1500000000000004,2010]
[33637,"Motor vehicle metal stamping",115881,2841982,17191576,61061,282326,27515405,2.15,4.0599999999999996,2011]
[33637,"Motor vehicle metal stamping",108853,2631405,14348292,63512,259920,24924984,2.34,4.1500000000000004,2010]
[336370,"Motor vehicle metal stamping",115881,2841982,17191576,61061,282326,27515405,2.15,4.0599999999999996,2011]
[336370,"Motor vehicle metal stamping",108853,2631405,14348292,63512,259920,24924984,2.34,4.1500000000000004,2010]
[33639,"Other motor vehicle parts manufacturing",164152,3197487,31670350,114853,349988,47959291,2.15,4.0599999999999996,2011]
[33639,"Other motor vehicle parts manufacturing",152770,2845200,27686481,117746,336059,42479569,2.34,4.1500000000000004,2010]
[336391,"Motor vehicle air-conditioning manufacturing",16344,412576,3655014,9420,40524,5246200,2.15,4.0599999999999996,2011]
[336391,"Motor vehicle air-conditioning manufacturing",16540,361468,3254636,8710,37005,4777231,2.34,4.1500000000000004,2010]
[336399,"All other miscellaneous motor vehicle parts manufacturing",147808,2784910,28015336,105433,309464,42713091,2.15,4.0599999999999996,2011]
[336399,"All other miscellaneous motor vehicle parts manufacturing",136230,2483733,24431846,109036,299055,37702339,2.34,4.1500000000000004,2010]
[3364,"Aerospace product and parts manufacturing",409525,14478249,84136097,241520,1234042,183275136,1.92,9.67,2011]
[3364,"Aerospace product and parts manufacturing",395504,13769700,80646908,214105,1038507,174854671,2.06,8.23,2010]
[33641,"Aerospace product and parts manufacturing",409525,14478249,84136097,241520,1234042,183275136,1.92,9.67,2011]
[33641,"Aerospace product and parts manufacturing",395504,13769700,80646908,214105,1038507,174854671,2.06,8.23,2010]
[336411,"Aircraft manufacturing",164255,7069052,44393302,63447,513329,92896018,1.92,9.67,2011]
[336411,"Aircraft manufacturing",165512,6885540,44545188,63659,471616,91070756,2.06,8.23,2010]
[336412,"Aircraft engine and engine parts manufacturing",82145,2466733,16210901,42198,170256,32001556,1.92,9.67,2011]
[336412,"Aircraft engine and engine parts manufacturing",78688,2355870,14297273,40557,166165,29188534,2.06,8.23,2010]
[336413,"Other aircraft parts and auxiliary equipment manufacturing",125043,3635583,12743083,"D",376073,32803173,1.92,9.67,2011]
[336413,"Other aircraft parts and auxiliary equipment manufacturing",109957,3151722,11173754,"D",227153,28779790,2.06,8.23,2010]
[336414,"Guided missile and space vehicle manufacturing",23892,899252,9061685,"D","D",20332761,1.92,9.67,2011]
[336414,"Guided missile and space vehicle manufacturing",26574,966210,8863830,"D","D",20186997,2.06,8.23,2010]
[336415,"Guided missile and space vehicle propulsion unit and propulsion unit parts manufacturing",8572,286508,1312506,20220,"D",4087870,1.92,9.67,2011]
[336415,"Guided missile and space vehicle propulsion unit and propulsion unit parts manufacturing",9182,291828,1363729,22000,"D",4465081,2.06,8.23,2010]
[336419,"Other guided missile and space vehicle parts and auxiliary equipment manufacturing",5617,121123,414621,"D",21201,1153760,1.92,9.67,2011]
[336419,"Other guided missile and space vehicle parts and auxiliary equipment manufacturing",5590,118530,403135,"D",21803,1163513,2.06,8.23,2010]
[3365,"Railroad rolling stock manufacturing",37255,903333,8041572,89671,101089,13196222,0,0,2011]
[3365,"Railroad rolling stock manufacturing",31216,833857,6528929,83347,89651,11094367,0,0,2010]
[33651,"Railroad rolling stock manufacturing",37255,903333,8041572,89671,101089,13196222,0,0,2011]
[33651,"Railroad rolling stock manufacturing",31216,833857,6528929,83347,89651,11094367,0,0,2010]
[336510,"Railroad rolling stock manufacturing",37255,903333,8041572,89671,101089,13196222,0,0,2011]
[336510,"Railroad rolling stock manufacturing",31216,833857,6528929,83347,89651,11094367,0,0,2010]
[3366,"Ship and boat building",150309,3694204,10267701,62083,174753,28066807,0,0,2011]
[3366,"Ship and boat building",149080,3513550,10701350,54633,173803,27621505,0,0,2010]
[33661,"Ship and boat building",150309,3694204,10267701,62083,174753,28066807,0,0,2011]
[33661,"Ship and boat building",149080,3513550,10701350,54633,173803,27621505,0,0,2010]
[336611,"Ship building and repairing",114833,3073150,6787502,48581,135980,21938647,0,0,2011]
[336611,"Ship building and repairing",115945,2910777,7507667,41825,140147,22132053,0,0,2010]
[336612,"Boat building",35475,621054,3480199,13502,38773,6128160,0,0,2011]
[336612,"Boat building",33135,602773,3193682,12808,33656,5489452,0,0,2010]
[3369,"Other transportation equipment manufacturing",43744,1036657,11367439,23213,73100,20609741,0,0,2011]
[3369,"Other transportation equipment manufacturing",47608,1063519,13665203,25110,71677,22561410,0,0,2010]
[33699,"Other transportation equipment manufacturing",43744,1036657,11367439,23213,73100,20609741,0,0,2011]
[33699,"Other transportation equipment manufacturing",47608,1063519,13665203,25110,71677,22561410,0,0,2010]
[336991,"Motorcycle, bicycle, and parts manufacturing",13091,313042,2769229,"D",30816,6305560,0,0,2011]
[336991,"Motorcycle, bicycle, and parts manufacturing",11774,264473,2273132,10616,25124,4758709,0,0,2010]
[336992,"Military armored vehicle, tank, and tank component manufacturing",15207,398565,3968735,"D",21787,7210019,0,0,2011]
[336992,"Military armored vehicle, tank, and tank component manufacturing",21439,505486,7326476,7731,27462,11560996,0,0,2010]
[336999,"All other transportation equipment manufacturing",15446,325050,4629475,6103,20497,7094162,0,0,2011]
[336999,"All other transportation equipment manufacturing",14396,293560,4065596,6763,19091,6241705,0,0,2010]
[337,"Furniture and related product manufacturing",457303,7234016,29089689,166531,459925,61971620,2,4.46,2011]
[337,"Furniture and related product manufacturing",468217,7286845,28065336,169442,465298,59048102,2.31,4.91,2010]
[3371,"Household and institutional furniture and kitchen cabinet manufacturing",277681,4243561,15685406,89979,260956,32081229,2,4.46,2011]
[3371,"Household and institutional furniture and kitchen cabinet manufacturing",289316,4318566,15753135,91740,270888,32003699,2.31,4.91,2010]
[33711,"Wood kitchen cabinet and counter top manufacturing",102822,1621465,4211029,40637,103075,10836087,2,4.46,2011]
[33711,"Wood kitchen cabinet and counter top manufacturing",110839,1693536,4546146,39484,109133,10924139,2.31,4.91,2010]
[337110,"Wood kitchen cabinet and counter top manufacturing",102822,1621465,4211029,40637,103075,10836087,2,4.46,2011]
[337110,"Wood kitchen cabinet and counter top manufacturing",110839,1693536,4546146,39484,109133,10924139,2.31,4.91,2010]
[33712,"Household and institutional furniture manufacturing",174859,2622097,11474376,49342,157881,21245142,2,4.46,2011]
[33712,"Household and institutional furniture manufacturing",178478,2625030,11206989,52256,161755,21079559,2.31,4.91,2010]
[337121,"Upholstered household furniture manufacturing",78524,1181401,5324553,8371,48759,9214111,2,4.46,2011]
[337121,"Upholstered household furniture manufacturing",78530,1175205,5168493,9562,52096,9235624,2.31,4.91,2010]
[337122,"Nonupholstered wood household furniture manufacturing",46357,644523,2129543,16197,42325,4148721,2,4.46,2011]
[337122,"Nonupholstered wood household furniture manufacturing",47155,649619,2152787,17313,45997,4127708,2.31,4.91,2010]
[337127,"Institutional furniture manufacturing",33343,541960,2080061,14029,40814,4535723,2,4.46,2011]
[337127,"Institutional furniture manufacturing",35404,550249,2057952,15210,38943,4609975,2.31,4.91,2010]
["33712N","Other household nonupholstered furniture",16636,254213,1940220,10746,25983,3346587,2,4.46,2011]
["33712N","Other household nonupholstered furniture",17388,249957,1827757,10171,24719,3106252,2.31,4.91,2010]
[3372,"Office furniture (including fixtures) manufacturing",137653,2316570,9331959,67515,170726,21197684,2,4.46,2011]
[3372,"Office furniture (including fixtures) manufacturing",137198,2316016,8395208,68039,165344,18991336,2.31,4.91,2010]
[33721,"Office furniture (including fixtures) manufacturing",137653,2316570,9331959,67515,170726,21197684,2,4.46,2011]
[33721,"Office furniture (including fixtures) manufacturing",137198,2316016,8395208,68039,165344,18991336,2.31,4.91,2010]
[337212,"Custom architectural woodwork and millwork manufacturing",41746,780526,2234699,13809,47145,5114544,2,4.46,2011]
[337212,"Custom architectural woodwork and millwork manufacturing",42385,799027,2090910,15171,44359,4879764,2.31,4.91,2010]
[337215,"Showcase, partition, shelving, and locker manufacturing",45534,671921,3091219,27962,60937,5877567,2,4.46,2011]
[337215,"Showcase, partition, shelving, and locker manufacturing",45948,686102,2998389,27959,58321,5657156,2.31,4.91,2010]
["33721N","Office furniture manufacturing",50373,864123,4006041,25744,62644,10205572,2,4.46,2011]
["33721N","Office furniture manufacturing",48864,830888,3305910,24909,62664,8454416,2.31,4.91,2010]
[3379,"Other furniture related product manufacturing",41969,673885,4072324,9037,28243,8692707,2,4.46,2011]
[3379,"Other furniture related product manufacturing",41703,652263,3916993,9663,29066,8053067,2.31,4.91,2010]
[33791,"Mattress manufacturing",28165,484199,3235118,5890,19340,6953605,2,4.46,2011]
[33791,"Mattress manufacturing",27778,461999,3075643,5965,19738,6333542,2.31,4.91,2010]
[337910,"Mattress manufacturing",28165,484199,3235118,5890,19340,6953605,2,4.46,2011]
[337910,"Mattress manufacturing",27778,461999,3075643,5965,19738,6333542,2.31,4.91,2010]
[33792,"Blind and shade manufacturing",13804,189685,837207,3147,8902,1739102,2,4.46,2011]
[33792,"Blind and shade manufacturing",13925,190264,841349,3698,9328,1719525,2.31,4.91,2010]
[337920,"Blind and shade manufacturing",13804,189685,837207,3147,8902,1739102,2,4.46,2011]
[337920,"Blind and shade manufacturing",13925,190264,841349,3698,9328,1719525,2.31,4.91,2010]
[339,"Miscellaneous manufacturing",678912,12400365,56440031,221382,897179,156100778,3.11,9.4,2011]
[339,"Miscellaneous manufacturing",676576,12006378,53410056,229199,880265,149509491,3.24,11.31,2010]
[3391,"Medical equipment and supplies manufacturing",334768,6519152,27604279,89777,435222,89519497,3.11,9.4,2011]
[3391,"Medical equipment and supplies manufacturing",342571,6394857,26105601,91737,426146,87406574,3.24,11.31,2010]
[33911,"Medical equipment and supplies manufacturing",334768,6519152,27604279,89777,435222,89519497,3.11,9.4,2011]
[33911,"Medical equipment and supplies manufacturing",342571,6394857,26105601,91737,426146,87406574,3.24,11.31,2010]
[339112,"Surgical and medical instrument manufacturing",124339,2509032,11155512,37254,184532,36498243,3.11,9.4,2011]
[339112,"Surgical and medical instrument manufacturing",123637,2390150,10402283,38083,175511,35304920,3.24,11.31,2010]
[339113,"Surgical appliance and supplies manufacturing",114722,2143538,11658475,37405,162202,38097205,3.11,9.4,2011]
[339113,"Surgical appliance and supplies manufacturing",123117,2174896,11219108,39035,161415,37543451,3.24,11.31,2010]
[339114,"Dental equipment and supplies manufacturing",17095,313736,2040324,4460,18261,5102355,3.11,9.4,2011]
[339114,"Dental equipment and supplies manufacturing",16553,311244,1899524,4044,18020,4850072,3.24,11.31,2010]
[339115,"Ophthalmic goods manufacturing",26037,513580,1693441,5598,43000,5562844,3.11,9.4,2011]
[339115,"Ophthalmic goods manufacturing",25613,462174,1560639,5630,43202,5500938,3.24,11.31,2010]
[339116,"Dental laboratories",52576,1039265,1056527,5059,27228,4258849,3.11,9.4,2011]
[339116,"Dental laboratories",53651,1056393,1024048,4944,27997,4207192,3.24,11.31,2010]
[3399,"Other miscellaneous manufacturing",344144,5881213,28835752,131605,461957,66581281,3.11,9.4,2011]
[3399,"Other miscellaneous manufacturing",334004,5611521,27304455,137462,454120,62102918,3.24,11.31,2010]
[33991,"Jewelry and silverware manufacturing",27356,456516,4140348,9020,24129,8290006,3.11,9.4,2011]
[33991,"Jewelry and silverware manufacturing",29089,480371,4195926,9856,24380,8273666,3.24,11.31,2010]
["33991M","Jewelry and silverware manufacturing",27356,456516,4140348,9020,24129,8290006,3.11,9.4,2011]
["33991M","Jewelry and silverware manufacturing",29089,480371,4195926,9856,24380,8273666,3.24,11.31,2010]
[33992,"Sporting and athletic goods manufacturing",42394,715233,4862280,27688,69661,11191332,3.11,9.4,2011]
[33992,"Sporting and athletic goods manufacturing",42686,730140,4600456,30251,73432,10179176,3.24,11.31,2010]
[339920,"Sporting and athletic goods manufacturing",42394,715233,4862280,27688,69661,11191332,3.11,9.4,2011]
[339920,"Sporting and athletic goods manufacturing",42686,730140,4600456,30251,73432,10179176,3.24,11.31,2010]
[33993,"Doll, toy, and game manufacturing",9110,145378,951508,5221,12994,2225257,3.11,9.4,2011]
[33993,"Doll, toy, and game manufacturing",9956,157174,986983,5180,13662,2143992,3.24,11.31,2010]
["33993M","Doll, toy, and game manufacturing",9110,145378,951508,5221,12994,2225257,3.11,9.4,2011]
["33993M","Doll, toy, and game manufacturing",9956,157174,986983,5180,13662,2143992,3.24,11.31,2010]
[33994,"Office supplies (except paper) manufacturing",14377,253698,1562542,7365,22271,3773149,3.11,9.4,2011]
[33994,"Office supplies (except paper) manufacturing",14106,265928,1501850,7281,22500,3648216,3.24,11.31,2010]
["33994M","Office supplies (except paper) manufacturing",14377,253698,1562542,7365,22271,3773149,3.11,9.4,2011]
["33994M","Office supplies (except paper) manufacturing",14106,265928,1501850,7281,22500,3648216,3.24,11.31,2010]
[33995,"Sign manufacturing",73193,1275429,4534193,18134,72255,10711699,3.11,9.4,2011]
[33995,"Sign manufacturing",71114,1255549,4345292,19255,68375,10199525,3.24,11.31,2010]
[339950,"Sign manufacturing",73193,1275429,4534193,18134,72255,10711699,3.11,9.4,2011]
[339950,"Sign manufacturing",71114,1255549,4345292,19255,68375,10199525,3.24,11.31,2010]
[33999,"All other miscellaneous manufacturing",177714,3034960,12784881,64177,260646,30389837,3.11,9.4,2011]
[33999,"All other miscellaneous manufacturing",167053,2722361,11673948,65639,251770,27658343,3.24,11.31,2010]
[339991,"Gasket, packing, and sealing device manufacturing",42018,771683,2879538,18244,77767,6545540,3.11,9.4,2011]
[339991,"Gasket, packing, and sealing device manufacturing",40981,724241,2620184,20139,78943,5925293,3.24,11.31,2010]
[339992,"Musical instrument manufacturing",15593,277839,679223,4712,17014,1827703,3.11,9.4,2011]
[339992,"Musical instrument manufacturing",15846,288868,637092,5510,16430,1717576,3.24,11.31,2010]
[339993,"Fastener, button, needle, and pin manufacturing",5187,87490,277631,3730,14142,728981,3.11,9.4,2011]
[339993,"Fastener, button, needle, and pin manufacturing",5197,86256,245693,3630,13672,705627,3.24,11.31,2010]
[339994,"Broom, brush, and mop manufacturing",14017,205441,1051149,3057,17893,2636773,3.11,9.4,2011]
[339994,"Broom, brush, and mop manufacturing",14149,205234,1062708,3286,17401,2563075,3.24,11.31,2010]
[339995,"Burial casket manufacturing",5242,86707,330323,3263,8402,769366,3.11,9.4,2011]
[339995,"Burial casket manufacturing",5547,92286,315055,3584,8533,734994,3.24,11.31,2010]
[339999,"All other miscellaneous manufacturing",95657,1605800,7567017,31171,125429,17881475,3.11,9.4,2011]
[339999,"All other miscellaneous manufacturing",85333,1325475,6793217,29490,116791,16011778,3.24,11.31,2010]

{"sheet":"2012 Econ Census Data","index":155,"n_rows":366,"n_cols":11,"rows_kept":366,"cut":false,"hidden":false,"merged":[]}
["Data in the SourcingApps data base and is from the Annual Manufacturers Survey (codes 31-33), or Economic Census (published in years ending in 2 or 7) and the Quarterly Financial Report (average of four quarters, for the year selected) published by the U. S. Census Bureau."]
["2012 NAICS code","Meaning of 2012 NAICS code","Production workers annual hours (1,000)","Production workers annual wages ($1,000)","Total cost of materials ($1,000)","Cost of purchased fuels consumed ($1,000)","Cost of purchased electricity ($1,000)","Total value of shipments and receipts for services ($1,000)","Depreciation","Operating Income","Year"]
[311111,"Dog and cat food manufacturing",26496,626031,12634986,"D",109243,21993567,1.81,5.54,2012]
[311119,"Other animal food manufacturing",34871,684774,29941100,125688,192865,36391091,1.81,5.54,2012]
[311211,"Flour milling",16852,360115,10663239,33852,185277,15089219,1.81,5.54,2012]
[311212,"Rice milling",6391,118870,2734103,12042,112050,3866692,1.81,5.54,2012]
[311213,"Malt manufacturing",1374,33560,1010341,33545,"D",1358186,1.81,5.54,2012]
[311221,"Wet corn milling",8941,280800,9114690,417205,319477,12785696,1.81,5.54,2012]
[311224,"Soybean and other oilseed processing",11935,273061,32073559,214780,155351,39977004,1.81,5.54,2012]
[311225,"Fats and oils refining and blending",14669,313144,13790331,58530,54398,17650555,1.81,5.54,2012]
[311230,"Breakfast cereal manufacturing",23069,657342,5283957,51973,85934,10813489,1.81,5.54,2012]
[311313,"Beet sugar manufacturing",10998,224495,2768645,161560,"D",4599137,1.81,5.54,2012]
[311314,"Cane sugar manufacturing",10678,262312,3990038,96732,33547,5733478,1.81,5.54,2012]
[311340,"Nonchocolate confectionery manufacturing",30519,554765,3705892,26390,74944,8001784,1.81,5.54,2012]
[311351,"Chocolate and confectionery manufacturing from cacao beans",8438,193833,3130198,14545,34957,4339397,1.81,5.54,2012]
[311352,"Confectionery manufacturing from purchased chocolate",38685,764017,4501219,37381,75428,10100333,1.81,5.54,2012]
[311411,"Frozen fruit, juice, and vegetable manufacturing",57557,857123,6637222,152507,190277,12142819,1.81,5.54,2012]
[311412,"Frozen specialty food manufacturing",91087,1418392,10305509,69205,209823,17977325,1.81,5.54,2012]
[311421,"Fruit and vegetable canning",83523,1516115,13622315,208598,187178,23545078,1.81,5.54,2012]
[311422,"Specialty canning",20984,472820,4140672,69466,46460,9112994,1.81,5.54,2012]
[311423,"Dried and dehydrated food manufacturing",23309,402878,3383140,71164,55654,6437507,1.81,5.54,2012]
[311511,"Fluid milk manufacturing",66121,1499852,24128477,114775,251799,36495496,1.81,5.54,2012]
[311512,"Creamery butter manufacturing",3257,61906,2575870,11078,13567,2887438,1.81,5.54,2012]
[311513,"Cheese manufacturing",75093,1516781,33254106,180051,251847,41501790,1.81,5.54,2012]
[311514,"Dry, condensed, and evaporated dairy product manufacturing",26172,598287,12338599,131732,139059,19599526,1.81,5.54,2012]
[311520,"Ice cream and frozen dessert manufacturing",28008,605013,4363052,15486,85456,7229972,1.81,5.54,2012]
[311611,"Animal (except poultry) slaughtering",290118,4246451,76584661,225608,382936,91954454,1.81,5.54,2012]
[311612,"Meat processed from carcasses",171498,2598674,31563089,125816,340983,44711987,1.81,5.54,2012]
[311613,"Rendering and meat byproduct processing",11209,212014,2859595,195516,81702,5292863,1.81,5.54,2012]
[311615,"Poultry processing",378852,4747345,36111074,213449,553862,57344475,1.81,5.54,2012]
[311710,"Seafood product preparation and packaging",52477,834995,6663112,165145,73557,10692418,1.81,5.54,2012]
[311811,"Retail bakeries",40731,590088,1085708,22628,39014,3140696,1.81,5.54,2012]
[311812,"Commercial bakeries",154361,2693532,11119881,146558,278943,27934447,1.81,5.54,2012]
[311813,"Frozen cakes, pies, and other pastries manufacturing",31204,452241,3072504,16190,61042,5380993,1.81,5.54,2012]
[311821,"Cookie and cracker manufacturing",48156,999627,5030703,46833,72835,11489091,1.81,5.54,2012]
[311824,"Dry pasta, dough, and flour mixes manufacturing from purchased flour",33242,655230,7591973,28834,105086,12821643,1.81,5.54,2012]
[311830,"Tortilla manufacturing",27090,425473,1596744,24988,37129,3674534,1.81,5.54,2012]
[311911,"Roasted nuts and peanut butter manufacturing",28519,464492,8232639,19408,57213,11196575,1.81,5.54,2012]
[311919,"Other snack food manufacturing",42507,768692,6508983,114309,82606,20499361,1.81,5.54,2012]
[311920,"Coffee and tea manufacturing",19594,422025,7912067,36422,52303,12853090,1.81,5.54,2012]
[311930,"Flavoring syrup and concentrate manufacturing",10037,234476,2319583,11150,27474,8903307,1.81,5.54,2012]
[311941,"Mayonnaise, dressing, and other prepared sauce manufacturing",22082,435106,5424618,14304,50416,10024377,1.81,5.54,2012]
[311942,"Spice and extract manufacturing",20863,421337,5078119,19789,44423,9238711,1.81,5.54,2012]
[311991,"Perishable prepared food manufacturing",56852,791565,5574674,25426,91707,10005086,1.81,5.54,2012]
[311999,"All other miscellaneous food manufacturing",37196,705625,7060232,68556,100537,11727316,1.81,5.54,2012]
[312111,"Soft drink manufacturing",63271,1349947,28351913,68375,237071,42299209,2.91,19.97,2012]
[312112,"Bottled water manufacturing",11292,266915,2428025,16463,122591,5709394,2.91,19.97,2012]
[312113,"Ice manufacturing",3098,47296,151760,2388,46632,694992,2.91,19.97,2012]
[312120,"Breweries",31139,983311,9580395,153412,166079,28316556,2.91,19.97,2012]
[312130,"Wineries",30491,679889,6742102,36498,93095,15593651,2.91,19.97,2012]
[312140,"Distilleries",9251,226523,3346896,27886,24179,10058993,2.91,19.97,2012]
[312230,"Tobacco manufacturing",20201,567377,6532745,34289,69270,39821540,2.91,19.97,2012]
[313110,"Fiber, yarn, and thread mills",44207,629891,5493808,22786,301840,7796652,2.63,3.97,2012]
[313210,"Broadwoven fabric mills",31108,462374,2664663,25307,115299,4357346,2.63,3.97,2012]
[313220,"Narrow fabric mills and schiffli machine embroidery",10407,150872,461732,6355,14843,1006004,2.63,3.97,2012]
[313230,"Nonwoven fabric mills",25075,531551,3937537,79564,200271,8012386,2.63,3.97,2012]
[313240,"Knit fabric mills",12214,160864,976761,17529,24291,1555748,2.63,3.97,2012]
[313310,"Textile and fabric finishing mills",34657,503042,3038992,98219,91814,5190442,2.63,3.97,2012]
[313320,"Fabric coating mills",10075,185778,1494004,19726,26083,2409186,2.63,3.97,2012]
[314110,"Carpet and rug mills",44885,723590,5927834,50391,94938,9053635,2.63,3.97,2012]
[314120,"Curtain and linen mills",32327,425922,2041706,5650,17816,3741154,2.63,3.97,2012]
[314910,"Textile bag and canvas mills",27492,395042,1410400,3790,16590,2879036,2.63,3.97,2012]
[314994,"Rope, cordage, twine, tire cord, and tire fabric mills",8693,159577,1051640,7160,41091,1690915,2.63,3.97,2012]
[314999,"All other miscellaneous textile product mills",45650,631297,2229248,14562,41893,4683096,2.63,3.97,2012]
[315110,"Hosiery and sock mills",15827,193520,620067,8299,26533,1339064,2.04,9.26,2012]
[315190,"Other apparel knitting mills",4270,64457,395250,1642,3383,647866,2.04,9.26,2012]
[315210,"Cut and sew apparel contractors",57151,627216,820678,7568,18492,2216518,2.04,9.26,2012]
[315220,"Men's and boys' cut and sew apparel manufacturing",19667,229334,692491,2477,8531,1446673,2.04,9.26,2012]
[315240,"Women's, girls', and infants' cut and sew apparel manufacturing",27555,392272,2721694,2407,9327,4966643,2.04,9.26,2012]
[315280,"Other cut and sew apparel manufacturing",11463,151661,408736,955,5102,1000502,2.04,9.26,2012]
[315990,"Apparel accessories and other apparel manufacturing",11324,132842,500047,1210,4754,1121521,2.04,9.26,2012]
[316110,"Leather and hide tanning and finishing",5214,87081,1208833,8576,8843,1539518,2.04,9.26,2012]
[316210,"Footwear manufacturing",17090,242925,1090980,2275,10652,2238043,2.04,9.26,2012]
[316992,"Women's handbag and purse manufacturing",2203,34124,137463,"D",1347,312505,2.04,9.26,2012]
[316998,"All other leather good and allied product manufacturing",12706,142707,513433,2425,6738,1113332,2.04,9.26,2012]
[321113,"Sawmills",115284,2063830,11659781,145093,431731,18660920,3.58,5.0599999999999996,2012]
[321114,"Wood preservation",12332,236107,3295374,25817,35881,4326118,3.58,5.0599999999999996,2012]
[321211,"Hardwood veneer and plywood manufacturing",20211,320279,1545624,13340,42348,2549943,3.58,5.0599999999999996,2012]
[321212,"Softwood veneer and plywood manufacturing",27825,523025,2549043,40340,94792,4224776,3.58,5.0599999999999996,2012]
[321213,"Engineered wood member (except truss) manufacturing",4595,87278,626722,2435,14263,896806,3.58,5.0599999999999996,2012]
[321214,"Truss manufacturing",26181,403136,1758818,8338,16231,3073019,3.58,5.0599999999999996,2012]
[321219,"Reconstituted wood product manufacturing",21781,454607,3592805,106031,277974,6263479,3.58,5.0599999999999996,2012]
[321911,"Wood window and door manufacturing",65931,1157095,4894148,22021,91146,9276993,3.58,5.0599999999999996,2012]
[321912,"Cut stock, resawing lumber, and planing",40081,626585,3778629,28328,96152,5955404,3.58,5.0599999999999996,2012]
[321918,"Other millwork (including flooring)",41426,635386,2703650,13492,76989,4861516,3.58,5.0599999999999996,2012]
[321920,"Wood container and pallet manufacturing",77293,1027351,3709214,51655,88680,6882857,3.58,5.0599999999999996,2012]
[321991,"Manufactured home (mobile home) manufacturing",32607,453998,2092319,3676,16665,3492319,3.58,5.0599999999999996,2012]
[321992,"Prefabricated wood building manufacturing",16539,268644,1448678,5021,10067,2385601,3.58,5.0599999999999996,2012]
[321999,"All other miscellaneous wood product manufacturing",37720,567142,2742650,33836,103662,5063306,3.58,5.0599999999999996,2012]
[322110,"Pulp mills",11950,359927,2670085,235466,76264,5296239,4.6500000000000004,6.81,2012]
[322121,"Paper (except newsprint) mills",105982,3230312,20471851,1566606,1083339,44743559,4.6500000000000004,6.81,2012]
[322122,"Newsprint mills",6729,206824,1628418,110812,374601,2994886,4.6500000000000004,6.81,2012]
[322130,"Paperboard mills",60729,1932020,13670543,1454169,1064004,28545209,4.6500000000000004,6.81,2012]
[322211,"Corrugated and solid fiber box manufacturing",116045,2511813,21799158,152312,283893,33564529,4.6500000000000004,6.81,2012]
[322212,"Folding paperboard box manufacturing",63068,1304616,7408906,29662,119742,12395401,4.6500000000000004,6.81,2012]
[322219,"Other paperboard container manufacturing",36470,673017,4375931,14635,80612,7612930,4.6500000000000004,6.81,2012]
[322220,"Paper bag and coated and treated paper manufacturing",80378,1585668,12575839,114918,229718,21746110,4.6500000000000004,6.81,2012]
[322230,"Stationery product manufacturing",33550,583492,4246468,7132,67042,6873469,4.6500000000000004,6.81,2012]
[322291,"Sanitary paper product manufacturing",29518,699275,6004338,29469,133444,12539662,4.6500000000000004,6.81,2012]
[322299,"All other converted paper product manufacturing",24690,454302,2494815,34011,73454,4949078,4.6500000000000004,6.81,2012]
[323111,"Commercial printing (except screen and books)",464102,9457099,27636968,175864,861883,67111766,4.62,7.09,2012]
[323113,"Commercial screen printing",71197,1049916,3075783,16001,59699,7150854,4.62,7.09,2012]
[323117,"Books printing",36466,723923,1607652,13731,70466,4237529,4.62,7.09,2012]
[323120,"Support activities for printing",36289,735479,759906,7366,34850,3478567,4.62,7.09,2012]
[324110,"Petroleum refineries",90133,3922390,688353470,5552963,2317106,801425371,2.11,3.55,2012]
[324121,"Asphalt paving mixture and block manufacturing",21073,507615,9685947,380260,139777,13188615,2.11,3.55,2012]
[324122,"Asphalt shingle and coating materials manufacturing",14319,382900,6488119,56998,65169,10829435,2.11,3.55,2012]
[324191,"Petroleum lubricating oil and grease manufacturing",14364,394986,13623862,59392,51859,19789691,2.11,3.55,2012]
[324199,"All other petroleum and coal products manufacturing",6007,162838,3557646,65144,33387,5388224,2.11,3.55,2012]
[325110,"Petrochemical manufacturing",11588,600121,44399697,1274528,385858,82930602,3.45,7.18,2012]
[325120,"Industrial gas manufacturing",13397,432004,2983901,315463,1053537,7429052,3.45,7.18,2012]
[325130,"Synthetic dye and pigment manufacturing",12680,404820,4320300,152146,148614,9083329,3.45,7.18,2012]
[325180,"Other basic inorganic chemical manufacturing",51785,1690341,16515387,933124,1548228,36166763,3.45,7.18,2012]
[325193,"Ethyl alcohol manufacturing",16509,393087,36566360,1444075,628502,42540960,3.45,7.18,2012]
[325194,"Cyclic crude, intermediate, and gum and wood chemical manufacturing",7514,250781,5919971,126852,138994,9524957,3.45,7.18,2012]
[325199,"All other basic organic chemical manufacturing",80430,2958539,57841666,1780091,898329,89381554,3.45,7.18,2012]
[325211,"Plastics material and resin manufacturing",91835,2716981,64212039,1146238,1293025,91740963,3.45,7.18,2012]
[325212,"Synthetic rubber manufacturing",10129,314869,7033288,122719,78224,9443400,3.45,7.18,2012]
[325220,"Artificial and synthetic fibers and filaments manufacturing",22951,480819,5153159,72820,200484,8453434,3.45,7.18,2012]
[325311,"Nitrogenous fertilizer manufacturing",8072,255559,3385101,334263,175030,10008346,2.93,13.86,2012]
[325312,"Phosphatic fertilizer manufacturing",9413,267979,6909439,52051,99111,11311066,2.93,13.86,2012]
[325314,"Fertilizer (mixing only) manufacturing",10012,202102,3029902,22358,20785,5124405,2.93,13.86,2012]
[325320,"Pesticide and other agricultural chemical manufacturing",13251,355771,7553823,46662,66673,14183306,2.93,13.86,2012]
[325411,"Medicinal and botanical manufacturing",27684,757577,4541214,76953,127630,12771053,3.12,15.27,2012]
[325412,"Pharmaceutical preparation manufacturing",145953,3900675,43829822,233370,536699,140902236,3.12,15.27,2012]
[325413,"In-vitro diagnostic substance manufacturing",20597,597668,3998672,12622,48094,12960492,3.12,15.27,2012]
[325414,"Biological product (except diagnostic) manufacturing",45546,1592631,6866350,103260,142511,27027000,3.12,15.27,2012]
[325510,"Paint and coating manufacturing",39244,902076,13958023,41694,111146,24391756,2.93,13.86,2012]
[325520,"Adhesive manufacturing",24073,562231,6586781,48099,91411,11718914,2.93,13.86,2012]
[325611,"Soap and other detergent manufacturing",32040,835763,10076580,35443,86936,27792877,2.93,13.86,2012]
[325612,"Polish and other sanitation good manufacturing",17883,374758,4025266,11454,37019,9499849,2.93,13.86,2012]
[325613,"Surface active agent manufacturing",6855,237868,6494597,99184,48087,11707140,2.93,13.86,2012]
[325620,"Toilet preparation manufacturing",58908,1254223,18290168,38150,112571,41646574,2.93,13.86,2012]
[325910,"Printing ink manufacturing",12152,261351,2932400,6784,32861,4778887,2.93,13.86,2012]
[325920,"Explosives manufacturing",7849,175590,781306,3985,12404,2026747,2.93,13.86,2012]
[325991,"Custom compounding of purchased resins",23777,503836,6748196,28978,136098,10249856,2.93,13.86,2012]
[325992,"Photographic film, paper, plate, and chemical manufacturing",16256,394190,4384780,67934,72201,8840335,2.93,13.86,2012]
[325998,"All other miscellaneous chemical product and preparation manufacturing",41641,985460,11343079,138461,139569,21072958,2.93,13.86,2012]
[326111,"Plastics bag and pouch manufacturing",46369,809869,5738897,12759,163381,9614346,3.06,7.86,2012]
[326112,"Plastics packaging film and sheet (including laminated) manufacturing",49234,1123418,7488040,46975,206136,12504613,3.06,7.86,2012]
[326113,"Unlaminated plastics film and sheet (except packaging) manufacturing",54676,1176515,9886328,68046,336500,17504206,3.06,7.86,2012]
[326121,"Unlaminated plastics profile shape manufacturing",28547,552917,2597406,30827,100169,6135070,3.06,7.86,2012]
[326122,"Plastics pipe and pipe fitting manufacturing",32802,598914,5391178,8110,175148,9220295,3.06,7.86,2012]
[326130,"Laminated plastics plate, sheet (except packaging), and shape manufacturing",17091,347060,1819660,17151,51814,3597228,3.06,7.86,2012]
[326140,"Polystyrene foam product manufacturing",38260,629086,4584876,61606,153690,8465538,3.06,7.86,2012]
[326150,"Urethane and other foam product (except polystyrene) manufacturing",43658,710179,5693676,29307,78552,9609572,3.06,7.86,2012]
[326160,"Plastics bottle manufacturing",54998,986324,7516861,13685,411959,12352394,3.06,7.86,2012]
[326191,"Plastics plumbing fixture manufacturing",21109,296499,1270711,7419,27396,2962616,3.06,7.86,2012]
[326199,"All other plastics product manufacturing",506213,8362405,40037523,165163,1488503,81405166,3.06,7.86,2012]
[326211,"Tire manufacturing (except retreading)",71390,1861329,13154734,94318,231983,20320676,3.06,7.86,2012]
[326212,"Tire retreading",8763,141369,1028186,5930,19869,1503527,3.06,7.86,2012]
[326220,"Rubber and plastics hoses and belting manufacturing",27704,547352,2792358,20713,58144,5060273,3.06,7.86,2012]
[326291,"Rubber product manufacturing for mechanical use",45905,780123,4219412,27621,100101,7650021,3.06,7.86,2012]
[326299,"All other rubber product manufacturing",45206,833099,6352973,37099,121900,10697510,3.06,7.86,2012]
[327110,"Pottery, ceramics, and plumbing fixture manufacturing",18027,333869,680907,27146,32799,2148765,6.34,3.89,2012]
[327120,"Clay building material and refractories manufacturing",31022,596399,2283462,149822,103651,5113862,6.34,3.89,2012]
[327211,"Flat glass manufacturing",14569,292118,1462920,186848,127130,3089190,6.34,3.89,2012]
[327212,"Other pressed and blown glass and glassware manufacturing",24686,503773,1531592,156793,135043,3672685,6.34,3.89,2012]
[327213,"Glass container manufacturing",25887,681199,1805413,245845,230286,4972389,6.34,3.89,2012]
[327215,"Glass product manufacturing made of purchased glass",68276,1279987,5432371,66428,253328,11379046,6.34,3.89,2012]
[327310,"Cement manufacturing",19811,562499,2792079,680101,572898,5942479,6.34,3.89,2012]
[327320,"Ready-mix concrete manufacturing",114716,2402876,11110433,227311,138123,20620532,6.34,3.89,2012]
[327331,"Concrete block and brick manufacturing",19826,357963,1785724,33270,45201,3993836,6.34,3.89,2012]
[327332,"Concrete pipe manufacturing",12872,236810,882608,12022,15749,1963279,6.34,3.89,2012]
[327390,"Other concrete product manufacturing",68748,1185779,3387847,55945,69611,8603250,6.34,3.89,2012]
[327410,"Lime manufacturing",7455,194400,1028179,419210,100854,2331082,6.34,3.89,2012]
[327420,"Gypsum product manufacturing",12991,308119,2006311,205483,103912,3612832,6.34,3.89,2012]
[327910,"Abrasive product manufacturing",17578,350059,1777442,28133,59753,5177587,6.34,3.89,2012]
[327991,"Cut stone and stone product manufacturing",32042,581349,1419741,16468,32486,3509724,6.34,3.89,2012]
[327992,"Ground or treated mineral and earth manufacturing",10093,247015,1397141,85858,87554,3446588,6.34,3.89,2012]
[327993,"Mineral wool manufacturing",23085,539699,2068212,111588,207602,4821083,6.34,3.89,2012]
[327999,"All other miscellaneous nonmetallic mineral product manufacturing",14632,290154,1742747,53885,38817,4065337,6.34,3.89,2012]
[331110,"Iron and steel mills and ferroalloy manufacturing",182477,6029484,79377461,2387378,2931490,112079471,2.9,4.6399999999999997,2012]
[331210,"Iron and steel pipe and tube manufacturing from purchased steel",44503,1096950,9519321,51064,172483,14612181,2.9,4.6399999999999997,2012]
[331221,"Rolled steel shape manufacturing",10654,255319,3671180,24520,63405,5854442,2.9,4.6399999999999997,2012]
[331222,"Steel wire drawing",22503,443880,3789919,29596,90747,5604879,2.9,4.6399999999999997,2012]
[331313,"Alumina refining and primary aluminum production",15471,436303,4780053,149332,1196591,6481903,2.33,5.67,2012]
[331314,"Secondary smelting and alloying of aluminum",8944,215474,4786828,161679,87000,5804949,2.33,5.67,2012]
[331315,"Aluminum sheet, plate, and foil manufacturing",28266,789098,11692931,167930,256236,15651945,2.33,5.67,2012]
[331318,"Other aluminum rolling, drawing, and extruding",40652,783707,6056336,66049,127894,9281010,2.33,5.67,2012]
[331410,"Nonferrous metal (except aluminum) smelting and refining",15679,407267,7610202,83724,424019,15321721,2.33,5.67,2012]
[331420,"Copper rolling, drawing, extruding, and alloying",34853,738641,18314436,59725,185964,22219458,2.33,5.67,2012]
[331491,"Nonferrous metal (except copper and aluminum) rolling, drawing, extruding, and alloying",25884,662353,4843698,54779,122890,7781989,2.33,5.67,2012]
[331492,"Secondary smelting, refining, and alloying of nonferrous metal (except copper and aluminum)",16615,428047,11116090,72710,90276,15012486,2.33,5.67,2012]
[331511,"Iron foundries",70504,1431224,5363371,149604,384716,10938187,2.2999999999999998,14.56,2012]
[331512,"Steel investment foundries",25265,506582,1042260,18542,65116,3417396,2.2999999999999998,14.56,2012]
[331513,"Steel foundries (except investment)",30771,575181,2192059,36829,140251,4517271,2.2999999999999998,14.56,2012]
[331523,"Nonferrous metal die-casting foundries",52547,1007043,3626427,85237,153298,7731867,2.2999999999999998,14.56,2012]
[331524,"Aluminum foundries (except die-casting)",24743,464501,1122398,33763,60594,2791981,2.2999999999999998,14.56,2012]
[331529,"Other nonferrous metal foundries (except die-casting)",15737,313024,1202298,10355,47189,2420698,2.2999999999999998,14.56,2012]
[332111,"Iron and steel forging",36212,806343,5123795,90483,157153,9472957,2.44,8.92,2012]
[332112,"Nonferrous forging",12018,277642,1965530,53005,"D",3022229,2.44,8.92,2012]
[332114,"Custom roll forming",31471,661919,5518482,28282,95075,8330699,2.44,8.92,2012]
[332117,"Powder metallurgy part manufacturing",12523,243650,891025,16202,46251,2001585,2.44,8.92,2012]
[332119,"Metal crown, closure, and other metal stamping (except automotive)",80034,1562692,5937949,37168,123279,11660942,2.44,8.92,2012]
[332215,"Metal kitchen cookware, utensil, cutlery, and flatware (except precious) manufacturing",10997,225803,1008279,13087,23113,3791586,2.44,8.92,2012]
[332216,"Saw blade and handtool manufacturing",38710,766404,2478095,17470,65998,6101902,2.44,8.92,2012]
[332311,"Prefabricated metal building and component manufacturing",27890,526544,3650092,5809,28583,5996450,2.44,8.92,2012]
[332312,"Fabricated structural metal manufacturing",128639,2741991,15255750,47896,175502,26792043,2.44,8.92,2012]
[332313,"Plate work manufacturing",54534,1078265,3537789,18131,61601,7215038,2.44,8.92,2012]
[332321,"Metal window and door manufacturing",63715,1066421,5114938,21436,66177,9838398,2.44,8.92,2012]
[332322,"Sheet metal work manufacturing",144470,2728640,9534485,44891,138636,20091292,2.44,8.92,2012]
[332323,"Ornamental and architectural metal work manufacturing",39383,736362,2485518,13285,34693,5766812,2.44,8.92,2012]
[332410,"Power boiler and heat exchanger manufacturing",34696,789203,3260739,9945,45523,7058823,2.44,8.92,2012]
[332420,"Metal tank (heavy gauge) manufacturing",53632,1182833,4898872,24730,62709,9394490,2.44,8.92,2012]
[332431,"Metal can manufacturing",32573,876330,10246029,56240,184150,15143891,2.44,8.92,2012]
[332439,"Other metal container manufacturing",17808,311295,2023116,19261,25435,3503637,2.44,8.92,2012]
[332510,"Hardware manufacturing",34138,586826,3313784,14971,50293,7142268,2.44,8.92,2012]
[332613,"Spring manufacturing",25866,482028,2078913,16654,52539,3998962,2.44,8.92,2012]
[332618,"Other fabricated wire product manufacturing",32521,573964,2651795,15038,43852,5020235,2.44,8.92,2012]
[332710,"Machine shops",363930,7980110,13521109,88988,387012,38927421,2.44,8.92,2012]
[332721,"Precision turned product manufacturing",167534,3513265,6907191,35294,219484,18074599,2.44,8.92,2012]
[332722,"Bolt, nut, screw, rivet, and washer manufacturing",57063,1226740,4859688,33301,104516,9962877,2.44,8.92,2012]
[332811,"Metal heat treating",34578,722003,2129370,98180,142286,6263465,2.44,8.92,2012]
[332812,"Metal coating, engraving (except jewelry and silverware), and allied services to manufacturers",80891,1483377,5861461,117900,169520,13117790,2.44,8.92,2012]
[332813,"Electroplating, plating, polishing, anodizing, and coloring",82640,1410587,2593446,90418,164382,7443999,2.44,8.92,2012]
[332911,"Industrial valve manufacturing",49102,1134353,5470296,13829,87545,12515473,2.44,8.92,2012]
[332912,"Fluid power valve and hose fitting manufacturing",51720,1076190,5233027,11333,81950,10452216,2.44,8.92,2012]
[332913,"Plumbing fixture fitting and trim manufacturing",11335,205443,1942814,3718,12113,3910702,2.44,8.92,2012]
[332919,"Other metal valve and pipe fitting manufacturing",22326,448059,2360796,15391,44855,4993684,2.44,8.92,2012]
[332991,"Ball and roller bearing manufacturing",37562,799618,2984517,31077,105686,6789968,2.44,8.92,2012]
[332992,"Small arms ammunition manufacturing",17777,438754,1347954,11829,22078,3648529,2.44,8.92,2012]
[332993,"Ammunition (except small arms) manufacturing",8227,193777,1305726,"D",28222,3546848,2.44,8.92,2012]
[332994,"Small arms, ordnance, and ordnance accessories manufacturing",19461,431934,2193325,8717,36806,5853466,2.44,8.92,2012]
[332996,"Fabricated pipe and pipe fitting manufacturing",47485,968959,3994614,16472,56207,8222259,2.44,8.92,2012]
[332999,"All other miscellaneous fabricated metal product manufacturing",103519,1931487,6877669,49436,135084,14706968,2.44,8.92,2012]
[333111,"Farm machinery and equipment manufacturing",92404,1965201,20104683,43969,114418,38288499,2.33,9.15,2012]
[333112,"Lawn and garden tractor and home lawn and garden equipment manufacturing",19848,344387,5685310,9678,31686,8005085,2.33,9.15,2012]
[333120,"Construction machinery manufacturing",85983,1905741,21604991,61889,104899,43949769,2.33,9.15,2012]
[333131,"Mining machinery and equipment manufacturing",22958,535770,3391630,11507,27664,7132463,2.33,9.15,2012]
[333132,"Oil and gas field machinery and equipment manufacturing",77618,2185614,14376576,33494,99980,25544848,2.33,9.15,2012]
[333241,"Food product machinery manufacturing",18501,416281,1982168,5938,21441,4519794,2.33,9.15,2012]
[333242,"Semiconductor machinery manufacturing",10885,323051,4452631,4834,39458,10117464,2.33,9.15,2012]
[333243,"Sawmill, woodworking, and paper machinery manufacturing",14319,357874,1476399,8262,24808,3107400,2.33,9.15,2012]
[333244,"Printing machinery and equipment manufacturing",8084,184596,892815,3997,17423,1862003,2.33,9.15,2012]
[333249,"Other industrial machinery manufacturing",53453,1230359,6092022,30072,69746,12690809,2.33,9.15,2012]
[333314,"Optical instrument and lens manufacturing",19671,545813,2085866,5327,41504,4966724,2.33,9.15,2012]
[333316,"Photographic and photocopying equipment manufacturing",5642,110578,1291454,1533,6114,2154515,2.33,9.15,2012]
[333318,"Other commercial and service industry machinery manufacturing",67935,1364190,9018669,22249,85372,18140586,2.33,9.15,2012]
[333413,"Industrial and commercial fan and blower and air purification equipment manufacturing",32752,563845,2903263,11806,35908,5979291,2.33,9.15,2012]
[333414,"Heating equipment (except warm air furnaces) manufacturing",22994,430353,2326122,9863,51304,5244172,2.33,9.15,2012]
[333415,"Air-conditioning and warm air heating equipment and commercial and industrial refrigeration equipment manufacturing",128554,2432688,16406315,33201,138851,30874539,2.33,9.15,2012]
[333511,"Industrial mold manufacturing",55676,1290361,2289241,13888,100041,6129450,2.33,9.15,2012]
[333514,"Special die and tool, die set, jig, and fixture manufacturing",65355,1549036,2808545,11377,79553,7471877,2.33,9.15,2012]
[333515,"Cutting tool and machine tool accessory manufacturing",42526,908785,1865093,9162,66618,5281287,2.33,9.15,2012]
[333517,"Machine tool manufacturing",32501,808872,3595912,9580,40668,7555750,2.33,9.15,2012]
[333519,"Rolling mill and other metalworking machinery manufacturing",15627,415424,1702387,7289,21031,3314818,2.33,9.15,2012]
[333611,"Turbine and turbine generator set units manufacturing",40006,1204287,9328157,16837,78455,16278368,2.33,9.15,2012]
[333612,"Speed changer, industrial high-speed drive, and gear manufacturing",23541,531983,2199456,13454,37483,4923700,2.33,9.15,2012]
[333613,"Mechanical power transmission equipment manufacturing",21652,468308,1910905,8893,39520,4453238,2.33,9.15,2012]
[333618,"Other engine equipment manufacturing",52251,1185579,18122128,33874,122267,27830072,2.33,9.15,2012]
[333911,"Pump and pumping equipment manufacturing",44489,1082105,7339692,14228,69534,14983311,2.33,9.15,2012]
[333912,"Air and gas compressor manufacturing",25474,566812,5611540,14767,41721,10299595,2.33,9.15,2012]
[333913,"Measuring and dispensing pump manufacturing",4554,106302,610259,"D",7296,1497119,2.33,9.15,2012]
[333921,"Elevator and moving stairway manufacturing",9272,189575,1062915,3340,9123,2010232,2.33,9.15,2012]
[333922,"Conveyor and conveying equipment manufacturing",41759,830589,4042964,13666,37027,8442963,2.33,9.15,2012]
[333923,"Overhead traveling crane, hoist, and monorail system manufacturing",24002,559125,5056565,13476,22467,9264608,2.33,9.15,2012]
[333924,"Industrial truck, trailer, and stacker machinery manufacturing",30196,627293,6958849,12096,34311,11159304,2.33,9.15,2012]
[333991,"Power-driven handtool manufacturing",10752,228246,1838197,3678,16362,4087810,2.33,9.15,2012]
[333992,"Welding and soldering equipment manufacturing",17908,456817,3227558,11139,30421,5698021,2.33,9.15,2012]
[333993,"Packaging machinery manufacturing",22274,524384,2553214,5799,22680,5688617,2.33,9.15,2012]
[333994,"Industrial process furnace and oven manufacturing",13343,285678,1209890,4337,14585,2718997,2.33,9.15,2012]
[333995,"Fluid power cylinder and actuator manufacturing",30001,712011,3131423,7303,43116,6292937,2.33,9.15,2012]
[333996,"Fluid power pump and motor manufacturing",13841,344892,2013533,3661,25807,3887886,2.33,9.15,2012]
[333997,"Scale and balance manufacturing",3733,65428,341949,1245,3651,814038,2.33,9.15,2012]
[333999,"All other miscellaneous general purpose machinery manufacturing",59766,1284410,6726795,24044,88885,14760951,2.33,9.15,2012]
[334111,"Electronic computer manufacturing",8369,176320,5717298,4866,46691,9665160,2.4900000000000002,13.88,2012]
[334112,"Computer storage device manufacturing",12250,374433,6636157,"D","D",11068857,2.4900000000000002,13.88,2012]
[334118,"Computer terminal and other computer peripheral equipment manufacturing",17709,369255,5399572,10311,44273,11412405,2.4900000000000002,13.88,2012]
[334210,"Telephone apparatus manufacturing",13654,398692,4834810,7465,30972,8141840,2.67,11.28,2012]
[334220,"Radio and television broadcasting and wireless communications equipment manufacturing",63614,2630288,14484670,15921,115831,27412167,2.67,11.28,2012]
[334290,"Other communications equipment manufacturing",11960,254952,2129016,10138,18169,5020130,2.67,11.28,2012]
[334310,"Audio and video equipment manufacturing",9323,158868,1251318,2241,10542,2925323,4.2699999999999996,5.63,2012]
[334412,"Bare printed circuit board manufacturing",36522,694258,2179066,10641,70735,4477022,4.2699999999999996,5.63,2012]
[334413,"Semiconductor and related device manufacturing",103216,3115500,14057938,101194,768994,72190824,4.2699999999999996,5.63,2012]
[334416,"Capacitor, resistor, coil, transformer, and other inductor manufacturing",25948,406733,1592674,5445,39344,3479226,4.2699999999999996,5.63,2012]
[334417,"Electronic connector manufacturing",27545,587087,2159107,4967,39823,5548672,4.2699999999999996,5.63,2012]
[334418,"Printed circuit assembly (electronic assembly) manufacturing",73808,1294626,11544294,7330,86529,17710168,4.2699999999999996,5.63,2012]
[334419,"Other electronic component manufacturing",61507,1336492,4283061,16001,94815,10793667,4.2699999999999996,5.63,2012]
[334510,"Electromedical and electrotherapeutic apparatus manufacturing",57241,1294590,9237731,25826,95737,28162614,4.2699999999999996,5.63,2012]
[334511,"Search, detection, navigation, guidance, aeronautical, and nautical system and instrument manufacturing",87862,2821190,17043680,34083,257172,50279094,4.2699999999999996,5.63,2012]
[334512,"Automatic environmental control manufacturing for residential, commercial, and appliance use",11300,215388,1285542,1721,10530,2752587,4.2699999999999996,5.63,2012]
[334513,"Instruments and related products manufacturing for measuring, displaying, and controlling industrial process variables",35768,765545,4013710,8460,46052,11220463,4.2699999999999996,5.63,2012]
[334514,"Totalizing fluid meter and counting device manufacturing",14482,360227,3408628,6352,25969,6714324,4.2699999999999996,5.63,2012]
[334515,"Instrument manufacturing for measuring and testing electricity and electrical systems",24782,619652,4520398,3728,47483,11526908,4.2699999999999996,5.63,2012]
[334516,"Analytical laboratory instrument manufacturing",30722,800025,5234247,6976,52876,14472079,4.2699999999999996,5.63,2012]
[334517,"Irradiation apparatus manufacturing",8767,265357,4478597,2716,30585,9513443,4.2699999999999996,5.63,2012]
[334519,"Other measuring and controlling device manufacturing",35575,861545,4829245,7985,50958,11896245,4.2699999999999996,5.63,2012]
[334613,"Blank magnetic and optical recording media manufacturing",923,34615,75131,180,2058,298930,4.2699999999999996,5.63,2012]
[334614,"Software and other prerecorded compact disc, tape, and record reproducing",15937,282156,987019,4560,32039,2675952,4.2699999999999996,5.63,2012]
[335110,"Electric lamp bulb and part manufacturing",8509,210786,1030223,"D",22509,1892100,2.2000000000000002,7.9,2012]
[335121,"Residential electric lighting fixture manufacturing",8286,149113,531394,4621,8709,1370771,2.2000000000000002,7.9,2012]
[335122,"Commercial, industrial, and institutional electric lighting fixture manufacturing",22469,373894,2222901,5360,24448,4722032,2.2000000000000002,7.9,2012]
[335129,"Other lighting equipment manufacturing",15916,279545,1948735,5524,17607,3921925,2.2000000000000002,7.9,2012]
[335210,"Small electrical appliance manufacturing",13351,225264,1739468,3842,15845,3360190,2.2000000000000002,7.9,2012]
[335221,"Household cooking appliance manufacturing",17102,278724,2207012,7247,18843,4341667,2.2000000000000002,7.9,2012]
[335222,"Household refrigerator and home freezer manufacturing",13728,287900,2066088,3093,26038,3637500,2.2000000000000002,7.9,2012]
[335224,"Household laundry equipment manufacturing","D","D","D","D","D","D",2.2000000000000002,7.9,2012]
[335228,"Other major household appliance manufacturing",15598,298211,2016943,7517,22099,4179237,2.2000000000000002,7.9,2012]
[335311,"Power, distribution, and specialty transformer manufacturing",28119,573327,2959780,16791,40341,5784891,2.2000000000000002,7.9,2012]
[335312,"Motor and generator manufacturing",43153,873378,6604901,15932,55934,11972658,2.2000000000000002,7.9,2012]
[335313,"Switchgear and switchboard apparatus manufacturing",41907,884685,5459231,14935,40888,11288446,2.2000000000000002,7.9,2012]
[335314,"Relay and industrial control manufacturing",36394,733344,5338970,4930,36540,10321313,2.2000000000000002,7.9,2012]
[335911,"Storage battery manufacturing",31459,737161,3452212,22426,113137,6477096,2.2000000000000002,7.9,2012]
[335912,"Primary battery manufacturing",10793,239433,2037678,"D",32250,4423816,2.2000000000000002,7.9,2012]
[335921,"Fiber optic cable manufacturing",6988,159454,1123451,2089,16289,2204592,2.2000000000000002,7.9,2012]
[335929,"Other communication and energy wire manufacturing",33504,629187,8080188,13919,89993,12746600,2.2000000000000002,7.9,2012]
[335931,"Current-carrying wiring device manufacturing",32899,590817,3210722,5599,45469,6876477,2.2000000000000002,7.9,2012]
[335932,"Noncurrent-carrying wiring device manufacturing",20762,433737,2404756,11393,47594,6198087,2.2000000000000002,7.9,2012]
[335991,"Carbon and graphite product manufacturing",12861,294557,2007625,46288,96288,3563232,2.2000000000000002,7.9,2012]
[335999,"All other miscellaneous electrical equipment and component manufacturing",28959,703375,4986715,14931,57218,10588028,2.2000000000000002,7.9,2012]
[336111,"Automobile manufacturing",125644,4112227,85849112,"D",212017,108754184,1.83,4.84,2012]
[336112,"Light truck and utility vehicle manufacturing",108684,3916365,91158307,102294,199311,122174661,1.83,4.84,2012]
[336120,"Heavy duty truck manufacturing",40330,1145471,24320553,13849,41419,29530651,1.83,4.84,2012]
[336211,"Motor vehicle body manufacturing",61773,1137889,7309597,19933,51423,11174990,1.83,4.84,2012]
[336212,"Truck trailer manufacturing",46104,810821,5129923,8653,36377,7974982,1.83,4.84,2012]
[336213,"Motor home manufacturing",9749,194819,1626048,2459,6446,2243140,1.83,4.84,2012]
[336214,"Travel trailer and camper manufacturing",58927,1095580,6775848,18237,33176,10247681,1.83,4.84,2012]
[336310,"Motor vehicle gasoline engine and engine parts manufacturing",80554,2005483,21255114,47032,241686,30195963,1.83,4.84,2012]
[336320,"Motor vehicle electrical and electronic equipment manufacturing",72648,1454686,13168123,17073,124290,19484302,1.83,4.84,2012]
[336330,"Motor vehicle steering and suspension components (except spring) manufacturing",46160,858501,8115966,26559,107609,12053662,1.83,4.84,2012]
[336340,"Motor vehicle brake system manufacturing",35809,688849,6594497,13774,84829,10707327,1.83,4.84,2012]
[336350,"Motor vehicle transmission and power train parts manufacturing",98763,2558780,23337808,52534,241869,34730965,1.83,4.84,2012]
[336360,"Motor vehicle seating and interior trim manufacturing",75193,1387248,15384752,12563,85403,20731533,1.83,4.84,2012]
[336370,"Motor vehicle metal stamping",137788,3116244,18239909,42624,248699,29027004,1.83,4.84,2012]
[336390,"Other motor vehicle parts manufacturing",193242,3678866,38772678,78565,341399,57720080,1.83,4.84,2012]
[336411,"Aircraft manufacturing",176610,7481328,58922852,76319,329786,115566909,1.8,9.4,2012]
[336412,"Aircraft engine and engine parts manufacturing",100143,2813702,18242771,39401,169851,38626572,1.8,9.4,2012]
[336413,"Other aircraft parts and auxiliary equipment manufacturing",131303,3747352,14410089,92620,367618,34228192,1.8,9.4,2012]
[336414,"Guided missile and space vehicle manufacturing",23148,861269,8758411,"D","D",19286449,1.8,9.4,2012]
[336415,"Guided missile and space vehicle propulsion unit and propulsion unit parts manufacturing",8888,311447,1465455,"D",41336,4315109,1.8,9.4,2012]
[336419,"Other guided missile and space vehicle parts and auxiliary equipment manufacturing",6257,140813,487271,"D",20407,1232277,1.8,9.4,2012]
[336510,"Railroad rolling stock manufacturing",42625,1111108,11619283,33652,68266,17310129,"NA","NA",2012]
[336611,"Ship building and repairing",139806,3536311,7998955,45448,143137,24956770,"NA","NA",2012]
[336612,"Boat building",42695,757659,4108109,11916,38058,6988697,"NA","NA",2012]
[336991,"Motorcycle, bicycle, and parts manufacturing",13185,289617,2557571,5256,22790,5685045,"NA","NA",2012]
[336992,"Military armored vehicle, tank, and tank component manufacturing",10094,257508,3568911,"D","D",5560554,"NA","NA",2012]
[336999,"All other transportation equipment manufacturing",16968,354582,4844397,7938,45266,7196970,"NA","NA",2012]
[337110,"Wood kitchen cabinet and countertop manufacturing",109392,1768148,4417570,34735,98921,10749840,2.06,4.96,2012]
[337121,"Upholstered household furniture manufacturing",85592,1273354,5952389,7906,49860,10483852,2.06,4.96,2012]
[337122,"Nonupholstered wood household furniture manufacturing",45716,662149,2055818,14538,42714,4126831,2.06,4.96,2012]
[337124,"Metal household furniture manufacturing",13060,213376,1190896,8305,13175,2169132,2.06,4.96,2012]
[337125,"Household furniture (except wood and metal) manufacturing",4110,61484,612504,1150,6912,987335,2.06,4.96,2012]
[337127,"Institutional furniture manufacturing",35388,590853,2080295,12182,36670,4729458,2.06,4.96,2012]
[337211,"Wood office furniture manufacturing",22416,367986,1004959,5870,24316,2623470,2.06,4.96,2012]
[337212,"Custom architectural woodwork and millwork manufacturing",48102,923304,2473147,12651,44695,5949649,2.06,4.96,2012]
[337214,"Office furniture (except wood) manufacturing",28322,518478,3313909,19661,40256,8525478,2.06,4.96,2012]
[337215,"Showcase, partition, shelving, and locker manufacturing",48559,764919,3433845,23957,62818,6596625,2.06,4.96,2012]
[337910,"Mattress manufacturing",30044,516804,3827425,4805,19236,7999275,2.06,4.96,2012]
[337920,"Blind and shade manufacturing",12407,187465,874329,1950,8691,1765132,2.06,4.96,2012]
[339112,"Surgical and medical instrument manufacturing",128635,2581571,10979356,26110,171608,37090501,3.3,11.17,2012]
[339113,"Surgical appliance and supplies manufacturing",93525,1811634,11907888,29380,136874,37508787,3.3,11.17,2012]
[339114,"Dental equipment and supplies manufacturing",15523,306063,1963120,1897,16422,5170603,3.3,11.17,2012]
[339115,"Ophthalmic goods manufacturing",29103,529075,2688211,7166,55046,6467029,3.3,11.17,2012]
[339116,"Dental laboratories",53463,1120739,1109185,5063,24404,4731565,3.3,11.17,2012]
[339910,"Jewelry and silverware manufacturing",26593,491801,3767761,5507,21782,7619138,3.3,11.17,2012]
[339920,"Sporting and athletic goods manufacturing",40701,735619,4538726,22625,70962,10292384,3.3,11.17,2012]
[339930,"Doll, toy, and game manufacturing",7344,117748,708648,4030,11961,1631461,3.3,11.17,2012]
[339940,"Office supplies (except paper) manufacturing",11826,188346,1475191,5137,16570,2792444,3.3,11.17,2012]
[339950,"Sign manufacturing",71249,1307207,4155748,19395,57987,10498422,3.3,11.17,2012]
[339991,"Gasket, packing, and sealing device manufacturing",41657,777485,2754484,18402,70421,6555526,3.3,11.17,2012]
[339992,"Musical instrument manufacturing",16386,293271,661236,3453,16444,1789463,3.3,11.17,2012]
[339993,"Fastener, button, needle, and pin manufacturing",5380,90018,361624,4225,12559,839455,3.3,11.17,2012]
[339994,"Broom, brush, and mop manufacturing",13214,210902,1103350,2187,16465,2669441,3.3,11.17,2012]
[339995,"Burial casket manufacturing",5447,100902,290371,3955,8623,730820,3.3,11.17,2012]
[339999,"All other miscellaneous manufacturing",65174,1121188,5181865,21245,73409,13425487,3.3,11.17,2012]

{"sheet":"2013 Econ Census Data","index":156,"n_rows":654,"n_cols":11,"rows_kept":654,"cut":false,"hidden":false,"merged":[]}
["NAICS","NAICS Meaning","Production Workers HRS 1,000","Production Workers Wages $1,000","Total Cost of Materials ($1,000)","Cost of Purchased Fuels ($1,000)","Cost of Purchased Electricty  ($1,000)","Total Value of Shipments ($1,000)","Depreciation","Operating Income","YEAR"]
[]
["31-33","Manufacturing",15736107,340634768,3456983065,37580571,51131943,5846767820,2.64,7.44,"2013"]
["311","Food manufacturing",2199512,37950994,491859294,4039743,5583404,760811230,1.95,6.73,"2013"]
["3111","Animal food manufacturing",63722,1368966,44328521,207317,313137,60716313,1.95,6.73,"2013"]
["31111","Animal food manufacturing",63722,1368966,44328521,207317,313137,60716313,1.95,6.73,"2013"]
["311111","Dog and cat food manufacturing",27637,653972,13175502,81891,113807,23165019,1.95,6.73,"2013"]
[311119,"Other animal food manufacturing",36085,714994,31153019,125426,199330,37551294,1.95,6.73,"2013"]
["3112","Grain and oilseed milling",82128,2047256,74334651,880641,990355,103588735,1.95,6.73,"2013"]
["31121","Flour milling and malt manufacturing",24936,535359,14426825,79039,316352,20655032,1.95,6.73,"2013"]
["311211","Flour milling",17243,378127,10777071,36683,198459,15390278,1.95,6.73,"2013"]
["311212","Rice milling",6314,121351,2625837,11113,"D",3875261,1.95,6.73,"2013"]
["311213","Malt manufacturing",1379,35881,1023917,31243,"D",1389493,1.95,6.73,"2013"]
["31122","Starch and vegetable fats and oils manufacturing",34193,851956,54277694,751093,593957,71857618,1.95,6.73,"2013"]
["311221","Wet corn milling",8677,293527,9756295,460309,350295,13974508,1.95,6.73,"2013"]
["311224","Soybean and other oilseed processing",12644,282922,32496860,239618,194201,42107943,1.95,6.73,"2013"]
["311225","Fats and oils refining and blending",12872,275507,12024540,51167,49462,15775167,1.95,6.73,"2013"]
["31123","Breakfast cereal manufacturing",23000,659940,5630131,50508,80046,11076085,1.95,6.73,"2013"]
["311230","Breakfast cereal manufacturing",23000,659940,5630131,50508,80046,11076085,1.95,6.73,"2013"]
["3113","Sugar and confectionery product manufacturing",100336,2006317,18428755,366080,274324,33336710,1.95,6.73,"2013"]
["31131","Sugar manufacturing",22793,515824,6847478,291608,91134,10517401,1.95,6.73,"2013"]
["311313","Beet sugar manufacturing",11651,239312,2702812,184300,"D",4591848,1.95,6.73,"2013"]
["311314","Cane sugar manufacturing",11142,276512,4144666,107309,"D",5925553,1.95,6.73,"2013"]
["31134","Nonchocolate confectionery manufacturing",28032,525555,3615305,25845,71603,7610844,1.95,6.73,"2013"]
["311340","Nonchocolate confectionery manufacturing",28032,525555,3615305,25845,71603,7610844,1.95,6.73,"2013"]
["31135","Chocolate and chocolate confectionery manufacturing",49510,964938,7965973,48627,111586,15208466,1.95,6.73,"2013"]
["311351","Chocolate and confectionery manufacturing from cacao beans",8853,191021,3102493,13533,36398,4291697,1.95,6.73,"2013"]
["311352","Confectionery manufacturing from purchased chocolate",40657,773917,4863480,35094,75188,10916768,1.95,6.73,"2013"]
["3114","Fruit and vegetable preserving and specialty food manufacturing",273447,4728661,38176989,569866,690257,71236234,1.95,6.73,"2013"]
["31141","Frozen food manufacturing",148777,2335004,17112844,231577,402010,30988069,1.95,6.73,"2013"]
["311411","Frozen fruit, juice, and vegetable manufacturing",57046,840194,6702426,160575,189733,12474573,1.95,6.73,"2013"]
["311412","Frozen specialty food manufacturing",91732,1494810,10410417,71002,212277,18513496,1.95,6.73,"2013"]
["31142","Fruit and vegetable canning, pickling, and drying",124670,2393657,21064145,338289,288246,40248164,1.95,6.73,"2013"]
["311421","Fruit and vegetable canning",81742,1514966,13502838,205104,186401,23447706,1.95,6.73,"2013"]
["311422","Specialty canning",20633,472961,4308375,57152,48841,10383679,1.95,6.73,"2013"]
["311423","Dried and dehydrated food manufacturing",22295,405731,3252932,76033,53005,6416779,1.95,6.73,"2013"]
["3115","Dairy product manufacturing",197611,4405106,80982526,475128,767884,111936389,1.95,6.73,"2013"]
["31151","Dairy product (except frozen) manufacturing",170189,3789949,76583763,457769,675783,104381778,1.95,6.73,"2013"]
["311511","Fluid milk manufacturing",64827,1529905,25932563,123929,269819,37755178,1.95,6.73,"2013"]
["311512","Creamery butter manufacturing",2816,56720,2545110,7070,12816,2801766,1.95,6.73,"2013"]
["311513","Cheese manufacturing",77629,1610233,34657082,181330,244741,43132866,1.95,6.73,"2013"]
["311514","Dry, condensed, and evaporated dairy product manufacturing",24917,593092,13449008,145440,148406,20691967,1.95,6.73,"2013"]
["31152","Ice cream and frozen dessert manufacturing",27422,615156,4398763,17359,92102,7554611,1.95,6.73,"2013"]
["311520","Ice cream and frozen dessert manufacturing",27422,615156,4398763,17359,92102,7554611,1.95,6.73,"2013"]
["3116","Animal slaughtering and processing",858153,12313631,149917760,771723,1352960,205803347,1.95,6.73,"2013"]
["31161","Animal slaughtering and processing",858153,12313631,149917760,771723,1352960,205803347,1.95,6.73,"2013"]
["311611","Animal (except poultry) slaughtering",276097,4373053,79002256,233483,408066,93479120,1.95,6.73,"2013"]
["311612","Meat processed from carcasses",164673,2604177,31065740,120358,320308,45364422,1.95,6.73,"2013"]
["311613","Rendering and meat byproduct processing",11226,218746,2857773,202697,78159,5254646,1.95,6.73,"2013"]
["311615","Poultry processing",406157,5117656,36991991,215184,546427,61705158,1.95,6.73,"2013"]
["3117","Seafood product preparation and packaging",52110,868300,6733958,165596,78072,11158372,1.95,6.73,"2013"]
["31171","Seafood product preparation and packaging",52110,868300,6733958,165596,78072,11158372,1.95,6.73,"2013"]
["311710","Seafood product preparation and packaging",52110,868300,6733958,165596,78072,11158372,1.95,6.73,"2013"]
["3118","Bakeries and tortilla manufacturing",325310,5736034,29607352,295100,607150,66173164,1.95,6.73,"2013"]
["31181","Bread and bakery product manufacturing",217367,3646831,15794569,194358,392674,38690454,1.95,6.73,"2013"]
["311811","Retail bakeries",39031,600689,1069176,23927,40664,3152089,1.95,6.73,"2013"]
["311812","Commercial bakeries",144811,2556832,11719501,152920,291444,30206346,1.95,6.73,"2013"]
["311813","Frozen cakes, pies, and other pastries manufacturing",33525,489310,3005892,17511,60565,5332019,1.95,6.73,"2013"]
["31182","Cookie, cracker, and pasta manufacturing",79254,1652923,12191010,75568,175755,23618852,1.95,6.73,"2013"]
["311821","Cookie and cracker manufacturing",45108,969791,4709123,43784,70874,10718445,1.95,6.73,"2013"]
["311824","Dry pasta, dough, and flour mixes manufacturing from purchased flour",34146,683132,7481887,31784,104881,12900407,1.95,6.73,"2013"]
["31183","Tortilla manufacturing",28690,436280,1621774,25174,38722,3863858,1.95,6.73,"2013"]
["311830","Tortilla manufacturing",28690,436280,1621774,25174,38722,3863858,1.95,6.73,"2013"]
["3119","Other food manufacturing",246694,4476723,49348783,308294,509266,96861966,1.95,6.73,"2013"]
["31191","Snack food manufacturing",76265,1332627,15333761,124154,139445,32860722,1.95,6.73,"2013"]
["311911","Roasted nuts and peanut butter manufacturing",31156,513451,8564467,20136,56472,11696896,1.95,6.73,"2013"]
["311919","Other snack food manufacturing",45109,819176,6769294,104017,82973,21163826,1.95,6.73,"2013"]
["31192","Coffee and tea manufacturing",20319,444084,7416408,34990,51811,11985199,1.95,6.73,"2013"]
["311920","Coffee and tea manufacturing",20319,444084,7416408,34990,51811,11985199,1.95,6.73,"2013"]
["31193","Flavoring syrup and concentrate manufacturing",9770,231832,2261897,10895,26589,8695124,1.95,6.73,"2013"]
["311930","Flavoring syrup and concentrate manufacturing",9770,231832,2261897,10895,26589,8695124,1.95,6.73,"2013"]
["31194","Seasoning and dressing manufacturing",44228,896783,10799587,38173,95091,20229708,1.95,6.73,"2013"]
["311941","Mayonnaise, dressing, and other prepared sauce manufacturing",23314,463226,5478618,19262,50735,10034743,1.95,6.73,"2013"]
["311942","Spice and extract manufacturing",20914,433558,5320970,18912,44356,10194965,1.95,6.73,"2013"]
["31199","All other food manufacturing",96113,1571397,13537130,100081,196330,23091213,1.95,6.73,"2013"]
["311991","Perishable prepared food manufacturing",60402,873318,6129558,27970,94496,10970829,1.95,6.73,"2013"]
["311999","All other miscellaneous food manufacturing",35711,698079,7407572,72111,101834,12120384,1.95,6.73,"2013"]
["312","Beverage and tobacco product manufacturing",171211,4337214,59900837,405189,770307,147591170,2.81,20.04,"2013"]
["3121","Beverage manufacturing",151416,3810940,51669519,373346,707206,107253207,2.81,20.04,"2013"]
["31211","Soft drink and ice manufacturing",76308,1804959,30766207,154227,409191,49256158,2.81,20.04,"2013"]
["312111","Soft drink manufacturing",62199,1490117,28056542,135995,225546,42721110,2.81,20.04,"2013"]
["312112","Bottled water manufacturing",11478,271917,2566939,16228,138161,5838174,2.81,20.04,"2013"]
["312113","Ice manufacturing",2631,42925,142726,2003,45483,696873,2.81,20.04,"2013"]
["31212","Breweries",32625,1024669,10360620,163521,183063,31914162,2.81,20.04,"2013"]
["312120","Breweries",32625,1024669,10360620,163521,183063,31914162,2.81,20.04,"2013"]
["31213","Wineries",32573,738279,7099914,30305,91934,15825700,2.81,20.04,"2013"]
["312130","Wineries",32573,738279,7099914,30305,91934,15825700,2.81,20.04,"2013"]
["31214","Distilleries",9910,243033,3442779,25293,23018,10257187,2.81,20.04,"2013"]
["312140","Distilleries",9910,243033,3442779,25293,23018,10257187,2.81,20.04,"2013"]
["3122","Tobacco manufacturing",19795,526274,8231317,31843,63100,40337963,2.81,20.04,"2013"]
["31223","Tobacco manufacturing",19795,526274,8231317,31843,63100,40337963,2.81,20.04,"2013"]
["312230","Tobacco manufacturing",19795,526274,8231317,31843,63100,40337963,2.81,20.04,"2013"]
["313","Textile mills",170021,2764470,18443274,305881,773554,31283621,2.62,4.34,"2013"]
["3131","Fiber, yarn, and thread mills",45855,653955,5612664,24306,304555,8034506,2.62,4.34,"2013"]
["31311","Fiber, yarn, and thread mills",45855,653955,5612664,24306,304555,8034506,2.62,4.34,"2013"]
["313110","Fiber, yarn, and thread mills",45855,653955,5612664,24306,304555,8034506,2.62,4.34,"2013"]
["3132","Fabric mills",79628,1409976,8259503,159149,347343,15357618,2.62,4.34,"2013"]
["31321","Broadwoven fabric mills",30463,459575,2524385,22967,112628,4086841,2.62,4.34,"2013"]
["313210","Broadwoven fabric mills",30463,459575,2524385,22967,112628,4086841,2.62,4.34,"2013"]
["31322","Narrow fabric mills and schiffli machine embroidery",9842,149063,455294,5731,13159,998139,2.62,4.34,"2013"]
["313220","Narrow fabric mills and schiffli machine embroidery",9842,149063,455294,5731,13159,998139,2.62,4.34,"2013"]
["31323","Nonwoven fabric mills",27057,628644,4364055,112926,198337,8734982,2.62,4.34,"2013"]
["313230","Nonwoven fabric mills",27057,628644,4364055,112926,198337,8734982,2.62,4.34,"2013"]
["31324","Knit fabric mills",12265,172694,915768,17525,23219,1537657,2.62,4.34,"2013"]
["313240","Knit fabric mills",12265,172694,915768,17525,23219,1537657,2.62,4.34,"2013"]
["3133","Textile and fabric finishing and fabric coating mills",44538,700539,4571106,122425,121656,7891497,2.62,4.34,"2013"]
["31331","Textile and fabric finishing mills",35275,523638,3132685,102726,98704,5581707,2.62,4.34,"2013"]
["313310","Textile and fabric finishing mills",35275,523638,3132685,102726,98704,5581707,2.62,4.34,"2013"]
["31332","Fabric coating mills",9263,176902,1438421,19699,22952,2309790,2.62,4.34,"2013"]
["313320","Fabric coating mills",9263,176902,1438421,19699,22952,2309790,2.62,4.34,"2013"]
["314","Textile product mills",160707,2372819,13104055,83883,212816,22826479,2.62,4.34,"2013"]
["3141","Textile furnishings mills",77909,1176811,8160201,56487,116953,12974520,2.62,4.34,"2013"]
["31411","Carpet and rug mills",44299,742728,6162841,50182,99511,9353802,2.62,4.34,"2013"]
["314110","Carpet and rug mills",44299,742728,6162841,50182,99511,9353802,2.62,4.34,"2013"]
["31412","Curtain and linen mills",33610,434084,1997360,6306,17442,3620718,2.62,4.34,"2013"]
["314120","Curtain and linen mills",33610,434084,1997360,6306,17442,3620718,2.62,4.34,"2013"]
["3149","Other textile product mills",82798,1196008,4943854,27396,95863,9851959,2.62,4.34,"2013"]
["31491","Textile bag and canvas mills",25777,376571,1457320,4324,16455,2884025,2.62,4.34,"2013"]
["314910","Textile bag and canvas mills",25777,376571,1457320,4324,16455,2884025,2.62,4.34,"2013"]
["31499","All other textile product mills",57021,819436,3486534,23071,79408,6967935,2.62,4.34,"2013"]
["314994","Rope, cordage, twine, tire cord, and tire fabric mills",8498,152322,984031,7120,34743,1647360,2.62,4.34,"2013"]
["314999","All other miscellaneous textile product mills",48523,667114,2502503,15952,44665,5320575,2.62,4.34,"2013"]
["315","Apparel manufacturing",141224,1757032,5873459,23171,72865,12322738,2.13,9.67,"2013"]
["3151","Apparel knitting mills",20000,254726,1021637,9707,29728,2056837,2.13,9.67,"2013"]
["31511","Hosiery and sock mills",16158,193951,616517,8194,26570,1373470,2.13,9.67,"2013"]
["315110","Hosiery and sock mills",16158,193951,616517,8194,26570,1373470,2.13,9.67,"2013"]
["31519","Other apparel knitting mills",3841,60775,405120,1513,3158,683367,2.13,9.67,"2013"]
["315190","Other apparel knitting mills",3841,60775,405120,1513,3158,683367,2.13,9.67,"2013"]
["3152","Cut and sew apparel manufacturing",110361,1368257,4338429,12382,38063,9132674,2.13,9.67,"2013"]
["31521","Cut and sew apparel contractors",53425,600218,754316,6098,15188,1978762,2.13,9.67,"2013"]
["315210","Cut and sew apparel contractors",53425,600218,754316,6098,15188,1978762,2.13,9.67,"2013"]
["31522","Men's and boys' cut and sew apparel manufacturing",17282,205905,653238,2604,8499,1337849,2.13,9.67,"2013"]
["315220","Men's and boys' cut and sew apparel manufacturing",17282,205905,653238,2604,8499,1337849,2.13,9.67,"2013"]
["31524","Women's, girls', and infants' cut and sew apparel manufacturing",28119,409576,2507932,2434,9246,4803599,2.13,9.67,"2013"]
["315240","Women's, girls', and infants' cut and sew apparel manufacturing",28119,409576,2507932,2434,9246,4803599,2.13,9.67,"2013"]
["31528","Other cut and sew apparel manufacturing",11536,152558,422943,1246,5130,1012464,2.13,9.67,"2013"]
["315280","Other cut and sew apparel manufacturing",11536,152558,422943,1246,5130,1012464,2.13,9.67,"2013"]
["3159","Apparel accessories and other apparel manufacturing",10863,134048,513393,1081,5074,1133226,2.13,9.67,"2013"]
["31599","Apparel accessories and other apparel manufacturing",10863,134048,513393,1081,5074,1133226,2.13,9.67,"2013"]
["315990","Apparel accessories and other apparel manufacturing",10863,134048,513393,1081,5074,1133226,2.13,9.67,"2013"]
["316","Leather and allied product manufacturing",36822,512822,3118193,9855,31165,5295065,2.13,9.67,"2013"]
["3161","Leather and hide tanning and finishing",4958,85286,1439900,5219,12448,1846525,2.13,9.67,"2013"]
["31611","Leather and hide tanning and finishing",4958,85286,1439900,5219,12448,1846525,2.13,9.67,"2013"]
["316110","Leather and hide tanning and finishing",4958,85286,1439900,5219,12448,1846525,2.13,9.67,"2013"]
["3162","Footwear manufacturing",17184,249498,1021849,1713,10415,2036447,2.13,9.67,"2013"]
["31621","Footwear manufacturing",17184,249498,1021849,1713,10415,2036447,2.13,9.67,"2013"]
["316210","Footwear manufacturing",17184,249498,1021849,1713,10415,2036447,2.13,9.67,"2013"]
["3169","Other leather and allied product manufacturing",14681,178038,656443,2923,8302,1412094,2.13,9.67,"2013"]
["31699","Other leather and allied product manufacturing",14681,178038,656443,2923,8302,1412094,2.13,9.67,"2013"]
["316992","Women's handbag and purse manufacturing",2071,34288,121720,190,"D",292983,2.13,9.67,"2013"]
["316998","All other leather good and allied product manufacturing",12609,143750,534723,2733,"D",1119111,2.13,9.67,"2013"]
["321","Wood product manufacturing",562938,9490067,52126391,586106,1518420,88560941,3.24,8.26,"2013"]
["3211","Sawmills and wood preservation",133533,2474283,16632667,179690,509525,26684548,3.24,8.26,"2013"]
["32111","Sawmills and wood preservation",133533,2474283,16632667,179690,509525,26684548,3.24,8.26,"2013"]
["321113","Sawmills",121493,2239612,12917538,154612,470662,21858025,3.24,8.26,"2013"]
["321114","Wood preservation",12040,234672,3715130,25078,38862,4826522,3.24,8.26,"2013"]
["3212","Veneer, plywood, and engineered wood product manufacturing",108579,1990951,11684508,209358,483754,20298195,3.24,8.26,"2013"]
["32121","Veneer, plywood, and engineered wood product manufacturing",108579,1990951,11684508,209358,483754,20298195,3.24,8.26,"2013"]
["321211","Hardwood veneer and plywood manufacturing",20935,346538,1739643,15580,48444,2887930,3.24,8.26,"2013"]
["321212","Softwood veneer and plywood manufacturing",28634,548246,2793925,45722,100028,4766188,3.24,8.26,"2013"]
["321213","Engineered wood member (except truss) manufacturing",6314,121534,910548,4848,17252,1317956,3.24,8.26,"2013"]
["321214","Truss manufacturing",29061,456992,2069339,15737,18162,3634855,3.24,8.26,"2013"]
["321219","Reconstituted wood product manufacturing",23635,517640,4171053,127471,299868,7691266,3.24,8.26,"2013"]
["3219","Other wood product manufacturing",320827,5024833,23809216,197058,525142,41578199,3.24,8.26,"2013"]
["32191","Millwork",152663,2602865,12805163,70434,287861,22358212,3.24,8.26,"2013"]
["321911","Wood window and door manufacturing",68396,1240291,5303012,18416,86634,10040226,3.24,8.26,"2013"]
["321912","Cut stock, resawing lumber, and planing",39661,649684,4270637,36679,107544,6659224,3.24,8.26,"2013"]
["321918","Other millwork (including flooring)",44606,712890,3231513,15340,93682,5658762,3.24,8.26,"2013"]
["32192","Wood container and pallet manufacturing",78403,1058242,3921316,72035,93028,7216118,3.24,8.26,"2013"]
["321920","Wood container and pallet manufacturing",78403,1058242,3921316,72035,93028,7216118,3.24,8.26,"2013"]
["32199","All other wood product manufacturing",89761,1363725,7082737,54588,144253,12003868,3.24,8.26,"2013"]
["321991","Manufactured home (mobile home) manufacturing",32120,479851,2460541,4476,19434,3829761,3.24,8.26,"2013"]
["321992","Prefabricated wood building manufacturing",18848,292572,1604485,6234,13798,2640564,3.24,8.26,"2013"]
["321999","All other miscellaneous wood product manufacturing",38792,591302,3017711,43879,111021,5533544,3.24,8.26,"2013"]
["322","Paper manufacturing",564924,14024554,96043763,3865746,3573648,186242955,4.28,6.58,"2013"]
["3221","Pulp, paper, and paperboard mills",182661,6014526,38815040,3434634,2578683,82756385,4.28,6.58,"2013"]
["32211","Pulp mills",13440,447504,2639088,289644,94947,5546403,4.28,6.58,"2013"]
["322110","Pulp mills",13440,447504,2639088,289644,94947,5546403,4.28,6.58,"2013"]
["32212","Paper mills",111168,3579033,23123771,1716049,1499413,48012456,4.28,6.58,"2013"]
["322121","Paper (except newsprint) mills",105163,3388892,21683266,1624410,"D",45282522,4.28,6.58,"2013"]
["322122","Newsprint mills",6005,190141,1440505,91639,"D",2729934,4.28,6.58,"2013"]
["32213","Paperboard mills",58053,1987990,13052181,1428941,984324,29197525,4.28,6.58,"2013"]
["322130","Paperboard mills",58053,1987990,13052181,1428941,984324,29197525,4.28,6.58,"2013"]
["3222","Converted paper product manufacturing",382264,8010028,57228723,431112,994965,103486570,4.28,6.58,"2013"]
["32221","Paperboard container manufacturing",217668,4656616,32747206,224523,506188,57750011,4.28,6.58,"2013"]
["322211","Corrugated and solid fiber box manufacturing",116123,2585023,20057479,175683,292991,36288221,4.28,6.58,"2013"]
["322212","Folding paperboard box manufacturing",64385,1361557,8130891,33077,125636,13485973,4.28,6.58,"2013"]
["322219","Other paperboard container manufacturing",37160,710036,4558836,15763,87560,7975816,4.28,6.58,"2013"]
["32222","Paper bag and coated and treated paper manufacturing",77930,1589018,11995404,125530,205554,21414143,4.28,6.58,"2013"]
["322220","Paper bag and coated and treated paper manufacturing",77930,1589018,11995404,125530,205554,21414143,4.28,6.58,"2013"]
["32223","Stationery product manufacturing",33069,582180,4189473,7970,64212,6827044,4.28,6.58,"2013"]
["322230","Stationery product manufacturing",33069,582180,4189473,7970,64212,6827044,4.28,6.58,"2013"]
["32229","Other converted paper product manufacturing",53597,1182214,8296640,73089,219011,17495372,4.28,6.58,"2013"]
["322291","Sanitary paper product manufacturing",28268,702510,5651251,26106,128949,12184159,4.28,6.58,"2013"]
["322299","All other converted paper product manufacturing",25328,479704,2645388,46983,90062,5311213,4.28,6.58,"2013"]
["323","Printing and related support activities",600117,11924677,33785868,225211,1042784,82663171,4.76,8.35,"2013"]
["3231","Printing and related support activities",600117,11924677,33785868,225211,1042784,82663171,4.76,8.35,"2013"]
["32311","Printing",564690,11200294,32961203,216964,1008023,79052340,4.76,8.35,"2013"]
["323111","Commercial printing (except screen and books)",461370,9444403,28209176,186331,875155,67347469,4.76,8.35,"2013"]
["323113","Commercial screen printing",67728,1045726,3150468,15747,65737,7459261,4.76,8.35,"2013"]
["323117","Books printing",35592,710166,1601558,14886,67131,4245611,4.76,8.35,"2013"]
["32312","Support activities for printing",35427,724383,824665,8247,34762,3610831,4.76,8.35,"2013"]
["323120","Support activities for printing",35427,724383,824665,8247,34762,3610831,4.76,8.35,"2013"]
["324","Petroleum and coal products manufacturing",147836,5664715,733092585,6996420,2819802,865691037,2.1800000000000002,2.23,"2013"]
["3241","Petroleum and coal products manufacturing",147836,5664715,733092585,6996420,2819802,865691037,2.1800000000000002,2.23,"2013"]
["32411","Petroleum refineries",91537,4117580,701301814,6393932,2514952,818593243,2.1800000000000002,2.23,"2013"]
["324110","Petroleum refineries",91537,4117580,701301814,6393932,2514952,818593243,2.1800000000000002,2.23,"2013"]
["32412","Asphalt paving, roofing, and saturated materials manufacturing",36735,946969,15514401,470482,217246,23634613,2.1800000000000002,2.23,"2013"]
["324121","Asphalt paving mixture and block manufacturing",22515,567679,9186955,411249,154757,13104669,2.1800000000000002,2.23,"2013"]
["324122","Asphalt shingle and coating materials manufacturing",14220,379291,6327445,59233,62489,10529944,2.1800000000000002,2.23,"2013"]
["32419","Other petroleum and coal products manufacturing",19563,600165,16276371,132006,87604,23463181,2.1800000000000002,2.23,"2013"]
["324191","Petroleum lubricating oil and grease manufacturing",13844,433896,13241145,69380,52475,18768083,2.1800000000000002,2.23,"2013"]
["324199","All other petroleum and coal products manufacturing",5719,166269,3035226,62626,35130,4695098,2.1800000000000002,2.23,"2013"]
["325","Chemical manufacturing",885450,25285108,423462725,10102536,8743318,797827616,3.11,12.32,"2013"]
["3251","Basic chemical manufacturing",194024,6732042,177907885,7079098,5046286,280530089,3.64,7.36,"2013"]
["32511","Petrochemical manufacturing",11704,596295,54844186,1657530,402271,84878595,3.64,7.36,"2013"]
["325110","Petrochemical manufacturing",11704,596295,54844186,1657530,402271,84878595,3.64,7.36,"2013"]
["32512","Industrial gas manufacturing",12476,427820,3137951,371299,1096211,7337495,3.64,7.36,"2013"]
["325120","Industrial gas manufacturing",12476,427820,3137951,371299,1096211,7337495,3.64,7.36,"2013"]
["32513","Synthetic dye and pigment manufacturing",13050,402937,3969924,142317,150158,9206229,3.64,7.36,"2013"]
["325130","Synthetic dye and pigment manufacturing",13050,402937,3969924,142317,150158,9206229,3.64,7.36,"2013"]
["32518","Other basic inorganic chemical manufacturing",53163,1743984,15715725,1031217,1665098,33612520,3.64,7.36,"2013"]
["325180","Other basic inorganic chemical manufacturing",53163,1743984,15715725,1031217,1665098,33612520,3.64,7.36,"2013"]
["32519","Other basic organic chemical manufacturing",103631,3561006,100240099,3876734,1732549,145495249,3.64,7.36,"2013"]
["325193","Ethyl alcohol manufacturing",16093,387548,37321574,1656093,"D",45048929,3.64,7.36,"2013"]
["325194","Cyclic crude, intermediate, and gum and wood chemical manufacturing",7498,252536,5963622,122845,"D",9633635,3.64,7.36,"2013"]
["325199","All other basic organic chemical manufacturing",80040,2920923,56954903,2097795,950673,90812685,3.64,7.36,"2013"]
["3252","Resin, synthetic rubber, and artificial synthetic fibers and filaments manufacturing",124631,3532280,77436213,1750038,1581804,111265573,3.64,7.36,"2013"]
["32521","Resin and synthetic rubber manufacturing",101306,3055208,72008366,1675981,1383979,102521022,3.64,7.36,"2013"]
["325211","Plastics material and resin manufacturing",91354,2733287,66129962,1547296,1295824,94068319,3.64,7.36,"2013"]
["325212","Synthetic rubber manufacturing",9952,321921,5878404,128686,88155,8452703,3.64,7.36,"2013"]
["32522","Artificial and synthetic fibers and filaments manufacturing",23325,477072,5427847,74057,197826,8744551,3.64,7.36,"2013"]
["325220","Artificial and synthetic fibers and filaments manufacturing",23325,477072,5427847,74057,197826,8744551,3.64,7.36,"2013"]
["3253","Pesticide, fertilizer, and other agricultural chemical manufacturing",40838,1129391,23617516,384343,410382,45140299,2.98,13.3,"2013"]
["32531","Fertilizer manufacturing",26686,735954,14194095,326105,333592,28028729,2.98,13.3,"2013"]
["325311","Nitrogenous fertilizer manufacturing",7595,256513,3599727,241172,170245,8897394,2.98,13.3,"2013"]
["325312","Phosphatic fertilizer manufacturing",9254,268264,7307146,61940,142563,13977620,2.98,13.3,"2013"]
["325314","Fertilizer (mixing only) manufacturing",9836,211178,3287222,22994,20784,5153716,2.98,13.3,"2013"]
["32532","Pesticide and other agricultural chemical manufacturing",14152,393437,9423422,58238,76790,17111569,2.98,13.3,"2013"]
["325320","Pesticide and other agricultural chemical manufacturing",14152,393437,9423422,58238,76790,17111569,2.98,13.3,"2013"]
["3254","Pharmaceutical and medicine manufacturing",246156,7367844,57015017,349419,806807,187517489,2.75,15.84,"2013"]
["32541","Pharmaceutical and medicine manufacturing",246156,7367844,57015017,349419,806807,187517489,2.75,15.84,"2013"]
["325411","Medicinal and botanical manufacturing",31381,841678,4871326,81650,130044,12952658,2.75,15.84,"2013"]
["325412","Pharmaceutical preparation manufacturing",147755,4137909,41608442,164529,473637,135146482,2.75,15.84,"2013"]
["325413","In-vitro diagnostic substance manufacturing",24030,780227,4167002,18504,56162,13896714,2.75,15.84,"2013"]
["325414","Biological product (except diagnostic) manufacturing",42991,1608030,6368246,84736,146964,25521635,2.75,15.84,"2013"]
["3255","Paint, coating, and adhesive manufacturing",65404,1543399,21683919,98890,203092,38203519,2.98,13.3,"2013"]
["32551","Paint and coating manufacturing",39895,954447,15090027,47583,111343,26665812,2.98,13.3,"2013"]
["325510","Paint and coating manufacturing",39895,954447,15090027,47583,111343,26665812,2.98,13.3,"2013"]
["32552","Adhesive manufacturing",25509,588953,6593891,51307,91748,11537707,2.98,13.3,"2013"]
["325520","Adhesive manufacturing",25509,588953,6593891,51307,91748,11537707,2.98,13.3,"2013"]
["3256","Soap, cleaning compound, and toilet preparation manufacturing",115708,2691439,41701219,196080,280517,90155826,2.98,13.3,"2013"]
["32561","Soap and cleaning compound manufacturing",54961,1396126,22656855,156442,172139,47261732,2.98,13.3,"2013"]
["325611","Soap and other detergent manufacturing",31201,786973,11820236,42424,91600,26292195,2.98,13.3,"2013"]
["325612","Polish and other sanitation good manufacturing",17288,382587,4254386,12483,36422,8920603,2.98,13.3,"2013"]
["325613","Surface active agent manufacturing",6472,226566,6582234,101535,44118,12048935,2.98,13.3,"2013"]
["32562","Toilet preparation manufacturing",60748,1295313,19044364,39638,108378,42894093,2.98,13.3,"2013"]
["325620","Toilet preparation manufacturing",60748,1295313,19044364,39638,108378,42894093,2.98,13.3,"2013"]
["3259","Other chemical product and preparation manufacturing",98689,2288712,24100956,244667,414430,45014822,2.98,13.3,"2013"]
["32591","Printing ink manufacturing",12074,256895,2920637,8499,34608,5201210,2.98,13.3,"2013"]
["325910","Printing ink manufacturing",12074,256895,2920637,8499,34608,5201210,2.98,13.3,"2013"]
["32592","Explosives manufacturing",6422,145419,738611,15500,14129,1760853,2.98,13.3,"2013"]
["325920","Explosives manufacturing",6422,145419,738611,15500,14129,1760853,2.98,13.3,"2013"]
["32599","All other chemical product and preparation manufacturing",80193,1886398,20441708,220669,365692,38052758,2.98,13.3,"2013"]
["325991","Custom compounding of purchased resins",24590,503309,7156595,30452,146649,10756455,2.98,13.3,"2013"]
["325992","Photographic film, paper, plate, and chemical manufacturing",14211,383976,3924665,47621,70729,7852112,2.98,13.3,"2013"]
["325998","All other miscellaneous chemical product and preparation manufacturing",41392,999114,9360447,142596,148315,19444192,2.98,13.3,"2013"]
["326","Plastics and rubber products manufacturing",1109644,20244117,123140787,693084,3806447,227103649,2.97,8.15,"2013"]
["3261","Plastics product manufacturing",905610,15962716,96508363,503546,3278989,182848013,2.97,8.15,"2013"]
["32611","Plastics packaging materials and unlaminated film and sheet manufacturing",153248,3192374,24408471,149262,734025,42547485,2.97,8.15,"2013"]
["326111","Plastics bag and pouch manufacturing",43464,733022,5701145,12340,163285,9596743,2.97,8.15,"2013"]
["326112","Plastics packaging film and sheet (including laminated) manufacturing",51788,1201982,8079778,42578,219888,13265232,2.97,8.15,"2013"]
["326113","Unlaminated plastics film and sheet (except packaging) manufacturing",57996,1257369,10627548,94345,350852,19685510,2.97,8.15,"2013"]
["32612","Plastics pipe, pipe fitting, and unlaminated profile shape manufacturing",62652,1163129,8875669,41158,298288,16735199,2.97,8.15,"2013"]
["326121","Unlaminated plastics profile shape manufacturing",29140,549666,3008350,33684,98252,6938766,2.97,8.15,"2013"]
["326122","Plastics pipe and pipe fitting manufacturing",33512,613464,5867319,7474,200035,9796433,2.97,8.15,"2013"]
["32613","Laminated plastics plate, sheet (except packaging), and shape manufacturing",15135,297033,1697389,16762,43991,3368295,2.97,8.15,"2013"]
["326130","Laminated plastics plate, sheet (except packaging), and shape manufacturing",15135,297033,1697389,16762,43991,3368295,2.97,8.15,"2013"]
["32614","Polystyrene foam product manufacturing",38628,663487,4919659,71272,153140,9245101,2.97,8.15,"2013"]
["326140","Polystyrene foam product manufacturing",38628,663487,4919659,71272,153140,9245101,2.97,8.15,"2013"]
["32615","Urethane and other foam product (except polystyrene) manufacturing",43985,708021,6009282,33054,80501,10047653,2.97,8.15,"2013"]
["326150","Urethane and other foam product (except polystyrene) manufacturing",43985,708021,6009282,33054,80501,10047653,2.97,8.15,"2013"]
["32616","Plastics bottle manufacturing",53438,985446,7551890,15076,407801,12259177,2.97,8.15,"2013"]
["326160","Plastics bottle manufacturing",53438,985446,7551890,15076,407801,12259177,2.97,8.15,"2013"]
["32619","Other plastics product manufacturing",538525,8953226,43046002,176961,1561244,88645103,2.97,8.15,"2013"]
["326191","Plastics plumbing fixture manufacturing",23325,315665,1449807,8948,34886,3300454,2.97,8.15,"2013"]
["326199","All other plastics product manufacturing",515200,8637561,41596194,168013,1526358,85344649,2.97,8.15,"2013"]
["3262","Rubber product manufacturing",204034,4281401,26632423,189539,527458,44255636,2.97,8.15,"2013"]
["32621","Tire manufacturing",80790,2046373,13288086,97497,233455,20308888,2.97,8.15,"2013"]
["326211","Tire manufacturing (except retreading)",71917,1899813,12073899,90929,212432,18531999,2.97,8.15,"2013"]
["326212","Tire retreading",8873,146561,1214187,6567,21022,1776888,2.97,8.15,"2013"]
["32622","Rubber and plastics hoses and belting manufacturing",29520,570626,2689637,24144,64055,5215612,2.97,8.15,"2013"]
["326220","Rubber and plastics hoses and belting manufacturing",29520,570626,2689637,24144,64055,5215612,2.97,8.15,"2013"]
["32629","Other rubber product manufacturing",93724,1664401,10654700,67898,229949,18731136,2.97,8.15,"2013"]
["326291","Rubber product manufacturing for mechanical use",47617,791517,4256736,28512,103400,7620717,2.97,8.15,"2013"]
["326299","All other rubber product manufacturing",46107,872884,6397965,39385,126549,11110419,2.97,8.15,"2013"]
["327","Nonmetallic mineral product manufacturing",552958,11425213,47123524,2899417,2427320,105501997,6.07,5.8,"2013"]
["3271","Clay product and refractory manufacturing",49342,959389,3048286,194531,139861,7468926,6.07,5.8,"2013"]
["32711","Pottery, ceramics, and plumbing fixture manufacturing",17913,343896,728302,29631,34155,2142408,6.07,5.8,"2013"]
["327110","Pottery, ceramics, and plumbing fixture manufacturing",17913,343896,728302,29631,34155,2142408,6.07,5.8,"2013"]
["32712","Clay building material and refractories manufacturing",31429,615493,2319984,164901,105706,5326518,6.07,5.8,"2013"]
["327120","Clay building material and refractories manufacturing",31429,615493,2319984,164901,105706,5326518,6.07,5.8,"2013"]
["3272","Glass and glass product manufacturing",135512,2837843,10352184,639379,744419,23719093,6.07,5.8,"2013"]
["32721","Glass and glass product manufacturing",135512,2837843,10352184,639379,744419,23719093,6.07,5.8,"2013"]
["327211","Flat glass manufacturing",15423,312743,1532343,218697,125627,3257704,6.07,5.8,"2013"]
["327212","Other pressed and blown glass and glassware manufacturing",23936,513338,1538313,149046,132658,3701040,6.07,5.8,"2013"]
["327213","Glass container manufacturing",25362,687104,1642106,220173,225932,5128998,6.07,5.8,"2013"]
["327215","Glass product manufacturing made of purchased glass",70791,1324658,5639421,51464,260202,11631352,6.07,5.8,"2013"]
["3273","Cement and concrete product manufacturing",243758,4966390,21293225,1074749,899904,44004525,6.07,5.8,"2013"]
["32731","Cement manufacturing",20414,576567,3185356,735716,627544,6777393,6.07,5.8,"2013"]
["327310","Cement manufacturing",20414,576567,3185356,735716,627544,6777393,6.07,5.8,"2013"]
["32732","Ready-mix concrete manufacturing",115147,2463862,11550432,227177,128625,21438150,6.07,5.8,"2013"]
["327320","Ready-mix concrete manufacturing",115147,2463862,11550432,227177,128625,21438150,6.07,5.8,"2013"]
["32733","Concrete pipe, brick, and block manufacturing",33713,628840,2774317,54953,66020,6233874,6.07,5.8,"2013"]
["327331","Concrete block and brick manufacturing",19844,381493,1872583,43626,49322,4133556,6.07,5.8,"2013"]
["327332","Concrete pipe manufacturing",13869,247347,901734,11327,16697,2100318,6.07,5.8,"2013"]
["32739","Other concrete product manufacturing",74484,1297122,3783120,56904,77715,9555109,6.07,5.8,"2013"]
["327390","Other concrete product manufacturing",74484,1297122,3783120,56904,77715,9555109,6.07,5.8,"2013"]
["3274","Lime and gypsum product manufacturing",21042,542178,3334293,635388,204263,6817732,6.07,5.8,"2013"]
["32741","Lime manufacturing",7541,206714,1061212,415496,102771,2443792,6.07,5.8,"2013"]
["327410","Lime manufacturing",7541,206714,1061212,415496,102771,2443792,6.07,5.8,"2013"]
["32742","Gypsum product manufacturing",13501,335464,2273081,219892,101492,4373940,6.07,5.8,"2013"]
["327420","Gypsum product manufacturing",13501,335464,2273081,219892,101492,4373940,6.07,5.8,"2013"]
["3279","Other nonmetallic mineral product manufacturing",103305,2119414,9095535,355369,438873,23491720,6.07,5.8,"2013"]
["32791","Abrasive product manufacturing",18062,377917,1677540,40434,60668,5464951,6.07,5.8,"2013"]
["327910","Abrasive product manufacturing",18062,377917,1677540,40434,60668,5464951,6.07,5.8,"2013"]
["32799","All other nonmetallic mineral product manufacturing",85243,1741497,7417995,314935,378205,18026769,6.07,5.8,"2013"]
["327991","Cut stone and stone product manufacturing",34252,630474,1679887,21047,36844,4063391,6.07,5.8,"2013"]
["327992","Ground or treated mineral and earth manufacturing",10241,256833,1445299,105677,89272,3787423,6.07,5.8,"2013"]
["327993","Mineral wool manufacturing",24224,546010,2347129,118783,214127,5661814,6.07,5.8,"2013"]
["327999","All other miscellaneous nonmetallic mineral product manufacturing",16526,308180,1945680,69428,37962,4514142,6.07,5.8,"2013"]
["331","Primary metal manufacturing",653392,16456829,173563219,3716125,6501221,262186646,3.7,5.68,"2013"]
["3311","Iron and steel mills and ferroalloy manufacturing",178612,5857958,73955530,2420748,2922121,107612147,2.4900000000000002,3.46,"2013"]
["33111","Iron and steel mills and ferroalloy manufacturing",178612,5857958,73955530,2420748,2922121,107612147,2.4900000000000002,3.46,"2013"]
["331110","Iron and steel mills and ferroalloy manufacturing",178612,5857958,73955530,2420748,2922121,107612147,2.4900000000000002,3.46,"2013"]
["3312","Steel product manufacturing from purchased steel",76689,1778391,16168317,117778,366513,24537357,2.4900000000000002,3.46,"2013"]
["33121","Iron and steel pipe and tube manufacturing from purchased steel",44357,1090931,9237931,65642,210369,13818112,2.4900000000000002,3.46,"2013"]
["331210","Iron and steel pipe and tube manufacturing from purchased steel",44357,1090931,9237931,65642,210369,13818112,2.4900000000000002,3.46,"2013"]
["33122","Rolling and drawing of purchased steel",32332,687460,6930386,52136,156144,10719245,2.4900000000000002,3.46,"2013"]
["331221","Rolled steel shape manufacturing",10251,242967,3172499,22437,61807,5226812,2.4900000000000002,3.46,"2013"]
["331222","Steel wire drawing",22081,444493,3757887,29699,94337,5492433,2.4900000000000002,3.46,"2013"]
["3313","Alumina and aluminum production and processing",94727,2299060,27626921,581967,1630561,38627771,4.5999999999999996,6.04,"2013"]
["33131","Alumina and aluminum production and processing",94727,2299060,27626921,581967,1630561,38627771,4.5999999999999996,6.04,"2013"]
["331313","Alumina refining and primary aluminum production",15517,437816,4188873,151014,1119829,6155165,4.5999999999999996,6.04,"2013"]
["331314","Secondary smelting and alloying of aluminum",9101,231452,5023832,170908,101685,6149016,4.5999999999999996,6.04,"2013"]
["331315","Aluminum sheet, plate, and foil manufacturing",28972,837568,12074968,191071,274325,16514115,4.5999999999999996,6.04,"2013"]
["331318","Other aluminum rolling, drawing, and extruding",41137,792224,6339248,68974,134722,9809475,4.5999999999999996,6.04,"2013"]
["3314","Nonferrous metal (except aluminum) production and processing",90033,2179437,41652098,275639,736136,59311174,4.5999999999999996,6.04,"2013"]
["33141","Nonferrous metal (except aluminum) smelting and refining",14206,404002,8192123,95840,371404,14476322,4.5999999999999996,6.04,"2013"]
["331410","Nonferrous metal (except aluminum) smelting and refining",14206,404002,8192123,95840,371404,14476322,4.5999999999999996,6.04,"2013"]
["33142","Copper rolling, drawing, extruding, and alloying",33895,717210,18006054,52045,152308,22735229,4.5999999999999996,6.04,"2013"]
["331420","Copper rolling, drawing, extruding, and alloying",33895,717210,18006054,52045,152308,22735229,4.5999999999999996,6.04,"2013"]
["33149","Nonferrous metal (except copper and aluminum) rolling, drawing, extruding, and alloying",41932,1058224,15453922,127754,212425,22099623,4.5999999999999996,6.04,"2013"]
["331491","Nonferrous metal (except copper and aluminum) rolling, drawing, extruding, and alloying",26320,659473,4472143,54270,127237,7904905,4.5999999999999996,6.04,"2013"]
["331492","Secondary smelting, refining, and alloying of nonferrous metal (except copper and aluminum)",15612,398752,10981779,73484,85188,14194717,4.5999999999999996,6.04,"2013"]
["3315","Foundries",213331,4341983,14160352,319993,845889,32098197,2.59,16.48,"2013"]
["33151","Ferrous metal foundries",117536,2476707,8109613,186632,572108,18761398,2.59,16.48,"2013"]
["331511","Iron foundries",66270,1407009,5045357,129164,386169,10710842,2.59,16.48,"2013"]
["331512","Steel investment foundries",22988,520674,1011359,17803,65006,3535194,2.59,16.48,"2013"]
["331513","Steel foundries (except investment)",28279,549025,2052897,39665,120933,4515362,2.59,16.48,"2013"]
["33152","Nonferrous metal foundries",95795,1865276,6050739,133362,273781,13336799,2.59,16.48,"2013"]
["331523","Nonferrous metal die-casting foundries",54608,1086146,3656280,86819,159688,7986908,2.59,16.48,"2013"]
["331524","Aluminum foundries (except die-casting)",25381,465546,1149405,35938,65524,2909329,2.59,16.48,"2013"]
["331529","Other nonferrous metal foundries (except die-casting)",15805,313583,1245054,10604,48568,2440561,2.59,16.48,"2013"]
["332","Fabricated metal product manufacturing",2087259,43141663,162288478,1242512,3376824,345089256,2.56,9.7200000000000006,"2013"]
["3321","Forging and stamping",175343,3597147,19189580,236607,474939,34559660,2.56,9.7200000000000006,"2013"]
["33211","Forging and stamping",175343,3597147,19189580,236607,474939,34559660,2.56,9.7200000000000006,"2013"]
["332111","Iron and steel forging",36101,799588,5167691,92028,158577,9268103,2.56,9.7200000000000006,"2013"]
["332112","Nonferrous forging",12022,273426,2000756,56987,45399,3171389,2.56,9.7200000000000006,"2013"]
["332114","Custom roll forming",31212,650113,5211130,30872,97785,8129202,2.56,9.7200000000000006,"2013"]
["332117","Powder metallurgy part manufacturing",13113,251615,888879,17161,49405,2095978,2.56,9.7200000000000006,"2013"]
["332119","Metal crown, closure, and other metal stamping (except automotive)",82895,1622405,5921124,39559,123772,11894987,2.56,9.7200000000000006,"2013"]
["3322","Cutlery and handtool manufacturing",48830,1002538,3915877,30195,94922,10052117,2.56,9.7200000000000006,"2013"]
["33221","Cutlery and handtool manufacturing",48830,1002538,3915877,30195,94922,10052117,2.56,9.7200000000000006,"2013"]
["332215","Metal kitchen cookware, utensil, cutlery, and flatware (except precious) manufacturing",10142,221470,1342205,11321,22602,3732015,2.56,9.7200000000000006,"2013"]
["332216","Saw blade and handtool manufacturing",38688,781068,2573672,18874,72320,6320103,2.56,9.7200000000000006,"2013"]
["3323","Architectural and structural metals manufacturing",474001,9311840,39318887,154397,520814,77473642,2.56,9.7200000000000006,"2013"]
["33231","Plate work and fabricated structural product manufacturing",219937,4590756,22264599,77226,280221,40900027,2.56,9.7200000000000006,"2013"]
["332311","Prefabricated metal building and component manufacturing",27664,534655,3622508,6540,29103,5998257,2.56,9.7200000000000006,"2013"]
["332312","Fabricated structural metal manufacturing",134361,2875452,15234832,50408,185822,27542516,2.56,9.7200000000000006,"2013"]
["332313","Plate work manufacturing",57913,1180649,3407259,20279,65297,7359254,2.56,9.7200000000000006,"2013"]
["33232","Ornamental and architectural metal products manufacturing",254064,4721083,17054288,77171,240593,36573615,2.56,9.7200000000000006,"2013"]
["332321","Metal window and door manufacturing",64965,1114267,5153070,20334,66804,10158252,2.56,9.7200000000000006,"2013"]
["332322","Sheet metal work manufacturing",146814,2810141,9306782,43161,137723,20285904,2.56,9.7200000000000006,"2013"]
["332323","Ornamental and architectural metal work manufacturing",42286,796675,2594436,13676,36066,6129459,2.56,9.7200000000000006,"2013"]
["3324","Boiler, tank, and shipping container manufacturing",138962,3170212,21055302,117263,312233,35335632,2.56,9.7200000000000006,"2013"]
["33241","Power boiler and heat exchanger manufacturing",34532,816334,3400878,10568,44674,7255766,2.56,9.7200000000000006,"2013"]
["332410","Power boiler and heat exchanger manufacturing",34532,816334,3400878,10568,44674,7255766,2.56,9.7200000000000006,"2013"]
["33242","Metal tank (heavy gauge) manufacturing",53932,1172452,5170327,26477,63123,9550069,2.56,9.7200000000000006,"2013"]
["332420","Metal tank (heavy gauge) manufacturing",53932,1172452,5170327,26477,63123,9550069,2.56,9.7200000000000006,"2013"]
["33243","Metal can, box, and other metal container (light gauge) manufacturing",50498,1181426,12484097,80219,204436,18529797,2.56,9.7200000000000006,"2013"]
["332431","Metal can manufacturing",31485,855090,10220824,59109,176460,14693487,2.56,9.7200000000000006,"2013"]
["332439","Other metal container manufacturing",19014,326336,2263273,21110,27976,3836310,2.56,9.7200000000000006,"2013"]
["3325","Hardware manufacturing",35037,640779,3711260,15832,54117,7713400,2.56,9.7200000000000006,"2013"]
["33251","Hardware manufacturing",35037,640779,3711260,15832,54117,7713400,2.56,9.7200000000000006,"2013"]
["332510","Hardware manufacturing",35037,640779,3711260,15832,54117,7713400,2.56,9.7200000000000006,"2013"]
["3326","Spring and wire product manufacturing",56063,1036713,4574673,31317,81081,8826580,2.56,9.7200000000000006,"2013"]
["33261","Spring and wire product manufacturing",56063,1036713,4574673,31317,81081,8826580,2.56,9.7200000000000006,"2013"]
["332613","Spring manufacturing",24223,462193,1913669,16183,37771,3700737,2.56,9.7200000000000006,"2013"]
["332618","Other fabricated wire product manufacturing",31839,574520,2661005,15135,43310,5125843,2.56,9.7200000000000006,"2013"]
["3327","Machine shops; turned product; and screw, nut, and bolt manufacturing",597040,13027347,26001692,165166,736751,68599121,2.56,9.7200000000000006,"2013"]
["33271","Machine shops",369814,8168053,14267441,90026,410950,40011595,2.56,9.7200000000000006,"2013"]
["332710","Machine shops",369814,8168053,14267441,90026,410950,40011595,2.56,9.7200000000000006,"2013"]
["33272","Turned product and screw, nut, and bolt manufacturing",227226,4859295,11734252,75140,325801,28587527,2.56,9.7200000000000006,"2013"]
["332721","Precision turned product manufacturing",168214,3604019,6834580,41294,220350,18287564,2.56,9.7200000000000006,"2013"]
["332722","Bolt, nut, screw, rivet, and washer manufacturing",59013,1255275,4899671,33846,105451,10299963,2.56,9.7200000000000006,"2013"]
["3328","Coating, engraving, heat treating, and allied activities",195620,3644730,10771003,316535,489103,27132897,2.56,9.7200000000000006,"2013"]
["33281","Coating, engraving, heat treating, and allied activities",195620,3644730,10771003,316535,489103,27132897,2.56,9.7200000000000006,"2013"]
["332811","Metal heat treating",34032,718597,2116952,97058,145051,6263579,2.56,9.7200000000000006,"2013"]
["332812","Metal coating, engraving (except jewelry and silverware), and allied services to manufacturers",79407,1498956,6070728,122597,172956,13372515,2.56,9.7200000000000006,"2013"]
["332813","Electroplating, plating, polishing, anodizing, and coloring",82181,1427177,2583323,96880,171097,7496803,2.56,9.7200000000000006,"2013"]
["3329","Other fabricated metal product manufacturing",366362,7710358,33750202,175198,612864,75396207,2.56,9.7200000000000006,"2013"]
["33291","Metal valve manufacturing",133897,2911313,15034683,44518,228245,32442521,2.56,9.7200000000000006,"2013"]
["332911","Industrial valve manufacturing",51435,1183653,5683239,14826,92333,13273566,2.56,9.7200000000000006,"2013"]
["332912","Fluid power valve and hose fitting manufacturing",48911,1061874,4704418,10274,81100,9874890,2.56,9.7200000000000006,"2013"]
["332913","Plumbing fixture fitting and trim manufacturing",11222,207880,2184127,4104,11825,4147513,2.56,9.7200000000000006,"2013"]
["332919","Other metal valve and pipe fitting manufacturing",22328,457905,2462899,15314,42986,5146552,2.56,9.7200000000000006,"2013"]
["33299","All other fabricated metal product manufacturing",232466,4799046,18715519,130680,384619,42953686,2.56,9.7200000000000006,"2013"]
["332991","Ball and roller bearing manufacturing",34607,758491,2764392,27836,"D",6449764,2.56,9.7200000000000006,"2013"]
["332992","Small arms ammunition manufacturing",17917,470217,1651458,12026,"D",4207336,2.56,9.7200000000000006,"2013"]
["332993","Ammunition (except small arms) manufacturing",8003,175441,1043911,14415,"D",3032570,2.56,9.7200000000000006,"2013"]
["332994","Small arms, ordnance, and ordnance accessories manufacturing",21368,486555,2471947,9004,38896,6542685,2.56,9.7200000000000006,"2013"]
["332996","Fabricated pipe and pipe fitting manufacturing",47241,975815,3907463,17275,57207,7928935,2.56,9.7200000000000006,"2013"]
["332999","All other miscellaneous fabricated metal product manufacturing",103330,1932526,6876349,50124,135477,14792396,2.56,9.7200000000000006,"2013"]
["333","Machinery manufacturing",1378497,31328945,203078910,571182,1951934,394073320,2.58,8.85,"2013"]
["3331","Agriculture, construction, and mining machinery manufacturing",289211,6807542,61886525,179607,384268,113620146,2.58,8.85,"2013"]
["33311","Agricultural implement manufacturing",111456,2347484,26837246,62857,161568,47208867,2.58,8.85,"2013"]
["333111","Farm machinery and equipment manufacturing",92150,2010331,21289850,53716,127686,38918680,2.58,8.85,"2013"]
["333112","Lawn and garden tractor and home lawn and garden equipment manufacturing",19306,337152,5547396,9142,33882,8290186,2.58,8.85,"2013"]
["33312","Construction machinery manufacturing",80036,1728526,17603082,72329,96094,34250761,2.58,8.85,"2013"]
["333120","Construction machinery manufacturing",80036,1728526,17603082,72329,96094,34250761,2.58,8.85,"2013"]
["33313","Mining and oil and gas field machinery manufacturing",97720,2731533,17446197,44421,126606,32160518,2.58,8.85,"2013"]
["333131","Mining machinery and equipment manufacturing",19556,466613,3008180,11974,28964,6324249,2.58,8.85,"2013"]
["333132","Oil and gas field machinery and equipment manufacturing",78164,2264920,14438017,32447,97642,25836269,2.58,8.85,"2013"]
["3332","Industrial machinery manufacturing",106339,2489061,14874981,46845,173277,32139200,2.58,8.85,"2013"]
["33324","Industrial machinery manufacturing",106339,2489061,14874981,46845,173277,32139200,2.58,8.85,"2013"]
["333241","Food product machinery manufacturing",18458,404134,2089260,6574,20513,4652774,2.58,8.85,"2013"]
["333242","Semiconductor machinery manufacturing",10537,297369,4199585,5776,37387,9378578,2.58,8.85,"2013"]
["333243","Sawmill, woodworking, and paper machinery manufacturing",14884,369907,1505468,8112,27011,3206282,2.58,8.85,"2013"]
["333244","Printing machinery and equipment manufacturing",8203,195662,876925,3706,18096,1859891,2.58,8.85,"2013"]
["333249","Other industrial machinery manufacturing",54257,1221990,6203743,22677,70271,13041675,2.58,8.85,"2013"]
["3333","Commercial and service industry machinery manufacturing",92705,2047524,12117405,28072,117843,24771877,2.58,8.85,"2013"]
["33331","Commercial and service industry machinery manufacturing",92705,2047524,12117405,28072,117843,24771877,2.58,8.85,"2013"]
["333314","Optical instrument and lens manufacturing",17151,524951,1980999,6181,30089,4598559,2.58,8.85,"2013"]
["333316","Photographic and photocopying equipment manufacturing",5619,107942,1193016,"S",6230,2077988,2.58,8.85,"2013"]
["333318","Other commercial and service industry machinery manufacturing",69935,1414630,8943389,21004,81523,18095330,2.58,8.85,"2013"]
["3334","Ventilation, heating, air-conditioning, and commercial refrigeration equipment manufacturing",183719,3436894,22319103,58175,225539,43115820,2.58,8.85,"2013"]
["33341","Ventilation, heating, air-conditioning, and commercial refrigeration equipment manufacturing",183719,3436894,22319103,58175,225539,43115820,2.58,8.85,"2013"]
["333413","Industrial and commercial fan and blower and air purification equipment manufacturing",35062,606807,3113207,13543,38035,6340148,2.58,8.85,"2013"]
["333414","Heating equipment (except warm air furnaces) manufacturing",21287,400686,2119798,10528,49523,4905485,2.58,8.85,"2013"]
["333415","Air-conditioning and warm air heating equipment and commercial and industrial refrigeration equipment manufacturing",127370,2429402,17086099,34103,137981,31870187,2.58,8.85,"2013"]
["3335","Metalworking machinery manufacturing",214253,5070360,12432055,51824,311718,30197132,2.58,8.85,"2013"]
["33351","Metalworking machinery manufacturing",214253,5070360,12432055,51824,311718,30197132,2.58,8.85,"2013"]
["333511","Industrial mold manufacturing",56429,1316966,2340617,13960,103454,6333899,2.58,8.85,"2013"]
["333514","Special die and tool, die set, jig, and fixture manufacturing",64847,1546219,2843005,12295,80140,7484345,2.58,8.85,"2013"]
["333515","Cutting tool and machine tool accessory manufacturing",43504,935204,1934339,8515,68499,5320213,2.58,8.85,"2013"]
["333517","Machine tool manufacturing",34180,868149,3616492,10133,39808,7749428,2.58,8.85,"2013"]
["333519","Rolling mill and other metalworking machinery manufacturing",15293,403822,1697602,6921,19817,3309248,2.58,8.85,"2013"]
["3336","Engine, turbine, and power transmission equipment manufacturing",133938,3261584,28252980,69716,267217,48337080,2.58,8.85,"2013"]
["33361","Engine, turbine, and power transmission equipment manufacturing",133938,3261584,28252980,69716,267217,48337080,2.58,8.85,"2013"]
["333611","Turbine and turbine generator set units manufacturing",37166,1172658,7919957,17318,78054,14420821,2.58,8.85,"2013"]
["333612","Speed changer, industrial high-speed drive, and gear manufacturing",20716,465496,1708968,12567,33472,3924008,2.58,8.85,"2013"]
["333613","Mechanical power transmission equipment manufacturing",20947,452946,1794751,9210,38354,4223455,2.58,8.85,"2013"]
["333618","Other engine equipment manufacturing",55108,1170483,16829304,30621,117338,25768796,2.58,8.85,"2013"]
["3339","Other general purpose machinery manufacturing",358333,8215980,51195862,136944,472072,101892065,2.58,8.85,"2013"]
["33391","Pump and compressor manufacturing",74301,1816212,13411510,28102,117139,27811564,2.58,8.85,"2013"]
["333911","Pump and pumping equipment manufacturing",44040,1113236,7103626,14956,70883,15454073,2.58,8.85,"2013"]
["333912","Air and gas compressor manufacturing",25369,596185,5627657,12042,40335,10700514,2.58,8.85,"2013"]
["333913","Measuring and dispensing pump manufacturing",4892,106791,680228,1104,5920,1656977,2.58,8.85,"2013"]
["33392","Material handling equipment manufacturing",106501,2269515,16285657,44660,103912,28737604,2.58,8.85,"2013"]
["333921","Elevator and moving stairway manufacturing",10437,198159,1128499,3824,10085,2077079,2.58,8.85,"2013"]
["333922","Conveyor and conveying equipment manufacturing",41111,858023,4194163,14172,39985,8944547,2.58,8.85,"2013"]
["333923","Overhead traveling crane, hoist, and monorail system manufacturing",25752,589082,4868102,13467,16143,8402219,2.58,8.85,"2013"]
["333924","Industrial truck, trailer, and stacker machinery manufacturing",29202,624252,6094894,13197,37699,9313759,2.58,8.85,"2013"]
["33399","All other general purpose machinery manufacturing",177531,4130253,21498695,64181,251022,45342897,2.58,8.85,"2013"]
["333991","Power-driven handtool manufacturing",11067,228657,1713685,3628,14938,4022053,2.58,8.85,"2013"]
["333992","Welding and soldering equipment manufacturing",18090,472426,2996356,12747,30036,5720997,2.58,8.85,"2013"]
["333993","Packaging machinery manufacturing",21704,506088,2634750,5706,21194,5805563,2.58,8.85,"2013"]
["333994","Industrial process furnace and oven manufacturing",12605,279955,1171811,4173,14030,2620269,2.58,8.85,"2013"]
["333995","Fluid power cylinder and actuator manufacturing",34567,830243,3572415,8389,46975,7308026,2.58,8.85,"2013"]
["333996","Fluid power pump and motor manufacturing",14697,377222,2187826,2927,27193,3983455,2.58,8.85,"2013"]
["333997","Scale and balance manufacturing",3841,67750,410245,958,2975,833557,2.58,8.85,"2013"]
["333999","All other miscellaneous general purpose machinery manufacturing",60959,1367912,6811608,25653,93682,15048977,2.58,8.85,"2013"]
["334","Computer and electronic product manufacturing",759882,19765322,126583684,255838,2035095,325807944,3.57,10.18,"2013"]
["3341","Computer and peripheral equipment manufacturing",31373,706359,14425751,21026,114585,29415773,2.74,14.6,"2013"]
["33411","Computer and peripheral equipment manufacturing",31373,706359,14425751,21026,114585,29415773,2.74,14.6,"2013"]
["334111","Electronic computer manufacturing",8022,181216,5553040,2544,28694,9740112,2.74,14.6,"2013"]
["334112","Computer storage device manufacturing",9689,254923,4156821,4368,49634,8666157,2.74,14.6,"2013"]
["334118","Computer terminal and other computer peripheral equipment manufacturing",13661,270220,4715890,14115,36257,11009505,2.74,14.6,"2013"]
["3342","Communications equipment manufacturing",95375,3594793,20742103,30172,180392,44317402,3.44,9.89,"2013"]
["33421","Telephone apparatus manufacturing",13719,416925,4986257,3942,32530,8312010,3.44,9.89,"2013"]
["334210","Telephone apparatus manufacturing",13719,416925,4986257,3942,32530,8312010,3.44,9.89,"2013"]
["33422","Radio and television broadcasting and wireless communications equipment manufacturing",69502,2916718,13616366,15228,127626,30656674,3.44,9.89,"2013"]
["334220","Radio and television broadcasting and wireless communications equipment manufacturing",69502,2916718,13616366,15228,127626,30656674,3.44,9.89,"2013"]
["33429","Other communications equipment manufacturing",12155,261150,2139481,11003,20237,5348717,3.44,9.89,"2013"]
["334290","Other communications equipment manufacturing",12155,261150,2139481,11003,20237,5348717,3.44,9.89,"2013"]
["3343","Audio and video equipment manufacturing",8847,155135,1252563,2071,9272,2970297,4.26,6.92,"2013"]
["33431","Audio and video equipment manufacturing",8847,155135,1252563,2071,9272,2970297,4.26,6.92,"2013"]
["334310","Audio and video equipment manufacturing",8847,155135,1252563,2071,9272,2970297,4.26,6.92,"2013"]
["3344","Semiconductor and other electronic component manufacturing",313036,7280311,36581640,112960,1098482,103758330,4.26,6.92,"2013"]
["33441","Semiconductor and other electronic component manufacturing",313036,7280311,36581640,112960,1098482,103758330,4.26,6.92,"2013"]
["334412","Bare printed circuit board manufacturing",35245,653121,1842027,10557,69303,4170195,4.26,6.92,"2013"]
["334413","Semiconductor and related device manufacturing",98915,3104385,13684254,66266,775029,61575089,4.26,6.92,"2013"]
["334416","Capacitor, resistor, coil, transformer, and other inductor manufacturing",26741,435302,1680700,5819,39409,3513293,4.26,6.92,"2013"]
["334417","Electronic connector manufacturing",25802,561429,2365492,7110,35219,5558176,4.26,6.92,"2013"]
["334418","Printed circuit assembly (electronic assembly) manufacturing",68707,1233883,12890486,8741,95638,18353437,4.26,6.92,"2013"]
["334419","Other electronic component manufacturing",57626,1292190,4118683,14467,83885,10588139,4.26,6.92,"2013"]
["3345","Navigational, measuring, electromedical, and control instruments manufacturing",296020,7724536,52603378,85791,600100,142677193,4.26,6.92,"2013"]
["33451","Navigational, measuring, electromedical, and control instruments manufacturing",296020,7724536,52603378,85791,600100,142677193,4.26,6.92,"2013"]
["334510","Electromedical and electrotherapeutic apparatus manufacturing",55470,1272213,9632202,17725,94045,28380732,4.26,6.92,"2013"]
["334511","Search, detection, navigation, guidance, aeronautical, and nautical system and instrument manufacturing",84701,2800522,15065841,30149,236717,45576816,4.26,6.92,"2013"]
["334512","Automatic environmental control manufacturing for residential, commercial, and appliance use",9972,203075,1264173,1803,13046,2859507,4.26,6.92,"2013"]
["334513","Instruments and related products manufacturing for measuring, displaying, and controlling industrial process variables",33309,735437,3956370,7115,42687,11375603,4.26,6.92,"2013"]
["334514","Totalizing fluid meter and counting device manufacturing",15799,353831,3024628,4861,27271,6319356,4.26,6.92,"2013"]
["334515","Instrument manufacturing for measuring and testing electricity and electrical systems",23646,561908,5000378,3309,47223,11642110,4.26,6.92,"2013"]
["334516","Analytical laboratory instrument manufacturing",30001,704201,5017528,7459,54668,14161437,4.26,6.92,"2013"]
["334517","Irradiation apparatus manufacturing",7886,242725,4658926,4771,33230,10492573,4.26,6.92,"2013"]
["334519","Other measuring and controlling device manufacturing",35236,850623,4983332,8600,51213,11869058,4.26,6.92,"2013"]
["3346","Manufacturing and reproducing magnetic and optical media",15231,304188,978250,3818,32264,2668949,4.26,6.92,"2013"]
["33461","Manufacturing and reproducing magnetic and optical media",15231,304188,978250,3818,32264,2668949,4.26,6.92,"2013"]
["334613","Blank magnetic and optical recording media manufacturing",764,23651,"50,111 (s)","S","D","182,668 (s)",4.26,6.92,"2013"]
["334614","Software and other prerecorded compact disc, tape, and record reproducing",14468,280537,928138,3763,"D",2486281,4.26,6.92,"2013"]
["335","Electrical equipment, appliance, and component manufacturing",449154,9203422,63222067,233011,825595,123286536,2.13,8.08,"2013"]
["3351","Electric lighting equipment manufacturing",53847,1010511,5459234,25051,68246,11778196,2.13,8.08,"2013"]
["33511","Electric lamp bulb and part manufacturing",8771,220356,888779,"D","D",1777050,2.13,8.08,"2013"]
["335110","Electric lamp bulb and part manufacturing",8771,220356,888779,"D","D",1777050,2.13,8.08,"2013"]
["33512","Lighting fixture manufacturing",45077,790155,4570455,"D","D",10001146,2.13,8.08,"2013"]
["335121","Residential electric lighting fixture manufacturing",7835,142811,545830,"D","D",1410959,2.13,8.08,"2013"]
["335122","Commercial, industrial, and institutional electric lighting fixture manufacturing",22146,367153,2064703,5229,21828,4633880,2.13,8.08,"2013"]
["335129","Other lighting equipment manufacturing",15096,280191,1959921,5200,17879,3956307,2.13,8.08,"2013"]
["3352","Household appliance manufacturing",73147,1416056,10523705,24213,95992,19662173,2.13,8.08,"2013"]
["33521","Small electrical appliance manufacturing",13892,242369,1822814,4014,15851,3500472,2.13,8.08,"2013"]
["335210","Small electrical appliance manufacturing",13892,242369,1822814,4014,15851,3500472,2.13,8.08,"2013"]
["33522","Major appliance manufacturing",59255,1173687,8700891,20199,80141,16161701,2.13,8.08,"2013"]
["335221","Household cooking appliance manufacturing",18045,300732,2462857,7211,20135,5034770,2.13,8.08,"2013"]
["335222","Household refrigerator and home freezer manufacturing","D","D","D","D","D","D",2.13,8.08,"2013"]
["335224","Household laundry equipment manufacturing","D","D","D","D","D","D",2.13,8.08,"2013"]
["335228","Other major household appliance manufacturing",16043,314571,2140142,7690,26243,4401917,2.13,8.08,"2013"]
["3353","Electrical equipment manufacturing",146385,3075039,19815168,55040,166888,39081107,2.13,8.08,"2013"]
["33531","Electrical equipment manufacturing",146385,3075039,19815168,55040,166888,39081107,2.13,8.08,"2013"]
["335311","Power, distribution, and specialty transformer manufacturing",28290,560674,2903355,17877,40271,5683276,2.13,8.08,"2013"]
["335312","Motor and generator manufacturing",39825,817786,5715613,17204,51585,10919248,2.13,8.08,"2013"]
["335313","Switchgear and switchboard apparatus manufacturing",42078,908156,5892050,14773,38806,12124859,2.13,8.08,"2013"]
["335314","Relay and industrial control manufacturing",36193,788423,5304150,5186,36227,10353724,2.13,8.08,"2013"]
["3359","Other electrical equipment and component manufacturing",175775,3701816,27423960,128707,494468,52765060,2.13,8.08,"2013"]
["33591","Battery manufacturing",41942,948107,5369690,25208,138829,10321104,2.13,8.08,"2013"]
["335911","Storage battery manufacturing",31983,743059,3529766,20571,108405,6444886,2.13,8.08,"2013"]
["335912","Primary battery manufacturing",9959,205048,1839924,4638,30424,3876218,2.13,8.08,"2013"]
["33592","Communication and energy wire and cable manufacturing",38020,767375,8728022,17088,107166,14131176,2.13,8.08,"2013"]
["335921","Fiber optic cable manufacturing",5816,136304,967928,2731,17511,1766289,2.13,8.08,"2013"]
["335929","Other communication and energy wire manufacturing",32204,631072,7760094,14357,89655,12364887,2.13,8.08,"2013"]
["33593","Wiring device manufacturing",54911,1071240,5948048,22034,98130,13983834,2.13,8.08,"2013"]
["335931","Current-carrying wiring device manufacturing",33827,617083,3486236,10566,50920,7654394,2.13,8.08,"2013"]
["335932","Noncurrent-carrying wiring device manufacturing",21084,454156,2461812,11468,47210,6329440,2.13,8.08,"2013"]
["33599","All other electrical equipment and component manufacturing",40901,915094,7378201,64377,150342,14328947,2.13,8.08,"2013"]
["335991","Carbon and graphite product manufacturing",11619,279077,1918863,47599,92418,3459731,2.13,8.08,"2013"]
["335999","All other miscellaneous electrical equipment and component manufacturing",29282,636017,5459338,16778,57924,10869216,2.13,8.08,"2013"]
["336","Transportation equipment manufacturing",1980888,52552584,538007282,977635,3807030,836966746,1.89,5.97,"2013"]
["3361","Motor vehicle manufacturing",295804,9794352,217049403,260441,486400,280686963,1.82,4.16,"2013"]
["33611","Automobile and light duty motor vehicle manufacturing",256828,8694961,195568021,245150,"D",253327359,1.82,4.16,"2013"]
["336111","Automobile manufacturing",134333,4437537,91241843,115499,"D",115229079,1.82,4.16,"2013"]
["336112","Light truck and utility vehicle manufacturing",122495,4257424,104326178,129651,214537,138098280,1.82,4.16,"2013"]
["33612","Heavy duty truck manufacturing",38975,1099390,21481382,15291,"D",27359604,1.82,4.16,"2013"]
["336120","Heavy duty truck manufacturing",38975,1099390,21481382,15291,"D",27359604,1.82,4.16,"2013"]
["3362","Motor vehicle body and trailer manufacturing",190763,3487052,22631546,55664,126059,34713229,1.82,4.16,"2013"]
["33621","Motor vehicle body and trailer manufacturing",190763,3487052,22631546,55664,126059,34713229,1.82,4.16,"2013"]
["336211","Motor vehicle body manufacturing",65544,1184718,7562707,23289,52931,11985022,1.82,4.16,"2013"]
["336212","Truck trailer manufacturing",46921,839747,5364563,9064,35316,8016747,1.82,4.16,"2013"]
["336213","Motor home manufacturing",13354,249671,2203255,3474,7740,3030582,1.82,4.16,"2013"]
["336214","Travel trailer and camper manufacturing",64944,1212916,7501020,19837,30072,11680877,1.82,4.16,"2013"]
["3363","Motor vehicle parts manufacturing",776236,16809237,151691291,313934,1561303,226605019,1.82,4.16,"2013"]
["33631","Motor vehicle gasoline engine and engine parts manufacturing",82914,2270013,21744173,43878,247238,32076805,1.82,4.16,"2013"]
["336310","Motor vehicle gasoline engine and engine parts manufacturing",82914,2270013,21744173,43878,247238,32076805,1.82,4.16,"2013"]
["33632","Motor vehicle electrical and electronic equipment manufacturing",78310,1609710,14188147,19159,133994,21026537,1.82,4.16,"2013"]
["336320","Motor vehicle electrical and electronic equipment manufacturing",78310,1609710,14188147,19159,133994,21026537,1.82,4.16,"2013"]
["33633","Motor vehicle steering and suspension components (except spring) manufacturing",47971,875577,8214770,26370,104248,12289668,1.82,4.16,"2013"]
["336330","Motor vehicle steering and suspension components (except spring) manufacturing",47971,875577,8214770,26370,104248,12289668,1.82,4.16,"2013"]
["33634","Motor vehicle brake system manufacturing",35713,711109,6961275,16148,94891,11076864,1.82,4.16,"2013"]
["336340","Motor vehicle brake system manufacturing",35713,711109,6961275,16148,94891,11076864,1.82,4.16,"2013"]
["33635","Motor vehicle transmission and power train parts manufacturing",105890,2654697,24226819,57069,258414,35852350,1.82,4.16,"2013"]
["336350","Motor vehicle transmission and power train parts manufacturing",105890,2654697,24226819,57069,258414,35852350,1.82,4.16,"2013"]
["33636","Motor vehicle seating and interior trim manufacturing",80147,1469216,18419055,15516,112634,25435378,1.82,4.16,"2013"]
["336360","Motor vehicle seating and interior trim manufacturing",80147,1469216,18419055,15516,112634,25435378,1.82,4.16,"2013"]
["33637","Motor vehicle metal stamping",149373,3381650,19508279,52255,262580,31160137,1.82,4.16,"2013"]
["336370","Motor vehicle metal stamping",149373,3381650,19508279,52255,262580,31160137,1.82,4.16,"2013"]
["33639","Other motor vehicle parts manufacturing",195918,3837266,38428772,83539,347304,57687280,1.82,4.16,"2013"]
["336390","Other motor vehicle parts manufacturing",195918,3837266,38428772,83539,347304,57687280,1.82,4.16,"2013"]
["3364","Aerospace product and parts manufacturing",453030,16173540,109778714,224941,1252116,223864379,1.93,9.1300000000000008,"2013"]
["33641","Aerospace product and parts manufacturing",453030,16173540,109778714,224941,1252116,223864379,1.93,9.1300000000000008,"2013"]
["336411","Aircraft manufacturing",177599,8018022,64322072,85811,496831,121396179,1.93,9.1300000000000008,"2013"]
["336412","Aircraft engine and engine parts manufacturing",97024,2761116,18804485,39710,165068,39521790,1.93,9.1300000000000008,"2013"]
["336413","Other aircraft parts and auxiliary equipment manufacturing",135982,3912444,16018593,65709,"D",36524063,1.93,9.1300000000000008,"2013"]
["336414","Guided missile and space vehicle manufacturing",27432,1041148,"D",11604,"D",20608636,1.93,9.1300000000000008,"2013"]
["336415","Guided missile and space vehicle propulsion unit and propulsion unit parts manufacturing",8761,297620,1399270,15405,41596,4467887,1.93,9.1300000000000008,"2013"]
["336419","Other guided missile and space vehicle parts and auxiliary equipment manufacturing",6231,143192,"D",6702,22913,1345824,1.93,9.1300000000000008,"2013"]
["3365","Railroad rolling stock manufacturing",43071,1099643,13714208,34463,74655,20208875,1.89,5.97,"2013"]
["33651","Railroad rolling stock manufacturing",43071,1099643,13714208,34463,74655,20208875,1.89,5.97,"2013"]
["336510","Railroad rolling stock manufacturing",43071,1099643,13714208,34463,74655,20208875,1.89,5.97,"2013"]
["3366","Ship and boat building",184348,4330275,13272616,68217,243425,33561414,1.89,5.97,"2013"]
["33661","Ship and boat building",184348,4330275,13272616,68217,243425,33561414,1.89,5.97,"2013"]
["336611","Ship building and repairing",139989,3520826,8429457,51799,190215,25676270,1.89,5.97,"2013"]
["336612","Boat building",44358,809449,4843159,16418,53210,7885144,1.89,5.97,"2013"]
["3369","Other transportation equipment manufacturing",37637,858486,9869504,19974,63073,17326867,1.89,5.97,"2013"]
["33699","Other transportation equipment manufacturing",37637,858486,9869504,19974,63073,17326867,1.89,5.97,"2013"]
["336991","Motorcycle, bicycle, and parts manufacturing",13617,289181,2899838,5293,22924,5870699,1.89,5.97,"2013"]
["336992","Military armored vehicle, tank, and tank component manufacturing",6644,188987,1720790,4217,14335,3514269,1.89,5.97,"2013"]
["336999","All other transportation equipment manufacturing",17376,380318,5248875,10464,25814,7941899,1.89,5.97,"2013"]
["337","Furniture and related product manufacturing",499165,8281167,32730471,149198,449371,69374072,2.02,6.43,"2013"]
["3371","Household and institutional furniture and kitchen cabinet manufacturing",309872,4925423,17090624,81531,253241,35102890,2.02,6.43,"2013"]
["33711","Wood kitchen cabinet and countertop manufacturing",121247,1999242,5042486,37328,108028,12229032,2.02,6.43,"2013"]
["337110","Wood kitchen cabinet and countertop manufacturing",121247,1999242,5042486,37328,108028,12229032,2.02,6.43,"2013"]
["33712","Household and institutional furniture manufacturing",188624,2926180,12048138,44203,145213,22873858,2.02,6.43,"2013"]
["337121","Upholstered household furniture manufacturing",89289,1354278,6043135,7930,47169,10655591,2.02,6.43,"2013"]
["337122","Nonupholstered wood household furniture manufacturing",45708,660672,2056652,15420,41108,4111397,2.02,6.43,"2013"]
["337124","Metal household furniture manufacturing",13868,230020,1266030,6920,12488,2309752,2.02,6.43,"2013"]
["337125","Household furniture (except wood and metal) manufacturing",4076,64178,583250,1188,7183,931094,2.02,6.43,"2013"]
["337127","Institutional furniture manufacturing",35684,617032,2099070,12745,37265,4866024,2.02,6.43,"2013"]
["3372","Office furniture (including fixtures) manufacturing",143843,2610160,10591036,60523,166918,24120275,2.02,6.43,"2013"]
["33721","Office furniture (including fixtures) manufacturing",143843,2610160,10591036,60523,166918,24120275,2.02,6.43,"2013"]
["337211","Wood office furniture manufacturing",21491,357724,998475,5678,22664,2535196,2.02,6.43,"2013"]
["337212","Custom architectural woodwork and millwork manufacturing",46641,924522,2689295,13364,46618,6273114,2.02,6.43,"2013"]
["337214","Office furniture (except wood) manufacturing",27064,530017,3281927,17794,38041,8453426,2.02,6.43,"2013"]
["337215","Showcase, partition, shelving, and locker manufacturing",48647,797897,3621340,23686,59595,6858538,2.02,6.43,"2013"]
["3379","Other furniture related product manufacturing",45451,745584,5048810,7145,29212,10150907,2.02,6.43,"2013"]
["33791","Mattress manufacturing",32101,548245,4153861,5265,20669,8382285,2.02,6.43,"2013"]
["337910","Mattress manufacturing",32101,548245,4153861,5265,20669,8382285,2.02,6.43,"2013"]
["33792","Blind and shade manufacturing",13350,197339,894949,1880,8543,1768622,2.02,6.43,"2013"]
["337920","Blind and shade manufacturing",13350,197339,894949,1880,8543,1768622,2.02,6.43,"2013"]
["339","Miscellaneous manufacturing",624504,12151034,56434201,198826,809023,156261632,3.82,10,"2013"]
["3391","Medical equipment and supplies manufacturing",318701,6539324,30959687,77293,425723,95318027,3.82,10,"2013"]
["33911","Medical equipment and supplies manufacturing",318701,6539324,30959687,77293,425723,95318027,3.82,10,"2013"]
["339112","Surgical and medical instrument manufacturing",133799,2814081,11456119,27031,181221,38907111,3.82,10,"2013"]
["339113","Surgical appliance and supplies manufacturing",89215,1754729,13618302,34985,149164,39501091,3.82,10,"2013"]
["339114","Dental equipment and supplies manufacturing",15534,316263,1963067,2850,17631,5328578,3.82,10,"2013"]
["339115","Ophthalmic goods manufacturing",26869,517404,2757993,7073,53721,6694695,3.82,10,"2013"]
["339116","Dental laboratories",53284,1136846,1164205,5354,23985,4886552,3.82,10,"2013"]
["3399","Other miscellaneous manufacturing",305804,5611710,25474514,121533,383299,60943605,3.82,10,"2013"]
["33991","Jewelry and silverware manufacturing",27772,510163,3898756,5474,21484,7924918,3.82,10,"2013"]
["339910","Jewelry and silverware manufacturing",27772,510163,3898756,5474,21484,7924918,3.82,10,"2013"]
["33992","Sporting and athletic goods manufacturing",38767,735426,4541380,24270,76089,10472285,3.82,10,"2013"]
["339920","Sporting and athletic goods manufacturing",38767,735426,4541380,24270,76089,10472285,3.82,10,"2013"]
["33993","Doll, toy, and game manufacturing",6743,115084,727812,3923,10856,1603887,3.82,10,"2013"]
["339930","Doll, toy, and game manufacturing",6743,115084,727812,3923,10856,1603887,3.82,10,"2013"]
["33994","Office supplies (except paper) manufacturing",12702,201630,1483214,5760,15611,2709172,3.82,10,"2013"]
["339940","Office supplies (except paper) manufacturing",12702,201630,1483214,5760,15611,2709172,3.82,10,"2013"]
["33995","Sign manufacturing",69174,1331790,4436839,20837,58869,11359372,3.82,10,"2013"]
["339950","Sign manufacturing",69174,1331790,4436839,20837,58869,11359372,3.82,10,"2013"]
["33999","All other miscellaneous manufacturing",150647,2717617,10386513,61269,200391,26873972,3.82,10,"2013"]
["339991","Gasket, packing, and sealing device manufacturing",42500,808388,2955049,29198,80248,7289939,3.82,10,"2013"]
["339992","Musical instrument manufacturing",16427,292028,661653,6778,17666,1862837,3.82,10,"2013"]
["339993","Fastener, button, needle, and pin manufacturing",5034,88583,362007,5332,12424,835332,3.82,10,"2013"]
["339994","Broom, brush, and mop manufacturing",12701,206461,1164307,1983,16649,2751948,3.82,10,"2013"]
["339995","Burial casket manufacturing",5116,98428,291514,3871,8459,690994,3.82,10,"2013"]
["339999","All other miscellaneous manufacturing",68870,1223727,4951983,14108,64945,13442922,3.82,10,"2013"]

{"sheet":"2014 Econ Census Data","index":157,"n_rows":654,"n_cols":11,"rows_kept":654,"cut":false,"hidden":false,"merged":[[0,0,1,0],[0,1,1,1]]}
["2012 NAICS code","Meaning of 2012 NAICS code","Production workers annual hours (1,000)","Production workers annual wages ($1,000)","Total cost of materials ($1,000)","Cost of purchased fuels consumed ($1,000)","Cost of purchased electricity ($1,000)","Total value of shipments and receipts for services ($1,000)","Depreciation","Operating Income","Year"]
[]
["31-33","Manufacturing",15842183,350929006,3486762403,41405268,54201318,5880890398,2.72,7.84,"2014"]
["311","Food manufacturing",2233568,39420658,516093212,4392000,5752312,790508746,2.06,7.3,"2014"]
["3111","Animal food manufacturing",66774,1436449,42383400,239579,315151,59809114,2.06,7.3,"2014"]
["31111","Animal food manufacturing",66774,1436449,42383400,239579,315151,59809114,2.06,7.3,"2014"]
["311111","Dog and cat food manufacturing",30403,707751,13864917,88099,116272,24779951,2.06,7.3,"2014"]
["311119","Other animal food manufacturing",36371,728698,28518483,151480,198879,35029163,2.06,7.3,"2014"]
["3112","Grain and oilseed milling",81015,2057549,73040173,1051501,945829,97082004,2.06,7.3,"2014"]
["31121","Flour milling and malt manufacturing",27120,581156,13493346,83778,271187,20517072,2.06,7.3,"2014"]
["311211","Flour milling",18036,402851,10002032,40103,167069,15009838,2.06,7.3,"2014"]
["311212","Rice milling",7795,142241,2475951,11804,"D",4106201,2.06,7.3,"2014"]
["311213","Malt manufacturing",1289,36064,1015363,31870,"D",1401033,2.06,7.3,"2014"]
["31122","Starch and vegetable fats and oils manufacturing",34468,888319,54193631,914579,594674,66755947,2.06,7.3,"2014"]
["311221","Wet corn milling",8890,310586,7814074,454469,337385,11733460,2.06,7.3,"2014"]
["311224","Soybean and other oilseed processing",12824,288603,34892597,395971,"D",40397146,2.06,7.3,"2014"]
["311225","Fats and oils refining and blending",12754,289129,11486961,64139,"D",14625341,2.06,7.3,"2014"]
["31123","Breakfast cereal manufacturing",19426,588074,5353195,53145,79968,9808986,2.06,7.3,"2014"]
["311230","Breakfast cereal manufacturing",19426,588074,5353195,53145,79968,9808986,2.06,7.3,"2014"]
["3113","Sugar and confectionery product manufacturing",99951,2079951,18082970,383833,296350,33516376,2.06,7.3,"2014"]
["31131","Sugar manufacturing",22761,525692,6070364,297433,89987,9278657,2.06,7.3,"2014"]
["311313","Beet sugar manufacturing",11389,234062,2284998,190291,"D",3821627,2.06,7.3,"2014"]
["311314","Cane sugar manufacturing",11372,291630,3785366,107142,"D",5457030,2.06,7.3,"2014"]
["31134","Nonchocolate confectionery manufacturing",28009,564663,3867532,30703,83757,8217599,2.06,7.3,"2014"]
["311340","Nonchocolate confectionery manufacturing",28009,564663,3867532,30703,83757,8217599,2.06,7.3,"2014"]
["31135","Chocolate and chocolate confectionery manufacturing",49182,989596,8145074,55696,122607,16020120,2.06,7.3,"2014"]
["311351","Chocolate and confectionery manufacturing from cacao beans",8587,194140,3174385,18346,40465,4592624,2.06,7.3,"2014"]
["311352","Confectionery manufacturing from purchased chocolate",40595,795456,4970689,37350,82142,11427496,2.06,7.3,"2014"]
["3114","Fruit and vegetable preserving and specialty food manufacturing",278454,4974505,39757987,594806,716838,72066569,2.06,7.3,"2014"]
["31141","Frozen food manufacturing",151411,2451074,18129995,232092,406294,31844745,2.06,7.3,"2014"]
["311411","Frozen fruit, juice, and vegetable manufacturing",59043,891211,6769978,154804,188674,12421626,2.06,7.3,"2014"]
["311412","Frozen specialty food manufacturing",92368,1559863,11360017,77288,217620,19423118,2.06,7.3,"2014"]
["31142","Fruit and vegetable canning, pickling, and drying",127043,2523431,21627992,362714,310544,40221824,2.06,7.3,"2014"]
["311421","Fruit and vegetable canning",85425,1654724,14262445,228858,209042,24210057,2.06,7.3,"2014"]
["311422","Specialty canning",19324,454101,4213921,58353,45722,9396005,2.06,7.3,"2014"]
["311423","Dried and dehydrated food manufacturing",22294,414606,3151625,75504,55780,6615762,2.06,7.3,"2014"]
["3115","Dairy product manufacturing",201678,4593586,93467908,509690,833755,124179686,2.06,7.3,"2014"]
["31151","Dairy product (except frozen) manufacturing",175033,3965576,88634578,491539,731591,116331002,2.06,7.3,"2014"]
["311511","Fluid milk manufacturing",63779,1511921,27830958,124587,274720,39492674,2.06,7.3,"2014"]
["311512","Creamery butter manufacturing",2965,64350,3562849,13088,17711,4119691,2.06,7.3,"2014"]
["311513","Cheese manufacturing",83644,1803128,41695713,201575,283078,50540565,2.06,7.3,"2014"]
["311514","Dry, condensed, and evaporated dairy product manufacturing",24645,586178,15545057,152288,156081,22178072,2.06,7.3,"2014"]
["31152","Ice cream and frozen dessert manufacturing",26645,628010,4833330,18151,102164,7848684,2.06,7.3,"2014"]
["311520","Ice cream and frozen dessert manufacturing",26645,628010,4833330,18151,102164,7848684,2.06,7.3,"2014"]
["3116","Animal slaughtering and processing",865168,12651328,161032564,797209,1411060,222180966,2.06,7.3,"2014"]
["31161","Animal slaughtering and processing",865168,12651328,161032564,797209,1411060,222180966,2.06,7.3,"2014"]
["311611","Animal (except poultry) slaughtering",267811,4247478,86942506,250985,416044,102879578,2.06,7.3,"2014"]
["311612","Meat processed from carcasses",166344,2690246,35117573,132805,346163,50150396,2.06,7.3,"2014"]
["311613","Rendering and meat byproduct processing",11975,250840,3114340,172557,80516,5194172,2.06,7.3,"2014"]
["311615","Poultry processing",419038,5462765,35858144,240862,568338,63956821,2.06,7.3,"2014"]
["3117","Seafood product preparation and packaging",52683,874448,7249685,179564,88465,12279542,2.06,7.3,"2014"]
["31171","Seafood product preparation and packaging",52683,874448,7249685,179564,88465,12279542,2.06,7.3,"2014"]
["311710","Seafood product preparation and packaging",52683,874448,7249685,179564,88465,12279542,2.06,7.3,"2014"]
["3118","Bakeries and tortilla manufacturing",329033,5930122,29532570,300204,613607,68396145,2.06,7.3,"2014"]
["31181","Bread and bakery product manufacturing",223012,3796197,15477758,195483,387933,39822854,2.06,7.3,"2014"]
["311811","Retail bakeries",40996,655490,1090902,21480,42328,3185856,2.06,7.3,"2014"]
["311812","Commercial bakeries",147254,2623420,11256610,153285,284823,31042066,2.06,7.3,"2014"]
["311813","Frozen cakes, pies, and other pastries manufacturing",34762,517288,3130246,20718,60782,5594932,2.06,7.3,"2014"]
["31182","Cookie, cracker, and pasta manufacturing",77371,1698952,12550485,79319,181891,24725944,2.06,7.3,"2014"]
["311821","Cookie and cracker manufacturing",44350,1036034,5340938,46482,77507,12150237,2.06,7.3,"2014"]
["311824","Dry pasta, dough, and flour mixes manufacturing from purchased flour",33021,662918,7209547,32837,104384,12575707,2.06,7.3,"2014"]
["31183","Tortilla manufacturing",28650,434973,1504327,25402,43782,3847348,2.06,7.3,"2014"]
["311830","Tortilla manufacturing",28650,434973,1504327,25402,43782,3847348,2.06,7.3,"2014"]
["3119","Other food manufacturing",258812,4822720,51545956,335614,531257,100998342,2.06,7.3,"2014"]
["31191","Snack food manufacturing",80767,1495302,16783682,141225,153058,35661336,2.06,7.3,"2014"]
["311911","Roasted nuts and peanut butter manufacturing",31879,545740,9454546,23466,61786,12961602,2.06,7.3,"2014"]
["311919","Other snack food manufacturing",48888,949562,7329137,117759,91273,22699734,2.06,7.3,"2014"]
["31192","Coffee and tea manufacturing",22680,491607,7462876,36571,49716,12571412,2.06,7.3,"2014"]
["311920","Coffee and tea manufacturing",22680,491607,7462876,36571,49716,12571412,2.06,7.3,"2014"]
["31193","Flavoring syrup and concentrate manufacturing",9602,233887,2292922,12163,28311,8419926,2.06,7.3,"2014"]
["311930","Flavoring syrup and concentrate manufacturing",9602,233887,2292922,12163,28311,8419926,2.06,7.3,"2014"]
["31194","Seasoning and dressing manufacturing",42909,920325,10091455,42730,85096,19566607,2.06,7.3,"2014"]
["311941","Mayonnaise, dressing, and other prepared sauce manufacturing",21952,454030,4841789,21313,43717,9441509,2.06,7.3,"2014"]
["311942","Spice and extract manufacturing",20957,466295,5249666,21418,41378,10125098,2.06,7.3,"2014"]
["31199","All other food manufacturing",102854,1681599,14915021,102925,215077,24779061,2.06,7.3,"2014"]
["311991","Perishable prepared food manufacturing",65887,941912,7005460,31913,110567,12052264,2.06,7.3,"2014"]
["311999","All other miscellaneous food manufacturing",36967,739688,7909561,71012,104510,12726797,2.06,7.3,"2014"]
["312","Beverage and tobacco product manufacturing",163992,4412888,58385332,450416,804511,145491521,2.75,19.95,"2014"]
["3121","Beverage manufacturing",145364,3912949,50867668,413881,738188,108198684,2.75,19.95,"2014"]
["31211","Soft drink and ice manufacturing",69326,1797732,28075041,167704,402782,44830141,2.75,19.95,"2014"]
["312111","Soft drink manufacturing",55581,1461301,25432502,153362,219592,38602075,2.75,19.95,"2014"]
["312112","Bottled water manufacturing",11081,289841,2508942,13695,136558,5529519,2.75,19.95,"2014"]
["312113","Ice manufacturing",2664,46590,133597,"S",46633,698546,2.75,19.95,"2014"]
["31212","Breweries",33750,1081060,11576445,184361,207834,34914153,2.75,19.95,"2014"]
["312120","Breweries",33750,1081060,11576445,184361,207834,34914153,2.75,19.95,"2014"]
["31213","Wineries",31752,756719,7321584,29533,100439,17445332,2.75,19.95,"2014"]
["312130","Wineries",31752,756719,7321584,29533,100439,17445332,2.75,19.95,"2014"]
["31214","Distilleries",10536,277438,3894598,32283,27133,11009058,2.75,19.95,"2014"]
["312140","Distilleries",10536,277438,3894598,32283,27133,11009058,2.75,19.95,"2014"]
["3122","Tobacco manufacturing",18628,499939,7517663,36534,66323,37292837,2.75,19.95,"2014"]
["31223","Tobacco manufacturing",18628,499939,7517663,36534,66323,37292837,2.75,19.95,"2014"]
["312230","Tobacco manufacturing",18628,499939,7517663,36534,66323,37292837,2.75,19.95,"2014"]
["313","Textile mills",166676,2769890,18960486,319712,787844,31714275,2.48,5.59,"2014"]
["3131","Fiber, yarn, and thread mills",43422,646053,5650514,22742,301143,8053449,2.48,5.59,"2014"]
["31311","Fiber, yarn, and thread mills",43422,646053,5650514,22742,301143,8053449,2.48,5.59,"2014"]
["313110","Fiber, yarn, and thread mills",43422,646053,5650514,22742,301143,8053449,2.48,5.59,"2014"]
["3132","Fabric mills",77214,1401243,8307502,169013,357958,15348426,2.48,5.59,"2014"]
["31321","Broadwoven fabric mills",30347,480265,2694245,26592,119944,4229926,2.48,5.59,"2014"]
["313210","Broadwoven fabric mills",30347,480265,2694245,26592,119944,4229926,2.48,5.59,"2014"]
["31322","Narrow fabric mills and schiffli machine embroidery",9365,144139,465500,5722,14725,1023548,2.48,5.59,"2014"]
["313220","Narrow fabric mills and schiffli machine embroidery",9365,144139,465500,5722,14725,1023548,2.48,5.59,"2014"]
["31323","Nonwoven fabric mills",25712,604604,4127205,116645,192888,8434838,2.48,5.59,"2014"]
["313230","Nonwoven fabric mills",25712,604604,4127205,116645,192888,8434838,2.48,5.59,"2014"]
["31324","Knit fabric mills",11790,172236,1020552,20055,30401,1660115,2.48,5.59,"2014"]
["313240","Knit fabric mills",11790,172236,1020552,20055,30401,1660115,2.48,5.59,"2014"]
["3133","Textile and fabric finishing and fabric coating mills",46040,722593,5002470,127957,128743,8312401,2.48,5.59,"2014"]
["31331","Textile and fabric finishing mills",36461,540592,3449001,108237,103888,5877953,2.48,5.59,"2014"]
["313310","Textile and fabric finishing mills",36461,540592,3449001,108237,103888,5877953,2.48,5.59,"2014"]
["31332","Fabric coating mills",9578,182001,1553469,19720,24855,2434448,2.48,5.59,"2014"]
["313320","Fabric coating mills",9578,182001,1553469,19720,24855,2434448,2.48,5.59,"2014"]
["314","Textile product mills",159969,2424299,13832414,93928,232417,24308384,2.48,5.59,"2014"]
["3141","Textile furnishings mills",77462,1181639,8362203,63688,118195,13462754,2.48,5.59,"2014"]
["31411","Carpet and rug mills",43845,740455,6311130,56258,100102,9325571,2.48,5.59,"2014"]
["314110","Carpet and rug mills",43845,740455,6311130,56258,100102,9325571,2.48,5.59,"2014"]
["31412","Curtain and linen mills",33617,441184,2051073,7430,18093,4137182,2.48,5.59,"2014"]
["314120","Curtain and linen mills",33617,441184,2051073,7430,18093,4137182,2.48,5.59,"2014"]
["3149","Other textile product mills",82507,1242661,5470210,30239,114222,10845630,2.48,5.59,"2014"]
["31491","Textile bag and canvas mills",26844,410537,1785671,5634,20593,3632475,2.48,5.59,"2014"]
["314910","Textile bag and canvas mills",26844,410537,1785671,5634,20593,3632475,2.48,5.59,"2014"]
["31499","All other textile product mills",55663,832124,3684539,24605,93629,7213155,2.48,5.59,"2014"]
["314994","Rope, cordage, twine, tire cord, and tire fabric mills",7324,137256,936435,5799,35088,1578341,2.48,5.59,"2014"]
["314999","All other miscellaneous textile product mills",48340,694868,2748104,18806,58541,5634814,2.48,5.59,"2014"]
["315","Apparel manufacturing",129386,1706564,5640990,23055,76036,11776449,2.2999999999999998,8.52,"2014"]
["3151","Apparel knitting mills",19877,259309,948983,8900,30210,1864531,2.2999999999999998,8.52,"2014"]
["31511","Hosiery and sock mills",15645,190928,499962,7285,26186,1102029,2.2999999999999998,8.52,"2014"]
["315110","Hosiery and sock mills",15645,190928,499962,7285,26186,1102029,2.2999999999999998,8.52,"2014"]
["31519","Other apparel knitting mills",4231,68381,449020,1615,4024,762503,2.2999999999999998,8.52,"2014"]
["315190","Other apparel knitting mills",4231,68381,449020,1615,4024,762503,2.2999999999999998,8.52,"2014"]
["3152","Cut and sew apparel manufacturing",99091,1311966,4214361,13040,40778,8868216,2.2999999999999998,8.52,"2014"]
["31521","Cut and sew apparel contractors",45807,538929,750108,6884,16972,1999729,2.2999999999999998,8.52,"2014"]
["315210","Cut and sew apparel contractors",45807,538929,750108,6884,16972,1999729,2.2999999999999998,8.52,"2014"]
["31522","Men's and boys' cut and sew apparel manufacturing",16382,200521,657188,2855,8254,1287510,2.2999999999999998,8.52,"2014"]
["315220","Men's and boys' cut and sew apparel manufacturing",16382,200521,657188,2855,8254,1287510,2.2999999999999998,8.52,"2014"]
["31524","Women's, girls', and infants' cut and sew apparel manufacturing",27000,433399,2357057,2619,9899,4537354,2.2999999999999998,8.52,"2014"]
["315240","Women's, girls', and infants' cut and sew apparel manufacturing",27000,433399,2357057,2619,9899,4537354,2.2999999999999998,8.52,"2014"]
["31528","Other cut and sew apparel manufacturing",9901,139117,450008,682,5652,1043623,2.2999999999999998,8.52,"2014"]
["315280","Other cut and sew apparel manufacturing",9901,139117,450008,682,5652,1043623,2.2999999999999998,8.52,"2014"]
["3159","Apparel accessories and other apparel manufacturing",10419,135289,477647,1116,5049,1043701,2.2999999999999998,8.52,"2014"]
["31599","Apparel accessories and other apparel manufacturing",10419,135289,477647,1116,5049,1043701,2.2999999999999998,8.52,"2014"]
["315990","Apparel accessories and other apparel manufacturing",10419,135289,477647,1116,5049,1043701,2.2999999999999998,8.52,"2014"]
["316","Leather and allied product manufacturing",35102,522872,3027067,8779,29291,5008738,2.2999999999999998,8.52,"2014"]
["3161","Leather and hide tanning and finishing",4956,87837,1403688,4818,10960,1758792,2.2999999999999998,8.52,"2014"]
["31611","Leather and hide tanning and finishing",4956,87837,1403688,4818,10960,1758792,2.2999999999999998,8.52,"2014"]
["316110","Leather and hide tanning and finishing",4956,87837,1403688,4818,10960,1758792,2.2999999999999998,8.52,"2014"]
["3162","Footwear manufacturing",16305,250985,949011,1788,10047,1814146,2.2999999999999998,8.52,"2014"]
["31621","Footwear manufacturing",16305,250985,949011,1788,10047,1814146,2.2999999999999998,8.52,"2014"]
["316210","Footwear manufacturing",16305,250985,949011,1788,10047,1814146,2.2999999999999998,8.52,"2014"]
["3169","Other leather and allied product manufacturing",13841,184050,674368,2173,8284,1435799,2.2999999999999998,8.52,"2014"]
["31699","Other leather and allied product manufacturing",13841,184050,674368,2173,8284,1435799,2.2999999999999998,8.52,"2014"]
["316992","Women's handbag and purse manufacturing",1928,32408,125744,204,"D",296780,2.2999999999999998,8.52,"2014"]
["316998","All other leather good and allied product manufacturing",11913,151642,548624,1969,"D",1139019,2.2999999999999998,8.52,"2014"]
["321","Wood product manufacturing",583467,10067363,55304560,652667,1595743,95175812,3.06,9,"2014"]
["3211","Sawmills and wood preservation",131843,2520059,16626614,206851,518040,27683251,3.06,9,"2014"]
["32111","Sawmills and wood preservation",131843,2520059,16626614,206851,518040,27683251,3.06,9,"2014"]
["321113","Sawmills",118850,2256017,12556736,172413,476880,22194233,3.06,9,"2014"]
["321114","Wood preservation",12992,264042,4069878,34438,41160,5489018,3.06,9,"2014"]
["3212","Veneer, plywood, and engineered wood product manufacturing",112400,2066235,12522128,222800,492738,20760810,3.06,9,"2014"]
["32121","Veneer, plywood, and engineered wood product manufacturing",112400,2066235,12522128,222800,492738,20760810,3.06,9,"2014"]
["321211","Hardwood veneer and plywood manufacturing",20140,317621,1720158,15160,39332,2757032,3.06,9,"2014"]
["321212","Softwood veneer and plywood manufacturing",29545,584958,2971862,47906,108971,5038547,3.06,9,"2014"]
["321213","Engineered wood member (except truss) manufacturing",6264,129047,1249146,5768,23351,1810865,3.06,9,"2014"]
["321214","Truss manufacturing",33373,519674,2454236,17355,17723,4407889,3.06,9,"2014"]
["321219","Reconstituted wood product manufacturing",23078,514935,4126727,136610,303362,6746477,3.06,9,"2014"]
["3219","Other wood product manufacturing",339224,5481069,26155818,223017,584965,46731751,3.06,9,"2014"]
["32191","Millwork",163910,2865395,14959849,92371,325642,25907347,3.06,9,"2014"]
["321911","Wood window and door manufacturing",70383,1316582,5414709,24964,100629,10604307,3.06,9,"2014"]
["321912","Cut stock, resawing lumber, and planing",47962,801111,5535989,49647,125320,8672010,3.06,9,"2014"]
["321918","Other millwork (including flooring)",45565,747702,4009151,17761,99693,6631030,3.06,9,"2014"]
["32192","Wood container and pallet manufacturing",84067,1215811,4303135,83651,110962,8240766,3.06,9,"2014"]
["321920","Wood container and pallet manufacturing",84067,1215811,4303135,83651,110962,8240766,3.06,9,"2014"]
["32199","All other wood product manufacturing",91247,1399863,6892834,46994,148361,12583638,3.06,9,"2014"]
["321991","Manufactured home (mobile home) manufacturing",36051,486634,2275466,4869,16266,3959643,3.06,9,"2014"]
["321992","Prefabricated wood building manufacturing",17584,301920,1611971,5841,10727,2863154,3.06,9,"2014"]
["321999","All other miscellaneous wood product manufacturing",37612,611310,3005397,36284,121369,5760840,3.06,9,"2014"]
["322","Paper manufacturing",550215,13999833,101475512,4280773,3651041,186835804,4.46,6.38,"2014"]
["3221","Pulp, paper, and paperboard mills",180629,5993814,38331744,3775364,2581304,82058524,4.46,6.38,"2014"]
["32211","Pulp mills",14961,497702,3160932,377788,123143,6148858,4.46,6.38,"2014"]
["322110","Pulp mills",14961,497702,3160932,377788,123143,6148858,4.46,6.38,"2014"]
["32212","Paper mills",105854,3401778,22089486,1808748,1441361,45850571,4.46,6.38,"2014"]
["322121","Paper (except newsprint) mills",101628,3267033,21074524,1738159,1164979,43931534,4.46,6.38,"2014"]
["322122","Newsprint mills",4226,134745,1014962,70589,276382,1919037,4.46,6.38,"2014"]
["32213","Paperboard mills",59813,2094334,13081326,1588828,1016800,30059095,4.46,6.38,"2014"]
["322130","Paperboard mills",59813,2094334,13081326,1588828,1016800,30059095,4.46,6.38,"2014"]
["3222","Converted paper product manufacturing",369587,8006019,63143768,505409,1069737,104777280,4.46,6.38,"2014"]
["32221","Paperboard container manufacturing",217606,4862076,38703940,285325,565680,60060056,4.46,6.38,"2014"]
["322211","Corrugated and solid fiber box manufacturing",118596,2796102,25823507,234749,331940,38353287,4.46,6.38,"2014"]
["322212","Folding paperboard box manufacturing",64147,1378211,8360008,29048,130085,13980609,4.46,6.38,"2014"]
["322219","Other paperboard container manufacturing",34864,687763,4520425,21529,103655,7726161,4.46,6.38,"2014"]
["32222","Paper bag and coated and treated paper manufacturing",70266,1485234,11480470,116234,202264,21047686,4.46,6.38,"2014"]
["322220","Paper bag and coated and treated paper manufacturing",70266,1485234,11480470,116234,202264,21047686,4.46,6.38,"2014"]
["32223","Stationery product manufacturing",28656,517110,4283834,7712,60720,6549752,4.46,6.38,"2014"]
["322230","Stationery product manufacturing",28656,517110,4283834,7712,60720,6549752,4.46,6.38,"2014"]
["32229","Other converted paper product manufacturing",53059,1141600,8675524,96138,241073,17119786,4.46,6.38,"2014"]
["322291","Sanitary paper product manufacturing",27670,649096,5917674,40330,136601,11654305,4.46,6.38,"2014"]
["322299","All other converted paper product manufacturing",25388,492503,2757850,55809,104472,5465481,4.46,6.38,"2014"]
["323","Printing and related support activities",593247,12034899,34662401,230610,1086939,83319174,3.94,6.94,"2014"]
["3231","Printing and related support activities",593247,12034899,34662401,230610,1086939,83319174,3.94,6.94,"2014"]
["32311","Printing",559937,11310854,33744001,223863,1050233,79716475,3.94,6.94,"2014"]
["323111","Commercial printing (except screen and books)",457307,9535695,28661188,190428,904103,67508935,3.94,6.94,"2014"]
["323113","Commercial screen printing",69294,1096750,3352015,17220,74742,7893893,3.94,6.94,"2014"]
["323117","Books printing",33336,678409,1730798,16215,71387,4313646,3.94,6.94,"2014"]
["32312","Support activities for printing",33311,724045,918400,6747,36707,3602699,3.94,6.94,"2014"]
["323120","Support activities for printing",33311,724045,918400,6747,36707,3602699,3.94,6.94,"2014"]
["324","Petroleum and coal products manufacturing",149408,5725278,681478460,7955464,3147619,786513349,2.56,2.5,"2014"]
["3241","Petroleum and coal products manufacturing",149408,5725278,681478460,7955464,3147619,786513349,2.56,2.5,"2014"]
["32411","Petroleum refineries",91780,4135319,650876813,7356256,2837309,741059478,2.56,2.5,"2014"]
["324110","Petroleum refineries",91780,4135319,650876813,7356256,2837309,741059478,2.56,2.5,"2014"]
["32412","Asphalt paving, roofing, and saturated materials manufacturing",37079,978050,15308438,446013,222862,22766806,2.56,2.5,"2014"]
["324121","Asphalt paving mixture and block manufacturing",22493,581892,9416121,382844,156810,13162016,2.56,2.5,"2014"]
["324122","Asphalt shingle and coating materials manufacturing",14586,396157,5892316,63169,66052,9604789,2.56,2.5,"2014"]
["32419","Other petroleum and coal products manufacturing",20549,611909,15293210,153195,87449,22687065,2.56,2.5,"2014"]
["324191","Petroleum lubricating oil and grease manufacturing",14735,443087,12689402,78956,55435,18339926,2.56,2.5,"2014"]
["324199","All other petroleum and coal products manufacturing",5813,168822,2603808,74240,32014,4347139,2.56,2.5,"2014"]
["325","Chemical manufacturing",883042,25675791,406857177,11118604,9073946,788685206,3.11,12.74,"2014"]
["3251","Basic chemical manufacturing",198592,6877525,161273142,7869463,5168792,263808512,3.76,8.32,"2014"]
["32511","Petrochemical manufacturing",12428,607663,46404754,2120600,403014,74155106,3.76,8.32,"2014"]
["325110","Petrochemical manufacturing",12428,607663,46404754,2120600,403014,74155106,3.76,8.32,"2014"]
["32512","Industrial gas manufacturing",13014,427037,3413341,480829,1067914,7187430,3.76,8.32,"2014"]
["325120","Industrial gas manufacturing",13014,427037,3413341,480829,1067914,7187430,3.76,8.32,"2014"]
["32513","Synthetic dye and pigment manufacturing",12311,370711,3514302,119639,143497,8256429,3.76,8.32,"2014"]
["325130","Synthetic dye and pigment manufacturing",12311,370711,3514302,119639,143497,8256429,3.76,8.32,"2014"]
["32518","Other basic inorganic chemical manufacturing",51905,1731197,14145413,936154,1619122,32479806,3.76,8.32,"2014"]
["325180","Other basic inorganic chemical manufacturing",51905,1731197,14145413,936154,1619122,32479806,3.76,8.32,"2014"]
["32519","Other basic organic chemical manufacturing",108934,3740917,93795331,4212242,1935245,141729741,3.76,8.32,"2014"]
["325193","Ethyl alcohol manufacturing",17267,462211,29848943,1781791,"D",41028326,3.76,8.32,"2014"]
["325194","Cyclic crude, intermediate, and gum and wood chemical manufacturing",8276,275173,6292856,132822,"D",9172004,3.76,8.32,"2014"]
["325199","All other basic organic chemical manufacturing",83392,3003533,57653531,2297629,1129328,91529412,3.76,8.32,"2014"]
["3252","Resin, synthetic rubber, and artificial synthetic fibers and filaments manufacturing",121975,3588267,77922160,1934615,1775799,113499189,3.76,8.32,"2014"]
["32521","Resin and synthetic rubber manufacturing",98507,3084840,72995518,1861745,1586359,105340511,3.76,8.32,"2014"]
["325211","Plastics material and resin manufacturing",88605,2748528,67166676,1714354,1493641,97166655,3.76,8.32,"2014"]
["325212","Synthetic rubber manufacturing",9902,336312,5828842,147391,92718,8173856,3.76,8.32,"2014"]
["32522","Artificial and synthetic fibers and filaments manufacturing",23468,503427,4926641,72870,189441,8158678,3.76,8.32,"2014"]
["325220","Artificial and synthetic fibers and filaments manufacturing",23468,503427,4926641,72870,189441,8158678,3.76,8.32,"2014"]
["3253","Pesticide, fertilizer, and other agricultural chemical manufacturing",39742,1149363,22673404,405816,408814,42274841,3.26,13.89,"2014"]
["32531","Fertilizer manufacturing",25750,741345,13953766,344634,334304,26385086,3.26,13.89,"2014"]
["325311","Nitrogenous fertilizer manufacturing",7264,254646,3511111,264144,204795,8694357,3.26,13.89,"2014"]
["325312","Phosphatic fertilizer manufacturing",8979,292653,7438796,57666,"D",12635521,3.26,13.89,"2014"]
["325314","Fertilizer (mixing only) manufacturing",9506,194046,3003859,22824,"D",5055208,3.26,13.89,"2014"]
["32532","Pesticide and other agricultural chemical manufacturing",13993,408019,8719638,61182,74510,15889755,3.26,13.89,"2014"]
["325320","Pesticide and other agricultural chemical manufacturing",13993,408019,8719638,61182,74510,15889755,3.26,13.89,"2014"]
["3254","Pharmaceutical and medicine manufacturing",247633,7462313,64258020,379603,809389,201491139,2.58,14.85,"2014"]
["32541","Pharmaceutical and medicine manufacturing",247633,7462313,64258020,379603,809389,201491139,2.58,14.85,"2014"]
["325411","Medicinal and botanical manufacturing",29343,802177,4833720,79220,117090,13134737,2.58,14.85,"2014"]
["325412","Pharmaceutical preparation manufacturing",149083,4139244,48902174,189727,497344,151107211,2.58,14.85,"2014"]
["325413","In-vitro diagnostic substance manufacturing",22055,714797,4390088,17095,50443,12936804,2.58,14.85,"2014"]
["325414","Biological product (except diagnostic) manufacturing",47152,1806094,6132037,93561,144511,24312387,2.58,14.85,"2014"]
["3255","Paint, coating, and adhesive manufacturing",67222,1616747,21822662,107426,219577,39557391,3.26,13.89,"2014"]
["32551","Paint and coating manufacturing",40575,980197,15546262,51238,118756,27284422,3.26,13.89,"2014"]
["325510","Paint and coating manufacturing",40575,980197,15546262,51238,118756,27284422,3.26,13.89,"2014"]
["32552","Adhesive manufacturing",26647,636551,6276400,56188,100820,12272969,3.26,13.89,"2014"]
["325520","Adhesive manufacturing",26647,636551,6276400,56188,100820,12272969,3.26,13.89,"2014"]
["3256","Soap, cleaning compound, and toilet preparation manufacturing",105107,2584467,33172501,162565,252080,81154700,3.26,13.89,"2014"]
["32561","Soap and cleaning compound manufacturing",52233,1367412,16925950,118235,155994,39191792,3.26,13.89,"2014"]
["325611","Soap and other detergent manufacturing",29179,770328,8621303,33648,71677,23016965,3.26,13.89,"2014"]
["325612","Polish and other sanitation good manufacturing",16300,362111,3932923,13438,40981,8911913,3.26,13.89,"2014"]
["325613","Surface active agent manufacturing",6754,234973,4371723,71150,43336,7262914,3.26,13.89,"2014"]
["32562","Toilet preparation manufacturing",52875,1217055,16246551,44330,96086,41962908,3.26,13.89,"2014"]
["325620","Toilet preparation manufacturing",52875,1217055,16246551,44330,96086,41962908,3.26,13.89,"2014"]
["3259","Other chemical product and preparation manufacturing",102770,2397108,25735289,259115,439495,46899435,3.26,13.89,"2014"]
["32591","Printing ink manufacturing",12699,281271,2874316,10844,37031,5064114,3.26,13.89,"2014"]
["325910","Printing ink manufacturing",12699,281271,2874316,10844,37031,5064114,3.26,13.89,"2014"]
["32592","Explosives manufacturing",7930,196787,907477,17029,18530,2314232,3.26,13.89,"2014"]
["325920","Explosives manufacturing",7930,196787,907477,17029,18530,2314232,3.26,13.89,"2014"]
["32599","All other chemical product and preparation manufacturing",82141,1919050,21953496,231243,383934,39521089,3.26,13.89,"2014"]
["325991","Custom compounding of purchased resins",24907,531860,7230560,33106,148745,10844882,3.26,13.89,"2014"]
["325992","Photographic film, paper, plate, and chemical manufacturing",15070,351633,3495705,41840,64664,7476603,3.26,13.89,"2014"]
["325998","All other miscellaneous chemical product and preparation manufacturing",42165,1035557,11227231,156297,170526,21199604,3.26,13.89,"2014"]
["326","Plastics and rubber products manufacturing",1145194,21474372,127673600,758689,3955498,235197292,3,7.49,"2014"]
["3261","Plastics product manufacturing",939638,17047674,102400847,549985,3426661,190909516,3,7.49,"2014"]
["32611","Plastics packaging materials and unlaminated film and sheet manufacturing",152100,3267271,25408931,157711,737704,42980744,3,7.49,"2014"]
["326111","Plastics bag and pouch manufacturing",45663,792149,5962118,15758,171691,10006223,3,7.49,"2014"]
["326112","Plastics packaging film and sheet (including laminated) manufacturing",52428,1234412,8552926,50532,209481,13510162,3,7.49,"2014"]
["326113","Unlaminated plastics film and sheet (except packaging) manufacturing",54009,1240710,10893888,91421,356532,19464360,3,7.49,"2014"]
["32612","Plastics pipe, pipe fitting, and unlaminated profile shape manufacturing",63860,1277186,10028685,46108,313506,17916870,3,7.49,"2014"]
["326121","Unlaminated plastics profile shape manufacturing",27792,579242,3256859,35321,98895,6911610,3,7.49,"2014"]
["326122","Plastics pipe and pipe fitting manufacturing",36067,697943,6771827,10788,214611,11005260,3,7.49,"2014"]
["32613","Laminated plastics plate, sheet (except packaging), and shape manufacturing",15757,329511,1841012,17033,48331,3778040,3,7.49,"2014"]
["326130","Laminated plastics plate, sheet (except packaging), and shape manufacturing",15757,329511,1841012,17033,48331,3778040,3,7.49,"2014"]
["32614","Polystyrene foam product manufacturing",38680,707852,4796299,70872,143560,8595514,3,7.49,"2014"]
["326140","Polystyrene foam product manufacturing",38680,707852,4796299,70872,143560,8595514,3,7.49,"2014"]
["32615","Urethane and other foam product (except polystyrene) manufacturing",45930,743133,6380177,38746,85753,10579483,3,7.49,"2014"]
["326150","Urethane and other foam product (except polystyrene) manufacturing",45930,743133,6380177,38746,85753,10579483,3,7.49,"2014"]
["32616","Plastics bottle manufacturing",53123,1013614,7510644,15952,418309,12572764,3,7.49,"2014"]
["326160","Plastics bottle manufacturing",53123,1013614,7510644,15952,418309,12572764,3,7.49,"2014"]
["32619","Other plastics product manufacturing",570188,9709107,46435098,203562,1679498,94486101,3,7.49,"2014"]
["326191","Plastics plumbing fixture manufacturing",23437,339262,1545569,9531,30613,3560759,3,7.49,"2014"]
["326199","All other plastics product manufacturing",546751,9369845,44889530,194032,1648885,90925341,3,7.49,"2014"]
["3262","Rubber product manufacturing",205556,4426698,25272753,208705,528837,44287776,3,7.49,"2014"]
["32621","Tire manufacturing",81209,2094755,12222895,112520,241572,20005081,3,7.49,"2014"]
["326211","Tire manufacturing (except retreading)",72134,1931471,11008407,104418,220351,18042421,3,7.49,"2014"]
["326212","Tire retreading",9075,163284,1214487,8102,21222,1962660,3,7.49,"2014"]
["32622","Rubber and plastics hoses and belting manufacturing",29961,607981,2572880,27407,61934,5160854,3,7.49,"2014"]
["326220","Rubber and plastics hoses and belting manufacturing",29961,607981,2572880,27407,61934,5160854,3,7.49,"2014"]
["32629","Other rubber product manufacturing",94386,1723961,10476978,68778,225330,19121841,3,7.49,"2014"]
["326291","Rubber product manufacturing for mechanical use",47841,829663,4204872,27940,100726,7875935,3,7.49,"2014"]
["326299","All other rubber product manufacturing",46545,894298,6272106,40839,124605,11245906,3,7.49,"2014"]
["327","Nonmetallic mineral product manufacturing",562578,12111687,50105865,3035237,2673606,113666741,5.49,6.09,"2014"]
["3271","Clay product and refractory manufacturing",47594,949555,3055590,205986,146395,7920870,5.49,6.09,"2014"]
["32711","Pottery, ceramics, and plumbing fixture manufacturing",17708,330693,749850,33835,39280,2283650,5.49,6.09,"2014"]
["327110","Pottery, ceramics, and plumbing fixture manufacturing",17708,330693,749850,33835,39280,2283650,5.49,6.09,"2014"]
["32712","Clay building material and refractories manufacturing",29886,618862,2305740,172151,107115,5637220,5.49,6.09,"2014"]
["327120","Clay building material and refractories manufacturing",29886,618862,2305740,172151,107115,5637220,5.49,6.09,"2014"]
["3272","Glass and glass product manufacturing",135925,2940200,10495760,686579,760784,24728091,5.49,6.09,"2014"]
["32721","Glass and glass product manufacturing",135925,2940200,10495760,686579,760784,24728091,5.49,6.09,"2014"]
["327211","Flat glass manufacturing",15633,313055,1592157,253456,131277,3267779,5.49,6.09,"2014"]
["327212","Other pressed and blown glass and glassware manufacturing",22425,520898,1307634,133646,135570,3760962,5.49,6.09,"2014"]
["327213","Glass container manufacturing",24707,726395,1686507,244087,231411,5132012,5.49,6.09,"2014"]
["327215","Glass product manufacturing made of purchased glass",73160,1379851,5909462,55390,262526,12567338,5.49,6.09,"2014"]
["3273","Cement and concrete product manufacturing",252882,5411686,23497494,1068084,1069427,48724713,5.49,6.09,"2014"]
["32731","Cement manufacturing",19759,590373,3419762,697775,761701,7197432,5.49,6.09,"2014"]
["327310","Cement manufacturing",19759,590373,3419762,697775,761701,7197432,5.49,6.09,"2014"]
["32732","Ready-mix concrete manufacturing",122406,2755950,12822111,259031,146682,24304195,5.49,6.09,"2014"]
["327320","Ready-mix concrete manufacturing",122406,2755950,12822111,259031,146682,24304195,5.49,6.09,"2014"]
["32733","Concrete pipe, brick, and block manufacturing",33012,645970,2889091,50375,66732,6625977,5.49,6.09,"2014"]
["327331","Concrete block and brick manufacturing",19012,384821,1921096,35059,47770,4113398,5.49,6.09,"2014"]
["327332","Concrete pipe manufacturing",14000,261149,967995,15316,18962,2512580,5.49,6.09,"2014"]
["32739","Other concrete product manufacturing",77705,1419393,4366530,60903,94312,10597109,5.49,6.09,"2014"]
["327390","Other concrete product manufacturing",77705,1419393,4366530,60903,94312,10597109,5.49,6.09,"2014"]
["3274","Lime and gypsum product manufacturing",22220,590351,3458937,708058,218895,7527994,5.49,6.09,"2014"]
["32741","Lime manufacturing",7957,220562,1060379,419584,109024,2538994,5.49,6.09,"2014"]
["327410","Lime manufacturing",7957,220562,1060379,419584,109024,2538994,5.49,6.09,"2014"]
["32742","Gypsum product manufacturing",14263,369790,2398558,288473,109871,4988999,5.49,6.09,"2014"]
["327420","Gypsum product manufacturing",14263,369790,2398558,288473,109871,4988999,5.49,6.09,"2014"]
["3279","Other nonmetallic mineral product manufacturing",103957,2219896,9598084,366530,478104,24765074,5.49,6.09,"2014"]
["32791","Abrasive product manufacturing",18592,385261,1702114,25118,67346,6064124,5.49,6.09,"2014"]
["327910","Abrasive product manufacturing",18592,385261,1702114,25118,67346,6064124,5.49,6.09,"2014"]
["32799","All other nonmetallic mineral product manufacturing",85365,1834634,7895971,341413,410758,18700950,5.49,6.09,"2014"]
["327991","Cut stone and stone product manufacturing",34200,657470,1734983,23910,39305,4203032,5.49,6.09,"2014"]
["327992","Ground or treated mineral and earth manufacturing",12226,293259,1792630,125824,113857,4226439,5.49,6.09,"2014"]
["327993","Mineral wool manufacturing",23451,565087,2412858,124979,216534,5692501,5.49,6.09,"2014"]
["327999","All other miscellaneous nonmetallic mineral product manufacturing",15489,318818,1955499,66699,41063,4578978,5.49,6.09,"2014"]
["331","Primary metal manufacturing",653483,16983457,174453387,4021678,6586508,263559178,3.9,6.31,"2014"]
["3311","Iron and steel mills and ferroalloy manufacturing",175832,5993207,74021509,2536699,3016252,107689837,2.87,4.32,"2014"]
["33111","Iron and steel mills and ferroalloy manufacturing",175832,5993207,74021509,2536699,3016252,107689837,2.87,4.32,"2014"]
["331110","Iron and steel mills and ferroalloy manufacturing",175832,5993207,74021509,2536699,3016252,107689837,2.87,4.32,"2014"]
["3312","Steel product manufacturing from purchased steel",76863,1799046,16589459,130092,397192,25082299,2.87,4.32,"2014"]
["33121","Iron and steel pipe and tube manufacturing from purchased steel",42770,1078888,9291074,70339,222779,13715403,2.87,4.32,"2014"]
["331210","Iron and steel pipe and tube manufacturing from purchased steel",42770,1078888,9291074,70339,222779,13715403,2.87,4.32,"2014"]
["33122","Rolling and drawing of purchased steel",34093,720158,7298384,59753,174413,11366895,2.87,4.32,"2014"]
["331221","Rolled steel shape manufacturing",11212,272793,3498562,25735,80229,5785545,2.87,4.32,"2014"]
["331222","Steel wire drawing",22881,447364,3799823,34018,94184,5581350,2.87,4.32,"2014"]
["3313","Alumina and aluminum production and processing",92649,2331187,27438618,671869,1443198,38973785,5.69,6.82,"2014"]
["33131","Alumina and aluminum production and processing",92649,2331187,27438618,671869,1443198,38973785,5.69,6.82,"2014"]
["331313","Alumina refining and primary aluminum production",12813,386617,3540482,191030,917048,5532106,5.69,6.82,"2014"]
["331314","Secondary smelting and alloying of aluminum",7913,207976,5221397,191470,109723,6361652,5.69,6.82,"2014"]
["331315","Aluminum sheet, plate, and foil manufacturing",28624,888232,12098983,207574,270895,16980567,5.69,6.82,"2014"]
["331318","Other aluminum rolling, drawing, and extruding",43299,848363,6577756,81796,145532,10099460,5.69,6.82,"2014"]
["3314","Nonferrous metal (except aluminum) production and processing",92625,2285724,41408633,311643,801609,58266161,5.69,6.82,"2014"]
["33141","Nonferrous metal (except aluminum) smelting and refining",13812,396696,9064874,103395,386675,14850013,5.69,6.82,"2014"]
["331410","Nonferrous metal (except aluminum) smelting and refining",13812,396696,9064874,103395,386675,14850013,5.69,6.82,"2014"]
["33142","Copper rolling, drawing, extruding, and alloying",38213,844341,18917522,60704,177486,23520583,5.69,6.82,"2014"]
["331420","Copper rolling, drawing, extruding, and alloying",38213,844341,18917522,60704,177486,23520583,5.69,6.82,"2014"]
["33149","Nonferrous metal (except copper and aluminum) rolling, drawing, extruding, and alloying",40600,1044687,13426237,147544,237447,19895565,5.69,6.82,"2014"]
["331491","Nonferrous metal (except copper and aluminum) rolling, drawing, extruding, and alloying",25570,672887,4598992,57073,136108,7998254,5.69,6.82,"2014"]
["331492","Secondary smelting, refining, and alloying of nonferrous metal (except copper and aluminum)",15030,371800,8827244,90471,101339,11897311,5.69,6.82,"2014"]
["3315","Foundries",215513,4574293,14995169,371375,928258,33547097,2.54,15.2,"2014"]
["33151","Ferrous metal foundries",117491,2561220,8751556,215795,645181,19865941,2.54,15.2,"2014"]
["331511","Iron foundries",66755,1451484,5247617,147186,412453,11371766,2.54,15.2,"2014"]
["331512","Steel investment foundries",23062,528142,1153952,19950,86587,3519578,2.54,15.2,"2014"]
["331513","Steel foundries (except investment)",27674,581594,2349987,48659,146141,4974597,2.54,15.2,"2014"]
["33152","Nonferrous metal foundries",98022,2013073,6243613,155580,283078,13681155,2.54,15.2,"2014"]
["331523","Nonferrous metal die-casting foundries",57892,1197517,3764232,102635,174883,8275590,2.54,15.2,"2014"]
["331524","Aluminum foundries (except die-casting)",25819,511072,1336323,43872,72316,3162205,2.54,15.2,"2014"]
["331529","Other nonferrous metal foundries (except die-casting)",14311,304484,1143059,9073,35878,2243361,2.54,15.2,"2014"]
["332","Fabricated metal product manufacturing",2106640,44853898,168698517,1402311,3655611,358961754,2.54,8.8000000000000007,"2014"]
["3321","Forging and stamping",170645,3674852,19656446,260421,544183,35285967,2.54,8.8000000000000007,"2014"]
["33211","Forging and stamping",170645,3674852,19656446,260421,544183,35285967,2.54,8.8000000000000007,"2014"]
["332111","Iron and steel forging",33157,773603,4967360,96757,189686,9059872,2.54,8.8000000000000007,"2014"]
["332112","Nonferrous forging",12058,307084,2316361,64885,"D",3611700,2.54,8.8000000000000007,"2014"]
["332114","Custom roll forming",31398,677067,5519411,37041,"D",8509641,2.54,8.8000000000000007,"2014"]
["332117","Powder metallurgy part manufacturing",13476,271828,910093,19629,45822,2167929,2.54,8.8000000000000007,"2014"]
["332119","Metal crown, closure, and other metal stamping (except automotive)",80558,1645270,5943222,42109,132185,11936824,2.54,8.8000000000000007,"2014"]
["3322","Cutlery and handtool manufacturing",51452,1076014,3619391,37082,95660,10003828,2.54,8.8000000000000007,"2014"]
["33221","Cutlery and handtool manufacturing",51452,1076014,3619391,37082,95660,10003828,2.54,8.8000000000000007,"2014"]
["332215","Metal kitchen cookware, utensil, cutlery, and flatware (except precious) manufacturing",9460,212159,912649,14042,21698,3390045,2.54,8.8000000000000007,"2014"]
["332216","Saw blade and handtool manufacturing",41991,863855,2706741,23040,73961,6613783,2.54,8.8000000000000007,"2014"]
["3323","Architectural and structural metals manufacturing",483810,9772389,43019213,198492,578248,83216239,2.54,8.8000000000000007,"2014"]
["33231","Plate work and fabricated structural product manufacturing",221664,4779708,24523389,96727,305785,44526130,2.54,8.8000000000000007,"2014"]
["332311","Prefabricated metal building and component manufacturing",29800,569396,4128245,8987,31096,6783868,2.54,8.8000000000000007,"2014"]
["332312","Fabricated structural metal manufacturing",135581,3021901,16999786,64174,210561,30424183,2.54,8.8000000000000007,"2014"]
["332313","Plate work manufacturing",56284,1188411,3395358,23566,64128,7318079,2.54,8.8000000000000007,"2014"]
["33232","Ornamental and architectural metal products manufacturing",262145,4992681,18495824,101766,272463,38690109,2.54,8.8000000000000007,"2014"]
["332321","Metal window and door manufacturing",68360,1178956,5597352,26368,71245,10828752,2.54,8.8000000000000007,"2014"]
["332322","Sheet metal work manufacturing",150352,2999034,10157053,58163,162788,21436813,2.54,8.8000000000000007,"2014"]
["332323","Ornamental and architectural metal work manufacturing",43433,814691,2741419,17235,38430,6424544,2.54,8.8000000000000007,"2014"]
["3324","Boiler, tank, and shipping container manufacturing",146022,3397613,21262087,132531,330565,36975979,2.54,8.8000000000000007,"2014"]
["33241","Power boiler and heat exchanger manufacturing",34947,875665,3739410,13636,46521,7880824,2.54,8.8000000000000007,"2014"]
["332410","Power boiler and heat exchanger manufacturing",34947,875665,3739410,13636,46521,7880824,2.54,8.8000000000000007,"2014"]
["33242","Metal tank (heavy gauge) manufacturing",60204,1287047,5204326,29085,66062,10127568,2.54,8.8000000000000007,"2014"]
["332420","Metal tank (heavy gauge) manufacturing",60204,1287047,5204326,29085,66062,10127568,2.54,8.8000000000000007,"2014"]
["33243","Metal can, box, and other metal container (light gauge) manufacturing",50871,1234901,12318350,89811,217983,18967587,2.54,8.8000000000000007,"2014"]
["332431","Metal can manufacturing",31318,879275,10087140,64173,188120,15014572,2.54,8.8000000000000007,"2014"]
["332439","Other metal container manufacturing",19553,355626,2231211,25638,29862,3953015,2.54,8.8000000000000007,"2014"]
["3325","Hardware manufacturing",36508,688195,4063487,14010,53162,8246394,2.54,8.8000000000000007,"2014"]
["33251","Hardware manufacturing",36508,688195,4063487,14010,53162,8246394,2.54,8.8000000000000007,"2014"]
["332510","Hardware manufacturing",36508,688195,4063487,14010,53162,8246394,2.54,8.8000000000000007,"2014"]
["3326","Spring and wire product manufacturing",56519,1053079,4481371,37654,87788,8870926,2.54,8.8000000000000007,"2014"]
["33261","Spring and wire product manufacturing",56519,1053079,4481371,37654,87788,8870926,2.54,8.8000000000000007,"2014"]
["332613","Spring manufacturing",24901,483884,1944401,21126,43215,3961587,2.54,8.8000000000000007,"2014"]
["332618","Other fabricated wire product manufacturing",31618,569195,2536970,16528,44574,4909339,2.54,8.8000000000000007,"2014"]
["3327","Machine shops; turned product; and screw, nut, and bolt manufacturing",592603,13299028,26497076,173456,793980,69767358,2.54,8.8000000000000007,"2014"]
["33271","Machine shops",370807,8492772,14254316,94950,449507,40644955,2.54,8.8000000000000007,"2014"]
["332710","Machine shops",370807,8492772,14254316,94950,449507,40644955,2.54,8.8000000000000007,"2014"]
["33272","Turned product and screw, nut, and bolt manufacturing",221796,4806257,12242760,78507,344473,29122402,2.54,8.8000000000000007,"2014"]
["332721","Precision turned product manufacturing",163990,3507866,7146687,42329,230651,18464032,2.54,8.8000000000000007,"2014"]
["332722","Bolt, nut, screw, rivet, and washer manufacturing",57806,1298390,5096074,36178,113822,10658371,2.54,8.8000000000000007,"2014"]
["3328","Coating, engraving, heat treating, and allied activities",195376,3835224,11493082,354487,518025,28543302,2.54,8.8000000000000007,"2014"]
["33281","Coating, engraving, heat treating, and allied activities",195376,3835224,11493082,354487,518025,28543302,2.54,8.8000000000000007,"2014"]
["332811","Metal heat treating",35255,792909,2406179,116827,155804,7049579,2.54,8.8000000000000007,"2014"]
["332812","Metal coating, engraving (except jewelry and silverware), and allied services to manufacturers",81383,1572712,6667962,135351,188127,14130432,2.54,8.8000000000000007,"2014"]
["332813","Electroplating, plating, polishing, anodizing, and coloring",78738,1469603,2418942,102309,174094,7363291,2.54,8.8000000000000007,"2014"]
["3329","Other fabricated metal product manufacturing",373705,8057503,34606364,194177,654000,78051760,2.54,8.8000000000000007,"2014"]
["33291","Metal valve manufacturing",131479,2917146,15473070,49374,242375,34344718,2.54,8.8000000000000007,"2014"]
["332911","Industrial valve manufacturing",52191,1182500,5966198,16374,104127,14074542,2.54,8.8000000000000007,"2014"]
["332912","Fluid power valve and hose fitting manufacturing",46168,1036398,4774645,13686,82910,10638483,2.54,8.8000000000000007,"2014"]
["332913","Plumbing fixture fitting and trim manufacturing",11660,216882,2136897,6033,12135,4285164,2.54,8.8000000000000007,"2014"]
["332919","Other metal valve and pipe fitting manufacturing",21460,481365,2595331,13282,43204,5346528,2.54,8.8000000000000007,"2014"]
["33299","All other fabricated metal product manufacturing",242226,5140357,19133294,144803,411625,43707043,2.54,8.8000000000000007,"2014"]
["332991","Ball and roller bearing manufacturing",36127,819032,2943550,27343,109194,7086858,2.54,8.8000000000000007,"2014"]
["332992","Small arms ammunition manufacturing",18136,455996,1671145,14947,24607,4086316,2.54,8.8000000000000007,"2014"]
["332993","Ammunition (except small arms) manufacturing",7192,180207,1002097,17803,34571,2943034,2.54,8.8000000000000007,"2014"]
["332994","Small arms, ordnance, and ordnance accessories manufacturing",22692,525517,2429642,9560,39245,5914220,2.54,8.8000000000000007,"2014"]
["332996","Fabricated pipe and pipe fitting manufacturing",49645,1067562,4041167,20818,60837,8113679,2.54,8.8000000000000007,"2014"]
["332999","All other miscellaneous fabricated metal product manufacturing",108435,2092042,7045694,54331,143172,15562935,2.54,8.8000000000000007,"2014"]
["333","Machinery manufacturing",1335035,31227936,207203267,617865,2065069,400443812,2.56,8.42,"2014"]
["3331","Agriculture, construction, and mining machinery manufacturing",276743,6721248,66074549,201404,409642,115619340,2.56,8.42,"2014"]
["33311","Agricultural implement manufacturing",107744,2380095,27586694,73979,161618,46815396,2.56,8.42,"2014"]
["333111","Farm machinery and equipment manufacturing",86810,1976291,22076685,61336,128019,38572145,2.56,8.42,"2014"]
["333112","Lawn and garden tractor and home lawn and garden equipment manufacturing",20933,403804,5510009,12643,33599,8243250,2.56,8.42,"2014"]
["33312","Construction machinery manufacturing",79141,1799740,20258536,79640,106822,36604807,2.56,8.42,"2014"]
["333120","Construction machinery manufacturing",79141,1799740,20258536,79640,106822,36604807,2.56,8.42,"2014"]
["33313","Mining and oil and gas field machinery manufacturing",89859,2541414,18229320,47785,141202,32199138,2.56,8.42,"2014"]
["333131","Mining machinery and equipment manufacturing",16131,414684,2917242,14280,36287,5309681,2.56,8.42,"2014"]
["333132","Oil and gas field machinery and equipment manufacturing",73728,2126730,15312079,33505,104915,26889457,2.56,8.42,"2014"]
["3332","Industrial machinery manufacturing",106372,2603778,14747536,49368,180444,32215132,2.56,8.42,"2014"]
["33324","Industrial machinery manufacturing",106372,2603778,14747536,49368,180444,32215132,2.56,8.42,"2014"]
["333241","Food product machinery manufacturing",19137,451612,2382621,6935,21205,5446866,2.56,8.42,"2014"]
["333242","Semiconductor machinery manufacturing",8963,281527,3322336,6164,33730,7334876,2.56,8.42,"2014"]
["333243","Sawmill, woodworking, and paper machinery manufacturing",14127,376999,1670098,9451,28785,3365667,2.56,8.42,"2014"]
["333244","Printing machinery and equipment manufacturing",7746,176725,886783,3634,19289,1825280,2.56,8.42,"2014"]
["333249","Other industrial machinery manufacturing",56400,1316916,6485698,23185,77435,14242444,2.56,8.42,"2014"]
["3333","Commercial and service industry machinery manufacturing",78598,1814357,10562160,27462,114168,23653800,2.56,8.42,"2014"]
["33331","Commercial and service industry machinery manufacturing",78598,1814357,10562160,27462,114168,23653800,2.56,8.42,"2014"]
["333314","Optical instrument and lens manufacturing",14139,468565,1907491,4890,35422,4243187,2.56,8.42,"2014"]
["333316","Photographic and photocopying equipment manufacturing",4940,90190,833003,1791,5945,1683304,2.56,8.42,"2014"]
["333318","Other commercial and service industry machinery manufacturing",59519,1255602,7821666,20781,72800,17727309,2.56,8.42,"2014"]
["3334","Ventilation, heating, air-conditioning, and commercial refrigeration equipment manufacturing",179395,3437274,21530223,58308,221917,42529248,2.56,8.42,"2014"]
["33341","Ventilation, heating, air-conditioning, and commercial refrigeration equipment manufacturing",179395,3437274,21530223,58308,221917,42529248,2.56,8.42,"2014"]
["333413","Industrial and commercial fan and blower and air purification equipment manufacturing",34829,602055,3131930,12771,34996,6306958,2.56,8.42,"2014"]
["333414","Heating equipment (except warm air furnaces) manufacturing",19882,418643,2203353,13563,48656,4811120,2.56,8.42,"2014"]
["333415","Air-conditioning and warm air heating equipment and commercial and industrial refrigeration equipment manufacturing",124685,2416576,16194940,31973,138264,31411171,2.56,8.42,"2014"]
["3335","Metalworking machinery manufacturing",208599,5077340,12715772,58301,331903,31491978,2.56,8.42,"2014"]
["33351","Metalworking machinery manufacturing",208599,5077340,12715772,58301,331903,31491978,2.56,8.42,"2014"]
["333511","Industrial mold manufacturing",54041,1308483,2340643,12986,104420,6247124,2.56,8.42,"2014"]
["333514","Special die and tool, die set, jig, and fixture manufacturing",63808,1583733,3036480,15742,84756,8188426,2.56,8.42,"2014"]
["333515","Cutting tool and machine tool accessory manufacturing",43153,948761,2043536,10858,77757,5706322,2.56,8.42,"2014"]
["333517","Machine tool manufacturing",32351,817996,3827746,10330,43917,8154785,2.56,8.42,"2014"]
["333519","Rolling mill and other metalworking machinery manufacturing",15246,418367,1467367,8384,21053,3195320,2.56,8.42,"2014"]
["3336","Engine, turbine, and power transmission equipment manufacturing",130537,3182145,29607172,73901,304573,50402330,2.56,8.42,"2014"]
["33361","Engine, turbine, and power transmission equipment manufacturing",130537,3182145,29607172,73901,304573,50402330,2.56,8.42,"2014"]
["333611","Turbine and turbine generator set units manufacturing",36324,1067003,7903792,16305,88338,14070840,2.56,8.42,"2014"]
["333612","Speed changer, industrial high-speed drive, and gear manufacturing",19669,459551,1758261,11846,37912,3942111,2.56,8.42,"2014"]
["333613","Mechanical power transmission equipment manufacturing",20482,459024,1849644,11579,38758,4192500,2.56,8.42,"2014"]
["333618","Other engine equipment manufacturing",54063,1196567,18095475,34172,139566,28196879,2.56,8.42,"2014"]
["3339","Other general purpose machinery manufacturing",354790,8391794,51965854,149121,502423,104531985,2.56,8.42,"2014"]
["33391","Pump and compressor manufacturing",75182,1850775,13749715,30248,125333,29434770,2.56,8.42,"2014"]
["333911","Pump and pumping equipment manufacturing",42748,1108018,7540806,16903,72766,16602082,2.56,8.42,"2014"]
["333912","Air and gas compressor manufacturing",28229,650709,5598354,12172,41901,11356235,2.56,8.42,"2014"]
["333913","Measuring and dispensing pump manufacturing",4205,92049,610555,1174,10667,1476452,2.56,8.42,"2014"]
["33392","Material handling equipment manufacturing",104813,2337838,16037318,48962,107252,29234961,2.56,8.42,"2014"]
["333921","Elevator and moving stairway manufacturing",8811,166017,1095506,3029,9557,2269113,2.56,8.42,"2014"]
["333922","Conveyor and conveying equipment manufacturing",42835,891047,4088205,13760,40186,9068226,2.56,8.42,"2014"]
["333923","Overhead traveling crane, hoist, and monorail system manufacturing",22323,573118,5012320,18310,19039,8579999,2.56,8.42,"2014"]
["333924","Industrial truck, trailer, and stacker machinery manufacturing",30843,707656,5841287,13862,38469,9317623,2.56,8.42,"2014"]
["33399","All other general purpose machinery manufacturing",174794,4203181,22178820,69911,269838,45862254,2.56,8.42,"2014"]
["333991","Power-driven handtool manufacturing",11202,218636,1772513,3581,16515,3541791,2.56,8.42,"2014"]
["333992","Welding and soldering equipment manufacturing",18276,461733,2987624,13144,32969,5788248,2.56,8.42,"2014"]
["333993","Packaging machinery manufacturing",20546,520642,2648653,6608,21419,5712846,2.56,8.42,"2014"]
["333994","Industrial process furnace and oven manufacturing",14296,311866,1216064,4556,15769,2846096,2.56,8.42,"2014"]
["333995","Fluid power cylinder and actuator manufacturing",34680,921678,3440243,10142,48743,6979296,2.56,8.42,"2014"]
["333996","Fluid power pump and motor manufacturing",13013,352111,2184163,3474,26873,3955601,2.56,8.42,"2014"]
["333997","Scale and balance manufacturing",3598,67890,484173,1367,3905,924069,2.56,8.42,"2014"]
["333999","All other miscellaneous general purpose machinery manufacturing",59184,1348625,7445387,27040,103645,16114306,2.56,8.42,"2014"]
["334","Computer and electronic product manufacturing",736542,19363491,127113956,271495,2875210,304702603,3.41,12.27,"2014"]
["3341","Computer and peripheral equipment manufacturing",32895,739709,14144164,12983,239562,27523462,2.4500000000000002,16.260000000000002,"2014"]
["33411","Computer and peripheral equipment manufacturing",32895,739709,14144164,12983,239562,27523462,2.4500000000000002,16.260000000000002,"2014"]
["334111","Electronic computer manufacturing",7486,173637,5207099,1726,30275,8979537,2.4500000000000002,16.260000000000002,"2014"]
["334112","Computer storage device manufacturing",9510,223153,4316064,4734,54592,8435594,2.4500000000000002,16.260000000000002,"2014"]
["334118","Computer terminal and other computer peripheral equipment manufacturing",15899,342919,4621002,6523,154695,10108331,2.4500000000000002,16.260000000000002,"2014"]
["3342","Communications equipment manufacturing",73378,2234427,18018766,16697,171710,40439672,3.39,10.43,"2014"]
["33421","Telephone apparatus manufacturing",12247,382469,4932043,3084,38775,8441190,3.39,10.43,"2014"]
["334210","Telephone apparatus manufacturing",12247,382469,4932043,3084,38775,8441190,3.39,10.43,"2014"]
["33422","Radio and television broadcasting and wireless communications equipment manufacturing",50870,1627190,10648438,9153,118603,26555961,3.39,10.43,"2014"]
["334220","Radio and television broadcasting and wireless communications equipment manufacturing",50870,1627190,10648438,9153,118603,26555961,3.39,10.43,"2014"]
["33429","Other communications equipment manufacturing",10261,224768,2438285,4460,14333,5442521,3.39,10.43,"2014"]
["334290","Other communications equipment manufacturing",10261,224768,2438285,4460,14333,5442521,3.39,10.43,"2014"]
["3343","Audio and video equipment manufacturing",10102,178042,1343229,2287,9984,3187733,4.12,9.6,"2014"]
["33431","Audio and video equipment manufacturing",10102,178042,1343229,2287,9984,3187733,4.12,9.6,"2014"]
["334310","Audio and video equipment manufacturing",10102,178042,1343229,2287,9984,3187733,4.12,9.6,"2014"]
["3344","Semiconductor and other electronic component manufacturing",322805,8192634,40103598,147758,1834014,87018183,4.12,9.6,"2014"]
["33441","Semiconductor and other electronic component manufacturing",322805,8192634,40103598,147758,1834014,87018183,4.12,9.6,"2014"]
["334412","Bare printed circuit board manufacturing",35125,666409,1869149,10358,72460,4176240,4.12,9.6,"2014"]
["334413","Semiconductor and related device manufacturing",111083,4050340,18174992,101463,1497528,45490831,4.12,9.6,"2014"]
["334416","Capacitor, resistor, coil, transformer, and other inductor manufacturing",26181,433757,1729629,5732,38734,3470303,4.12,9.6,"2014"]
["334417","Electronic connector manufacturing",25995,536763,2163511,5346,34527,5276731,4.12,9.6,"2014"]
["334418","Printed circuit assembly (electronic assembly) manufacturing",67078,1215826,11602910,8346,102752,17279436,4.12,9.6,"2014"]
["334419","Other electronic component manufacturing",57343,1289538,4563407,16512,88013,11324642,4.12,9.6,"2014"]
["3345","Navigational, measuring, electromedical, and control instruments manufacturing",283713,7761194,52262766,88089,592491,143645525,4.12,9.6,"2014"]
["33451","Navigational, measuring, electromedical, and control instruments manufacturing",283713,7761194,52262766,88089,592491,143645525,4.12,9.6,"2014"]
["334510","Electromedical and electrotherapeutic apparatus manufacturing",56053,1405571,10344973,21056,96177,28366547,4.12,9.6,"2014"]
["334511","Search, detection, navigation, guidance, aeronautical, and nautical system and instrument manufacturing",76123,2669582,13808953,29756,220094,44373346,4.12,9.6,"2014"]
["334512","Automatic environmental control manufacturing for residential, commercial, and appliance use",9273,194833,1222705,2329,12924,2810286,4.12,9.6,"2014"]
["334513","Instruments and related products manufacturing for measuring, displaying, and controlling industrial process variables",34153,786435,4060512,6824,41777,11476298,4.12,9.6,"2014"]
["334514","Totalizing fluid meter and counting device manufacturing",13098,298497,2387276,3252,19554,5351385,4.12,9.6,"2014"]
["334515","Instrument manufacturing for measuring and testing electricity and electrical systems",22217,574416,4987804,2413,52577,11530884,4.12,9.6,"2014"]
["334516","Analytical laboratory instrument manufacturing",30833,746483,6150360,9672,69751,16816878,4.12,9.6,"2014"]
["334517","Irradiation apparatus manufacturing",8775,260355,4661272,4054,33796,11017958,4.12,9.6,"2014"]
["334519","Other measuring and controlling device manufacturing",33189,825022,4638910,8733,45842,11901943,4.12,9.6,"2014"]
["3346","Manufacturing and reproducing magnetic and optical media",13649,257486,1241433,3680,27449,2888027,4.12,9.6,"2014"]
["33461","Manufacturing and reproducing magnetic and optical media",13649,257486,1241433,3680,27449,2888027,4.12,9.6,"2014"]
["334613","Blank magnetic and optical recording media manufacturing",816,24952,"D",26,1390,"D",4.12,9.6,"2014"]
["334614","Software and other prerecorded compact disc, tape, and record reproducing",12833,232534,"D",3654,26060,"D",4.12,9.6,"2014"]
["335","Electrical equipment, appliance, and component manufacturing",453333,9695383,64401247,247107,856372,125495230,2.06,8.75,"2014"]
["3351","Electric lighting equipment manufacturing",51839,982305,5583730,25983,68042,12373834,2.06,8.75,"2014"]
["33511","Electric lamp bulb and part manufacturing",6790,181773,761854,9728,17083,1559958,2.06,8.75,"2014"]
["335110","Electric lamp bulb and part manufacturing",6790,181773,761854,9728,17083,1559958,2.06,8.75,"2014"]
["33512","Lighting fixture manufacturing",45049,800532,4821875,16255,50960,10813876,2.06,8.75,"2014"]
["335121","Residential electric lighting fixture manufacturing",8552,152063,745619,5737,10205,1699622,2.06,8.75,"2014"]
["335122","Commercial, industrial, and institutional electric lighting fixture manufacturing",21523,382596,2253414,5366,21483,5164436,2.06,8.75,"2014"]
["335129","Other lighting equipment manufacturing",14974,265874,1822843,5152,19271,3949818,2.06,8.75,"2014"]
["3352","Household appliance manufacturing",80986,1596423,11169635,30845,96038,20292488,2.06,8.75,"2014"]
["33521","Small electrical appliance manufacturing",15329,246935,1844758,3581,15784,3472093,2.06,8.75,"2014"]
["335210","Small electrical appliance manufacturing",15329,246935,1844758,3581,15784,3472093,2.06,8.75,"2014"]
["33522","Major appliance manufacturing",65657,1349488,9324877,27264,80254,16820395,2.06,8.75,"2014"]
["335221","Household cooking appliance manufacturing",20842,377755,2878208,10078,"D",5160766,2.06,8.75,"2014"]
["335222","Household refrigerator and home freezer manufacturing","D","D","D","D",24757,"D",2.06,8.75,"2014"]
["335224","Household laundry equipment manufacturing","D","D","D","D","D","D",2.06,8.75,"2014"]
["335228","Other major household appliance manufacturing",18639,350481,2341158,11300,23727,4798143,2.06,8.75,"2014"]
["3353","Electrical equipment manufacturing",145944,3206645,20181115,62083,178186,40068371,2.06,8.75,"2014"]
["33531","Electrical equipment manufacturing",145944,3206645,20181115,62083,178186,40068371,2.06,8.75,"2014"]
["335311","Power, distribution, and specialty transformer manufacturing",27618,565654,3061160,19849,41867,5787655,2.06,8.75,"2014"]
["335312","Motor and generator manufacturing",38771,878399,5910448,19469,51182,11220769,2.06,8.75,"2014"]
["335313","Switchgear and switchboard apparatus manufacturing",43391,986225,5877203,15238,44485,12274195,2.06,8.75,"2014"]
["335314","Relay and industrial control manufacturing",36164,776366,5332304,7528,40652,10785752,2.06,8.75,"2014"]
["3359","Other electrical equipment and component manufacturing",174564,3910010,27466767,128196,514105,52760537,2.06,8.75,"2014"]
["33591","Battery manufacturing",43238,1030574,5687179,30844,162747,10840968,2.06,8.75,"2014"]
["335911","Storage battery manufacturing",33153,785526,3979353,27408,123743,7208064,2.06,8.75,"2014"]
["335912","Primary battery manufacturing",10085,245048,1707826,3436,39004,3632903,2.06,8.75,"2014"]
["33592","Communication and energy wire and cable manufacturing",36320,764506,8318787,15693,94504,13656311,2.06,8.75,"2014"]
["335921","Fiber optic cable manufacturing",5511,134120,1033866,2356,16189,1966408,2.06,8.75,"2014"]
["335929","Other communication and energy wire manufacturing",30809,630386,7284921,13337,78315,11689904,2.06,8.75,"2014"]
["33593","Wiring device manufacturing",54434,1139991,6117842,19924,95106,14372781,2.06,8.75,"2014"]
["335931","Current-carrying wiring device manufacturing",34143,706093,3852816,6970,46906,8328350,2.06,8.75,"2014"]
["335932","Noncurrent-carrying wiring device manufacturing",20291,433898,2265025,12954,48200,6044430,2.06,8.75,"2014"]
["33599","All other electrical equipment and component manufacturing",40572,974939,7342960,61735,161749,13890478,2.06,8.75,"2014"]
["335991","Carbon and graphite product manufacturing",10543,289078,1924841,56708,108612,3465749,2.06,8.75,"2014"]
["335999","All other miscellaneous electrical equipment and component manufacturing",30028,685861,5418119,5028,53137,10424728,2.06,8.75,"2014"]
["336","Transportation equipment manufacturing",2079360,55777429,580696561,1162388,4006462,903327597,1.96,6.35,"2014"]
["3361","Motor vehicle manufacturing",311879,10391715,237371758,343701,514621,307268661,1.98,4.1500000000000004,"2014"]
["33611","Automobile and light duty motor vehicle manufacturing",267841,9182504,215074571,322274,"D",277852996,1.98,4.1500000000000004,"2014"]
["336111","Automobile manufacturing",128766,4418514,93170492,137958,"D",118629370,1.98,4.1500000000000004,"2014"]
["336112","Light truck and utility vehicle manufacturing",139075,4763990,121904079,184316,226956,159223626,1.98,4.1500000000000004,"2014"]
["33612","Heavy duty truck manufacturing",44038,1209211,22297187,21427,"D",29415665,1.98,4.1500000000000004,"2014"]
["336120","Heavy duty truck manufacturing",44038,1209211,22297187,21427,"D",29415665,1.98,4.1500000000000004,"2014"]
["3362","Motor vehicle body and trailer manufacturing",205539,3875176,26265825,62451,137513,39695230,1.98,4.1500000000000004,"2014"]
["33621","Motor vehicle body and trailer manufacturing",205539,3875176,26265825,62451,137513,39695230,1.98,4.1500000000000004,"2014"]
["336211","Motor vehicle body manufacturing",67761,1304622,8464726,25793,55444,13224716,1.98,4.1500000000000004,"2014"]
["336212","Truck trailer manufacturing",50808,917830,6476329,12065,40159,9110227,1.98,4.1500000000000004,"2014"]
["336213","Motor home manufacturing",15808,304647,2785478,4476,9003,3903600,1.98,4.1500000000000004,"2014"]
["336214","Travel trailer and camper manufacturing",71162,1348077,8539292,20117,32908,13456688,1.98,4.1500000000000004,"2014"]
["3363","Motor vehicle parts manufacturing",817256,18049331,165584045,383774,1704769,244687906,1.98,4.1500000000000004,"2014"]
["33631","Motor vehicle gasoline engine and engine parts manufacturing",84966,2344937,22827381,55781,257873,32402555,1.98,4.1500000000000004,"2014"]
["336310","Motor vehicle gasoline engine and engine parts manufacturing",84966,2344937,22827381,55781,257873,32402555,1.98,4.1500000000000004,"2014"]
["33632","Motor vehicle electrical and electronic equipment manufacturing",82700,1808723,15322957,22140,142647,23192212,1.98,4.1500000000000004,"2014"]
["336320","Motor vehicle electrical and electronic equipment manufacturing",82700,1808723,15322957,22140,142647,23192212,1.98,4.1500000000000004,"2014"]
["33633","Motor vehicle steering and suspension components (except spring) manufacturing",52599,1067587,10082296,30237,118716,14786350,1.98,4.1500000000000004,"2014"]
["336330","Motor vehicle steering and suspension components (except spring) manufacturing",52599,1067587,10082296,30237,118716,14786350,1.98,4.1500000000000004,"2014"]
["33634","Motor vehicle brake system manufacturing",31841,652883,6684030,19688,88663,10101431,1.98,4.1500000000000004,"2014"]
["336340","Motor vehicle brake system manufacturing",31841,652883,6684030,19688,88663,10101431,1.98,4.1500000000000004,"2014"]
["33635","Motor vehicle transmission and power train parts manufacturing",108387,2750793,25794658,69058,271182,38446273,1.98,4.1500000000000004,"2014"]
["336350","Motor vehicle transmission and power train parts manufacturing",108387,2750793,25794658,69058,271182,38446273,1.98,4.1500000000000004,"2014"]
["33636","Motor vehicle seating and interior trim manufacturing",88080,1616809,20407734,17218,130725,27931446,1.98,4.1500000000000004,"2014"]
["336360","Motor vehicle seating and interior trim manufacturing",88080,1616809,20407734,17218,130725,27931446,1.98,4.1500000000000004,"2014"]
["33637","Motor vehicle metal stamping",155846,3594397,20871128,63613,281581,33471713,1.98,4.1500000000000004,"2014"]
["336370","Motor vehicle metal stamping",155846,3594397,20871128,63613,281581,33471713,1.98,4.1500000000000004,"2014"]
["33639","Other motor vehicle parts manufacturing",212835,4213202,43593862,106040,413382,64355926,1.98,4.1500000000000004,"2014"]
["336390","Other motor vehicle parts manufacturing",212835,4213202,43593862,106040,413382,64355926,1.98,4.1500000000000004,"2014"]
["3364","Aerospace product and parts manufacturing",480679,17004327,111759880,246334,1316488,238328201,1.84,10.62,"2014"]
["33641","Aerospace product and parts manufacturing",480679,17004327,111759880,246334,1316488,238328201,1.84,10.62,"2014"]
["336411","Aircraft manufacturing",187515,8469461,64817725,90387,480660,129189607,1.84,10.62,"2014"]
["336412","Aircraft engine and engine parts manufacturing",99386,2860483,18717210,44748,"D",41722354,1.84,10.62,"2014"]
["336413","Other aircraft parts and auxiliary equipment manufacturing",148812,4179027,17159748,77291,469492,39834046,1.84,10.62,"2014"]
["336414","Guided missile and space vehicle manufacturing",28318,1021037,"D","D","D","D",1.84,10.62,"2014"]
["336415","Guided missile and space vehicle propulsion unit and propulsion unit parts manufacturing",7444,260741,1270307,14016,"D","D",1.84,10.62,"2014"]
["336419","Other guided missile and space vehicle parts and auxiliary equipment manufacturing",9205,213578,"D","D",23812,1663041,1.84,10.62,"2014"]
["3365","Railroad rolling stock manufacturing",44638,1165704,16222837,36996,80220,22880338,"NA","NA","2014"]
["33651","Railroad rolling stock manufacturing",44638,1165704,16222837,36996,80220,22880338,"NA","NA","2014"]
["336510","Railroad rolling stock manufacturing",44638,1165704,16222837,36996,80220,22880338,"NA","NA","2014"]
["3366","Ship and boat building",185107,4481959,13566350,71756,194537,33401908,"NA","NA","2014"]
["33661","Ship and boat building",185107,4481959,13566350,71756,194537,33401908,"NA","NA","2014"]
["336611","Ship building and repairing",137845,3623678,8532760,55176,151987,24787612,"NA","NA","2014"]
["336612","Boat building",47262,858281,5033590,16580,42550,8614296,"NA","NA","2014"]
["3369","Other transportation equipment manufacturing",34262,809216,9925868,17376,58314,17065354,"NA","NA","2014"]
["33699","Other transportation equipment manufacturing",34262,809216,9925868,17376,58314,17065354,"NA","NA","2014"]
["336991","Motorcycle, bicycle, and parts manufacturing",12770,288139,3255392,6856,23391,6119821,"NA","NA","2014"]
["336992","Military armored vehicle, tank, and tank component manufacturing",4450,122088,1060746,2735,11536,2487455,"NA","NA","2014"]
["336999","All other transportation equipment manufacturing",17043,398990,5609730,7785,23388,8458078,null,null,"2014"]
["337","Furniture and related product manufacturing",493899,8422959,33166704,162181,456920,69570371,2.29,6.9,"2014"]
["3371","Household and institutional furniture and kitchen cabinet manufacturing",311114,5095364,17381815,86809,262789,35555545,2.29,6.9,"2014"]
["33711","Wood kitchen cabinet and countertop manufacturing",126953,2175621,5219510,43705,115903,12637205,2.29,6.9,"2014"]
["337110","Wood kitchen cabinet and countertop manufacturing",126953,2175621,5219510,43705,115903,12637205,2.29,6.9,"2014"]
["33712","Household and institutional furniture manufacturing",184161,2919744,12162305,43104,146886,22918340,2.29,6.9,"2014"]
["337121","Upholstered household furniture manufacturing",89683,1383015,6025195,7998,46277,10852089,2.29,6.9,"2014"]
["337122","Nonupholstered wood household furniture manufacturing",43189,649720,2131905,12979,43327,4099657,2.29,6.9,"2014"]
["337124","Metal household furniture manufacturing",13546,235385,1340609,7346,15025,2380860,2.29,6.9,"2014"]
["337125","Household furniture (except wood and metal) manufacturing",3885,63358,506694,1343,6694,857792,2.29,6.9,"2014"]
["337127","Institutional furniture manufacturing",33858,588265,2157902,13437,35563,4727942,2.29,6.9,"2014"]
["3372","Office furniture (including fixtures) manufacturing",141004,2607799,10747012,67814,164996,23615640,2.29,6.9,"2014"]
["33721","Office furniture (including fixtures) manufacturing",141004,2607799,10747012,67814,164996,23615640,2.29,6.9,"2014"]
["337211","Wood office furniture manufacturing",19702,347036,1055481,7159,22010,2568574,2.29,6.9,"2014"]
["337212","Custom architectural woodwork and millwork manufacturing",47101,927197,2724780,17014,46222,6259012,2.29,6.9,"2014"]
["337214","Office furniture (except wood) manufacturing",27619,534267,3468955,17273,39512,7903491,2.29,6.9,"2014"]
["337215","Showcase, partition, shelving, and locker manufacturing",46582,799300,3497796,26368,57252,6884563,2.29,6.9,"2014"]
["3379","Other furniture related product manufacturing",41781,719795,5037877,7558,29135,10399187,2.29,6.9,"2014"]
["33791","Mattress manufacturing",28565,518628,4155531,5564,20843,8583709,2.29,6.9,"2014"]
["337910","Mattress manufacturing",28565,518628,4155531,5564,20843,8583709,2.29,6.9,"2014"]
["33792","Blind and shade manufacturing",13216,201168,882346,1994,8292,1815478,2.29,6.9,"2014"]
["337920","Blind and shade manufacturing",13216,201168,882346,1994,8292,1815478,2.29,6.9,"2014"]
["339","Miscellaneous manufacturing",628045,12258058,57531690,200312,832363,156628363,3.59,9.77,"2014"]
["3391","Medical equipment and supplies manufacturing",312473,6442286,30845729,71935,424051,93131124,3.59,9.77,"2014"]
["33911","Medical equipment and supplies manufacturing",312473,6442286,30845729,71935,424051,93131124,3.59,9.77,"2014"]
["339112","Surgical and medical instrument manufacturing",123232,2597599,11810667,26498,191702,39427937,3.59,9.77,"2014"]
["339113","Surgical appliance and supplies manufacturing",95800,1885238,13471982,33018,140421,37588249,3.59,9.77,"2014"]
["339114","Dental equipment and supplies manufacturing",14200,303711,1755490,1968,16397,4796277,3.59,9.77,"2014"]
["339115","Ophthalmic goods manufacturing",26285,531779,2668278,5922,50910,6529228,3.59,9.77,"2014"]
["339116","Dental laboratories",52956,1123959,1139312,4529,24621,4789434,3.59,9.77,"2014"]
["3399","Other miscellaneous manufacturing",315572,5815772,26685961,128376,408312,63497239,3.59,9.77,"2014"]
["33991","Jewelry and silverware manufacturing",28779,575924,3732387,4729,21850,7946210,3.59,9.77,"2014"]
["339910","Jewelry and silverware manufacturing",28779,575924,3732387,4729,21850,7946210,3.59,9.77,"2014"]
["33992","Sporting and athletic goods manufacturing",39601,711363,4536865,24821,73602,10527481,3.59,9.77,"2014"]
["339920","Sporting and athletic goods manufacturing",39601,711363,4536865,24821,73602,10527481,3.59,9.77,"2014"]
["33993","Doll, toy, and game manufacturing",6763,112490,708199,4892,11224,1477281,3.59,9.77,"2014"]
["339930","Doll, toy, and game manufacturing",6763,112490,708199,4892,11224,1477281,3.59,9.77,"2014"]
["33994","Office supplies (except paper) manufacturing",11830,202096,1576070,6272,16512,2917562,3.59,9.77,"2014"]
["339940","Office supplies (except paper) manufacturing",11830,202096,1576070,6272,16512,2917562,3.59,9.77,"2014"]
["33995","Sign manufacturing",71281,1387752,4982254,23089,68478,12329211,3.59,9.77,"2014"]
["339950","Sign manufacturing",71281,1387752,4982254,23089,68478,12329211,3.59,9.77,"2014"]
["33999","All other miscellaneous manufacturing",157317,2826149,11150185,64573,216646,28299494,3.59,9.77,"2014"]
["339991","Gasket, packing, and sealing device manufacturing",42632,862198,3038233,26402,81799,7558693,3.59,9.77,"2014"]
["339992","Musical instrument manufacturing",17597,305448,744979,7355,17648,1982751,3.59,9.77,"2014"]
["339993","Fastener, button, needle, and pin manufacturing",4919,92599,410172,6768,13613,912486,3.59,9.77,"2014"]
["339994","Broom, brush, and mop manufacturing",13715,221425,1264290,2340,16710,2723609,3.59,9.77,"2014"]
["339995","Burial casket manufacturing",4977,94436,277389,3806,8484,660503,3.59,9.77,"2014"]
["339999","All other miscellaneous manufacturing",73477,1250042,5415123,17901,78391,14461452,3.59,9.77,"2014"]

{"sheet":"2015 Econ Census Data","index":158,"n_rows":655,"n_cols":11,"rows_kept":655,"cut":false,"hidden":false,"merged":[]}
["2012 NAICS code","Meaning of 2012 NAICS code","Production workers annual hours (1,000)","Production workers annual wages ($1,000)","Total cost of materials ($1,000)","Cost of purchased fuels consumed ($1,000)","Cost of purchased electricity ($1,000)","Total value of shipments and receipts for services ($1,000)","Depreciation","Operating Income","Year"]
[]
["31-33","Manufacturing",15969139,360747051,3117623542,33130404,52625048,5547139346,3.04,8.0399999999999991,2015]
[311,"Food manufacturing",2263835,41298291,493448541,3794190,5597096,775600378,2.15,7.64,2015]
[3111,"Animal food manufacturing",67096,1547510,42124150,223701,319583,59606130,2.15,7.64,2015]
[31111,"Animal food manufacturing",67096,1547510,42124150,223701,319583,59606130,2.15,7.64,2015]
[311111,"Dog and cat food manufacturing",30028,750608,14590609,89133,111001,25203814,2.15,7.64,2015]
[311119,"Other animal food manufacturing",37068,796902,27533541,134568,208581,34402316,2.15,7.64,2015]
[3112,"Grain and oilseed milling",85426,2185473,64871018,765540,844413,89457591,2.15,7.64,2015]
[31121,"Flour milling and malt manufacturing",29725,648991,13639345,74467,241007,20281376,2.15,7.64,2015]
[311211,"Flour milling",19288,440863,10085052,36045,174478,14907266,2.15,7.64,2015]
[311212,"Rice milling",9042,167493,2510135,10814,"D",3848003,2.15,7.64,2015]
[311213,"Malt manufacturing",1395,40635,1044157,27608,"D",1526108,2.15,7.64,2015]
[31122,"Starch and vegetable fats and oils manufacturing",34549,892799,45814687,634577,528175,59447897,2.15,7.64,2015]
[311221,"Wet corn milling",9101,301724,6600225,311361,303919,10479647,2.15,7.64,2015]
[311224,"Soybean and other oilseed processing",13155,305835,29455749,272299,175463,36417541,2.15,7.64,2015]
[311225,"Fats and oils refining and blending",12292,285239,9758713,50917,48793,12550709,2.15,7.64,2015]
[31123,"Breakfast cereal manufacturing",21152,643684,5416985,56496,75230,9728317,2.15,7.64,2015]
[311230,"Breakfast cereal manufacturing",21152,643684,5416985,56496,75230,9728317,2.15,7.64,2015]
[3113,"Sugar and confectionery product manufacturing",105372,2232095,18492637,358134,286301,34863942,2.15,7.64,2015]
[31131,"Sugar manufacturing",23156,556785,6115083,281322,93167,9419804,2.15,7.64,2015]
[311313,"Beet sugar manufacturing",12177,253666,2211135,178925,"D",3627062,2.15,7.64,2015]
[311314,"Cane sugar manufacturing",10979,303119,3903948,102397,"D",5792742,2.15,7.64,2015]
[31134,"Nonchocolate confectionery manufacturing",27383,585757,3575195,27650,70229,8208543,2.15,7.64,2015]
[311340,"Nonchocolate confectionery manufacturing",27383,585757,3575195,27650,70229,8208543,2.15,7.64,2015]
[31135,"Chocolate and chocolate confectionery manufacturing",54833,1089553,8802359,49162,122904,17235595,2.15,7.64,2015]
[311351,"Chocolate and confectionery manufacturing from cacao beans",9548,230071,3321983,11576,42208,4653521,2.15,7.64,2015]
[311352,"Confectionery manufacturing from purchased chocolate",45285,859482,5480377,37586,80697,12582074,2.15,7.64,2015]
[3114,"Fruit and vegetable preserving and specialty food manufacturing",283940,5163452,40239065,545843,708604,74183326,2.15,7.64,2015]
[31141,"Frozen food manufacturing",151898,2539270,17930118,203341,384945,32299540,2.15,7.64,2015]
[311411,"Frozen fruit, juice, and vegetable manufacturing",58130,942006,6972315,137793,176755,12754750,2.15,7.64,2015]
[311412,"Frozen specialty food manufacturing",93768,1597263,10957803,65548,208190,19544790,2.15,7.64,2015]
[31142,"Fruit and vegetable canning, pickling, and drying",132042,2624182,22308947,342502,323659,41883786,2.15,7.64,2015]
[311421,"Fruit and vegetable canning",89348,1742990,15338803,218195,225107,25825583,2.15,7.64,2015]
[311422,"Specialty canning",19103,444614,3600882,49353,38740,9092935,2.15,7.64,2015]
[311423,"Dried and dehydrated food manufacturing",23591,436577,3369262,74953,59812,6965267,2.15,7.64,2015]
[3115,"Dairy product manufacturing",206890,4841876,80205209,456066,775275,112565732,2.15,7.64,2015]
[31151,"Dairy product (except frozen) manufacturing",179029,4203283,75662754,441023,683049,105049865,2.15,7.64,2015]
[311511,"Fluid milk manufacturing",63921,1597831,23551217,120327,250617,35859218,2.15,7.64,2015]
[311512,"Creamery butter manufacturing",4461,105244,4389285,22910,28712,4875972,2.15,7.64,2015]
[311513,"Cheese manufacturing",86801,1918823,36554716,171195,264854,45780346,2.15,7.64,2015]
[311514,"Dry, condensed, and evaporated dairy product manufacturing",23845,581385,11167536,126591,138866,18534329,2.15,7.64,2015]
[31152,"Ice cream and frozen dessert manufacturing",27861,638593,4542455,15043,92225,7515867,2.15,7.64,2015]
[311520,"Ice cream and frozen dessert manufacturing",27861,638593,4542455,15043,92225,7515867,2.15,7.64,2015]
[3116,"Animal slaughtering and processing",859578,13222432,155377143,683430,1387377,215983573,2.15,7.64,2015]
[31161,"Animal slaughtering and processing",859578,13222432,155377143,683430,1387377,215983573,2.15,7.64,2015]
[311611,"Animal (except poultry) slaughtering",272657,4518340,80975843,195741,397400,99250182,2.15,7.64,2015]
[311612,"Meat processed from carcasses",165885,2831700,33600909,112125,341292,48325835,2.15,7.64,2015]
[311613,"Rendering and meat byproduct processing",12052,253707,2405110,147181,77848,4428000,2.15,7.64,2015]
[311615,"Poultry processing",408983,5618686,38395281,228383,570837,63979555,2.15,7.64,2015]
[3117,"Seafood product preparation and packaging",53165,930867,6955778,143514,89558,11958248,2.15,7.64,2015]
[31171,"Seafood product preparation and packaging",53165,930867,6955778,143514,89558,11958248,2.15,7.64,2015]
[311710,"Seafood product preparation and packaging",53165,930867,6955778,143514,89558,11958248,2.15,7.64,2015]
[3118,"Bakeries and tortilla manufacturing",333240,6056406,30301309,294162,632566,69791530,2.15,7.64,2015]
[31181,"Bread and bakery product manufacturing",223704,3856592,15891823,193209,394649,40951885,2.15,7.64,2015]
[311811,"Retail bakeries",44963,688036,1158078,22477,43186,3408901,2.15,7.64,2015]
[311812,"Commercial bakeries",145219,2637944,11530259,148311,287542,31773255,2.15,7.64,2015]
[311813,"Frozen cakes, pies, and other pastries manufacturing",33522,530612,3203485,22421,63920,5769729,2.15,7.64,2015]
[311813,"Frozen cakes, pies, and other pastries manufacturing",35179,520947,3162718,20868,61108,5633489,2.15,7.64,2014]
[31182,"Cookie, cracker, and pasta manufacturing",77975,1721471,12791948,76563,193384,24890811,2.15,7.64,2015]
[311821,"Cookie and cracker manufacturing",45054,1019972,5283332,41217,76917,11651966,2.15,7.64,2015]
[311824,"Dry pasta, dough, and flour mixes manufacturing from purchased flour",32922,701499,7508616,35346,116467,13238846,2.15,7.64,2015]
[31183,"Tortilla manufacturing",31561,478343,1617537,24389,44534,3948833,2.15,7.64,2015]
[311830,"Tortilla manufacturing",31561,478343,1617537,24389,44534,3948833,2.15,7.64,2015]
[3119,"Other food manufacturing",269129,5118181,54882233,323799,553419,107190307,2.15,7.64,2015]
[31191,"Snack food manufacturing",81052,1642126,17626431,131840,170402,36764493,2.15,7.64,2015]
[311911,"Roasted nuts and peanut butter manufacturing",31671,569036,10527784,24382,72774,13947880,2.15,7.64,2015]
[311919,"Other snack food manufacturing",49381,1073090,7098647,107458,97628,22816613,2.15,7.64,2015]
[31192,"Coffee and tea manufacturing",22217,522680,9007082,36715,52871,14353874,2.15,7.64,2015]
[311920,"Coffee and tea manufacturing",22217,522680,9007082,36715,52871,14353874,2.15,7.64,2015]
[31193,"Flavoring syrup and concentrate manufacturing",9394,221044,2691183,11349,30569,9949332,2.15,7.64,2015]
[311930,"Flavoring syrup and concentrate manufacturing",9394,221044,2691183,11349,30569,9949332,2.15,7.64,2015]
[31194,"Seasoning and dressing manufacturing",46448,991147,10400815,42909,90248,19778963,2.15,7.64,2015]
[311941,"Mayonnaise, dressing, and other prepared sauce manufacturing",22561,474428,4916096,21115,45529,9668736,2.15,7.64,2015]
[311942,"Spice and extract manufacturing",23887,516719,5484719,21794,44719,10110227,2.15,7.64,2015]
[31199,"All other food manufacturing",110018,1741185,15156721,100985,209328,26343645,2.15,7.64,2015]
[311991,"Perishable prepared food manufacturing",72276,1005376,7451843,35391,104771,13429425,2.15,7.64,2015]
[311999,"All other miscellaneous food manufacturing",37743,735808,7704878,65594,104558,12914220,2.15,7.64,2015]
[312,"Beverage and tobacco product manufacturing",174722,4879447,62287842,403838,822314,155583195,2.69,20.059999999999999,2015]
[3121,"Beverage manufacturing",157122,4380398,54205834,367160,757857,114054769,2.69,20.059999999999999,2015]
[31211,"Soft drink and ice manufacturing",73801,1937296,30966340,150818,406950,50045527,2.69,20.059999999999999,2015]
[312111,"Soft drink manufacturing",60411,1573312,28494672,136331,220233,43822425,2.69,20.059999999999999,2015]
[312112,"Bottled water manufacturing",10932,312088,2329144,12201,137398,5511109,2.69,20.059999999999999,2015]
[312113,"Ice manufacturing",2459,51897,142524,2286,49319,711993,2.69,20.059999999999999,2015]
[31212,"Breweries",38120,1273694,11452197,157153,215145,31151003,2.69,20.059999999999999,2015]
[312120,"Breweries",38120,1273694,11452197,157153,215145,31151003,2.69,20.059999999999999,2015]
[31213,"Wineries",33670,823306,7906117,32547,106561,19830602,2.69,20.059999999999999,2015]
[312130,"Wineries",33670,823306,7906117,32547,106561,19830602,2.69,20.059999999999999,2015]
[31214,"Distilleries",11530,346102,3881181,26642,29201,13027639,2.69,20.059999999999999,2015]
[312140,"Distilleries",11530,346102,3881181,26642,29201,13027639,2.69,20.059999999999999,2015]
[3122,"Tobacco manufacturing",17600,499049,8082008,36679,64458,41528426,2.69,20.059999999999999,2015]
[31223,"Tobacco manufacturing",17600,499049,8082008,36679,64458,41528426,2.69,20.059999999999999,2015]
[312230,"Tobacco manufacturing",17600,499049,8082008,36679,64458,41528426,2.69,20.059999999999999,2015]
[313,"Textile mills",167409,2800063,18549855,312782,757164,30617358,2.88,7.32,2015]
[3131,"Fiber, yarn, and thread mills",44442,666834,5301776,25596,277545,7848212,2.88,7.32,2015]
[31311,"Fiber, yarn, and thread mills",44442,666834,5301776,25596,277545,7848212,2.88,7.32,2015]
[313110,"Fiber, yarn, and thread mills",44442,666834,5301776,25596,277545,7848212,2.88,7.32,2015]
[3132,"Fabric mills",76702,1386771,8119792,171366,352136,14501354,2.88,7.32,2015]
[31321,"Broadwoven fabric mills",30450,483967,2622825,26136,118993,4205281,2.88,7.32,2015]
[313210,"Broadwoven fabric mills",30450,483967,2622825,26136,118993,4205281,2.88,7.32,2015]
[31322,"Narrow fabric mills and schiffli machine embroidery",10304,158759,442361,4948,15142,1008053,2.88,7.32,2015]
[313220,"Narrow fabric mills and schiffli machine embroidery",10304,158759,442361,4948,15142,1008053,2.88,7.32,2015]
[31323,"Nonwoven fabric mills",24689,574461,4103964,123797,188833,7739037,2.88,7.32,2015]
[313230,"Nonwoven fabric mills",24689,574461,4103964,123797,188833,7739037,2.88,7.32,2015]
[31324,"Knit fabric mills",11259,169584,950641,16486,29168,1548983,2.88,7.32,2015]
[313240,"Knit fabric mills",11259,169584,950641,16486,29168,1548983,2.88,7.32,2015]
[3133,"Textile and fabric finishing and fabric coating mills",46265,746458,5128288,115819,127483,8267791,2.88,7.32,2015]
[31331,"Textile and fabric finishing mills",36925,566402,3593054,100691,104180,5864315,2.88,7.32,2015]
[313310,"Textile and fabric finishing mills",36925,566402,3593054,100691,104180,5864315,2.88,7.32,2015]
[31332,"Fabric coating mills",9340,180056,1535234,15129,23303,2403476,2.88,7.32,2015]
[313320,"Fabric coating mills",9340,180056,1535234,15129,23303,2403476,2.88,7.32,2015]
[314,"Textile product mills",163946,2573100,14330369,88403,221651,25631387,2.88,7.32,2015]
[3141,"Textile furnishings mills",80448,1279241,8876828,60624,118353,14636645,2.88,7.32,2015]
[31411,"Carpet and rug mills",46102,812318,6455441,52607,98286,9961711,2.88,7.32,2015]
[314110,"Carpet and rug mills",46102,812318,6455441,52607,98286,9961711,2.88,7.32,2015]
[31412,"Curtain and linen mills",34346,466923,2421387,8017,20067,4674934,2.88,7.32,2015]
[314120,"Curtain and linen mills",34346,466923,2421387,8017,20067,4674934,2.88,7.32,2015]
[3149,"Other textile product mills",83498,1293859,5453541,27779,103297,10994742,2.88,7.32,2015]
[31491,"Textile bag and canvas mills",27670,430997,1961079,5940,20049,3797582,2.88,7.32,2015]
[314910,"Textile bag and canvas mills",27670,430997,1961079,5940,20049,3797582,2.88,7.32,2015]
[31499,"All other textile product mills",55828,862862,3492462,21839,83248,7197160,2.88,7.32,2015]
[314994,"Rope, cordage, twine, tire cord, and tire fabric mills",7181,143749,860703,5853,33789,1490226,2.88,7.32,2015]
[314999,"All other miscellaneous textile product mills",48647,719112,2631759,15986,49459,5706934,2.88,7.32,2015]
[315,"Apparel manufacturing",130825,1749221,5308094,24092,72625,11488919,2.88,8.7799999999999994,2015]
[3151,"Apparel knitting mills",18964,247931,754301,9143,28680,1582683,2.88,8.7799999999999994,2015]
[31511,"Hosiery and sock mills",15714,200590,485396,7454,25744,1094062,2.88,8.7799999999999994,2015]
[315110,"Hosiery and sock mills",15714,200590,485396,7454,25744,1094062,2.88,8.7799999999999994,2015]
[31519,"Other apparel knitting mills",3251,47341,268906,1689,2936,488622,2.88,8.7799999999999994,2015]
[315190,"Other apparel knitting mills",3251,47341,268906,1689,2936,488622,2.88,8.7799999999999994,2015]
[3152,"Cut and sew apparel manufacturing",101376,1365694,4063390,13980,39023,8888238,2.88,8.7799999999999994,2015]
[31521,"Cut and sew apparel contractors",47218,551612,674894,7476,15521,2029958,2.88,8.7799999999999994,2015]
[315210,"Cut and sew apparel contractors",47218,551612,674894,7476,15521,2029958,2.88,8.7799999999999994,2015]
[31522,"Men's and boys' cut and sew apparel manufacturing",18290,223520,687643,3009,8256,1377835,2.88,8.7799999999999994,2015]
[315220,"Men's and boys' cut and sew apparel manufacturing",18290,223520,687643,3009,8256,1377835,2.88,8.7799999999999994,2015]
[31524,"Women's, girls', and infants' cut and sew apparel manufacturing",25143,436210,2240950,2784,10056,4398526,2.88,8.7799999999999994,2015]
[315240,"Women's, girls', and infants' cut and sew apparel manufacturing",25143,436210,2240950,2784,10056,4398526,2.88,8.7799999999999994,2015]
[31528,"Other cut and sew apparel manufacturing",10724,154352,459903,"712(s)",5190,1081919,2.88,8.7799999999999994,2015]
[315280,"Other cut and sew apparel manufacturing",10724,154352,459903,"712(s)",5190,1081919,2.88,8.7799999999999994,2015]
[3159,"Apparel accessories and other apparel manufacturing",10485,135596,490403,969,4922,1017998,2.88,8.7799999999999994,2015]
[31599,"Apparel accessories and other apparel manufacturing",10485,135596,490403,969,4922,1017998,2.88,8.7799999999999994,2015]
[315990,"Apparel accessories and other apparel manufacturing",10485,135596,490403,969,4922,1017998,2.88,8.7799999999999994,2015]
[316,"Leather and allied product manufacturing",34301,523777,3078357,9362,30765,5039725,2.88,8.7799999999999994,2015]
[3161,"Leather and hide tanning and finishing",5483,92556,1397432,5046,13015,1754991,2.88,8.7799999999999994,2015]
[31611,"Leather and hide tanning and finishing",5483,92556,1397432,5046,13015,1754991,2.88,8.7799999999999994,2015]
[316110,"Leather and hide tanning and finishing",5483,92556,1397432,5046,13015,1754991,2.88,8.7799999999999994,2015]
[3162,"Footwear manufacturing",15969,255023,946839,1960,9395,1783875,2.88,8.7799999999999994,2015]
[31621,"Footwear manufacturing",15969,255023,946839,1960,9395,1783875,2.88,8.7799999999999994,2015]
[316210,"Footwear manufacturing",15969,255023,946839,1960,9395,1783875,2.88,8.7799999999999994,2015]
[3169,"Other leather and allied product manufacturing",12849,176198,734086,2356,8355,1500859,2.88,8.7799999999999994,2015]
[31699,"Other leather and allied product manufacturing",12849,176198,734086,2356,8355,1500859,2.88,8.7799999999999994,2015]
[316992,"Women's handbag and purse manufacturing",1420,22848,131667,155,"D",306364,2.88,8.7799999999999994,2015]
[316998,"All other leather good and allied product manufacturing",11429,153350,602419,2201,"D",1194495,2.88,8.7799999999999994,2015]
[321,"Wood product manufacturing",606218,10628162,56612263,650766,1598457,97193475,3.29,6.92,2015]
[3211,"Sawmills and wood preservation",141659,2751520,18379130,211535,567760,28973556,3.29,6.92,2015]
[32111,"Sawmills and wood preservation",141659,2751520,18379130,211535,567760,28973556,3.29,6.92,2015]
[321113,"Sawmills",124566,2423999,13046281,179642,520442,21941722,3.29,6.92,2015]
[321114,"Wood preservation",17093,327521,5332850,31893,47317,7031834,3.29,6.92,2015]
[3212,"Veneer, plywood, and engineered wood product manufacturing",116767,2189240,12339097,185269,477738,20948309,3.29,6.92,2015]
[32121,"Veneer, plywood, and engineered wood product manufacturing",116767,2189240,12339097,185269,477738,20948309,3.29,6.92,2015]
[321211,"Hardwood veneer and plywood manufacturing",21582,365046,2124301,16317,44537,3248150,3.29,6.92,2015]
[321212,"Softwood veneer and plywood manufacturing",27620,559838,2555858,38592,98682,4318139,3.29,6.92,2015]
[321213,"Engineered wood member (except truss) manufacturing",6324,132805,1228739,4371,23112,1929141,3.29,6.92,2015]
[321214,"Truss manufacturing",38018,602802,2438177,16188,17920,4720109,3.29,6.92,2015]
[321219,"Reconstituted wood product manufacturing",23223,528749,3992022,109800,293487,6732769,3.29,6.92,2015]
[3219,"Other wood product manufacturing",347791,5687403,25894035,253962,552959,47271610,3.29,6.92,2015]
[32191,"Millwork",162685,2842318,13549848,75455,295055,24865126,3.29,6.92,2015]
[321911,"Wood window and door manufacturing",72985,1397895,5566947,24506,100370,11204691,3.29,6.92,2015]
[321912,"Cut stock, resawing lumber, and planing",41521,667490,4030759,33339,101304,6769088,3.29,6.92,2015]
[321918,"Other millwork (including flooring)",48179,776933,3952141,17610,93381,6891348,3.29,6.92,2015]
[32192,"Wood container and pallet manufacturing",85407,1279881,5152291,131476,114105,9153569,3.29,6.92,2015]
[321920,"Wood container and pallet manufacturing",85407,1279881,5152291,131476,114105,9153569,3.29,6.92,2015]
[32199,"All other wood product manufacturing",99699,1565204,7191897,47031,143800,13252915,3.29,6.92,2015]
[321991,"Manufactured home (mobile home) manufacturing",39293,545876,2300183,4485,15271,4134145,3.29,6.92,2015]
[321992,"Prefabricated wood building manufacturing",20571,355071,1772696,5253,10801,3161835,3.29,6.92,2015]
[321999,"All other miscellaneous wood product manufacturing",39834,664257,3119018,37292,117728,5956935,3.29,6.92,2015]
[322,"Paper manufacturing",549529,14217479,99673924,3524447,3605490,185510424,4.8499999999999996,7.76,2015]
[3221,"Pulp, paper, and paperboard mills",177556,5984495,36934614,3097774,2553541,80431904,4.8499999999999996,7.76,2015]
[32211,"Pulp mills",15755,552929,3028891,302782,130717,6182461,4.8499999999999996,7.76,2015]
[322110,"Pulp mills",15755,552929,3028891,302782,130717,6182461,4.8499999999999996,7.76,2015]
[32212,"Paper mills",102132,3293943,21630636,1528291,1425223,44415420,4.8499999999999996,7.76,2015]
[322121,"Paper (except newsprint) mills",98154,3155208,20648245,1466940,"D",42655824,4.8499999999999996,7.76,2015]
[322122,"Newsprint mills",3978,138735,982391,61351,"D",1759596,4.8499999999999996,7.76,2015]
[32213,"Paperboard mills",59669,2137623,12275088,1266701,997601,29834023,4.8499999999999996,7.76,2015]
[322130,"Paperboard mills",59669,2137623,12275088,1266701,997601,29834023,4.8499999999999996,7.76,2015]
[3222,"Converted paper product manufacturing",371973,8232984,62739310,426673,1051949,105078521,4.8499999999999996,7.76,2015]
[32221,"Paperboard container manufacturing",219675,4965261,38214137,239139,560495,60803116,4.8499999999999996,7.76,2015]
[322211,"Corrugated and solid fiber box manufacturing",118251,2845726,25482023,193225,321755,39012041,4.8499999999999996,7.76,2015]
[322212,"Folding paperboard box manufacturing",63771,1393144,8183357,25222,132476,13689070,4.8499999999999996,7.76,2015]
[322219,"Other paperboard container manufacturing",37652,726392,4548757,20692,106264,8102004,4.8499999999999996,7.76,2015]
[32222,"Paper bag and coated and treated paper manufacturing",71636,1589811,11704657,100517,206511,21241652,4.8499999999999996,7.76,2015]
[322220,"Paper bag and coated and treated paper manufacturing",71636,1589811,11704657,100517,206511,21241652,4.8499999999999996,7.76,2015]
[32223,"Stationery product manufacturing",27649,529710,4184703,6728,58809,6585934,4.8499999999999996,7.76,2015]
[322230,"Stationery product manufacturing",27649,529710,4184703,6728,58809,6585934,4.8499999999999996,7.76,2015]
[32229,"Other converted paper product manufacturing",53013,1148202,8635813,80288,226134,16447819,4.8499999999999996,7.76,2015]
[322291,"Sanitary paper product manufacturing",29275,675458,6104761,44839,138277,11636129,4.8499999999999996,7.76,2015]
[322299,"All other converted paper product manufacturing",23738,472745,2531052,35449,87856,4811689,4.8499999999999996,7.76,2015]
[323,"Printing and related support activities",586744,12176184,34193711,228286,1047791,82673841,4.1399999999999997,6.74,2015]
[3231,"Printing and related support activities",586744,12176184,34193711,228286,1047791,82673841,4.1399999999999997,6.74,2015]
[32311,"Printing",553054,11434511,33284294,222341,1012065,79230389,4.1399999999999997,6.74,2015]
[323111,"Commercial printing (except screen and books)",451183,9684868,28308409,190484,873135,67573760,4.1399999999999997,6.74,2015]
[323113,"Commercial screen printing",70124,1108324,3379119,16793,71608,7738580,4.1399999999999997,6.74,2015]
[323117,"Books printing",31747,641318,1596767,15064,67322,3918049,4.1399999999999997,6.74,2015]
[32312,"Support activities for printing",33690,741674,909417,5945,35726,3443452,4.1399999999999997,6.74,2015]
[323120,"Support activities for printing",33690,741674,909417,5945,35726,3443452,4.1399999999999997,6.74,2015]
[324,"Petroleum and coal products manufacturing",146249,5733206,398132686,5192917,2845371,507906621,1.83,4.08,2015]
[3241,"Petroleum and coal products manufacturing",146249,5733206,398132686,5192917,2845371,507906621,1.83,4.08,2015]
[32411,"Petroleum refineries",88463,4084493,370787788,4695330,2541593,464292478,1.83,4.08,2015]
[324110,"Petroleum refineries",88463,4084493,370787788,4695330,2541593,464292478,1.83,4.08,2015]
[32412,"Asphalt paving, roofing, and saturated materials manufacturing",37155,1031525,14209761,373192,221313,22883107,1.83,4.08,2015]
[324121,"Asphalt paving mixture and block manufacturing",22709,619807,9044524,319386,156992,13570998,1.83,4.08,2015]
[324122,"Asphalt shingle and coating materials manufacturing",14445,411719,5165237,53806,64321,9312109,1.83,4.08,2015]
[32419,"Other petroleum and coal products manufacturing",20631,617188,13135137,124395,82465,20731037,1.83,4.08,2015]
[324191,"Petroleum lubricating oil and grease manufacturing",14945,447583,10798278,64730,50738,16738344,1.83,4.08,2015]
[324199,"All other petroleum and coal products manufacturing",5686,169605,2336859,59665,31726,3992693,1.83,4.08,2015]
[325,"Chemical manufacturing",894284,26916121,354104678,8637085,8689162,751622651,3.11,12.99,2015]
[3251,"Basic chemical manufacturing",197779,7174780,121147455,5936322,4655574,217765338,4.2,9.11,2015]
[32511,"Petrochemical manufacturing",12769,625156,27013102,1520540,"D",50473036,4.2,9.11,2015]
[325110,"Petrochemical manufacturing",12769,625156,27013102,1520540,"D",50473036,4.2,9.11,2015]
[32512,"Industrial gas manufacturing",14286,449318,2890936,399128,986485,6929288,4.2,9.11,2015]
[325120,"Industrial gas manufacturing",14286,449318,2890936,399128,986485,6929288,4.2,9.11,2015]
[32513,"Synthetic dye and pigment manufacturing",11792,398514,3632487,105131,"D",6880435,4.2,9.11,2015]
[325130,"Synthetic dye and pigment manufacturing",11792,398514,3632487,105131,"D",6880435,4.2,9.11,2015]
[32518,"Other basic inorganic chemical manufacturing",51755,1809137,12791764,765515,1477269,30567006,4.2,9.11,2015]
[325180,"Other basic inorganic chemical manufacturing",51755,1809137,12791764,765515,1477269,30567006,4.2,9.11,2015]
[32519,"Other basic organic chemical manufacturing",107177,3892655,74819166,3146008,1684283,122915573,4.2,9.11,2015]
[325193,"Ethyl alcohol manufacturing",18657,492151,25568087,1324577,629074,32238300,4.2,9.11,2015]
[325194,"Cyclic crude, intermediate, and gum and wood chemical manufacturing",7470,286945,3819262,97965,118549,7766848,4.2,9.11,2015]
[325199,"All other basic organic chemical manufacturing",81051,3113560,45431817,1723466,936660,82910424,4.2,9.11,2015]
[3252,"Resin, synthetic rubber, and artificial synthetic fibers and filaments manufacturing",126252,3723528,61546577,1472355,1799517,96438624,4.2,9.11,2015]
[32521,"Resin and synthetic rubber manufacturing",103641,3221436,57185134,1400583,1629042,89019269,4.2,9.11,2015]
[325211,"Plastics material and resin manufacturing",93941,2883425,52613648,1266143,1538752,81763286,4.2,9.11,2015]
[325212,"Synthetic rubber manufacturing",9700,338011,4571486,134440,90290,7255983,4.2,9.11,2015]
[32522,"Artificial and synthetic fibers and filaments manufacturing",22612,502092,4361444,71772,170475,7419355,4.2,9.11,2015]
[325220,"Artificial and synthetic fibers and filaments manufacturing",22612,502092,4361444,71772,170475,7419355,4.2,9.11,2015]
[3253,"Pesticide, fertilizer, and other agricultural chemical manufacturing",40339,1167863,19875992,345381,396661,39046992,3.47,14.24,2015]
[32531,"Fertilizer manufacturing",27041,778768,11702212,295837,326225,24133014,3.47,14.24,2015]
[325311,"Nitrogenous fertilizer manufacturing",7884,285729,2296170,228731,194562,8274910,3.47,14.24,2015]
[325312,"Phosphatic fertilizer manufacturing",9162,291870,6389126,46065,108087,10787751,3.47,14.24,2015]
[325314,"Fertilizer (mixing only) manufacturing",9994,201168,3016916,21041,23576,5070353,3.47,14.24,2015]
[32532,"Pesticide and other agricultural chemical manufacturing",13299,389095,8173780,49544,70436,14913978,3.47,14.24,2015]
[325320,"Pesticide and other agricultural chemical manufacturing",13299,389095,8173780,49544,70436,14913978,3.47,14.24,2015]
[3254,"Pharmaceutical and medicine manufacturing",252876,8050944,70994811,392445,924580,222676741,2.2999999999999998,14.52,2015]
[32541,"Pharmaceutical and medicine manufacturing",252876,8050944,70994811,392445,924580,222676741,2.2999999999999998,14.52,2015]
[325411,"Medicinal and botanical manufacturing",30090,886210,4892785,75223,138462,12348841,2.2999999999999998,14.52,2015]
[325412,"Pharmaceutical preparation manufacturing",155152,4586992,52770053,194568,538722,169479559,2.2999999999999998,14.52,2015]
[325413,"In-vitro diagnostic substance manufacturing",21272,712333,4497692,18550,47688,13510156,2.2999999999999998,14.52,2015]
[325414,"Biological product (except diagnostic) manufacturing",46361,1865409,8834281,104106,199707,27338185,2.2999999999999998,14.52,2015]
[3255,"Paint, coating, and adhesive manufacturing",67803,1674471,21254917,90230,215416,40523789,3.47,14.24,2015]
[32551,"Paint and coating manufacturing",41370,1010225,14945502,44290,114585,27706190,3.47,14.24,2015]
[325510,"Paint and coating manufacturing",41370,1010225,14945502,44290,114585,27706190,3.47,14.24,2015]
[32552,"Adhesive manufacturing",26432,664246,6309414,45939,100831,12817598,3.47,14.24,2015]
[325520,"Adhesive manufacturing",26432,664246,6309414,45939,100831,12817598,3.47,14.24,2015]
[3256,"Soap, cleaning compound, and toilet preparation manufacturing",106518,2627813,35424204,156005,265783,88893713,3.47,14.24,2015]
[32561,"Soap and cleaning compound manufacturing",55006,1417994,15539718,109596,166200,41384105,3.47,14.24,2015]
[325611,"Soap and other detergent manufacturing",31992,826049,7702206,31929,72163,24678204,3.47,14.24,2015]
[325612,"Polish and other sanitation good manufacturing",16329,360220,4052036,9601,53790,10057540,3.47,14.24,2015]
[325613,"Surface active agent manufacturing",6685,231726,3785475,68066,40247,6648361,3.47,14.24,2015]
[32562,"Toilet preparation manufacturing",51512,1209819,19884487,46409,99583,47509608,3.47,14.24,2015]
[325620,"Toilet preparation manufacturing",51512,1209819,19884487,46409,99583,47509608,3.47,14.24,2015]
[3259,"Other chemical product and preparation manufacturing",102718,2496723,23860723,244348,431632,46277453,3.47,14.24,2015]
[32591,"Printing ink manufacturing",11564,273833,2958348,9147,35854,5066584,3.47,14.24,2015]
[325910,"Printing ink manufacturing",11564,273833,2958348,9147,35854,5066584,3.47,14.24,2015]
[32592,"Explosives manufacturing",7490,183097,879153,17781,17748,2243364,3.47,14.24,2015]
[325920,"Explosives manufacturing",7490,183097,879153,17781,17748,2243364,3.47,14.24,2015]
[32599,"All other chemical product and preparation manufacturing",83664,2039793,20023221,217420,378029,38967506,3.47,14.24,2015]
[325991,"Custom compounding of purchased resins",26216,573722,6792495,32841,146654,10683961,3.47,14.24,2015]
[325992,"Photographic film, paper, plate, and chemical manufacturing",13438,336487,3117835,38123,63084,7416538,3.47,14.24,2015]
[325998,"All other miscellaneous chemical product and preparation manufacturing",44009,1129585,10112891,146456,168291,20867007,3.47,14.24,2015]
[326,"Plastics and rubber products manufacturing",1160675,22288200,124430854,708323,3947348,236313501,3.16,9.15,2015]
[3261,"Plastics product manufacturing",953942,17778662,100268169,533996,3411953,191866292,3.16,9.15,2015]
[32611,"Plastics packaging materials and unlaminated film and sheet manufacturing",154795,3371521,23690067,165190,705263,41122030,3.16,9.15,2015]
[326111,"Plastics bag and pouch manufacturing",47525,884592,5746914,21407,164261,10138371,3.16,9.15,2015]
[326112,"Plastics packaging film and sheet (including laminated) manufacturing",53269,1245612,8004942,54582,196554,13008500,3.16,9.15,2015]
[326113,"Unlaminated plastics film and sheet (except packaging) manufacturing",54002,1241316,9938211,89201,344448,17975158,3.16,9.15,2015]
[32612,"Plastics pipe, pipe fitting, and unlaminated profile shape manufacturing",64641,1304254,9446856,43588,301408,17886452,3.16,9.15,2015]
[326121,"Unlaminated plastics profile shape manufacturing",28344,573383,3076632,33281,91391,7156579,3.16,9.15,2015]
[326122,"Plastics pipe and pipe fitting manufacturing",36296,730871,6370224,10307,210017,10729873,3.16,9.15,2015]
[32613,"Laminated plastics plate, sheet (except packaging), and shape manufacturing",16445,354626,1816294,14589,41997,3817190,3.16,9.15,2015]
[326130,"Laminated plastics plate, sheet (except packaging), and shape manufacturing",16445,354626,1816294,14589,41997,3817190,3.16,9.15,2015]
[32614,"Polystyrene foam product manufacturing",41541,761189,4391647,64972,140557,8738785,3.16,9.15,2015]
[326140,"Polystyrene foam product manufacturing",41541,761189,4391647,64972,140557,8738785,3.16,9.15,2015]
[32615,"Urethane and other foam product (except polystyrene) manufacturing",47761,774854,6267923,34621,86581,10904918,3.16,9.15,2015]
[326150,"Urethane and other foam product (except polystyrene) manufacturing",47761,774854,6267923,34621,86581,10904918,3.16,9.15,2015]
[32616,"Plastics bottle manufacturing",49292,981605,7123513,18032,420636,11951327,3.16,9.15,2015]
[326160,"Plastics bottle manufacturing",49292,981605,7123513,18032,420636,11951327,3.16,9.15,2015]
[32619,"Other plastics product manufacturing",579467,10230613,47531871,193005,1715512,97445591,3.16,9.15,2015]
[326191,"Plastics plumbing fixture manufacturing",24838,369817,1646656,10712,31945,3773603,3.16,9.15,2015]
[326199,"All other plastics product manufacturing",554630,9860796,45885215,182292,1683567,93671989,3.16,9.15,2015]
[3262,"Rubber product manufacturing",206733,4509538,24162685,174327,535395,44447209,3.16,9.15,2015]
[32621,"Tire manufacturing",83891,2175603,11732169,87569,248661,20391977,3.16,9.15,2015]
[326211,"Tire manufacturing (except retreading)",74916,2012997,10471788,81044,227836,18589191,3.16,9.15,2015]
[326212,"Tire retreading",8975,162606,1260381,6525,20824,1802785,3.16,9.15,2015]
[32622,"Rubber and plastics hoses and belting manufacturing",28810,565053,2430202,19335,60407,5275719,3.16,9.15,2015]
[326220,"Rubber and plastics hoses and belting manufacturing",28810,565053,2430202,19335,60407,5275719,3.16,9.15,2015]
[32629,"Other rubber product manufacturing",94032,1768882,10000314,67423,226327,18779513,3.16,9.15,2015]
[326291,"Rubber product manufacturing for mechanical use",49315,889157,4219754,26762,103582,8001914,3.16,9.15,2015]
[326299,"All other rubber product manufacturing",44717,879725,5780560,40661,122745,10777599,3.16,9.15,2015]
[327,"Nonmetallic mineral product manufacturing",578456,12622795,50602631,2618821,2513284,118029069,5.49,6.66,2015]
[3271,"Clay product and refractory manufacturing",49407,999437,2924916,175619,138798,7650340,5.49,6.66,2015]
[32711,"Pottery, ceramics, and plumbing fixture manufacturing",18401,345483,690960,27683,38214,2176089,5.49,6.66,2015]
[327110,"Pottery, ceramics, and plumbing fixture manufacturing",18401,345483,690960,27683,38214,2176089,5.49,6.66,2015]
[32712,"Clay building material and refractories manufacturing",31005,653954,2233956,147936,100584,5474251,5.49,6.66,2015]
[327120,"Clay building material and refractories manufacturing",31005,653954,2233956,147936,100584,5474251,5.49,6.66,2015]
[3272,"Glass and glass product manufacturing",138851,2984310,10362931,515407,729611,25517713,5.49,6.66,2015]
[32721,"Glass and glass product manufacturing",138851,2984310,10362931,515407,729611,25517713,5.49,6.66,2015]
[327211,"Flat glass manufacturing",15844,332083,1561048,199797,105544,3530251,5.49,6.66,2015]
[327212,"Other pressed and blown glass and glassware manufacturing",22581,526848,1181578,113495,133940,3657980,5.49,6.66,2015]
[327213,"Glass container manufacturing",22777,678030,1495319,149941,215172,5049458,5.49,6.66,2015]
[327215,"Glass product manufacturing made of purchased glass",77648,1447349,6124987,52174,274954,13280024,5.49,6.66,2015]
[3273,"Cement and concrete product manufacturing",264166,5742802,25028173,1046846,990309,53330822,5.49,6.66,2015]
[32731,"Cement manufacturing",20505,627575,3478861,679584,672564,8259331,5.49,6.66,2015]
[327310,"Cement manufacturing",20505,627575,3478861,679584,672564,8259331,5.49,6.66,2015]
[32732,"Ready-mix concrete manufacturing",128740,2999825,14102787,257519,162026,27313609,5.49,6.66,2015]
[327320,"Ready-mix concrete manufacturing",128740,2999825,14102787,257519,162026,27313609,5.49,6.66,2015]
[32733,"Concrete pipe, brick, and block manufacturing",34608,660424,2920228,49109,67000,6736549,5.49,6.66,2015]
[327331,"Concrete block and brick manufacturing",20064,383777,1943343,33820,48163,4313631,5.49,6.66,2015]
[327332,"Concrete pipe manufacturing",14545,276647,976885,15290,18838,2422918,5.49,6.66,2015]
[32739,"Other concrete product manufacturing",80313,1454978,4526297,60634,88718,11021334,5.49,6.66,2015]
[327390,"Other concrete product manufacturing",80313,1454978,4526297,60634,88718,11021334,5.49,6.66,2015]
[3274,"Lime and gypsum product manufacturing",22702,615820,3267292,577393,212497,7404654,5.49,6.66,2015]
[32741,"Lime manufacturing",8002,220332,878900,340194,103891,2255393,5.49,6.66,2015]
[327410,"Lime manufacturing",8002,220332,878900,340194,103891,2255393,5.49,6.66,2015]
[32742,"Gypsum product manufacturing",14699,395488,2388393,237199,108605,5149262,5.49,6.66,2015]
[327420,"Gypsum product manufacturing",14699,395488,2388393,237199,108605,5149262,5.49,6.66,2015]
[3279,"Other nonmetallic mineral product manufacturing",103331,2280426,9019319,303556,442070,24125540,5.49,6.66,2015]
[32791,"Abrasive product manufacturing",16945,348737,1473480,"20145(s)",64384,5576215,5.49,6.66,2015]
[327910,"Abrasive product manufacturing",16945,348737,1473480,"20145(s)",64384,5576215,5.49,6.66,2015]
[32799,"All other nonmetallic mineral product manufacturing",86386,1931689,7545838,283411,377686,18549325,5.49,6.66,2015]
[327991,"Cut stone and stone product manufacturing",35395,718506,1848009,23094,40966,4389020,5.49,6.66,2015]
[327992,"Ground or treated mineral and earth manufacturing",11665,292046,1585334,102135,98677,3798462,5.49,6.66,2015]
[327993,"Mineral wool manufacturing",23079,582641,2469019,108649,205377,5950404,5.49,6.66,2015]
[327999,"All other miscellaneous nonmetallic mineral product manufacturing",16247,338496,1643476,49533,32666,4411438,5.49,6.66,2015]
[331,"Primary metal manufacturing",642051,16699331,144521847,2926765,6087759,228373682,4.4000000000000004,2.0499999999999998,2015]
[3311,"Iron and steel mills and ferroalloy manufacturing",171049,5778307,57836184,1682946,2665436,88686514,3.79,0.08,2015]
[33111,"Iron and steel mills and ferroalloy manufacturing",171049,5778307,57836184,1682946,2665436,88686514,3.79,0.08,2015]
[331110,"Iron and steel mills and ferroalloy manufacturing",171049,5778307,57836184,1682946,2665436,88686514,3.79,0.08,2015]
[3312,"Steel product manufacturing from purchased steel",72216,1669107,13612959,112016,375347,20714313,3.79,0.08,2015]
[33121,"Iron and steel pipe and tube manufacturing from purchased steel",38883,937156,6759223,50975,184567,10160859,3.79,0.08,2015]
[331210,"Iron and steel pipe and tube manufacturing from purchased steel",38883,937156,6759223,50975,184567,10160859,3.79,0.08,2015]
[33122,"Rolling and drawing of purchased steel",33333,731951,6853735,61040,190780,10553454,3.79,0.08,2015]
[331221,"Rolled steel shape manufacturing",10593,270288,3287886,31412,100777,5135112,3.79,0.08,2015]
[331222,"Steel wire drawing",22739,461663,3565850,29628,90003,5418341,3.79,0.08,2015]
[3313,"Alumina and aluminum production and processing",97527,2488315,26629439,594941,1447202,38029474,5.42,1.52,2015]
[33131,"Alumina and aluminum production and processing",97527,2488315,26629439,594941,1447202,38029474,5.42,1.52,2015]
[331313,"Alumina refining and primary aluminum production",13770,428779,3671925,189094,946157,5751572,5.42,1.52,2015]
[331314,"Secondary smelting and alloying of aluminum",9691,230519,4875466,161773,99808,6270546,5.42,1.52,2015]
[331315,"Aluminum sheet, plate, and foil manufacturing",29730,940100,11662216,177366,263310,15770822,5.42,1.52,2015]
[331318,"Other aluminum rolling, drawing, and extruding",44336,888917,6419831,66709,137927,10236534,5.42,1.52,2015]
[3314,"Nonferrous metal (except aluminum) production and processing",90515,2245259,32357468,264048,741124,48701093,5.42,1.52,2015]
[33141,"Nonferrous metal (except aluminum) smelting and refining",13233,384409,6183509,76773,360434,10632394,5.42,1.52,2015]
[331410,"Nonferrous metal (except aluminum) smelting and refining",13233,384409,6183509,76773,360434,10632394,5.42,1.52,2015]
[33142,"Copper rolling, drawing, extruding, and alloying",37154,803510,15739222,64228,153303,19757678,5.42,1.52,2015]
[331420,"Copper rolling, drawing, extruding, and alloying",37154,803510,15739222,64228,153303,19757678,5.42,1.52,2015]
[33149,"Nonferrous metal (except copper and aluminum) rolling, drawing, extruding, and alloying",40128,1057340,10434737,123047,227387,18311021,5.42,1.52,2015]
[331491,"Nonferrous metal (except copper and aluminum) rolling, drawing, extruding, and alloying",25054,690452,4445068,53650,138473,7412535,5.42,1.52,2015]
[331492,"Secondary smelting, refining, and alloying of nonferrous metal (except copper and aluminum)",15074,366887,5989669,69397,88914,10898486,5.42,1.52,2015]
[3315,"Foundries",210745,4518343,14085798,272814,858649,32242288,2.79,12.09,2015]
[33151,"Ferrous metal foundries",110042,2443954,7864846,147192,581669,18223417,2.79,12.09,2015]
[331511,"Iron foundries",64115,1345132,4292794,89913,363089,10235068,2.79,12.09,2015]
[331512,"Steel investment foundries",22331,541510,1613436,20715,90949,3903370,2.79,12.09,2015]
[331513,"Steel foundries (except investment)",23596,557311,1958616,36564,127631,4084979,2.79,12.09,2015]
[33152,"Nonferrous metal foundries",100703,2074390,6220952,125621,276979,14018871,2.79,12.09,2015]
[331523,"Nonferrous metal die-casting foundries",59675,1255572,3825278,83537,173868,8630713,2.79,12.09,2015]
[331524,"Aluminum foundries (except die-casting)",26441,522419,1404401,33544,67700,3365808,2.79,12.09,2015]
[331529,"Other nonferrous metal foundries (except die-casting)",14586,296399,991273,8540,35412,2022350,2.79,12.09,2015]
[332,"Fabricated metal product manufacturing",2092934,45057026,162649336,1262361,3568217,349958373,2.81,8.3000000000000007,2015]
[3321,"Forging and stamping",173487,3716054,18168120,221648,506078,33122638,2.81,8.3000000000000007,2015]
[33211,"Forging and stamping",173487,3716054,18168120,221648,506078,33122638,2.81,8.3000000000000007,2015]
[332111,"Iron and steel forging",33209,781758,4738051,81156,155332,8538073,2.81,8.3000000000000007,2015]
[332112,"Nonferrous forging",10749,270334,1928584,53541,"D",2998065,2.81,8.3000000000000007,2015]
[332114,"Custom roll forming",36488,750784,4977883,32877,"D",7832447,2.81,8.3000000000000007,2015]
[332117,"Powder metallurgy part manufacturing",13497,269501,903391,17709,47415,2087871,2.81,8.3000000000000007,2015]
[332119,"Metal crown, closure, and other metal stamping (except automotive)",79543,1643677,5620210,36366,132870,11666182,2.81,8.3000000000000007,2015]
[3322,"Cutlery and handtool manufacturing",50471,1078603,3648279,37842,92108,10335223,2.81,8.3000000000000007,2015]
[33221,"Cutlery and handtool manufacturing",50471,1078603,3648279,37842,92108,10335223,2.81,8.3000000000000007,2015]
[332215,"Metal kitchen cookware, utensil, cutlery, and flatware (except precious) manufacturing",9860,231168,1060805,16958,22171,3633286,2.81,8.3000000000000007,2015]
[332216,"Saw blade and handtool manufacturing",40611,847436,2587474,20884,69937,6701937,2.81,8.3000000000000007,2015]
[3323,"Architectural and structural metals manufacturing",491438,10034781,43094182,191446,565572,84556808,2.81,8.3000000000000007,2015]
[33231,"Plate work and fabricated structural product manufacturing",227703,4900772,24385179,93503,292762,44984912,2.81,8.3000000000000007,2015]
[332311,"Prefabricated metal building and component manufacturing",30072,571827,3899595,8627,29177,6679452,2.81,8.3000000000000007,2015]
[332312,"Fabricated structural metal manufacturing",143705,3200725,17268004,63204,201541,31634716,2.81,8.3000000000000007,2015]
[332313,"Plate work manufacturing",53926,1128221,3217580,21672,62045,6670744,2.81,8.3000000000000007,2015]
[33232,"Ornamental and architectural metal products manufacturing",263736,5134009,18709003,97942,272810,39571896,2.81,8.3000000000000007,2015]
[332321,"Metal window and door manufacturing",69368,1265708,5929176,28896,70252,11520493,2.81,8.3000000000000007,2015]
[332322,"Sheet metal work manufacturing",151354,3014043,9955572,54920,162803,21399375,2.81,8.3000000000000007,2015]
[332323,"Ornamental and architectural metal work manufacturing",43013,854258,2824255,14126,39755,6652028,2.81,8.3000000000000007,2015]
[3324,"Boiler, tank, and shipping container manufacturing",139199,3404483,20144051,111526,329037,35051830,2.81,8.3000000000000007,2015]
[33241,"Power boiler and heat exchanger manufacturing",34069,905921,3480584,11144,46623,7614657,2.81,8.3000000000000007,2015]
[332410,"Power boiler and heat exchanger manufacturing",34069,905921,3480584,11144,46623,7614657,2.81,8.3000000000000007,2015]
[33242,"Metal tank (heavy gauge) manufacturing",55730,1230328,4588910,25918,62499,9121615,2.81,8.3000000000000007,2015]
[332420,"Metal tank (heavy gauge) manufacturing",55730,1230328,4588910,25918,62499,9121615,2.81,8.3000000000000007,2015]
[33243,"Metal can, box, and other metal container (light gauge) manufacturing",49400,1268234,12074556,74464,219916,18315558,2.81,8.3000000000000007,2015]
[332431,"Metal can manufacturing",30266,913403,10020937,51921,190770,14655398,2.81,8.3000000000000007,2015]
[332439,"Other metal container manufacturing",19134,354831,2053620,22543,29146,3660160,2.81,8.3000000000000007,2015]
[3325,"Hardware manufacturing",37110,711791,4005056,12581,52896,8344090,2.81,8.3000000000000007,2015]
[33251,"Hardware manufacturing",37110,711791,4005056,12581,52896,8344090,2.81,8.3000000000000007,2015]
[332510,"Hardware manufacturing",37110,711791,4005056,12581,52896,8344090,2.81,8.3000000000000007,2015]
[3326,"Spring and wire product manufacturing",56572,1071550,4417017,35425,89262,8992820,2.81,8.3000000000000007,2015]
[33261,"Spring and wire product manufacturing",56572,1071550,4417017,35425,89262,8992820,2.81,8.3000000000000007,2015]
[332613,"Spring manufacturing",25391,512842,2012050,19619,45145,4211785,2.81,8.3000000000000007,2015]
[332618,"Other fabricated wire product manufacturing",31182,558707,2404967,15806,44117,4781035,2.81,8.3000000000000007,2015]
[3327,"Machine shops; turned product; and screw, nut, and bolt manufacturing",583110,13138468,25159983,163283,774284,66713723,2.81,8.3000000000000007,2015]
[33271,"Machine shops",363359,8314292,13627863,89749,434239,38434351,2.81,8.3000000000000007,2015]
[332710,"Machine shops",363359,8314292,13627863,89749,434239,38434351,2.81,8.3000000000000007,2015]
[33272,"Turned product and screw, nut, and bolt manufacturing",219751,4824176,11532120,73534,340044,28279372,2.81,8.3000000000000007,2015]
[332721,"Precision turned product manufacturing",164259,3527805,6849991,43222,229341,17989089,2.81,8.3000000000000007,2015]
[332722,"Bolt, nut, screw, rivet, and washer manufacturing",55492,1296371,4682129,30312,110703,10290284,2.81,8.3000000000000007,2015]
[3328,"Coating, engraving, heat treating, and allied activities",195049,3892182,10919761,322237,539275,27849708,2.81,8.3000000000000007,2015]
[33281,"Coating, engraving, heat treating, and allied activities",195049,3892182,10919761,322237,539275,27849708,2.81,8.3000000000000007,2015]
[332811,"Metal heat treating",33399,773265,2250582,104600,153577,6685500,2.81,8.3000000000000007,2015]
[332812,"Metal coating, engraving (except jewelry and silverware), and allied services to manufacturers",82809,1641862,6231828,122937,201757,13662969,2.81,8.3000000000000007,2015]
[332813,"Electroplating, plating, polishing, anodizing, and coloring",78842,1477056,2437351,94700,183941,7501239,2.81,8.3000000000000007,2015]
[3329,"Other fabricated metal product manufacturing",366496,8009113,33092888,166374,619706,74991532,2.81,8.3000000000000007,2015]
[33291,"Metal valve manufacturing",127593,2858157,14275011,39760,220842,32630369,2.81,8.3000000000000007,2015]
[332911,"Industrial valve manufacturing",51518,1193730,5573629,15069,94620,13571220,2.81,8.3000000000000007,2015]
[332912,"Fluid power valve and hose fitting manufacturing",44283,999086,4313331,9326,71908,9758337,2.81,8.3000000000000007,2015]
[332913,"Plumbing fixture fitting and trim manufacturing",12160,225546,2277760,4784,13503,4693153,2.81,8.3000000000000007,2015]
[332919,"Other metal valve and pipe fitting manufacturing",19630,439795,2110291,10580,40810,4607658,2.81,8.3000000000000007,2015]
[33299,"All other fabricated metal product manufacturing",238904,5150956,18817877,126614,398863,42361163,2.81,8.3000000000000007,2015]
[332991,"Ball and roller bearing manufacturing",37154,859894,2953170,24714,105105,6961213,2.81,8.3000000000000007,2015]
[332992,"Small arms ammunition manufacturing",16650,442644,1871630,10742,"D",3943087,2.81,8.3000000000000007,2015]
[332993,"Ammunition (except small arms) manufacturing",7304,166527,887777,13533,"D",2519612,2.81,8.3000000000000007,2015]
[332994,"Small arms, ordnance, and ordnance accessories manufacturing",20702,504984,2638142,8450,38898,6030817,2.81,8.3000000000000007,2015]
[332996,"Fabricated pipe and pipe fitting manufacturing",47937,1020173,3779960,17871,60327,7545813,2.81,8.3000000000000007,2015]
[332999,"All other miscellaneous fabricated metal product manufacturing",109156,2156734,6687199,51304,145783,15360621,2.81,8.3000000000000007,2015]
[333,"Machinery manufacturing",1307517,31121265,193989539,554676,1997919,384609673,2.84,7.14,2015]
[3331,"Agriculture, construction, and mining machinery manufacturing",251047,6142596,53854066,159164,370738,98333868,2.84,7.14,2015]
[33311,"Agricultural implement manufacturing",98800,2206535,21542394,62764,155643,40794977,2.84,7.14,2015]
[333111,"Farm machinery and equipment manufacturing",77775,1793750,15898944,49851,122369,32028488,2.84,7.14,2015]
[333112,"Lawn and garden tractor and home lawn and garden equipment manufacturing",21025,412785,5643450,12912,33274,8766489,2.84,7.14,2015]
[33312,"Construction machinery manufacturing",75604,1762825,18344877,59836,97575,33381741,2.84,7.14,2015]
[333120,"Construction machinery manufacturing",75604,1762825,18344877,59836,97575,33381741,2.84,7.14,2015]
[33313,"Mining and oil and gas field machinery manufacturing",76642,2173236,13966795,36565,117520,24157150,2.84,7.14,2015]
[333131,"Mining machinery and equipment manufacturing",13491,364428,2287484,10065,32895,4569134,2.84,7.14,2015]
[333132,"Oil and gas field machinery and equipment manufacturing",63151,1808808,11679312,26499,84625,19588016,2.84,7.14,2015]
[3332,"Industrial machinery manufacturing",108765,2753821,14134714,49814,182616,31230704,2.84,7.14,2015]
[33324,"Industrial machinery manufacturing",108765,2753821,14134714,49814,182616,31230704,2.84,7.14,2015]
[333241,"Food product machinery manufacturing",18972,442208,2228102,6681,20921,5292499,2.84,7.14,2015]
[333242,"Semiconductor machinery manufacturing",8624,281272,3139617,5759,33245,6049134,2.84,7.14,2015]
[333243,"Sawmill, woodworking, and paper machinery manufacturing",14207,385705,1668781,9558,28797,3415190,2.84,7.14,2015]
[333244,"Printing machinery and equipment manufacturing",7671,181565,842819,3448,18957,1806178,2.84,7.14,2015]
[333249,"Other industrial machinery manufacturing",59291,1463071,6255396,24368,80696,14667703,2.84,7.14,2015]
[3333,"Commercial and service industry machinery manufacturing",79329,1849671,11854484,30912,128844,26860417,2.84,7.14,2015]
[33331,"Commercial and service industry machinery manufacturing",79329,1849671,11854484,30912,128844,26860417,2.84,7.14,2015]
[333314,"Optical instrument and lens manufacturing",15429,490983,1989631,4875,38126,4591886,2.84,7.14,2015]
[333316,"Photographic and photocopying equipment manufacturing",4432,93904,772477,1280,6419,1749923,2.84,7.14,2015]
[333318,"Other commercial and service industry machinery manufacturing",59468,1264784,9092375,24757,84299,20518608,2.84,7.14,2015]
[3334,"Ventilation, heating, air-conditioning, and commercial refrigeration equipment manufacturing",184000,3572283,22229783,52445,204139,43987122,2.84,7.14,2015]
[33341,"Ventilation, heating, air-conditioning, and commercial refrigeration equipment manufacturing",184000,3572283,22229783,52445,204139,43987122,2.84,7.14,2015]
[333413,"Industrial and commercial fan and blower and air purification equipment manufacturing",34724,602216,2899957,11334,34268,6121491,2.84,7.14,2015]
[333414,"Heating equipment (except warm air furnaces) manufacturing",19933,401520,2082497,12690,33902,4683271,2.84,7.14,2015]
[333415,"Air-conditioning and warm air heating equipment and commercial and industrial refrigeration equipment manufacturing",129344,2568546,17247329,28421,135970,33182361,2.84,7.14,2015]
[3335,"Metalworking machinery manufacturing",205241,5114800,12439852,58011,331424,31270339,2.84,7.14,2015]
[33351,"Metalworking machinery manufacturing",205241,5114800,12439852,58011,331424,31270339,2.84,7.14,2015]
[333511,"Industrial mold manufacturing",54485,1288747,2357788,14252,105496,6275357,2.84,7.14,2015]
[333514,"Special die and tool, die set, jig, and fixture manufacturing",63881,1619905,3157981,15609,83329,8151999,2.84,7.14,2015]
[333515,"Cutting tool and machine tool accessory manufacturing",39193,917754,1792172,11357,77990,5557413,2.84,7.14,2015]
[333517,"Machine tool manufacturing",32441,865753,3513779,9306,42619,7769007,2.84,7.14,2015]
[333519,"Rolling mill and other metalworking machinery manufacturing",15242,422641,1618133,7487,21990,3516564,2.84,7.14,2015]
[3336,"Engine, turbine, and power transmission equipment manufacturing",133306,3303860,27813184,62586,271028,50270701,2.84,7.14,2015]
[33361,"Engine, turbine, and power transmission equipment manufacturing",133306,3303860,27813184,62586,271028,50270701,2.84,7.14,2015]
[333611,"Turbine and turbine generator set units manufacturing",42591,1200519,7532731,16553,67763,15381418,2.84,7.14,2015]
[333612,"Speed changer, industrial high-speed drive, and gear manufacturing",17664,428720,1430800,10105,33923,3482249,2.84,7.14,2015]
[333613,"Mechanical power transmission equipment manufacturing",20174,451129,1802945,9981,39567,4081945,2.84,7.14,2015]
[333618,"Other engine equipment manufacturing",52877,1223492,17046708,25947,129776,27325089,2.84,7.14,2015]
[3339,"Other general purpose machinery manufacturing",345829,8384234,51663456,141744,509130,102656522,2.84,7.14,2015]
[33391,"Pump and compressor manufacturing",68766,1717248,13163131,32678,125871,27663145,2.84,7.14,2015]
[333911,"Pump and pumping equipment manufacturing",37853,1007892,6977095,20509,77624,15468782,2.84,7.14,2015]
[333912,"Air and gas compressor manufacturing",27241,615021,5495185,11126,43134,10804543,2.84,7.14,2015]
[333913,"Measuring and dispensing pump manufacturing",3672,94334,690852,1043,5113,1389820,2.84,7.14,2015]
[33392,"Material handling equipment manufacturing",106175,2396288,15900692,44873,112925,28928253,2.84,7.14,2015]
[333921,"Elevator and moving stairway manufacturing",11029,180843,1462870,3779,9755,2719688,2.84,7.14,2015]
[333922,"Conveyor and conveying equipment manufacturing",43134,924468,4206991,13039,43674,9590254,2.84,7.14,2015]
[333923,"Overhead traveling crane, hoist, and monorail system manufacturing",21532,565616,4585882,16326,21639,7424040,2.84,7.14,2015]
[333924,"Industrial truck, trailer, and stacker machinery manufacturing",30480,725361,5644949,11730,37857,9194271,2.84,7.14,2015]
[33399,"All other general purpose machinery manufacturing",170888,4270698,22599632,64192,270334,46065124,2.84,7.14,2015]
[333991,"Power-driven handtool manufacturing",10507,227183,1773624,4522,17269,3511088,2.84,7.14,2015]
[333992,"Welding and soldering equipment manufacturing",16963,446749,2840329,12038,32960,5469937,2.84,7.14,2015]
[333993,"Packaging machinery manufacturing",19796,532573,2819755,5645,22589,6082270,2.84,7.14,2015]
[333994,"Industrial process furnace and oven manufacturing",13533,302198,1191173,4187,15959,2789148,2.84,7.14,2015]
[333995,"Fluid power cylinder and actuator manufacturing",32961,891966,3615028,10496,46915,7219158,2.84,7.14,2015]
[333996,"Fluid power pump and motor manufacturing",12733,350812,2094477,3744,24212,3784013,2.84,7.14,2015]
[333997,"Scale and balance manufacturing",3997,87283,504928,1234,3887,938241,2.84,7.14,2015]
[333999,"All other miscellaneous general purpose machinery manufacturing",60398,1431933,7760319,22328,106544,16271269,2.84,7.14,2015]
[334,"Computer and electronic product manufacturing",725746,19718465,127335795,564415,3045820,300558462,3.74,10.81,2015]
[3341,"Computer and peripheral equipment manufacturing",29940,728574,13957463,10346,108612,26341021,2.15,16.86,2015]
[33411,"Computer and peripheral equipment manufacturing",29940,728574,13957463,10346,108612,26341021,2.15,16.86,2015]
[334111,"Electronic computer manufacturing",9164,216339,6395742,1973,30047,10083862,2.15,16.86,2015]
[334112,"Computer storage device manufacturing",8394,211116,3747007,3414,49493,7597676,2.15,16.86,2015]
[334118,"Computer terminal and other computer peripheral equipment manufacturing",12382,301119,3814714,4959,29073,8659483,2.15,16.86,2015]
[3342,"Communications equipment manufacturing",68680,2260882,15779649,17239,162590,36162615,2.36,11.16,2015]
[33421,"Telephone apparatus manufacturing",10761,318169,4208649,4297,34464,7291332,2.36,11.16,2015]
[334210,"Telephone apparatus manufacturing",10761,318169,4208649,4297,34464,7291332,2.36,11.16,2015]
[33422,"Radio and television broadcasting and wireless communications equipment manufacturing",48803,1741283,9440032,10278,116109,24001519,2.36,11.16,2015]
[334220,"Radio and television broadcasting and wireless communications equipment manufacturing",48803,1741283,9440032,10278,116109,24001519,2.36,11.16,2015]
[33429,"Other communications equipment manufacturing",9115,201430,2130967,2664,12017,4869764,2.36,11.16,2015]
[334290,"Other communications equipment manufacturing",9115,201430,2130967,2664,12017,4869764,2.36,11.16,2015]
[3343,"Audio and video equipment manufacturing",9268,169980,1319496,2377,9667,3069260,5.51,6.18,2015]
[33431,"Audio and video equipment manufacturing",9268,169980,1319496,2377,9667,3069260,5.51,6.18,2015]
[334310,"Audio and video equipment manufacturing",9268,169980,1319496,2377,9667,3069260,5.51,6.18,2015]
[3344,"Semiconductor and other electronic component manufacturing",316653,8086492,41602217,437304,2132968,90127217,5.51,6.18,2015]
[33441,"Semiconductor and other electronic component manufacturing",316653,8086492,41602217,437304,2132968,90127217,5.51,6.18,2015]
[334412,"Bare printed circuit board manufacturing",35760,676249,1900989,6960,71072,4163099,5.51,6.18,2015]
[334413,"Semiconductor and related device manufacturing",109668,4015361,18868399,387217,1798860,47095220,5.51,6.18,2015]
[334416,"Capacitor, resistor, coil, transformer, and other inductor manufacturing",25095,427700,1699856,5284,40499,3441401,5.51,6.18,2015]
[334417,"Electronic connector manufacturing",26414,558372,2205602,5617,39963,5583227,5.51,6.18,2015]
[334418,"Printed circuit assembly (electronic assembly) manufacturing",63539,1151861,12201354,14861,100297,18071554,5.51,6.18,2015]
[334419,"Other electronic component manufacturing",56177,1256949,4726018,17365,82278,11772717,5.51,6.18,2015]
[3345,"Navigational, measuring, electromedical, and control instruments manufacturing",287482,8208948,53417948,93693,605386,142064731,5.51,6.18,2015]
[33451,"Navigational, measuring, electromedical, and control instruments manufacturing",287482,8208948,53417948,93693,605386,142064731,5.51,6.18,2015]
[334510,"Electromedical and electrotherapeutic apparatus manufacturing",58208,1392715,11512864,24138,102291,28696105,5.51,6.18,2015]
[334511,"Search, detection, navigation, guidance, aeronautical, and nautical system and instrument manufacturing",78333,3047134,14215262,27523,217628,44465518,5.51,6.18,2015]
[334512,"Automatic environmental control manufacturing for residential, commercial, and appliance use",8152,182835,1112979,2089,10658,2522446,5.51,6.18,2015]
[334513,"Instruments and related products manufacturing for measuring, displaying, and controlling industrial process variables",35026,795433,3935697,6135,43465,10954313,5.51,6.18,2015]
[334514,"Totalizing fluid meter and counting device manufacturing",12565,288166,2360018,8267,19508,5272536,5.51,6.18,2015]
[334515,"Instrument manufacturing for measuring and testing electricity and electrical systems",21954,536732,4687001,3656,48659,10869721,5.51,6.18,2015]
[334516,"Analytical laboratory instrument manufacturing",34993,912484,6497690,10234,86491,17720187,5.51,6.18,2015]
[334517,"Irradiation apparatus manufacturing",9217,283061,4715914,3340,31950,10603220,5.51,6.18,2015]
[334519,"Other measuring and controlling device manufacturing",29034,770388,4380523,8312,44736,10960684,5.51,6.18,2015]
[3346,"Manufacturing and reproducing magnetic and optical media",13723,263589,1259022,3456,26596,2793618,5.51,6.18,2015]
[33461,"Manufacturing and reproducing magnetic and optical media",13723,263589,1259022,3456,26596,2793618,5.51,6.18,2015]
[334613,"Blank magnetic and optical recording media manufacturing",790,26732,"D",92,"D",503501,5.51,6.18,2015]
[334614,"Software and other prerecorded compact disc, tape, and record reproducing",12933,236857,"D",3364,"D",2290117,5.51,6.18,2015]
[335,"Electrical equipment, appliance, and component manufacturing",454124,9762019,64928169,273109,839106,125954154,2.1,8.64,2015]
[3351,"Electric lighting equipment manufacturing",50613,972206,5613592,26232,70247,12641062,2.1,8.64,2015]
[33511,"Electric lamp bulb and part manufacturing",6156,158318,753360,9646,17684,1511767,2.1,8.64,2015]
[335110,"Electric lamp bulb and part manufacturing",6156,158318,753360,9646,17684,1511767,2.1,8.64,2015]
[33512,"Lighting fixture manufacturing",44457,813887,4860232,16586,52563,11129295,2.1,8.64,2015]
[335121,"Residential electric lighting fixture manufacturing",8432,152662,844030,6402,10618,1872800,2.1,8.64,2015]
[335122,"Commercial, industrial, and institutional electric lighting fixture manufacturing",20919,394010,2245701,4647,20405,5288150,2.1,8.64,2015]
[335129,"Other lighting equipment manufacturing",15106,267214,1770501,5537,21540,3968346,2.1,8.64,2015]
[3352,"Household appliance manufacturing",80592,1643199,11649438,25696,97286,21195005,2.1,8.64,2015]
[33521,"Small electrical appliance manufacturing",14930,260188,1947492,3167,15197,3768997,2.1,8.64,2015]
[335210,"Small electrical appliance manufacturing",14930,260188,1947492,3167,15197,3768997,2.1,8.64,2015]
[33522,"Major appliance manufacturing",65662,1383011,9701946,22529,82089,17426008,2.1,8.64,2015]
[335221,"Household cooking appliance manufacturing",20879,397497,2697444,8105,18599,4894216,2.1,8.64,2015]
[335222,"Household refrigerator and home freezer manufacturing","D","D","D","D","D","D",2.1,8.64,2015]
[335224,"Household laundry equipment manufacturing","D","D","D","D","D","D",2.1,8.64,2015]
[335228,"Other major household appliance manufacturing",17776,383830,2427835,9028,"D",5119114,2.1,8.64,2015]
[3353,"Electrical equipment manufacturing",142255,3135605,19358403,56586,167632,37754441,2.1,8.64,2015]
[33531,"Electrical equipment manufacturing",142255,3135605,19358403,56586,167632,37754441,2.1,8.64,2015]
[335311,"Power, distribution, and specialty transformer manufacturing",26719,525929,2951143,16982,39896,5293235,2.1,8.64,2015]
[335312,"Motor and generator manufacturing",34782,827645,5521784,17908,49396,10304009,2.1,8.64,2015]
[335313,"Switchgear and switchboard apparatus manufacturing",44780,974054,5730976,14669,40022,11857817,2.1,8.64,2015]
[335314,"Relay and industrial control manufacturing",35974,807978,5154500,7028,38319,10299378,2.1,8.64,2015]
[3359,"Other electrical equipment and component manufacturing",180664,4011009,28306735,164595,503940,54363646,2.1,8.64,2015]
[33591,"Battery manufacturing",46120,1043014,6189341,73260,142101,11624136,2.1,8.64,2015]
[335911,"Storage battery manufacturing",34818,773229,4383770,69962,99562,8051101,2.1,8.64,2015]
[335912,"Primary battery manufacturing",11301,269785,1805571,3297,42539,3573035,2.1,8.64,2015]
[33592,"Communication and energy wire and cable manufacturing",40323,816206,9103336,14823,97208,14526229,2.1,8.64,2015]
[335921,"Fiber optic cable manufacturing",6341,136287,1163839,2230,15994,2351363,2.1,8.64,2015]
[335929,"Other communication and energy wire manufacturing",33982,679919,7939497,12593,81213,12174866,2.1,8.64,2015]
[33593,"Wiring device manufacturing",53381,1127386,5881864,17847,95326,14080651,2.1,8.64,2015]
[335931,"Current-carrying wiring device manufacturing",34437,696633,3879810,6556,49528,8432772,2.1,8.64,2015]
[335932,"Noncurrent-carrying wiring device manufacturing",18944,430754,2002054,11291,45798,5647880,2.1,8.64,2015]
[33599,"All other electrical equipment and component manufacturing",40841,1024402,7132195,58666,169306,14132630,2.1,8.64,2015]
[335991,"Carbon and graphite product manufacturing",11355,312629,1828074,52574,107700,3369474,2.1,8.64,2015]
[335999,"All other miscellaneous electrical equipment and component manufacturing",29486,711773,5304121,6093,61606,10763156,2.1,8.64,2015]
[336,"Transportation equipment manufacturing",2153827,58620738,618301744,983063,4025268,948254978,1.98,6.92,2015]
[3361,"Motor vehicle manufacturing",336398,11486411,260875204,265215,573563,337157630,1.93,5.04,2015]
[33611,"Automobile and light duty motor vehicle manufacturing",288850,10164874,236064830,246847,532328,304008724,1.93,5.04,2015]
[336111,"Automobile manufacturing",136435,4796826,100598272,105731,281698,124774010,1.93,5.04,2015]
[336112,"Light truck and utility vehicle manufacturing",152415,5368048,135466558,141116,250630,179234714,1.93,5.04,2015]
[33612,"Heavy duty truck manufacturing",47549,1321537,24810374,18368,41235,33148906,1.93,5.04,2015]
[336120,"Heavy duty truck manufacturing",47549,1321537,24810374,18368,41235,33148906,1.93,5.04,2015]
[3362,"Motor vehicle body and trailer manufacturing",216825,4286878,27816625,58431,136091,42075483,1.93,5.04,2015]
[33621,"Motor vehicle body and trailer manufacturing",216825,4286878,27816625,58431,136091,42075483,1.93,5.04,2015]
[336211,"Motor vehicle body manufacturing",74478,1415414,9122515,29281,55903,13966374,1.93,5.04,2015]
[336212,"Truck trailer manufacturing",54704,1040705,7097159,11619,40020,10022089,1.93,5.04,2015]
[336213,"Motor home manufacturing",15925,319063,2960263,3956,8862,4141026,1.93,5.04,2015]
[336214,"Travel trailer and camper manufacturing",71719,1511696,8636689,13574,31307,13945994,1.93,5.04,2015]
[3363,"Motor vehicle parts manufacturing",865530,19242072,174754935,332304,1685164,257388296,1.93,5.04,2015]
[33631,"Motor vehicle gasoline engine and engine parts manufacturing",94016,2563189,23886671,50428,253883,34238627,1.93,5.04,2015]
[336310,"Motor vehicle gasoline engine and engine parts manufacturing",94016,2563189,23886671,50428,253883,34238627,1.93,5.04,2015]
[33632,"Motor vehicle electrical and electronic equipment manufacturing",88176,1855276,16139032,20594,146077,24503474,1.93,5.04,2015]
[336320,"Motor vehicle electrical and electronic equipment manufacturing",88176,1855276,16139032,20594,146077,24503474,1.93,5.04,2015]
[33633,"Motor vehicle steering and suspension components (except spring) manufacturing",58952,1212722,10396296,27046,124300,15351054,1.93,5.04,2015]
[336330,"Motor vehicle steering and suspension components (except spring) manufacturing",58952,1212722,10396296,27046,124300,15351054,1.93,5.04,2015]
[33634,"Motor vehicle brake system manufacturing",33744,678250,7005593,19312,90355,10459814,1.93,5.04,2015]
[336340,"Motor vehicle brake system manufacturing",33744,678250,7005593,19312,90355,10459814,1.93,5.04,2015]
[33635,"Motor vehicle transmission and power train parts manufacturing",107966,2822215,25267742,50387,261158,37806510,1.93,5.04,2015]
[336350,"Motor vehicle transmission and power train parts manufacturing",107966,2822215,25267742,50387,261158,37806510,1.93,5.04,2015]
[33636,"Motor vehicle seating and interior trim manufacturing",101769,1891780,22337221,19806,124546,30934311,1.93,5.04,2015]
[336360,"Motor vehicle seating and interior trim manufacturing",101769,1891780,22337221,19806,124546,30934311,1.93,5.04,2015]
[33637,"Motor vehicle metal stamping",167221,3889595,23117680,55554,283623,36252716,1.93,5.04,2015]
[336370,"Motor vehicle metal stamping",167221,3889595,23117680,55554,283623,36252716,1.93,5.04,2015]
[33639,"Other motor vehicle parts manufacturing",213686,4329045,46604701,89176,401222,67841790,1.93,5.04,2015]
[336390,"Other motor vehicle parts manufacturing",213686,4329045,46604701,89176,401222,67841790,1.93,5.04,2015]
[3364,"Aerospace product and parts manufacturing",464926,17008567,114364382,211700,1289541,236909354,1.95,10.75,2015]
[33641,"Aerospace product and parts manufacturing",464926,17008567,114364382,211700,1289541,236909354,1.95,10.75,2015]
[336411,"Aircraft manufacturing",178065,8308379,69815961,73828,498307,130737796,1.95,10.75,2015]
[336412,"Aircraft engine and engine parts manufacturing",96292,2853205,17728733,40965,"D",42105275,1.95,10.75,2015]
[336413,"Other aircraft parts and auxiliary equipment manufacturing",142481,4110495,16358312,66029,437146,37561299,1.95,10.75,2015]
[336414,"Guided missile and space vehicle manufacturing",33845,1259567,"D","D","D",20830691,1.95,10.75,2015]
[336415,"Guided missile and space vehicle propulsion unit and propulsion unit parts manufacturing",6609,257079,"D","D",38914,4037123,1.95,10.75,2015]
[336419,"Other guided missile and space vehicle parts and auxiliary equipment manufacturing",7635,219842,"D","D",24676,1637170,1.95,10.75,2015]
[3365,"Railroad rolling stock manufacturing",47808,1191933,15980459,35657,86913,22288069,null,null,2015]
[33651,"Railroad rolling stock manufacturing",47808,1191933,15980459,35657,86913,22288069,null,null,2015]
[336510,"Railroad rolling stock manufacturing",47808,1191933,15980459,35657,86913,22288069,null,null,2015]
[3366,"Ship and boat building",186398,4586837,13571307,60586,192823,34314518,null,null,2015]
[33661,"Ship and boat building",186398,4586837,13571307,60586,192823,34314518,null,null,2015]
[336611,"Ship building and repairing",134451,3646244,8125243,43839,148287,24812117,null,null,2015]
[336612,"Boat building",51947,940594,5446065,16747,44537,9502401,null,null,2015]
[3369,"Other transportation equipment manufacturing",35940,818040,10938831,19170,61173,18121628,null,null,2015]
[33699,"Other transportation equipment manufacturing",35940,818040,10938831,19170,61173,18121628,null,null,2015]
[336991,"Motorcycle, bicycle, and parts manufacturing",12853,303722,3446043,8592,23261,6328153,null,null,2015]
[336992,"Military armored vehicle, tank, and tank component manufacturing",5001,130142,1129667,2954,12915,2600150,null,null,2015]
[336999,"All other transportation equipment manufacturing",18085,384177,6363121,7623,24997,9193325,null,null,2015]
[337,"Furniture and related product manufacturing",511010,8900019,34631675,171917,471079,73484214,1.95,7.67,2015]
[3371,"Household and institutional furniture and kitchen cabinet manufacturing",322173,5414749,18326071,97637,272482,38519419,1.95,7.67,2015]
[33711,"Wood kitchen cabinet and countertop manufacturing",134833,2390874,5866947,53553,126168,14221095,1.95,7.67,2015]
[337110,"Wood kitchen cabinet and countertop manufacturing",134833,2390874,5866947,53553,126168,14221095,1.95,7.67,2015]
[33712,"Household and institutional furniture manufacturing",187340,3023875,12459124,44084,146315,24298323,1.95,7.67,2015]
[337121,"Upholstered household furniture manufacturing",92335,1468819,6357172,8533,51520,11890372,1.95,7.67,2015]
[337122,"Nonupholstered wood household furniture manufacturing",43119,665744,1965706,12864,39064,4056645,1.95,7.67,2015]
[337124,"Metal household furniture manufacturing",14261,237637,1395000,7027,14302,2510937,1.95,7.67,2015]
[337125,"Household furniture (except wood and metal) manufacturing",4000,60653,536544,1620,6185,972302,1.95,7.67,2015]
[337127,"Institutional furniture manufacturing",33626,591022,2204702,14040,35244,4868066,1.95,7.67,2015]
[3372,"Office furniture (including fixtures) manufacturing",147177,2788960,11192447,64148,171269,25024003,1.95,7.67,2015]
[33721,"Office furniture (including fixtures) manufacturing",147177,2788960,11192447,64148,171269,25024003,1.95,7.67,2015]
[337211,"Wood office furniture manufacturing",19836,366850,1049212,5830,21450,2570570,1.95,7.67,2015]
[337212,"Custom architectural woodwork and millwork manufacturing",49359,1007203,2887044,17865,51565,6928154,1.95,7.67,2015]
[337214,"Office furniture (except wood) manufacturing",28780,573871,3652304,14630,38744,8214864,1.95,7.67,2015]
[337215,"Showcase, partition, shelving, and locker manufacturing",49202,841037,3603887,25823,59510,7310415,1.95,7.67,2015]
[3379,"Other furniture related product manufacturing",41660,696311,5113157,10132,27327,9940792,1.95,7.67,2015]
[33791,"Mattress manufacturing",29258,507185,4273009,8472,19466,8158491,1.95,7.67,2015]
[337910,"Mattress manufacturing",29258,507185,4273009,8472,19466,8158491,1.95,7.67,2015]
[33792,"Blind and shade manufacturing",12401,189126,840148,1660,7861,1782301,1.95,7.67,2015]
[337920,"Blind and shade manufacturing",12401,189126,840148,1660,7861,1782301,1.95,7.67,2015]
[339,"Miscellaneous manufacturing",624739,12462141,56511631,200787,841364,152735268,3.58,8.11,2015]
[3391,"Medical equipment and supplies manufacturing",310199,6487058,29383621,75494,412375,88969686,3.58,8.11,2015]
[33911,"Medical equipment and supplies manufacturing",310199,6487058,29383621,75494,412375,88969686,3.58,8.11,2015]
[339112,"Surgical and medical instrument manufacturing",124575,2665702,11243651,27838,186284,37533093,3.58,8.11,2015]
[339113,"Surgical appliance and supplies manufacturing",90884,1839132,13043399,33943,137651,36144905,3.58,8.11,2015]
[339114,"Dental equipment and supplies manufacturing",14670,310575,1370922,2714,16110,4294513,3.58,8.11,2015]
[339115,"Ophthalmic goods manufacturing",26062,534688,2585185,5930,47401,6161988,3.58,8.11,2015]
[339116,"Dental laboratories",54007,1136961,1140464,5070,24930,4835187,3.58,8.11,2015]
[3399,"Other miscellaneous manufacturing",314541,5975083,27128009,125292,428989,63765581,3.58,8.11,2015]
[33991,"Jewelry and silverware manufacturing",27402,567870,3601912,4901,21823,7526995,3.58,8.11,2015]
[339910,"Jewelry and silverware manufacturing",27402,567870,3601912,4901,21823,7526995,3.58,8.11,2015]
[33992,"Sporting and athletic goods manufacturing",39770,731374,4556978,23579,74561,10458182,3.58,8.11,2015]
[339920,"Sporting and athletic goods manufacturing",39770,731374,4556978,23579,74561,10458182,3.58,8.11,2015]
[33993,"Doll, toy, and game manufacturing",6707,116827,779495,5422,11633,1458060,3.58,8.11,2015]
[339930,"Doll, toy, and game manufacturing",6707,116827,779495,5422,11633,1458060,3.58,8.11,2015]
[33994,"Office supplies (except paper) manufacturing",12652,215030,1703464,5739,16905,3180766,3.58,8.11,2015]
[339940,"Office supplies (except paper) manufacturing",12652,215030,1703464,5739,16905,3180766,3.58,8.11,2015]
[33995,"Sign manufacturing",73335,1432550,5269897,22597,71673,12904654,3.58,8.11,2015]
[339950,"Sign manufacturing",73335,1432550,5269897,22597,71673,12904654,3.58,8.11,2015]
[33999,"All other miscellaneous manufacturing",154675,2911433,11216263,63053,232393,28236924,3.58,8.11,2015]
[339991,"Gasket, packing, and sealing device manufacturing",42265,899343,2964193,21621,107587,7224549,3.58,8.11,2015]
[339992,"Musical instrument manufacturing",16368,316063,756046,8089,18402,2036277,3.58,8.11,2015]
[339993,"Fastener, button, needle, and pin manufacturing",5149,96111,397670,6630,13966,932011,3.58,8.11,2015]
[339994,"Broom, brush, and mop manufacturing",13189,215365,1241410,2331,18264,2666381,3.58,8.11,2015]
[339995,"Burial casket manufacturing",4736,94059,318329,2755,7703,653863,3.58,8.11,2015]
[339999,"All other miscellaneous manufacturing",72968,1290491,5538615,21628,66471,14723843,3.58,8.11,2015]

{"sheet":"2016 Econ Census Data","index":159,"n_rows":656,"n_cols":11,"rows_kept":656,"cut":false,"hidden":false,"merged":[]}
["2012 NAICS code","Meaning of 2012 NAICS code","Production workers annual hours (1,000)","Production workers annual wages ($1,000)","Total cost of materials ($1,000)","Cost of purchased fuels consumed ($1,000)","Cost of purchased electricity ($1,000)","Total value of shipments and receipts for services ($1,000)","Depreciation","Operating Income","Year"]
[]
["31-33","Manufacturing",15680616,364984756,2942556208,29989310,51233341,5354694462,3.2,8.16,2016]
[311,"Food manufacturing",2279263,43401629,472839934,3385294,5519015,764786594,2.29,8.74,2016]
[3111,"Animal food manufacturing",69711,1621105,38183600,203102,303427,56522602,2.29,8.74,2016]
[31111,"Animal food manufacturing",69711,1621105,38183600,203102,303427,56522602,2.29,8.74,2016]
[311111,"Dog and cat food manufacturing",31289,778969,12392144,72885,98046,23410133,2.29,8.74,2016]
[311119,"Other animal food manufacturing",38422,842136,25791457,130216,205381,33112469,2.29,8.74,2016]
[3112,"Grain and oilseed milling",83500,2140204,62882892,664207,857251,87657008,2.29,8.74,2016]
[31121,"Flour milling and malt manufacturing",29221,641652,11607957,68617,230417,17663141,2.29,8.74,2016]
[311211,"Flour milling",19473,441184,8224149,33032,157109,12606545,2.29,8.74,2016]
[311212,"Rice milling",8425,159699,2371101,11117,"D",3539880,2.29,8.74,2016]
[311213,"Malt manufacturing",1324,40769,1012707,24467,"D",1516717,2.29,8.74,2016]
[31122,"Starch and vegetable fats and oils manufacturing",33950,896224,45768298,532727,547442,60558813,2.29,8.74,2016]
[311221,"Wet corn milling",8909,295652,6376335,286937,"D",10222907,2.29,8.74,2016]
[311224,"Soybean and other oilseed processing",13078,324771,30532031,201826,"D",38720733,2.29,8.74,2016]
[311225,"Fats and oils refining and blending",11963,275801,8859932,43964,52438,11615173,2.29,8.74,2016]
[31123,"Breakfast cereal manufacturing",20329,602329,5506637,62863,79392,9435055,2.29,8.74,2016]
[311230,"Breakfast cereal manufacturing",20329,602329,5506637,62863,79392,9435055,2.29,8.74,2016]
[3113,"Sugar and confectionery product manufacturing",104958,2359298,19607687,364414,294478,35898798,2.29,8.74,2016]
[31131,"Sugar manufacturing",22286,573366,6391886,279571,97431,9716669,2.29,8.74,2016]
[311313,"Beet sugar manufacturing",10930,256410,2249474,178492,57956,3683112,2.29,8.74,2016]
[311314,"Cane sugar manufacturing",11356,316956,4142412,101079,39475,6033557,2.29,8.74,2016]
[31134,"Nonchocolate confectionery manufacturing",28660,606254,4002559,32197,79933,8716594,2.29,8.74,2016]
[311340,"Nonchocolate confectionery manufacturing",28660,606254,4002559,32197,79933,8716594,2.29,8.74,2016]
[31135,"Chocolate and chocolate confectionery manufacturing",54012,1179679,9213241,52646,117114,17465536,2.29,8.74,2016]
[311351,"Chocolate and confectionery manufacturing from cacao beans",9665,231803,3397715,11232,38868,4783326,2.29,8.74,2016]
[311352,"Confectionery manufacturing from purchased chocolate",44347,947875,5815526,41414,78246,12682209,2.29,8.74,2016]
[3114,"Fruit and vegetable preserving and specialty food manufacturing",272408,5244847,38359015,469643,681830,71945524,2.29,8.74,2016]
[31141,"Frozen food manufacturing",148666,2608359,17717722,176172,376065,31718617,2.29,8.74,2016]
[311411,"Frozen fruit, juice, and vegetable manufacturing",58225,959387,6665769,113372,172798,12261170,2.29,8.74,2016]
[311412,"Frozen specialty food manufacturing",90440,1648972,11051954,62800,203267,19457447,2.29,8.74,2016]
[31142,"Fruit and vegetable canning, pickling, and drying",123742,2636488,20641293,293471,305765,40226907,2.29,8.74,2016]
[311421,"Fruit and vegetable canning",84037,1767187,13807702,190748,202790,24650603,2.29,8.74,2016]
[311422,"Specialty canning",18758,447756,3395103,36129,39937,8981398,2.29,8.74,2016]
[311423,"Dried and dehydrated food manufacturing",20947,421545,3438487,66594,63039,6594907,2.29,8.74,2016]
[3115,"Dairy product manufacturing",211239,5105351,77191514,394409,744916,111283872,2.29,8.74,2016]
[31151,"Dairy product (except frozen) manufacturing",182644,4431015,72387558,378361,655239,103053756,2.29,8.74,2016]
[311511,"Fluid milk manufacturing",64471,1637784,22165100,93395,241431,33695830,2.29,8.74,2016]
[311512,"Creamery butter manufacturing",4653,104573,4563241,22297,"D",5154232,2.29,8.74,2016]
[311513,"Cheese manufacturing",88065,2057398,35117140,158184,266041,45372509,2.29,8.74,2016]
[311514,"Dry, condensed, and evaporated dairy product manufacturing",25455,631260,10542078,104484,"D",18831186,2.29,8.74,2016]
[31152,"Ice cream and frozen dessert manufacturing",28595,674335,4803956,16049,89677,8230116,2.29,8.74,2016]
[311520,"Ice cream and frozen dessert manufacturing",28595,674335,4803956,16049,89677,8230116,2.29,8.74,2016]
[3116,"Animal slaughtering and processing",861577,13808064,144063419,580965,1372448,207659845,2.29,8.74,2016]
[31161,"Animal slaughtering and processing",861577,13808064,144063419,580965,1372448,207659845,2.29,8.74,2016]
[311611,"Animal (except poultry) slaughtering",249558,4536782,70939484,173399,379309,90214735,2.29,8.74,2016]
[311612,"Meat processed from carcasses",185058,3175250,34567101,112120,368371,50885806,2.29,8.74,2016]
[311613,"Rendering and meat byproduct processing",12314,274777,2156255,128935,76242,4257516,2.29,8.74,2016]
[311615,"Poultry processing",414647,5821255,36400579,166511,548526,62301787,2.29,8.74,2016]
[3117,"Seafood product preparation and packaging",51951,1006300,7828705,132796,84006,13188020,2.29,8.74,2016]
[31171,"Seafood product preparation and packaging",51951,1006300,7828705,132796,84006,13188020,2.29,8.74,2016]
[311710,"Seafood product preparation and packaging",51951,1006300,7828705,132796,84006,13188020,2.29,8.74,2016]
[3118,"Bakeries and tortilla manufacturing",341321,6405382,29338810,274432,618614,70913190,2.29,8.74,2016]
[31181,"Bread and bakery product manufacturing",231381,4101316,15132252,177498,382258,42069927,2.29,8.74,2016]
[311811,"Retail bakeries",48312,785531,1248334,23411,48810,4028368,2.29,8.74,2016]
[311812,"Commercial bakeries",147589,2760067,10769024,132029,271145,32123327,2.29,8.74,2016]
[311813,"Frozen cakes, pies, and other pastries manufacturing",35480,555719,3114894,22057,62303,5918232,2.29,8.74,2016]
[31182,"Cookie, cracker, and pasta manufacturing",79815,1792176,12395194,71870,189291,24597918,2.29,8.74,2016]
[311821,"Cookie and cracker manufacturing",48349,1072782,4806764,36930,73709,10985982,2.29,8.74,2016]
[311824,"Dry pasta, dough, and flour mixes manufacturing from purchased flour",31466,719395,7588430,34940,115582,13611935,2.29,8.74,2016]
[31183,"Tortilla manufacturing",30126,511889,1811365,25064,47065,4245346,2.29,8.74,2016]
[311830,"Tortilla manufacturing",30126,511889,1811365,25064,47065,4245346,2.29,8.74,2016]
[3119,"Other food manufacturing",282598,5711078,55384291,301326,562044,109717734,2.29,8.74,2016]
[31191,"Snack food manufacturing",87422,1963026,17547081,120226,163871,37749488,2.29,8.74,2016]
[311911,"Roasted nuts and peanut butter manufacturing",33108,653320,10611988,25021,76515,14329764,2.29,8.74,2016]
[311919,"Other snack food manufacturing",54314,1309706,6935092,95205,87356,23419724,2.29,8.74,2016]
[31192,"Coffee and tea manufacturing",23586,556154,8957078,28880,49408,14236370,2.29,8.74,2016]
[311920,"Coffee and tea manufacturing",23586,556154,8957078,28880,49408,14236370,2.29,8.74,2016]
[31193,"Flavoring syrup and concentrate manufacturing",8762,227619,2804215,11029,32350,10498227,2.29,8.74,2016]
[311930,"Flavoring syrup and concentrate manufacturing",8762,227619,2804215,11029,32350,10498227,2.29,8.74,2016]
[31194,"Seasoning and dressing manufacturing",46257,1070353,10492284,46350,95008,19944897,2.29,8.74,2016]
[311941,"Mayonnaise, dressing, and other prepared sauce manufacturing",22648,514596,4588943,20690,46851,9128534,2.29,8.74,2016]
[311942,"Spice and extract manufacturing",23609,555757,5903341,25660,48158,10816363,2.29,8.74,2016]
[31199,"All other food manufacturing",116572,1893927,15583634,94841,221406,27288752,2.29,8.74,2016]
[311991,"Perishable prepared food manufacturing",77101,1127746,7890767,38246,111942,14102275,2.29,8.74,2016]
[311999,"All other miscellaneous food manufacturing",39471,766181,7692867,56595,109465,13186477,2.29,8.74,2016]
[312,"Beverage and tobacco product manufacturing",184798,5300369,59381027,358866,821167,154863987,2.68,21.18,2016]
[3121,"Beverage manufacturing",166262,4784539,51138798,326249,754704,112245279,2.68,21.18,2016]
[31211,"Soft drink and ice manufacturing",73911,2055281,28485023,147532,420108,46766399,2.68,21.18,2016]
[312111,"Soft drink manufacturing",60373,1670384,26107021,133540,232391,40291125,2.68,21.18,2016]
[312112,"Bottled water manufacturing",10705,323432,2228281,10872,137895,5631127,2.68,21.18,2016]
[312113,"Ice manufacturing",2833,61466,149722,3120,49823,844147,2.68,21.18,2016]
[31212,"Breweries",43742,1481219,10409686,117238,184397,31225786,2.68,21.18,2016]
[312120,"Breweries",43742,1481219,10409686,117238,184397,31225786,2.68,21.18,2016]
[31213,"Wineries",35973,910794,8420188,34744,119723,21727953,2.68,21.18,2016]
[312130,"Wineries",35973,910794,8420188,34744,119723,21727953,2.68,21.18,2016]
[31214,"Distilleries",12637,337245,3823901,26734,30476,12525141,2.68,21.18,2016]
[312140,"Distilleries",12637,337245,3823901,26734,30476,12525141,2.68,21.18,2016]
[3122,"Tobacco manufacturing",18535,515831,8242229,32617,66463,42618707,2.68,21.18,2016]
[31223,"Tobacco manufacturing",18535,515831,8242229,32617,66463,42618707,2.68,21.18,2016]
[312230,"Tobacco manufacturing",18535,515831,8242229,32617,66463,42618707,2.68,21.18,2016]
[313,"Textile mills",160774,2693995,16735259,222720,661606,28128568,3.07,7.74,2016]
[3131,"Fiber, yarn, and thread mills",43342,650088,4812408,26380,252473,7178255,3.07,7.74,2016]
[31311,"Fiber, yarn, and thread mills",43342,650088,4812408,26380,252473,7178255,3.07,7.74,2016]
[313110,"Fiber, yarn, and thread mills",43342,650088,4812408,26380,252473,7178255,3.07,7.74,2016]
[3132,"Fabric mills",72811,1301365,7229468,91074,286342,13196420,3.07,7.74,2016]
[31321,"Broadwoven fabric mills",31389,498580,2433967,23603,110832,3891583,3.07,7.74,2016]
[313210,"Broadwoven fabric mills",31389,498580,2433967,23603,110832,3891583,3.07,7.74,2016]
[31322,"Narrow fabric mills and schiffli machine embroidery",8935,144641,403306,3989,14501,944396,3.07,7.74,2016]
[313220,"Narrow fabric mills and schiffli machine embroidery",8935,144641,403306,3989,14501,944396,3.07,7.74,2016]
[31323,"Nonwoven fabric mills",21284,489327,3457623,48800,136316,6852762,3.07,7.74,2016]
[313230,"Nonwoven fabric mills",21284,489327,3457623,48800,136316,6852762,3.07,7.74,2016]
[31324,"Knit fabric mills",11204,168818,934571,14682,24692,1507679,3.07,7.74,2016]
[313240,"Knit fabric mills",11204,168818,934571,14682,24692,1507679,3.07,7.74,2016]
[3133,"Textile and fabric finishing and fabric coating mills",44621,742542,4693383,105266,122791,7753893,3.07,7.74,2016]
[31331,"Textile and fabric finishing mills",35048,561888,3249881,90604,99680,5390004,3.07,7.74,2016]
[313310,"Textile and fabric finishing mills",35048,561888,3249881,90604,99680,5390004,3.07,7.74,2016]
[31332,"Fabric coating mills",9573,180654,1443502,14661,23111,2363889,3.07,7.74,2016]
[313320,"Fabric coating mills",9573,180654,1443502,14661,23111,2363889,3.07,7.74,2016]
[314,"Textile product mills",164571,2620469,13575074,79455,230745,24736165,3.07,7.74,2016]
[3141,"Textile furnishings mills",81156,1282015,8433501,52222,122740,14230177,3.07,7.74,2016]
[31411,"Carpet and rug mills",45401,789858,6068933,44507,102975,9418524,3.07,7.74,2016]
[314110,"Carpet and rug mills",45401,789858,6068933,44507,102975,9418524,3.07,7.74,2016]
[31412,"Curtain and linen mills",35754,492157,2364568,7715,19765,4811653,3.07,7.74,2016]
[314120,"Curtain and linen mills",35754,492157,2364568,7715,19765,4811653,3.07,7.74,2016]
[3149,"Other textile product mills",83415,1338454,5141573,27233,108005,10505988,3.07,7.74,2016]
[31491,"Textile bag and canvas mills",28235,467016,1728146,5480,20769,3708409,3.07,7.74,2016]
[314910,"Textile bag and canvas mills",28235,467016,1728146,5480,20769,3708409,3.07,7.74,2016]
[31499,"All other textile product mills",55180,871439,3413427,21753,87236,6797578,3.07,7.74,2016]
[314994,"Rope, cordage, twine, tire cord, and tire fabric mills",7891,159080,883355,5337,37704,1560741,3.07,7.74,2016]
[314999,"All other miscellaneous textile product mills",47289,712359,2530072,16416,49531,5236837,3.07,7.74,2016]
[315,"Apparel manufacturing",123022,1705328,4738168,23886,65999,10513241,2.35,10.130000000000001,2016]
[3151,"Apparel knitting mills",17348,226234,545197,7893,23917,1149940,2.35,10.130000000000001,2016]
[31511,"Hosiery and sock mills",14233,181346,414745,6463,21500,897228,2.35,10.130000000000001,2016]
[315110,"Hosiery and sock mills",14233,181346,414745,6463,21500,897228,2.35,10.130000000000001,2016]
[31519,"Other apparel knitting mills",3115,44888,130451,1430,2417,252712,2.35,10.130000000000001,2016]
[315190,"Other apparel knitting mills",3115,44888,130451,1430,2417,252712,2.35,10.130000000000001,2016]
[3152,"Cut and sew apparel manufacturing",95098,1339798,3744926,15097,37579,8399291,2.35,10.130000000000001,2016]
[31521,"Cut and sew apparel contractors",45892,577020,698301,7989,15610,2068812,2.35,10.130000000000001,2016]
[315210,"Cut and sew apparel contractors",45892,577020,698301,7989,15610,2068812,2.35,10.130000000000001,2016]
[31522,"Men's and boys' cut and sew apparel manufacturing",18219,234404,695298,2864,8093,1435877,2.35,10.130000000000001,2016]
[315220,"Men's and boys' cut and sew apparel manufacturing",18219,234404,695298,2864,8093,1435877,2.35,10.130000000000001,2016]
[31524,"Women's, girls', and infants' cut and sew apparel manufacturing",21213,385201,1930462,3582,8802,3866687,2.35,10.130000000000001,2016]
[315240,"Women's, girls', and infants' cut and sew apparel manufacturing",21213,385201,1930462,3582,8802,3866687,2.35,10.130000000000001,2016]
[31528,"Other cut and sew apparel manufacturing",9774,143173,420865,"662(s)",5074,1027914,2.35,10.130000000000001,2016]
[315280,"Other cut and sew apparel manufacturing",9774,143173,420865,"662(s)",5074,1027914,2.35,10.130000000000001,2016]
[3159,"Apparel accessories and other apparel manufacturing",10576,139296,448045,895,4503,964011,2.35,10.130000000000001,2016]
[31599,"Apparel accessories and other apparel manufacturing",10576,139296,448045,895,4503,964011,2.35,10.130000000000001,2016]
[315990,"Apparel accessories and other apparel manufacturing",10576,139296,448045,895,4503,964011,2.35,10.130000000000001,2016]
[316,"Leather and allied product manufacturing",33658,525093,2876636,8700,29650,4919081,2.35,10.130000000000001,2016]
[3161,"Leather and hide tanning and finishing",5293,90391,1166020,4370,11828,1539057,2.35,10.130000000000001,2016]
[31611,"Leather and hide tanning and finishing",5293,90391,1166020,4370,11828,1539057,2.35,10.130000000000001,2016]
[316110,"Leather and hide tanning and finishing",5293,90391,1166020,4370,11828,1539057,2.35,10.130000000000001,2016]
[3162,"Footwear manufacturing",15344,253766,973360,1966,9834,1828233,2.35,10.130000000000001,2016]
[31621,"Footwear manufacturing",15344,253766,973360,1966,9834,1828233,2.35,10.130000000000001,2016]
[316210,"Footwear manufacturing",15344,253766,973360,1966,9834,1828233,2.35,10.130000000000001,2016]
[3169,"Other leather and allied product manufacturing",13020,180937,737256,2364,7988,1551791,2.35,10.130000000000001,2016]
[31699,"Other leather and allied product manufacturing",13020,180937,737256,2364,7988,1551791,2.35,10.130000000000001,2016]
[316992,"Women's handbag and purse manufacturing",1679,27468,141731,145,1192,338794,2.35,10.130000000000001,2016]
[316998,"All other leather good and allied product manufacturing",11341,153469,595525,2219,6796,1212996,2.35,10.130000000000001,2016]
[321,"Wood product manufacturing",615345,11269674,58049453,626186,1593633,102046653,3.21,8.44,2016]
[3211,"Sawmills and wood preservation",142359,2855886,18960424,194143,557160,30555668,3.21,8.44,2016]
[32111,"Sawmills and wood preservation",142359,2855886,18960424,194143,557160,30555668,3.21,8.44,2016]
[321113,"Sawmills",124667,2513731,12976535,162498,512085,22792206,3.21,8.44,2016]
[321114,"Wood preservation",17691,342155,5983889,31645,45075,7763462,3.21,8.44,2016]
[3212,"Veneer, plywood, and engineered wood product manufacturing",118442,2310556,12369404,174463,481386,22074088,3.21,8.44,2016]
[32121,"Veneer, plywood, and engineered wood product manufacturing",118442,2310556,12369404,174463,481386,22074088,3.21,8.44,2016]
[321211,"Hardwood veneer and plywood manufacturing",21077,359569,1975272,12748,42691,3139303,3.21,8.44,2016]
[321212,"Softwood veneer and plywood manufacturing",25515,541815,2398498,37397,95490,3880878,3.21,8.44,2016]
[321213,"Engineered wood member (except truss) manufacturing",6031,128137,1087924,3525,19372,1752719,3.21,8.44,2016]
[321214,"Truss manufacturing",42518,734390,3016594,14236,41122,5755895,3.21,8.44,2016]
[321219,"Reconstituted wood product manufacturing",23300,546645,3891115,106557,282712,7545293,3.21,8.44,2016]
[3219,"Other wood product manufacturing",354545,6103232,26719625,257580,555088,49416898,3.21,8.44,2016]
[32191,"Millwork",161812,2994239,13240335,80076,288730,25197566,3.21,8.44,2016]
[321911,"Wood window and door manufacturing",73118,1473234,5627610,31876,107099,11768501,3.21,8.44,2016]
[321912,"Cut stock, resawing lumber, and planing",40048,687077,3791528,30739,94303,6513492,3.21,8.44,2016]
[321918,"Other millwork (including flooring)",48646,833928,3821197,17460,87328,6915574,3.21,8.44,2016]
[32192,"Wood container and pallet manufacturing",84142,1343651,5398763,128764,113417,9287067,3.21,8.44,2016]
[321920,"Wood container and pallet manufacturing",84142,1343651,5398763,128764,113417,9287067,3.21,8.44,2016]
[32199,"All other wood product manufacturing",108590,1765343,8080527,48740,152940,14932264,3.21,8.44,2016]
[321991,"Manufactured home (mobile home) manufacturing",43241,598320,2767135,3923,17130,5116525,3.21,8.44,2016]
[321992,"Prefabricated wood building manufacturing",21337,381285,1849887,4876,11289,3200961,3.21,8.44,2016]
[321999,"All other miscellaneous wood product manufacturing",44012,785737,3463505,39941,124522,6614778,3.21,8.44,2016]
[322,"Paper manufacturing",546305,14236738,97284072,3053075,3502240,181666674,4.93,8.24,2016]
[3221,"Pulp, paper, and paperboard mills",171901,5829024,35057718,2677253,2481813,76434951,4.93,8.24,2016]
[32211,"Pulp mills",14375,518124,2761221,246234,131607,5501130,4.93,8.24,2016]
[322110,"Pulp mills",14375,518124,2761221,246234,131607,5501130,4.93,8.24,2016]
[32212,"Paper mills",98298,3216949,20251175,1302427,1353421,41937301,4.93,8.24,2016]
[322121,"Paper (except newsprint) mills",94914,3096981,19379486,1253412,"D",40411903,4.93,8.24,2016]
[322122,"Newsprint mills",3384,119968,871689,49015,"D",1525398,4.93,8.24,2016]
[32213,"Paperboard mills",59229,2093951,12045322,1128592,996784,28996521,4.93,8.24,2016]
[322130,"Paperboard mills",59229,2093951,12045322,1128592,996784,28996521,4.93,8.24,2016]
[3222,"Converted paper product manufacturing",374404,8407714,62226354,375822,1020427,105231723,4.93,8.24,2016]
[32221,"Paperboard container manufacturing",222400,5081248,38479277,209329,548602,61797283,4.93,8.24,2016]
[322211,"Corrugated and solid fiber box manufacturing",121303,2932709,25390033,166341,312065,39456581,4.93,8.24,2016]
[322212,"Folding paperboard box manufacturing",62588,1385582,8434865,26298,131946,14086344,4.93,8.24,2016]
[322219,"Other paperboard container manufacturing",38510,762957,4654378,16690,104590,8254359,4.93,8.24,2016]
[32222,"Paper bag and coated and treated paper manufacturing",71563,1615068,11227497,86998,197848,20660362,4.93,8.24,2016]
[322220,"Paper bag and coated and treated paper manufacturing",71563,1615068,11227497,86998,197848,20660362,4.93,8.24,2016]
[32223,"Stationery product manufacturing",26154,514414,4069998,6839,56987,6291337,4.93,8.24,2016]
[322230,"Stationery product manufacturing",26154,514414,4069998,6839,56987,6291337,4.93,8.24,2016]
[32229,"Other converted paper product manufacturing",54286,1196984,8449583,72656,216990,16482740,4.93,8.24,2016]
[322291,"Sanitary paper product manufacturing",29560,689727,5836071,40675,130680,11436459,4.93,8.24,2016]
[322299,"All other converted paper product manufacturing",24726,507257,2613512,31981,86310,5046280,4.93,8.24,2016]
[323,"Printing and related support activities",581343,12855007,33589169,181469,1022776,82692521,4.22,4.41,2016]
[3231,"Printing and related support activities",581343,12855007,33589169,181469,1022776,82692521,4.22,4.41,2016]
[32311,"Printing",548979,12131046,32693261,175170,987509,79317124,4.22,4.41,2016]
[323111,"Commercial printing (except screen and books)",445506,10259763,27844209,149281,844759,67487612,4.22,4.41,2016]
[323113,"Commercial screen printing",70420,1158527,3288644,14177,68872,7850066,4.22,4.41,2016]
[323117,"Books printing",33052,712756,1560408,11712,73877,3979446,4.22,4.41,2016]
[32312,"Support activities for printing",32364,723962,895908,6299,35267,3375397,4.22,4.41,2016]
[323120,"Support activities for printing",32364,723962,895908,6299,35267,3375397,4.22,4.41,2016]
[324,"Petroleum and coal products manufacturing",147117,6116785,347535956,4349506,2738300,430328736,5.13,-0.05,2016]
[3241,"Petroleum and coal products manufacturing",147117,6116785,347535956,4349506,2738300,430328736,5.13,-0.05,2016]
[32411,"Petroleum refineries",89498,4348010,322447812,3919341,2433144,388262254,5.13,-0.05,2016]
[324110,"Petroleum refineries",89498,4348010,322447812,3919341,2433144,388262254,5.13,-0.05,2016]
[32412,"Asphalt paving, roofing, and saturated materials manufacturing",38861,1174935,12396076,317424,232719,22333788,5.13,-0.05,2016]
[324121,"Asphalt paving mixture and block manufacturing",23326,699375,7298060,268245,166038,12566560,5.13,-0.05,2016]
[324122,"Asphalt shingle and coating materials manufacturing",15535,475559,5098017,49179,66682,9767228,5.13,-0.05,2016]
[32419,"Other petroleum and coal products manufacturing",18758,593841,12692067,112741,72438,19732695,5.13,-0.05,2016]
[324191,"Petroleum lubricating oil and grease manufacturing",13865,439327,10894041,60114,51049,16636657,5.13,-0.05,2016]
[324199,"All other petroleum and coal products manufacturing",4894,154514,1798027,52627,21389,3096037,5.13,-0.05,2016]
[325,"Chemical manufacturing",893760,27709990,324480868,8932636,8511743,723270932,3.13,13.22,2016]
[3251,"Basic chemical manufacturing",192029,7214463,108983971,6153341,4366119,207883801,4.87,9.35,2016]
[32511,"Petrochemical manufacturing",12286,659699,22885610,1360937,"D",50807454,4.87,9.35,2016]
[325110,"Petrochemical manufacturing",12286,659699,22885610,1360937,"D",50807454,4.87,9.35,2016]
[32512,"Industrial gas manufacturing",16695,565764,3634898,962077,1052877,8758044,4.87,9.35,2016]
[325120,"Industrial gas manufacturing",16695,565764,3634898,962077,1052877,8758044,4.87,9.35,2016]
[32513,"Synthetic dye and pigment manufacturing",10479,366734,3319242,48204,"D",6442536,4.87,9.35,2016]
[325130,"Synthetic dye and pigment manufacturing",10479,366734,3319242,48204,"D",6442536,4.87,9.35,2016]
[32518,"Other basic inorganic chemical manufacturing",48711,1745966,11244094,1017257,1176352,28243516,4.87,9.35,2016]
[325180,"Other basic inorganic chemical manufacturing",48711,1745966,11244094,1017257,1176352,28243516,4.87,9.35,2016]
[32519,"Other basic organic chemical manufacturing",103858,3876299,67900127,2764866,1703308,113632251,4.87,9.35,2016]
[325193,"Ethyl alcohol manufacturing",18522,511884,24084777,1198576,645847,31445099,4.87,9.35,2016]
[325194,"Cyclic crude, intermediate, and gum and wood chemical manufacturing",8163,292835,3543491,87812,111374,6994836,4.87,9.35,2016]
[325199,"All other basic organic chemical manufacturing",77173,3071580,40271858,1478477,946087,75192316,4.87,9.35,2016]
[3252,"Resin, synthetic rubber, and artificial synthetic fibers and filaments manufacturing",128943,4047519,58518874,1596493,1920503,94143902,4.87,9.35,2016]
[3252,"Resin, synthetic rubber, and artificial synthetic fibers and filaments manufacturing",130703,3909631,63812498,1661955,1840993,99721396,4.87,9.35,2015]
[32521,"Resin and synthetic rubber manufacturing",106385,3555100,54504081,1521044,1751478,87484375,4.87,9.35,2016]
[32521,"Resin and synthetic rubber manufacturing",107986,3411837,59466264,1571063,1670516,92428305,4.87,9.35,2015]
[325211,"Plastics material and resin manufacturing",96402,3205535,50555567,1405981,1664733,80689597,4.87,9.35,2016]
[325212,"Synthetic rubber manufacturing",9983,349565,3948514,115062,86746,6794779,4.87,9.35,2016]
[32522,"Artificial and synthetic fibers and filaments manufacturing",22558,492418,4014793,75449,169025,6659527,4.87,9.35,2016]
[325220,"Artificial and synthetic fibers and filaments manufacturing",22558,492418,4014793,75449,169025,6659527,4.87,9.35,2016]
[3253,"Pesticide, fertilizer, and other agricultural chemical manufacturing",43019,1245236,16471015,348961,399063,32812068,3.68,13.84,2016]
[32531,"Fertilizer manufacturing",28603,819468,8064412,299797,322102,17223936,3.68,13.84,2016]
[325311,"Nitrogenous fertilizer manufacturing",8040,294583,2096435,250933,205862,6434396,3.68,13.84,2016]
[325312,"Phosphatic fertilizer manufacturing",10012,306295,3196476,34870,95578,5926780,3.68,13.84,2016]
[325314,"Fertilizer (mixing only) manufacturing",10551,218591,2771500,13994,20662,4862760,3.68,13.84,2016]
[32532,"Pesticide and other agricultural chemical manufacturing",14415,425768,8406603,49164,76961,15588133,3.68,13.84,2016]
[325320,"Pesticide and other agricultural chemical manufacturing",14415,425768,8406603,49164,76961,15588133,3.68,13.84,2016]
[3254,"Pharmaceutical and medicine manufacturing",260024,8360709,66542381,358912,907389,219867739,2.29,15.44,2016]
[32541,"Pharmaceutical and medicine manufacturing",260024,8360709,66542381,358912,907389,219867739,2.29,15.44,2016]
[325411,"Medicinal and botanical manufacturing",29606,827433,5126331,43134,104469,11978634,2.29,15.44,2016]
[325412,"Pharmaceutical preparation manufacturing",157218,4627853,47896465,191070,583798,165186094,2.29,15.44,2016]
[325413,"In-vitro diagnostic substance manufacturing",20429,700535,4572276,16507,48292,13951497,2.29,15.44,2016]
[325414,"Biological product (except diagnostic) manufacturing",52771,2204888,8947308,108202,170829,28751514,2.29,15.44,2016]
[3255,"Paint, coating, and adhesive manufacturing",66247,1697139,20591234,85219,204237,40853269,3.68,13.84,2016]
[32551,"Paint and coating manufacturing",40620,1035126,14284100,43303,108946,27813911,3.68,13.84,2016]
[325510,"Paint and coating manufacturing",40620,1035126,14284100,43303,108946,27813911,3.68,13.84,2016]
[32552,"Adhesive manufacturing",25627,662013,6307134,41917,95291,13039357,3.68,13.84,2016]
[325520,"Adhesive manufacturing",25627,662013,6307134,41917,95291,13039357,3.68,13.84,2016]
[3256,"Soap, cleaning compound, and toilet preparation manufacturing",104892,2619261,31097654,167093,284559,83781158,3.68,13.84,2016]
[32561,"Soap and cleaning compound manufacturing",53549,1417001,14604157,126264,166468,39390347,3.68,13.84,2016]
[325611,"Soap and other detergent manufacturing",30648,809691,7354142,30447,74404,23365708,3.68,13.84,2016]
[325612,"Polish and other sanitation good manufacturing",16304,368516,3818690,9894,51836,9292073,3.68,13.84,2016]
[325613,"Surface active agent manufacturing",6598,238795,3431325,85923,40228,6732566,3.68,13.84,2016]
[32562,"Toilet preparation manufacturing",51343,1202260,16493496,40829,118091,44390811,3.68,13.84,2016]
[325620,"Toilet preparation manufacturing",51343,1202260,16493496,40829,118091,44390811,3.68,13.84,2016]
[3259,"Other chemical product and preparation manufacturing",98606,2525663,22275740,222616,429873,43928994,3.68,13.84,2016]
[32591,"Printing ink manufacturing",11495,291580,2803428,6970,36270,4692984,3.68,13.84,2016]
[325910,"Printing ink manufacturing",11495,291580,2803428,6970,36270,4692984,3.68,13.84,2016]
[32592,"Explosives manufacturing",7552,177966,798434,13395,19013,2008708,3.68,13.84,2016]
[325920,"Explosives manufacturing",7552,177966,798434,13395,19013,2008708,3.68,13.84,2016]
[32599,"All other chemical product and preparation manufacturing",79559,2056117,18673879,202251,374590,37227302,3.68,13.84,2016]
[325991,"Custom compounding of purchased resins",25412,580939,6405854,33186,141694,10358075,3.68,13.84,2016]
[325992,"Photographic film, paper, plate, and chemical manufacturing",12725,319164,3274898,35275,67600,7061907,3.68,13.84,2016]
[325998,"All other miscellaneous chemical product and preparation manufacturing",41421,1156013,8993127,133789,165296,19807320,3.68,13.84,2016]
[326,"Plastics and rubber products manufacturing",1173406,22978737,117582662,665868,3885836,235711230,3.34,9.89,2016]
[3261,"Plastics product manufacturing",972963,18444551,95625827,499629,3371902,193239440,3.34,9.89,2016]
[32611,"Plastics packaging materials and unlaminated film and sheet manufacturing",159223,3486437,22719144,139189,689027,41449879,3.34,9.89,2016]
[326111,"Plastics bag and pouch manufacturing",49966,955082,5954898,19101,169762,10901881,3.34,9.89,2016]
[326112,"Plastics packaging film and sheet (including laminated) manufacturing",53901,1263290,7603879,48118,187486,13218499,3.34,9.89,2016]
[326113,"Unlaminated plastics film and sheet (except packaging) manufacturing",55356,1268065,9160367,71970,331779,17329500,3.34,9.89,2016]
[32612,"Plastics pipe, pipe fitting, and unlaminated profile shape manufacturing",70031,1372566,8640115,33006,296128,18682070,3.34,9.89,2016]
[326121,"Unlaminated plastics profile shape manufacturing",30934,583914,2610578,24008,91556,8350481,3.34,9.89,2016]
[326122,"Plastics pipe and pipe fitting manufacturing",39097,788652,6029537,8998,204573,10331589,3.34,9.89,2016]
[32613,"Laminated plastics plate, sheet (except packaging), and shape manufacturing",16537,392610,1708215,12542,41602,4040031,3.34,9.89,2016]
[326130,"Laminated plastics plate, sheet (except packaging), and shape manufacturing",16537,392610,1708215,12542,41602,4040031,3.34,9.89,2016]
[32614,"Polystyrene foam product manufacturing",43534,787318,4174116,63078,140641,8515235,3.34,9.89,2016]
[326140,"Polystyrene foam product manufacturing",43534,787318,4174116,63078,140641,8515235,3.34,9.89,2016]
[32615,"Urethane and other foam product (except polystyrene) manufacturing",47781,809749,5896186,32902,86251,10815699,3.34,9.89,2016]
[326150,"Urethane and other foam product (except polystyrene) manufacturing",47781,809749,5896186,32902,86251,10815699,3.34,9.89,2016]
[32616,"Plastics bottle manufacturing",48734,997998,6358717,15457,399369,10977989,3.34,9.89,2016]
[326160,"Plastics bottle manufacturing",48734,997998,6358717,15457,399369,10977989,3.34,9.89,2016]
[32619,"Other plastics product manufacturing",587124,10597873,46129335,203454,1718882,98758537,3.34,9.89,2016]
[326191,"Plastics plumbing fixture manufacturing",25593,397144,1756552,10952,33900,4084417,3.34,9.89,2016]
[326199,"All other plastics product manufacturing",561531,10200729,44372783,192502,1684981,94674120,3.34,9.89,2016]
[3262,"Rubber product manufacturing",200442,4534186,21956835,166239,513934,42471790,3.34,9.89,2016]
[32621,"Tire manufacturing",81136,2175975,10125813,84439,229676,18800840,3.34,9.89,2016]
[326211,"Tire manufacturing (except retreading)",72245,2006327,9097258,79046,211008,17045189,3.34,9.89,2016]
[326212,"Tire retreading",8891,169648,1028556,5393,18668,1755651,3.34,9.89,2016]
[32622,"Rubber and plastics hoses and belting manufacturing",28298,562761,2478915,18738,58050,5299659,3.34,9.89,2016]
[326220,"Rubber and plastics hoses and belting manufacturing",28298,562761,2478915,18738,58050,5299659,3.34,9.89,2016]
[32629,"Other rubber product manufacturing",91008,1795451,9352106,63062,226208,18371291,3.34,9.89,2016]
[326291,"Rubber product manufacturing for mechanical use",48297,908483,4255856,25013,105574,8134339,3.34,9.89,2016]
[326299,"All other rubber product manufacturing",42711,886968,5096250,38049,120634,10236953,3.34,9.89,2016]
[327,"Nonmetallic mineral product manufacturing",590635,13375596,52096151,2415044,2547621,123229929,5.44,9.3699999999999992,2016]
[3271,"Clay product and refractory manufacturing",47368,956778,2707392,164449,140819,7719472,5.44,9.3699999999999992,2016]
[32711,"Pottery, ceramics, and plumbing fixture manufacturing",17612,322217,612892,24211,36172,2134313,5.44,9.3699999999999992,2016]
[327110,"Pottery, ceramics, and plumbing fixture manufacturing",17612,322217,612892,24211,36172,2134313,5.44,9.3699999999999992,2016]
[32712,"Clay building material and refractories manufacturing",29757,634561,2094500,140238,104647,5585160,5.44,9.3699999999999992,2016]
[327120,"Clay building material and refractories manufacturing",29757,634561,2094500,140238,104647,5585160,5.44,9.3699999999999992,2016]
[3272,"Glass and glass product manufacturing",150000,3293769,10421043,453245,765449,26230901,5.44,9.3699999999999992,2016]
[32721,"Glass and glass product manufacturing",150000,3293769,10421043,453245,765449,26230901,5.44,9.3699999999999992,2016]
[327211,"Flat glass manufacturing",16425,342752,1460305,146036,103005,3542796,5.44,9.3699999999999992,2016]
[327212,"Other pressed and blown glass and glassware manufacturing",21431,545216,1079039,100766,126283,3404533,5.44,9.3699999999999992,2016]
[327213,"Glass container manufacturing",24231,746405,1479765,155720,242029,5074286,5.44,9.3699999999999992,2016]
[327215,"Glass product manufacturing made of purchased glass",87914,1659395,6401934,50722,294132,14209286,5.44,9.3699999999999992,2016]
[3273,"Cement and concrete product manufacturing",265464,6133902,26195557,991823,976206,57215146,5.44,9.3699999999999992,2016]
[32731,"Cement manufacturing",20204,667512,3705811,635091,644154,8699569,5.44,9.3699999999999992,2016]
[327310,"Cement manufacturing",20204,667512,3705811,635091,644154,8699569,5.44,9.3699999999999992,2016]
[32732,"Ready-mix concrete manufacturing",130562,3195402,15159139,248888,173267,29816872,5.44,9.3699999999999992,2016]
[327320,"Ready-mix concrete manufacturing",130562,3195402,15159139,248888,173267,29816872,5.44,9.3699999999999992,2016]
[32733,"Concrete pipe, brick, and block manufacturing",36733,750383,3041429,47747,72621,7422870,5.44,9.3699999999999992,2016]
[327331,"Concrete block and brick manufacturing",20962,432742,2071828,32490,52581,4818617,5.44,9.3699999999999992,2016]
[327332,"Concrete pipe manufacturing",15771,317641,969601,15257,20041,2604253,5.44,9.3699999999999992,2016]
[32739,"Other concrete product manufacturing",77964,1520605,4289178,60096,86165,11275835,5.44,9.3699999999999992,2016]
[327390,"Other concrete product manufacturing",77964,1520605,4289178,60096,86165,11275835,5.44,9.3699999999999992,2016]
[3274,"Lime and gypsum product manufacturing",24915,646675,3696699,535237,215235,7779641,5.44,9.3699999999999992,2016]
[32741,"Lime manufacturing",7717,206091,1006381,309153,103066,2193260,5.44,9.3699999999999992,2016]
[327410,"Lime manufacturing",7717,206091,1006381,309153,103066,2193260,5.44,9.3699999999999992,2016]
[32742,"Gypsum product manufacturing",17198,440584,2690318,226084,112168,5586381,5.44,9.3699999999999992,2016]
[327420,"Gypsum product manufacturing",17198,440584,2690318,226084,112168,5586381,5.44,9.3699999999999992,2016]
[3279,"Other nonmetallic mineral product manufacturing",102888,2344473,9075460,270290,449911,24284768,5.44,9.3699999999999992,2016]
[32791,"Abrasive product manufacturing",15184,334597,1465698,"16341(s)",62651,5464542,5.44,9.3699999999999992,2016]
[327910,"Abrasive product manufacturing",15184,334597,1465698,"16341(s)",62651,5464542,5.44,9.3699999999999992,2016]
[32799,"All other nonmetallic mineral product manufacturing",87703,2009876,7609763,253950,387260,18820226,5.44,9.3699999999999992,2016]
[327991,"Cut stone and stone product manufacturing",36317,755817,1992830,23822,45242,4586619,5.44,9.3699999999999992,2016]
[327992,"Ground or treated mineral and earth manufacturing",10702,281451,1467582,83527,88116,3684663,5.44,9.3699999999999992,2016]
[327993,"Mineral wool manufacturing",23676,598525,2335074,99971,208558,6100964,5.44,9.3699999999999992,2016]
[327999,"All other miscellaneous nonmetallic mineral product manufacturing",17009,374083,1814276,46630,45345,4447981,5.44,9.3699999999999992,2016]
[331,"Primary metal manufacturing",601862,15853838,125434567,2202231,5351670,206602620,4.51,3.93,2016]
[3311,"Iron and steel mills and ferroalloy manufacturing",160665,5445427,49370722,1142223,2472706,79606413,3.99,3.55,2016]
[33111,"Iron and steel mills and ferroalloy manufacturing",160665,5445427,49370722,1142223,2472706,79606413,3.99,3.55,2016]
[331110,"Iron and steel mills and ferroalloy manufacturing",160665,5445427,49370722,1142223,2472706,79606413,3.99,3.55,2016]
[3312,"Steel product manufacturing from purchased steel",67762,1581392,11260425,91979,333677,18386193,3.99,3.55,2016]
[33121,"Iron and steel pipe and tube manufacturing from purchased steel",33487,832486,5275123,35449,138538,8438408,3.99,3.55,2016]
[331210,"Iron and steel pipe and tube manufacturing from purchased steel",33487,832486,5275123,35449,138538,8438408,3.99,3.55,2016]
[33122,"Rolling and drawing of purchased steel",34275,748906,5985302,56530,195139,9947785,3.99,3.55,2016]
[331221,"Rolled steel shape manufacturing",10799,281556,2841312,33377,119003,4625933,3.99,3.55,2016]
[331222,"Steel wire drawing",23477,467350,3143990,23153,76136,5321852,3.99,3.55,2016]
[3313,"Alumina and aluminum production and processing",92903,2359976,23578572,516604,1121003,35219558,4.4800000000000004,2.58,2016]
[33131,"Alumina and aluminum production and processing",92903,2359976,23578572,516604,1121003,35219558,4.4800000000000004,2.58,2016]
[331313,"Alumina refining and primary aluminum production",7773,260203,2742603,168584,648372,4506275,4.4800000000000004,2.58,2016]
[331314,"Secondary smelting and alloying of aluminum",9600,235406,4392386,135099,100437,5843389,4.4800000000000004,2.58,2016]
[331315,"Aluminum sheet, plate, and foil manufacturing",29673,964904,10492985,152963,238817,14954632,4.4800000000000004,2.58,2016]
[331318,"Other aluminum rolling, drawing, and extruding",45857,899463,5950598,59958,133377,9915262,4.4800000000000004,2.58,2016]
[3314,"Nonferrous metal (except aluminum) production and processing",87007,2132080,28518962,209261,632684,43841314,4.4800000000000004,2.58,2016]
[33141,"Nonferrous metal (except aluminum) smelting and refining",11859,323503,5453060,54116,273961,8768739,4.4800000000000004,2.58,2016]
[331410,"Nonferrous metal (except aluminum) smelting and refining",11859,323503,5453060,54116,273961,8768739,4.4800000000000004,2.58,2016]
[33142,"Copper rolling, drawing, extruding, and alloying",36964,802750,13211197,41654,144366,16623396,4.4800000000000004,2.58,2016]
[331420,"Copper rolling, drawing, extruding, and alloying",36964,802750,13211197,41654,144366,16623396,4.4800000000000004,2.58,2016]
[33149,"Nonferrous metal (except copper and aluminum) rolling, drawing, extruding, and alloying",38183,1005828,9854706,113491,214357,18449178,4.4800000000000004,2.58,2016]
[331491,"Nonferrous metal (except copper and aluminum) rolling, drawing, extruding, and alloying",23521,640786,4008644,48369,125579,6825904,4.4800000000000004,2.58,2016]
[331492,"Secondary smelting, refining, and alloying of nonferrous metal (except copper and aluminum)",14662,365042,5846061,65122,88777,11623275,4.4800000000000004,2.58,2016]
[3315,"Foundries",193526,4334962,12705885,242165,791600,29549143,3.52,10.86,2016]
[33151,"Ferrous metal foundries",97245,2252489,6940774,126947,522364,16221781,3.52,10.86,2016]
[331511,"Iron foundries",58195,1301351,3778262,76097,331990,9005268,3.52,10.86,2016]
[331512,"Steel investment foundries",21575,521786,1637721,20402,94935,3925283,3.52,10.86,2016]
[331513,"Steel foundries (except investment)",17475,429352,1524791,30448,95439,3291230,3.52,10.86,2016]
[33152,"Nonferrous metal foundries",96281,2082473,5765111,115218,269236,13327362,3.52,10.86,2016]
[331523,"Nonferrous metal die-casting foundries",57861,1292957,3564299,76712,167837,8353438,3.52,10.86,2016]
[331524,"Aluminum foundries (except die-casting)",24497,492027,1251722,30411,65522,3050569,3.52,10.86,2016]
[331529,"Other nonferrous metal foundries (except die-casting)",13922,297489,949091,8094,35877,1923355,3.52,10.86,2016]
[332,"Fabricated metal product manufacturing",1989917,44127215,152445728,1142132,3453601,335755502,2.93,8.69,2016]
[3321,"Forging and stamping",165983,3617808,16467460,198095,472595,31351003,2.93,8.69,2016]
[33211,"Forging and stamping",165983,3617808,16467460,198095,472595,31351003,2.93,8.69,2016]
[332111,"Iron and steel forging",29372,723396,3842035,58535,140960,7075004,2.93,8.69,2016]
[332112,"Nonferrous forging",12016,303014,2223090,58238,"D",3547907,2.93,8.69,2016]
[332114,"Custom roll forming",33388,702676,4199256,31358,"D",7424645,2.93,8.69,2016]
[332117,"Powder metallurgy part manufacturing",13430,264277,863529,18072,44829,2013765,2.93,8.69,2016]
[332119,"Metal crown, closure, and other metal stamping (except automotive)",77777,1624446,5339550,31892,128762,11289681,2.93,8.69,2016]
[3322,"Cutlery and handtool manufacturing",49133,1079354,3514130,32441,91012,9887945,2.93,8.69,2016]
[33221,"Cutlery and handtool manufacturing",49133,1079354,3514130,32441,91012,9887945,2.93,8.69,2016]
[332215,"Metal kitchen cookware, utensil, cutlery, and flatware (except precious) manufacturing",9817,236507,1013040,13965,20923,3518192,2.93,8.69,2016]
[332216,"Saw blade and handtool manufacturing",39317,842847,2501090,18476,70089,6369753,2.93,8.69,2016]
[3323,"Architectural and structural metals manufacturing",479677,10163114,41976318,182625,559734,84860324,2.93,8.69,2016]
[33231,"Plate work and fabricated structural product manufacturing",213698,4842807,22586794,85606,275421,43074342,2.93,8.69,2016]
[332311,"Prefabricated metal building and component manufacturing",30455,629376,3947793,11474,32991,7208434,2.93,8.69,2016]
[332312,"Fabricated structural metal manufacturing",138415,3210765,15884138,56713,185251,30005524,2.93,8.69,2016]
[332313,"Plate work manufacturing",44828,1002666,2754863,17419,57178,5860384,2.93,8.69,2016]
[33232,"Ornamental and architectural metal products manufacturing",265979,5320307,19389524,97019,284313,41785982,2.93,8.69,2016]
[332321,"Metal window and door manufacturing",74733,1365435,6199526,29736,76079,12497790,2.93,8.69,2016]
[332322,"Sheet metal work manufacturing",147764,3069748,10139179,51907,166650,21838355,2.93,8.69,2016]
[332323,"Ornamental and architectural metal work manufacturing",43481,885125,3050820,15376,41585,7449838,2.93,8.69,2016]
[3324,"Boiler, tank, and shipping container manufacturing",124453,3148274,17868776,96818,313292,31114030,2.93,8.69,2016]
[33241,"Power boiler and heat exchanger manufacturing",30007,820576,2859463,9500,42991,6634176,2.93,8.69,2016]
[332410,"Power boiler and heat exchanger manufacturing",30007,820576,2859463,9500,42991,6634176,2.93,8.69,2016]
[33242,"Metal tank (heavy gauge) manufacturing",47083,1083194,3646447,22851,56003,7603690,2.93,8.69,2016]
[332420,"Metal tank (heavy gauge) manufacturing",47083,1083194,3646447,22851,56003,7603690,2.93,8.69,2016]
[33243,"Metal can, box, and other metal container (light gauge) manufacturing",47364,1244504,11362865,64467,214299,16876164,2.93,8.69,2016]
[332431,"Metal can manufacturing",30230,916517,9655592,45177,187625,13706822,2.93,8.69,2016]
[332439,"Other metal container manufacturing",17135,327986,1707274,19291,26673,3169342,2.93,8.69,2016]
[3325,"Hardware manufacturing",36501,698191,3897144,11215,51987,8454937,2.93,8.69,2016]
[33251,"Hardware manufacturing",36501,698191,3897144,11215,51987,8454937,2.93,8.69,2016]
[332510,"Hardware manufacturing",36501,698191,3897144,11215,51987,8454937,2.93,8.69,2016]
[3326,"Spring and wire product manufacturing",57216,1071082,4239794,34566,87970,8998362,2.93,8.69,2016]
[33261,"Spring and wire product manufacturing",57216,1071082,4239794,34566,87970,8998362,2.93,8.69,2016]
[332613,"Spring manufacturing",25763,513355,1871477,19738,43740,4085649,2.93,8.69,2016]
[332618,"Other fabricated wire product manufacturing",31453,557727,2368317,14828,44230,4912714,2.93,8.69,2016]
[3327,"Machine shops; turned product; and screw, nut, and bolt manufacturing",533482,12633281,23336206,149980,739593,62781307,2.93,8.69,2016]
[33271,"Machine shops",330840,7976454,12620808,82896,417083,35851333,2.93,8.69,2016]
[332710,"Machine shops",330840,7976454,12620808,82896,417083,35851333,2.93,8.69,2016]
[33272,"Turned product and screw, nut, and bolt manufacturing",202641,4656828,10715398,67083,322510,26929974,2.93,8.69,2016]
[332721,"Precision turned product manufacturing",147814,3359307,6265541,38670,216798,16906729,2.93,8.69,2016]
[332722,"Bolt, nut, screw, rivet, and washer manufacturing",54827,1297521,4449856,28413,105712,10023245,2.93,8.69,2016]
[3328,"Coating, engraving, heat treating, and allied activities",190910,3847698,9961725,284013,533503,25682025,2.93,8.69,2016]
[33281,"Coating, engraving, heat treating, and allied activities",190910,3847698,9961725,284013,533503,25682025,2.93,8.69,2016]
[332811,"Metal heat treating",30792,703125,1734388,86589,146497,5275940,2.93,8.69,2016]
[332812,"Metal coating, engraving (except jewelry and silverware), and allied services to manufacturers",82550,1667123,5911448,107042,208326,12997551,2.93,8.69,2016]
[332813,"Electroplating, plating, polishing, anodizing, and coloring",77568,1477450,2315889,90383,178679,7408533,2.93,8.69,2016]
[3329,"Other fabricated metal product manufacturing",352562,7868414,31184176,152379,603915,72625569,2.93,8.69,2016]
[33291,"Metal valve manufacturing",117617,2684066,13013867,34213,208559,29990146,2.93,8.69,2016]
[332911,"Industrial valve manufacturing",46416,1133100,4762899,13352,89046,12143332,2.93,8.69,2016]
[332912,"Fluid power valve and hose fitting manufacturing",41807,950660,4142860,7571,70775,9413250,2.93,8.69,2016]
[332913,"Plumbing fixture fitting and trim manufacturing",12179,224571,2249471,3660,11945,4448302,2.93,8.69,2016]
[332919,"Other metal valve and pipe fitting manufacturing",17215,375735,1858636,9630,36794,3985262,2.93,8.69,2016]
[33299,"All other fabricated metal product manufacturing",234944,5184348,18170309,118166,395355,42635423,2.93,8.69,2016]
[332991,"Ball and roller bearing manufacturing",36789,875153,2807715,22385,102786,6481791,2.93,8.69,2016]
[332992,"Small arms ammunition manufacturing",18292,434566,1711184,10783,"D",4084109,2.93,8.69,2016]
[332993,"Ammunition (except small arms) manufacturing",7664,186475,856071,11419,"D",3217554,2.93,8.69,2016]
[332994,"Small arms, ordnance, and ordnance accessories manufacturing",24060,579952,3168952,10039,43119,7412271,2.93,8.69,2016]
[332996,"Fabricated pipe and pipe fitting manufacturing",41484,939980,2836337,13680,50517,5877644,2.93,8.69,2016]
[332999,"All other miscellaneous fabricated metal product manufacturing",106656,2168222,6790052,49860,148095,15562054,2.93,8.69,2016]
[333,"Machinery manufacturing",1217438,29813333,174872718,485525,1947662,348445946,2.96,5.69,2016]
[3331,"Agriculture, construction, and mining machinery manufacturing",210210,5288384,42921545,116381,340477,75305531,2.96,5.69,2016]
[33311,"Agricultural implement manufacturing",90630,2008821,18757338,42982,142867,31886935,2.96,5.69,2016]
[333111,"Farm machinery and equipment manufacturing",68158,1580711,13371414,31707,110422,23570706,2.96,5.69,2016]
[333112,"Lawn and garden tractor and home lawn and garden equipment manufacturing",22472,428110,5385924,11274,32445,8316228,2.96,5.69,2016]
[33312,"Construction machinery manufacturing",65668,1635691,15864481,47638,102824,28275724,2.96,5.69,2016]
[333120,"Construction machinery manufacturing",65668,1635691,15864481,47638,102824,28275724,2.96,5.69,2016]
[33313,"Mining and oil and gas field machinery manufacturing",53913,1643873,8299726,25762,94785,15142873,2.96,5.69,2016]
[333131,"Mining machinery and equipment manufacturing",11767,337630,1739542,8755,29475,3227292,2.96,5.69,2016]
[333132,"Oil and gas field machinery and equipment manufacturing",42146,1306243,6560183,17006,65310,11915581,2.96,5.69,2016]
[3332,"Industrial machinery manufacturing",106190,2855599,14365998,43497,181676,31041709,2.96,5.69,2016]
[33324,"Industrial machinery manufacturing",106190,2855599,14365998,43497,181676,31041709,2.96,5.69,2016]
[333241,"Food product machinery manufacturing",17744,453633,2241997,5550,21517,5217890,2.96,5.69,2016]
[333242,"Semiconductor machinery manufacturing",8774,294448,3146202,4335,32388,5815108,2.96,5.69,2016]
[333243,"Sawmill, woodworking, and paper machinery manufacturing",14146,395418,1583687,8232,30189,3331122,2.96,5.69,2016]
[333244,"Printing machinery and equipment manufacturing",6960,185611,940518,3350,20457,1928480,2.96,5.69,2016]
[333249,"Other industrial machinery manufacturing",58566,1526489,6453595,22029,77126,14749108,2.96,5.69,2016]
[3333,"Commercial and service industry machinery manufacturing",76657,1866517,11321199,34730,133979,26396827,2.96,5.69,2016]
[33331,"Commercial and service industry machinery manufacturing",76657,1866517,11321199,34730,133979,26396827,2.96,5.69,2016]
[333314,"Optical instrument and lens manufacturing",14241,476716,2147041,6081,40805,4923072,2.96,5.69,2016]
[333316,"Photographic and photocopying equipment manufacturing",3093,74214,732065,1573,7177,1637143,2.96,5.69,2016]
[333318,"Other commercial and service industry machinery manufacturing",59322,1315587,8442092,27076,85998,19836613,2.96,5.69,2016]
[3334,"Ventilation, heating, air-conditioning, and commercial refrigeration equipment manufacturing",178682,3515918,21097717,50450,192763,43116911,2.96,5.69,2016]
[33341,"Ventilation, heating, air-conditioning, and commercial refrigeration equipment manufacturing",178682,3515918,21097717,50450,192763,43116911,2.96,5.69,2016]
[333413,"Industrial and commercial fan and blower and air purification equipment manufacturing",32878,611629,2749931,10843,34147,6093240,2.96,5.69,2016]
[333414,"Heating equipment (except warm air furnaces) manufacturing",19235,398323,1954140,12712,29072,4477280,2.96,5.69,2016]
[333415,"Air-conditioning and warm air heating equipment and commercial and industrial refrigeration equipment manufacturing",126569,2505966,16393646,26896,129544,32546391,2.96,5.69,2016]
[3335,"Metalworking machinery manufacturing",196440,5063178,11541097,57809,328276,29850024,2.96,5.69,2016]
[33351,"Metalworking machinery manufacturing",196440,5063178,11541097,57809,328276,29850024,2.96,5.69,2016]
[333511,"Industrial mold manufacturing",52046,1285467,2274907,15647,104323,6164020,2.96,5.69,2016]
[333514,"Special die and tool, die set, jig, and fixture manufacturing",61199,1602709,3009618,16159,81408,8012235,2.96,5.69,2016]
[333515,"Cutting tool and machine tool accessory manufacturing",39274,936197,1627973,11038,81178,5307881,2.96,5.69,2016]
[333517,"Machine tool manufacturing",30484,839319,3065127,7861,39401,6867437,2.96,5.69,2016]
[333519,"Rolling mill and other metalworking machinery manufacturing",13438,399486,1563472,7104,21966,3498451,2.96,5.69,2016]
[3336,"Engine, turbine, and power transmission equipment manufacturing",123530,3106347,24330230,52664,253316,44037719,2.96,5.69,2016]
[33361,"Engine, turbine, and power transmission equipment manufacturing",123530,3106347,24330230,52664,253316,44037719,2.96,5.69,2016]
[333611,"Turbine and turbine generator set units manufacturing",36286,1122836,6843833,12043,62729,13693249,2.96,5.69,2016]
[333612,"Speed changer, industrial high-speed drive, and gear manufacturing",16303,373711,1260946,8670,30345,3236148,2.96,5.69,2016]
[333613,"Mechanical power transmission equipment manufacturing",20588,475786,1906554,11634,42356,4106552,2.96,5.69,2016]
[333618,"Other engine equipment manufacturing",50353,1134014,14318897,20317,117886,23001769,2.96,5.69,2016]
[3339,"Other general purpose machinery manufacturing",325729,8117391,49294932,129995,517175,98697225,2.96,5.69,2016]
[33391,"Pump and compressor manufacturing",62623,1650158,11424513,32084,132907,24926729,2.96,5.69,2016]
[333911,"Pump and pumping equipment manufacturing",34898,969493,6279304,21912,90202,14287865,2.96,5.69,2016]
[333912,"Air and gas compressor manufacturing",24144,577084,4286977,9182,37699,8963100,2.96,5.69,2016]
[333913,"Measuring and dispensing pump manufacturing",3581,103581,858232,990,5006,1675765,2.96,5.69,2016]
[33392,"Material handling equipment manufacturing",104088,2422618,16458565,41248,113025,28867228,2.96,5.69,2016]
[333921,"Elevator and moving stairway manufacturing",11480,193605,1582603,3027,10692,2910738,2.96,5.69,2016]
[333922,"Conveyor and conveying equipment manufacturing",41336,948186,4219106,11485,41290,8894511,2.96,5.69,2016]
[333923,"Overhead traveling crane, hoist, and monorail system manufacturing",20865,545964,5332199,15874,22299,8239312,2.96,5.69,2016]
[333924,"Industrial truck, trailer, and stacker machinery manufacturing",30407,734862,5324657,10862,38744,8822667,2.96,5.69,2016]
[33399,"All other general purpose machinery manufacturing",159018,4044614,21411854,56663,271244,44903268,2.96,5.69,2016]
[333991,"Power-driven handtool manufacturing",9964,224319,1843815,4340,17614,3449985,2.96,5.69,2016]
[333992,"Welding and soldering equipment manufacturing",15138,402742,2370349,7609,27211,4937253,2.96,5.69,2016]
[333993,"Packaging machinery manufacturing",19211,521427,3030136,5433,29446,6627600,2.96,5.69,2016]
[333994,"Industrial process furnace and oven manufacturing",12749,293061,1095472,3276,15689,2582031,2.96,5.69,2016]
[333995,"Fluid power cylinder and actuator manufacturing",29263,800562,3426766,11976,51178,6881471,2.96,5.69,2016]
[333996,"Fluid power pump and motor manufacturing",11834,340866,1881090,2934,23516,3367084,2.96,5.69,2016]
[333997,"Scale and balance manufacturing",4075,89425,533513,1191,3893,958107,2.96,5.69,2016]
[333999,"All other miscellaneous general purpose machinery manufacturing",56786,1372214,7230713,19903,102696,16099737,2.96,5.69,2016]
[334,"Computer and electronic product manufacturing",696848,19352674,121390761,301218,3098609,293586768,3.4,9.58,2016]
[3341,"Computer and peripheral equipment manufacturing",28570,717893,12966085,10759,95172,24409811,2.15,12.26,2016]
[33411,"Computer and peripheral equipment manufacturing",28570,717893,12966085,10759,95172,24409811,2.15,12.26,2016]
[334111,"Electronic computer manufacturing",9472,229696,6222851,2488,25747,10000109,2.15,12.26,2016]
[334112,"Computer storage device manufacturing",5902,145929,3369956,2239,37130,6728027,2.15,12.26,2016]
[334118,"Computer terminal and other computer peripheral equipment manufacturing",13197,342267,3373279,6032,32296,7681675,2.15,12.26,2016]
[3342,"Communications equipment manufacturing",74123,2528185,16159143,23070,189709,36197055,2.38,10.61,2016]
[33421,"Telephone apparatus manufacturing",9257,287944,3496761,3593,31772,6048079,2.38,10.61,2016]
[334210,"Telephone apparatus manufacturing",9257,287944,3496761,3593,31772,6048079,2.38,10.61,2016]
[33422,"Radio and television broadcasting and wireless communications equipment manufacturing",55438,2032965,11042894,17250,148531,26155146,2.38,10.61,2016]
[334220,"Radio and television broadcasting and wireless communications equipment manufacturing",55438,2032965,11042894,17250,148531,26155146,2.38,10.61,2016]
[33429,"Other communications equipment manufacturing",9427,207276,1619488,2226,9406,3993829,2.38,10.61,2016]
[334290,"Other communications equipment manufacturing",9427,207276,1619488,2226,9406,3993829,2.38,10.61,2016]
[3343,"Audio and video equipment manufacturing",8875,170493,1312729,2082,9916,2959132,4.6900000000000004,7.29,2016]
[33431,"Audio and video equipment manufacturing",8875,170493,1312729,2082,9916,2959132,4.6900000000000004,7.29,2016]
[334310,"Audio and video equipment manufacturing",8875,170493,1312729,2082,9916,2959132,4.6900000000000004,7.29,2016]
[3344,"Semiconductor and other electronic component manufacturing",301747,7902956,39991831,173502,2176712,87252063,4.6900000000000004,7.29,2016]
[33441,"Semiconductor and other electronic component manufacturing",301747,7902956,39991831,173502,2176712,87252063,4.6900000000000004,7.29,2016]
[334412,"Bare printed circuit board manufacturing",30946,624641,1734478,6286,68092,3883789,4.6900000000000004,7.29,2016]
[334413,"Semiconductor and related device manufacturing",111595,4051814,19403021,134053,1865420,47018682,4.6900000000000004,7.29,2016]
[334416,"Capacitor, resistor, coil, transformer, and other inductor manufacturing",22289,402966,1643592,3904,36597,3518741,4.6900000000000004,7.29,2016]
[334417,"Electronic connector manufacturing",25383,537244,2242103,3775,38628,5615185,4.6900000000000004,7.29,2016]
[334418,"Printed circuit assembly (electronic assembly) manufacturing",59444,1099233,11007295,12672,94273,16728915,4.6900000000000004,7.29,2016]
[334419,"Other electronic component manufacturing",52089,1187058,3961342,12812,73701,10486751,4.6900000000000004,7.29,2016]
[3345,"Navigational, measuring, electromedical, and control instruments manufacturing",273216,7769564,49832707,89069,604960,140232718,4.6900000000000004,7.29,2016]
[33451,"Navigational, measuring, electromedical, and control instruments manufacturing",273216,7769564,49832707,89069,604960,140232718,4.6900000000000004,7.29,2016]
[334510,"Electromedical and electrotherapeutic apparatus manufacturing",52805,1317391,10409861,20628,93869,27474223,4.6900000000000004,7.29,2016]
[334511,"Search, detection, navigation, guidance, aeronautical, and nautical system and instrument manufacturing",70208,2599864,12921453,27267,209592,45267600,4.6900000000000004,7.29,2016]
[334512,"Automatic environmental control manufacturing for residential, commercial, and appliance use",8399,180576,1100202,1904,10928,2455696,4.6900000000000004,7.29,2016]
[334513,"Instruments and related products manufacturing for measuring, displaying, and controlling industrial process variables",32708,752871,3656186,5669,41594,10276896,4.6900000000000004,7.29,2016]
[334514,"Totalizing fluid meter and counting device manufacturing",13031,284122,2495339,6658,20323,5432139,4.6900000000000004,7.29,2016]
[334515,"Instrument manufacturing for measuring and testing electricity and electrical systems",21447,572884,4598570,3015,42957,10888432,4.6900000000000004,7.29,2016]
[334516,"Analytical laboratory instrument manufacturing",36672,968255,6318400,12193,94935,18459869,4.6900000000000004,7.29,2016]
[334517,"Irradiation apparatus manufacturing",11412,373255,3878624,2486,50812,8967151,4.6900000000000004,7.29,2016]
[334519,"Other measuring and controlling device manufacturing",26532,720346,4454072,9250,39949,11010712,4.6900000000000004,7.29,2016]
[3346,"Manufacturing and reproducing magnetic and optical media",10319,263583,1128266,2736,22140,2535990,4.6900000000000004,7.29,2016]
[33461,"Manufacturing and reproducing magnetic and optical media",10319,263583,1128266,2736,22140,2535990,4.6900000000000004,7.29,2016]
[334613,"Blank magnetic and optical recording media manufacturing",666,23105,"D",127,1190,398539,4.6900000000000004,7.29,2016]
[334614,"Software and other prerecorded compact disc, tape, and record reproducing",9653,240478,"D",2609,20950,2137451,4.6900000000000004,7.29,2016]
[335,"Electrical equipment, appliance, and component manufacturing",434036,9517881,62482736,244380,785107,124181408,2.37,8.2899999999999991,2016]
[3351,"Electric lighting equipment manufacturing",48364,950199,5456820,18151,62959,12888547,2.37,8.2899999999999991,2016]
[33511,"Electric lamp bulb and part manufacturing",4311,107899,456822,1224,9051,1089114,2.37,8.2899999999999991,2016]
[335110,"Electric lamp bulb and part manufacturing",4311,107899,456822,1224,9051,1089114,2.37,8.2899999999999991,2016]
[33512,"Lighting fixture manufacturing",44054,842300,4999998,16926,53909,11799433,2.37,8.2899999999999991,2016]
[335121,"Residential electric lighting fixture manufacturing",7988,152367,772157,6224,9681,1814993,2.37,8.2899999999999991,2016]
[335122,"Commercial, industrial, and institutional electric lighting fixture manufacturing",21770,427821,2467463,4988,22729,5867244,2.37,8.2899999999999991,2016]
[335129,"Other lighting equipment manufacturing",14296,262111,1760377,5714,21499,4117195,2.37,8.2899999999999991,2016]
[3352,"Household appliance manufacturing",81944,1695157,11535095,22523,93192,21967506,2.37,8.2899999999999991,2016]
[33521,"Small electrical appliance manufacturing",14052,263921,1745564,2966,14506,3596786,2.37,8.2899999999999991,2016]
[335210,"Small electrical appliance manufacturing",14052,263921,1745564,2966,14506,3596786,2.37,8.2899999999999991,2016]
[33522,"Major appliance manufacturing",67892,1431236,9789531,19557,78686,18370720,2.37,8.2899999999999991,2016]
[335221,"Household cooking appliance manufacturing",21447,391678,"D",7858,"D",4993983,2.37,8.2899999999999991,2016]
[335222,"Household refrigerator and home freezer manufacturing","D","D","D","D","D","D",2.37,8.2899999999999991,2016]
[335224,"Household laundry equipment manufacturing","D","D","D","D","D","D",2.37,8.2899999999999991,2016]
[335228,"Other major household appliance manufacturing",18279,401330,"D",7276,"D",5082622,2.37,8.2899999999999991,2016]
[3353,"Electrical equipment manufacturing",132705,3020535,18879356,51818,162903,36383053,2.37,8.2899999999999991,2016]
[33531,"Electrical equipment manufacturing",132705,3020535,18879356,51818,162903,36383053,2.37,8.2899999999999991,2016]
[335311,"Power, distribution, and specialty transformer manufacturing",25933,510927,2740122,15224,38051,5151567,2.37,8.2899999999999991,2016]
[335312,"Motor and generator manufacturing",33015,813297,5343619,17320,49497,9533245,2.37,8.2899999999999991,2016]
[335313,"Switchgear and switchboard apparatus manufacturing",40080,935385,5817572,12649,38349,11756298,2.37,8.2899999999999991,2016]
[335314,"Relay and industrial control manufacturing",33677,760927,4978044,6625,37006,9941943,2.37,8.2899999999999991,2016]
[3359,"Other electrical equipment and component manufacturing",171022,3851990,26611465,151889,466053,52942302,2.37,8.2899999999999991,2016]
[33591,"Battery manufacturing",39685,908385,5733905,68967,130295,11032857,2.37,8.2899999999999991,2016]
[335911,"Storage battery manufacturing",29859,705087,3926321,66077,87124,7474646,2.37,8.2899999999999991,2016]
[335912,"Primary battery manufacturing",9826,203298,1807584,2891,43171,3558211,2.37,8.2899999999999991,2016]
[33592,"Communication and energy wire and cable manufacturing",39800,839097,8594853,13593,91276,14263191,2.37,8.2899999999999991,2016]
[335921,"Fiber optic cable manufacturing",8329,172573,1532435,3602,15907,3042288,2.37,8.2899999999999991,2016]
[335929,"Other communication and energy wire manufacturing",31471,666524,7062418,9991,75369,11220903,2.37,8.2899999999999991,2016]
[33593,"Wiring device manufacturing",51629,1058716,5683567,18659,92007,13716376,2.37,8.2899999999999991,2016]
[335931,"Current-carrying wiring device manufacturing",32196,607475,3630187,7148,46760,8218062,2.37,8.2899999999999991,2016]
[335932,"Noncurrent-carrying wiring device manufacturing",19433,451240,2053381,11510,45248,5498313,2.37,8.2899999999999991,2016]
[33599,"All other electrical equipment and component manufacturing",39909,1045793,6599139,50669,152475,13929879,2.37,8.2899999999999991,2016]
[335991,"Carbon and graphite product manufacturing",11404,316265,1603691,44690,94049,3129616,2.37,8.2899999999999991,2016]
[335999,"All other miscellaneous electrical equipment and component manufacturing",28505,729527,4995448,5979,58426,10800263,2.37,8.2899999999999991,2016]
[336,"Transportation equipment manufacturing",2106927,59483600,613435215,957630,4169493,949275169,2.1800000000000002,6.48,2016]
[3361,"Motor vehicle manufacturing",351084,12087051,261654167,244558,608865,344359096,2.15,4.96,2016]
[33611,"Automobile and light duty motor vehicle manufacturing",307023,10894097,241931232,230105,566439,317519341,2.15,4.96,2016]
[336111,"Automobile manufacturing",144529,5089358,102697767,96499,288424,129996242,2.15,4.96,2016]
[336112,"Light truck and utility vehicle manufacturing",162493,5804739,139233465,133606,278015,187523099,2.15,4.96,2016]
[33612,"Heavy duty truck manufacturing",44062,1192955,19722935,14453,42426,26839755,2.15,4.96,2016]
[336120,"Heavy duty truck manufacturing",44062,1192955,19722935,14453,42426,26839755,2.15,4.96,2016]
[3362,"Motor vehicle body and trailer manufacturing",216301,4258484,27281215,56788,132863,41975392,2.15,4.96,2016]
[33621,"Motor vehicle body and trailer manufacturing",216301,4258484,27281215,56788,132863,41975392,2.15,4.96,2016]
[336211,"Motor vehicle body manufacturing",76335,1422802,9376608,28581,56222,14565429,2.15,4.96,2016]
[336212,"Truck trailer manufacturing",50496,976448,6341834,11702,36814,9262132,2.15,4.96,2016]
[336213,"Motor home manufacturing",16850,351541,3369032,3729,9979,4660254,2.15,4.96,2016]
[336214,"Travel trailer and camper manufacturing",72621,1507692,8193740,12776,29847,13487577,2.15,4.96,2016]
[3363,"Motor vehicle parts manufacturing",861667,20234952,176603283,349666,1854738,260812268,2.15,4.96,2016]
[33631,"Motor vehicle gasoline engine and engine parts manufacturing",93854,2833253,23342300,42379,255783,33878838,2.15,4.96,2016]
[336310,"Motor vehicle gasoline engine and engine parts manufacturing",93854,2833253,23342300,42379,255783,33878838,2.15,4.96,2016]
[33632,"Motor vehicle electrical and electronic equipment manufacturing",85964,1930439,16152963,20389,149078,24869239,2.15,4.96,2016]
[336320,"Motor vehicle electrical and electronic equipment manufacturing",85964,1930439,16152963,20389,149078,24869239,2.15,4.96,2016]
[33633,"Motor vehicle steering and suspension components (except spring) manufacturing",55175,1113014,9578092,23919,117377,14731734,2.15,4.96,2016]
[336330,"Motor vehicle steering and suspension components (except spring) manufacturing",55175,1113014,9578092,23919,117377,14731734,2.15,4.96,2016]
[33634,"Motor vehicle brake system manufacturing",35314,743967,7309302,18554,84388,11236975,2.15,4.96,2016]
[336340,"Motor vehicle brake system manufacturing",35314,743967,7309302,18554,84388,11236975,2.15,4.96,2016]
[33635,"Motor vehicle transmission and power train parts manufacturing",107243,2988489,25645850,46675,264871,37901955,2.15,4.96,2016]
[336350,"Motor vehicle transmission and power train parts manufacturing",107243,2988489,25645850,46675,264871,37901955,2.15,4.96,2016]
[33636,"Motor vehicle seating and interior trim manufacturing",103195,2048611,23512053,28417,222923,32794630,2.15,4.96,2016]
[336360,"Motor vehicle seating and interior trim manufacturing",103195,2048611,23512053,28417,222923,32794630,2.15,4.96,2016]
[33637,"Motor vehicle metal stamping",163269,4045967,23606908,63744,321525,36712327,2.15,4.96,2016]
[336370,"Motor vehicle metal stamping",163269,4045967,23606908,63744,321525,36712327,2.15,4.96,2016]
[33639,"Other motor vehicle parts manufacturing",217653,4531211,47455814,105588,438793,68686571,2.15,4.96,2016]
[336390,"Other motor vehicle parts manufacturing",217653,4531211,47455814,105588,438793,68686571,2.15,4.96,2016]
[3364,"Aerospace product and parts manufacturing",429081,16660992,112638630,207342,1262999,234798056,2.09,9.64,2016]
[33641,"Aerospace product and parts manufacturing",429081,16660992,112638630,207342,1262999,234798056,2.09,9.64,2016]
[336411,"Aircraft manufacturing",165974,8081135,66986438,67460,472736,128746042,2.09,9.64,2016]
[336412,"Aircraft engine and engine parts manufacturing",89669,2724878,18503482,40287,"D",42436821,2.09,9.64,2016]
[336413,"Other aircraft parts and auxiliary equipment manufacturing",124765,4090127,16912784,69911,443517,36749069,2.09,9.64,2016]
[336414,"Guided missile and space vehicle manufacturing",34972,1296091,"D","D","D",21358154,2.09,9.64,2016]
[336415,"Guided missile and space vehicle propulsion unit and propulsion unit parts manufacturing",6721,267508,1187082,"D",37529,3989278,2.09,9.64,2016]
[336419,"Other guided missile and space vehicle parts and auxiliary equipment manufacturing",6979,201252,"D","D",22103,1518692,2.09,9.64,2016]
[3365,"Railroad rolling stock manufacturing",38042,1082418,12033059,27434,72192,16158933,"No Data","No Data",2016]
[33651,"Railroad rolling stock manufacturing",38042,1082418,12033059,27434,72192,16158933,"No Data","No Data",2016]
[336510,"Railroad rolling stock manufacturing",38042,1082418,12033059,27434,72192,16158933,"No Data","No Data",2016]
[3366,"Ship and boat building",175170,4334003,12851656,52916,178553,33371521,"No Data","No Data",2016]
[33661,"Ship and boat building",175170,4334003,12851656,52916,178553,33371521,"No Data","No Data",2016]
[336611,"Ship building and repairing",119728,3299260,7429380,36036,131630,23611435,"No Data","No Data",2016]
[336612,"Boat building",55441,1034743,5422276,16879,46923,9760086,"No Data","No Data",2016]
[3369,"Other transportation equipment manufacturing",35582,825700,10373206,18926,59283,17799903,"No Data","No Data",2016]
[33699,"Other transportation equipment manufacturing",35582,825700,10373206,18926,59283,17799903,"No Data","No Data",2016]
[336991,"Motorcycle, bicycle, and parts manufacturing",12308,285931,3311647,7548,22396,6169289,"No Data","No Data",2016]
[336992,"Military armored vehicle, tank, and tank component manufacturing",5568,140478,1410449,4215,13807,3503584,"No Data","No Data",2016]
[336999,"All other transportation equipment manufacturing",17706,399290,5651110,7163,23081,8127031,"No Data","No Data",2016]
[337,"Furniture and related product manufacturing",522808,9446459,33719144,175932,474245,74685259,1.9,8.6,2016]
[3371,"Household and institutional furniture and kitchen cabinet manufacturing",330430,5773152,18077340,91735,280792,39509571,1.9,8.6,2016]
[33711,"Wood kitchen cabinet and countertop manufacturing",133363,2476020,5863649,50595,125727,14658185,1.9,8.6,2016]
[337110,"Wood kitchen cabinet and countertop manufacturing",133363,2476020,5863649,50595,125727,14658185,1.9,8.6,2016]
[33712,"Household and institutional furniture manufacturing",197066,3297132,12213691,41140,155065,24851386,1.9,8.6,2016]
[337121,"Upholstered household furniture manufacturing",102546,1672642,6360644,9275,53067,12322637,1.9,8.6,2016]
[337122,"Nonupholstered wood household furniture manufacturing",41424,665622,1847884,10334,43921,4222458,1.9,8.6,2016]
[337124,"Metal household furniture manufacturing",12524,236444,1301689,7193,13692,2300632,1.9,8.6,2016]
[337125,"Household furniture (except wood and metal) manufacturing",4033,62120,517720,1569,6455,965817,1.9,8.6,2016]
[337127,"Institutional furniture manufacturing",36539,660305,2185754,12768,37930,5039843,1.9,8.6,2016]
[3372,"Office furniture (including fixtures) manufacturing",149368,2854625,10657312,74591,164284,25066413,1.9,8.6,2016]
[33721,"Office furniture (including fixtures) manufacturing",149368,2854625,10657312,74591,164284,25066413,1.9,8.6,2016]
[337211,"Wood office furniture manufacturing",21438,371986,998123,5675,21318,2657005,1.9,8.6,2016]
[337212,"Custom architectural woodwork and millwork manufacturing",47802,1032645,2927962,"32809(s)",49365,7182852,1.9,8.6,2016]
[337214,"Office furniture (except wood) manufacturing",30654,567393,3427380,13728,36678,7876880,1.9,8.6,2016]
[337215,"Showcase, partition, shelving, and locker manufacturing",49474,882600,3303847,22379,56923,7349677,1.9,8.6,2016]
[3379,"Other furniture related product manufacturing",43010,818681,4984492,9606,29169,10109274,1.9,8.6,2016]
[33791,"Mattress manufacturing",29577,571551,3948892,8081,20052,7842934,1.9,8.6,2016]
[337910,"Mattress manufacturing",29577,571551,3948892,8081,20052,7842934,1.9,8.6,2016]
[33792,"Blind and shade manufacturing",13433,247130,1035600,1525,9117,2266340,1.9,8.6,2016]
[337920,"Blind and shade manufacturing",13433,247130,1035600,1525,9117,2266340,1.9,8.6,2016]
[339,"Miscellaneous manufacturing",616783,12600345,58010909,177556,822625,155267480,3.48,11.05,2016]
[3391,"Medical equipment and supplies manufacturing",310192,6596024,31913897,62542,407561,91990183,3.48,11.05,2016]
[33911,"Medical equipment and supplies manufacturing",310192,6596024,31913897,62542,407561,91990183,3.48,11.05,2016]
[339112,"Surgical and medical instrument manufacturing",127951,2773717,13162910,28875,182289,40880001,3.48,11.05,2016]
[339113,"Surgical appliance and supplies manufacturing",86629,1744867,13467759,22394,137489,35294255,3.48,11.05,2016]
[339114,"Dental equipment and supplies manufacturing",16930,368329,1622863,2920,16803,4988935,3.48,11.05,2016]
[339115,"Ophthalmic goods manufacturing",25533,535752,2592690,3125,47784,6203980,3.48,11.05,2016]
[339116,"Dental laboratories",53149,1173360,1067675,5227,23196,4623013,3.48,11.05,2016]
[3399,"Other miscellaneous manufacturing",306592,6004321,26097012,115015,415064,63277296,3.48,11.05,2016]
[33991,"Jewelry and silverware manufacturing",23823,514985,3568463,4594,21920,7321100,3.48,11.05,2016]
[339910,"Jewelry and silverware manufacturing",23823,514985,3568463,4594,21920,7321100,3.48,11.05,2016]
[33992,"Sporting and athletic goods manufacturing",38897,758279,4422913,23589,75442,10602885,3.48,11.05,2016]
[339920,"Sporting and athletic goods manufacturing",38897,758279,4422913,23589,75442,10602885,3.48,11.05,2016]
[33993,"Doll, toy, and game manufacturing",6841,117562,742609,4998,13645,1535196,3.48,11.05,2016]
[339930,"Doll, toy, and game manufacturing",6841,117562,742609,4998,13645,1535196,3.48,11.05,2016]
[33994,"Office supplies (except paper) manufacturing",13256,234130,1633048,5017,17796,3215260,3.48,11.05,2016]
[339940,"Office supplies (except paper) manufacturing",13256,234130,1633048,5017,17796,3215260,3.48,11.05,2016]
[33995,"Sign manufacturing",77707,1539734,5368477,21131,68627,13480058,3.48,11.05,2016]
[339950,"Sign manufacturing",77707,1539734,5368477,21131,68627,13480058,3.48,11.05,2016]
[33999,"All other miscellaneous manufacturing",146067,2839630,10361502,55687,217635,27122798,3.48,11.05,2016]
[339991,"Gasket, packing, and sealing device manufacturing",38996,835799,2691683,19793,98363,6786736,3.48,11.05,2016]
[339992,"Musical instrument manufacturing",16657,321509,739175,7347,19774,1998521,3.48,11.05,2016]
[339993,"Fastener, button, needle, and pin manufacturing",5420,105471,394100,5993,14942,957834,3.48,11.05,2016]
[339994,"Broom, brush, and mop manufacturing",14454,232612,1269705,1947,17515,2793591,3.48,11.05,2016]
[339995,"Burial casket manufacturing",4883,88718,285508,1865,7983,588412,3.48,11.05,2016]
[339999,"All other miscellaneous manufacturing",65657,1255521,4981331,18742,59057,13997705,3.48,11.05,2016]

{"sheet":"2017 Econ Census Data","index":160,"n_rows":650,"n_cols":11,"rows_kept":650,"cut":false,"hidden":false,"merged":[]}
[{"$f":"'[2]2017 Econ Cens SDS'!B2","v":"2017 NAICS code"},{"$f":"'[2]2017 Econ Cens SDS'!C2","v":"Meaning of NAICS code"},{"$f":"'[3]2017 Econ Cens SDS raw'!AE2","v":"Production workers hours (1,000)"},{"$f":"'[3]2017 Econ Cens SDS raw'!AF2","v":"Production workers, nonleased employees wages ($1,000)"},{"$f":"'[3]2017 Econ Cens SDS raw'!AG2","v":"Total cost of materials ($1,000)"},{"$f":"'[3]2017 Econ Cens SDS raw'!M2","v":"Purchased fuels consumed ($1,000)"},{"$f":"'[3]2017 Econ Cens SDS raw'!N2","v":"Purchased electricity ($1,000)"},{"$f":"'[3]2017 Econ Cens SDS raw'!X2","v":"Value of sales, shipments, receipts, revenue, or business done ($1,000)"},{"$f":"'[2]2017 Econ Cens SDS'!E2","v":"Depreciation"},{"$f":"'[2]2017 Econ Cens SDS'!F2","v":"Operating Income"},{"$f":"'[2]2017 Econ Cens SDS'!D2","v":"Year"}]
[]
[{"$f":"'[2]2017 Econ Cens SDS'!B3","v":"31-33"},{"$f":"'[2]2017 Econ Cens SDS'!C3","v":"Manufacturing"},{"$f":"'[3]2017 Econ Cens SDS raw'!AE3","v":16085530},{"$f":"'[3]2017 Econ Cens SDS raw'!AF3","v":387934853},{"$f":"'[3]2017 Econ Cens SDS raw'!AG3","v":3121393317},{"$f":"'[3]2017 Econ Cens SDS raw'!M3","v":32683350},{"$f":"'[3]2017 Econ Cens SDS raw'!N3","v":50906445},{"$f":"'[3]2017 Econ Cens SDS raw'!X3","v":5587964318},3.14,8.09,{"$f":"'[2]2017 Econ Cens SDS'!D3","v":2017}]
[{"$f":"'[2]2017 Econ Cens SDS'!B4","v":311},{"$f":"'[2]2017 Econ Cens SDS'!C4","v":"Food manufacturing"},{"$f":"'[3]2017 Econ Cens SDS raw'!AE4","v":2418060},{"$f":"'[3]2017 Econ Cens SDS raw'!AF4","v":47375980},{"$f":"'[3]2017 Econ Cens SDS raw'!AG4","v":489887151},{"$f":"'[3]2017 Econ Cens SDS raw'!M4","v":3517275},{"$f":"'[3]2017 Econ Cens SDS raw'!N4","v":5628019},{"$f":"'[3]2017 Econ Cens SDS raw'!X4","v":784152808},2.2599999999999998,8.41,2017]
[{"$f":"'[2]2017 Econ Cens SDS'!B5","v":3111},{"$f":"'[2]2017 Econ Cens SDS'!C5","v":"Animal food manufacturing"},{"$f":"'[3]2017 Econ Cens SDS raw'!AE5","v":75778},{"$f":"'[3]2017 Econ Cens SDS raw'!AF5","v":1851599},{"$f":"'[3]2017 Econ Cens SDS raw'!AG5","v":37345932},{"$f":"'[3]2017 Econ Cens SDS raw'!M5","v":191654},{"$f":"'[3]2017 Econ Cens SDS raw'!N5","v":361465},{"$f":"'[3]2017 Econ Cens SDS raw'!X5","v":55217673},2.2599999999999998,8.41,2017]
[{"$f":"'[2]2017 Econ Cens SDS'!B6","v":31111},{"$f":"'[2]2017 Econ Cens SDS'!C6","v":"Animal food manufacturing"},{"$f":"'[3]2017 Econ Cens SDS raw'!AE6","v":75778},{"$f":"'[3]2017 Econ Cens SDS raw'!AF6","v":1851599},{"$f":"'[3]2017 Econ Cens SDS raw'!AG6","v":37345932},{"$f":"'[3]2017 Econ Cens SDS raw'!M6","v":191654},{"$f":"'[3]2017 Econ Cens SDS raw'!N6","v":361465},{"$f":"'[3]2017 Econ Cens SDS raw'!X6","v":55217673},2.2599999999999998,8.41,2017]
[{"$f":"'[2]2017 Econ Cens SDS'!B7","v":311111},{"$f":"'[2]2017 Econ Cens SDS'!C7","v":"Dog and cat food manufacturing"},{"$f":"'[3]2017 Econ Cens SDS raw'!AE7","v":38633},{"$f":"'[3]2017 Econ Cens SDS raw'!AF7","v":1014780},{"$f":"'[3]2017 Econ Cens SDS raw'!AG7","v":12615787},{"$f":"'[3]2017 Econ Cens SDS raw'!M7","v":70208},{"$f":"'[3]2017 Econ Cens SDS raw'!N7","v":107205},{"$f":"'[3]2017 Econ Cens SDS raw'!X7","v":23415287},2.2599999999999998,8.41,2017]
[{"$f":"'[2]2017 Econ Cens SDS'!B8","v":311119},{"$f":"'[2]2017 Econ Cens SDS'!C8","v":"Other animal food manufacturing"},{"$f":"'[3]2017 Econ Cens SDS raw'!AE8","v":37145},{"$f":"'[3]2017 Econ Cens SDS raw'!AF8","v":836819},{"$f":"'[3]2017 Econ Cens SDS raw'!AG8","v":24730145},{"$f":"'[3]2017 Econ Cens SDS raw'!M8","v":121446},{"$f":"'[3]2017 Econ Cens SDS raw'!N8","v":254260},{"$f":"'[3]2017 Econ Cens SDS raw'!X8","v":31802386},2.2599999999999998,8.41,2017]
[{"$f":"'[2]2017 Econ Cens SDS'!B9","v":3112},{"$f":"'[2]2017 Econ Cens SDS'!C9","v":"Grain and oilseed milling"},{"$f":"'[3]2017 Econ Cens SDS raw'!AE9","v":88834},{"$f":"'[3]2017 Econ Cens SDS raw'!AF9","v":2282300},{"$f":"'[3]2017 Econ Cens SDS raw'!AG9","v":62860006},{"$f":"'[3]2017 Econ Cens SDS raw'!M9","v":672481},{"$f":"'[3]2017 Econ Cens SDS raw'!N9","v":845589},{"$f":"'[3]2017 Econ Cens SDS raw'!X9","v":86140023},2.2599999999999998,8.41,2017]
[{"$f":"'[2]2017 Econ Cens SDS'!B10","v":31121},{"$f":"'[2]2017 Econ Cens SDS'!C10","v":"Flour milling and malt manufacturing"},{"$f":"'[3]2017 Econ Cens SDS raw'!AE10","v":30645},{"$f":"'[3]2017 Econ Cens SDS raw'!AF10","v":711174},{"$f":"'[3]2017 Econ Cens SDS raw'!AG10","v":11288170},{"$f":"'[3]2017 Econ Cens SDS raw'!M10","v":70579},{"$f":"'[3]2017 Econ Cens SDS raw'!N10","v":228856},{"$f":"'[3]2017 Econ Cens SDS raw'!X10","v":16568750},2.2599999999999998,8.41,2017]
[{"$f":"'[2]2017 Econ Cens SDS'!B11","v":311211},{"$f":"'[2]2017 Econ Cens SDS'!C11","v":"Flour milling"},{"$f":"'[3]2017 Econ Cens SDS raw'!AE11","v":20609},{"$f":"'[3]2017 Econ Cens SDS raw'!AF11","v":504604},{"$f":"'[3]2017 Econ Cens SDS raw'!AG11","v":7993004},{"$f":"'[3]2017 Econ Cens SDS raw'!M11","v":35010},{"$f":"'[3]2017 Econ Cens SDS raw'!N11","v":160838},{"$f":"'[3]2017 Econ Cens SDS raw'!X11","v":11631961},2.2599999999999998,8.41,2017]
[{"$f":"'[2]2017 Econ Cens SDS'!B12","v":311212},{"$f":"'[2]2017 Econ Cens SDS'!C12","v":"Rice milling"},{"$f":"'[3]2017 Econ Cens SDS raw'!AE12","v":8610},{"$f":"'[3]2017 Econ Cens SDS raw'!AF12","v":164021},{"$f":"'[3]2017 Econ Cens SDS raw'!AG12","v":2455475},{"$f":"'[3]2017 Econ Cens SDS raw'!M12","v":"D"},{"$f":"'[3]2017 Econ Cens SDS raw'!N12","v":46674},{"$f":"'[3]2017 Econ Cens SDS raw'!X12","v":3555923},2.2599999999999998,8.41,2017]
[{"$f":"'[2]2017 Econ Cens SDS'!B13","v":311213},{"$f":"'[2]2017 Econ Cens SDS'!C13","v":"Malt manufacturing"},{"$f":"'[3]2017 Econ Cens SDS raw'!AE13","v":1426},{"$f":"'[3]2017 Econ Cens SDS raw'!AF13","v":42549},{"$f":"'[3]2017 Econ Cens SDS raw'!AG13","v":839691},{"$f":"'[3]2017 Econ Cens SDS raw'!M13","v":"D"},{"$f":"'[3]2017 Econ Cens SDS raw'!N13","v":21344},{"$f":"'[3]2017 Econ Cens SDS raw'!X13","v":1380866},2.2599999999999998,8.41,2017]
[{"$f":"'[2]2017 Econ Cens SDS'!B14","v":31122},{"$f":"'[2]2017 Econ Cens SDS'!C14","v":"Starch and vegetable fats and oils manufacturing"},{"$f":"'[3]2017 Econ Cens SDS raw'!AE14","v":34641},{"$f":"'[3]2017 Econ Cens SDS raw'!AF14","v":904602},{"$f":"'[3]2017 Econ Cens SDS raw'!AG14","v":45821176},{"$f":"'[3]2017 Econ Cens SDS raw'!M14","v":542245},{"$f":"'[3]2017 Econ Cens SDS raw'!N14","v":529705},{"$f":"'[3]2017 Econ Cens SDS raw'!X14","v":59685375},2.2599999999999998,8.41,2017]
[{"$f":"'[2]2017 Econ Cens SDS'!B15","v":311221},{"$f":"'[2]2017 Econ Cens SDS'!C15","v":"Wet corn milling"},{"$f":"'[3]2017 Econ Cens SDS raw'!AE15","v":8876},{"$f":"'[3]2017 Econ Cens SDS raw'!AF15","v":305793},{"$f":"'[3]2017 Econ Cens SDS raw'!AG15","v":6292302},{"$f":"'[3]2017 Econ Cens SDS raw'!M15","v":277638},{"$f":"'[3]2017 Econ Cens SDS raw'!N15","v":295923},{"$f":"'[3]2017 Econ Cens SDS raw'!X15","v":9767197},2.2599999999999998,8.41,2017]
[{"$f":"'[2]2017 Econ Cens SDS'!B16","v":311224},{"$f":"'[2]2017 Econ Cens SDS'!C16","v":"Soybean and other oilseed processing"},{"$f":"'[3]2017 Econ Cens SDS raw'!AE16","v":14812},{"$f":"'[3]2017 Econ Cens SDS raw'!AF16","v":369850},{"$f":"'[3]2017 Econ Cens SDS raw'!AG16","v":31996588},{"$f":"'[3]2017 Econ Cens SDS raw'!M16","v":"D"},{"$f":"'[3]2017 Econ Cens SDS raw'!N16","v":"D"},{"$f":"'[3]2017 Econ Cens SDS raw'!X16","v":39716527},2.2599999999999998,8.41,2017]
[{"$f":"'[2]2017 Econ Cens SDS'!B17","v":311225},{"$f":"'[2]2017 Econ Cens SDS'!C17","v":"Fats and oils refining and blending"},{"$f":"'[3]2017 Econ Cens SDS raw'!AE17","v":10953},{"$f":"'[3]2017 Econ Cens SDS raw'!AF17","v":228959},{"$f":"'[3]2017 Econ Cens SDS raw'!AG17","v":7532286},{"$f":"'[3]2017 Econ Cens SDS raw'!M17","v":"D"},{"$f":"'[3]2017 Econ Cens SDS raw'!N17","v":"D"},{"$f":"'[3]2017 Econ Cens SDS raw'!X17","v":10201651},2.2599999999999998,8.41,2017]
[{"$f":"'[2]2017 Econ Cens SDS'!B18","v":31123},{"$f":"'[2]2017 Econ Cens SDS'!C18","v":"Breakfast cereal manufacturing"},{"$f":"'[3]2017 Econ Cens SDS raw'!AE18","v":23548},{"$f":"'[3]2017 Econ Cens SDS raw'!AF18","v":666524},{"$f":"'[3]2017 Econ Cens SDS raw'!AG18","v":5750660},{"$f":"'[3]2017 Econ Cens SDS raw'!M18","v":59657},{"$f":"'[3]2017 Econ Cens SDS raw'!N18","v":87028},{"$f":"'[3]2017 Econ Cens SDS raw'!X18","v":9885898},2.2599999999999998,8.41,2017]
[{"$f":"'[2]2017 Econ Cens SDS'!B19","v":311230},{"$f":"'[2]2017 Econ Cens SDS'!C19","v":"Breakfast cereal manufacturing"},{"$f":"'[3]2017 Econ Cens SDS raw'!AE19","v":23548},{"$f":"'[3]2017 Econ Cens SDS raw'!AF19","v":666524},{"$f":"'[3]2017 Econ Cens SDS raw'!AG19","v":5750660},{"$f":"'[3]2017 Econ Cens SDS raw'!M19","v":59657},{"$f":"'[3]2017 Econ Cens SDS raw'!N19","v":87028},{"$f":"'[3]2017 Econ Cens SDS raw'!X19","v":9885898},2.2599999999999998,8.41,2017]
[{"$f":"'[2]2017 Econ Cens SDS'!B20","v":3113},{"$f":"'[2]2017 Econ Cens SDS'!C20","v":"Sugar and confectionery product manufacturing"},{"$f":"'[3]2017 Econ Cens SDS raw'!AE20","v":119536},{"$f":"'[3]2017 Econ Cens SDS raw'!AF20","v":2511821},{"$f":"'[3]2017 Econ Cens SDS raw'!AG20","v":21097325},{"$f":"'[3]2017 Econ Cens SDS raw'!M20","v":387153},{"$f":"'[3]2017 Econ Cens SDS raw'!N20","v":332556},{"$f":"'[3]2017 Econ Cens SDS raw'!X20","v":37683023},2.2599999999999998,8.41,2017]
[{"$f":"'[2]2017 Econ Cens SDS'!B21","v":31131},{"$f":"'[2]2017 Econ Cens SDS'!C21","v":"Sugar manufacturing"},{"$f":"'[3]2017 Econ Cens SDS raw'!AE21","v":24715},{"$f":"'[3]2017 Econ Cens SDS raw'!AF21","v":559632},{"$f":"'[3]2017 Econ Cens SDS raw'!AG21","v":6846230},{"$f":"'[3]2017 Econ Cens SDS raw'!M21","v":303339},{"$f":"'[3]2017 Econ Cens SDS raw'!N21","v":118018},{"$f":"'[3]2017 Econ Cens SDS raw'!X21","v":10287962},2.2599999999999998,8.41,2017]
[{"$f":"'[2]2017 Econ Cens SDS'!B22","v":311313},{"$f":"'[2]2017 Econ Cens SDS'!C22","v":"Beet sugar manufacturing"},{"$f":"'[3]2017 Econ Cens SDS raw'!AE22","v":12019},{"$f":"'[3]2017 Econ Cens SDS raw'!AF22","v":250364},{"$f":"'[3]2017 Econ Cens SDS raw'!AG22","v":2213877},{"$f":"'[3]2017 Econ Cens SDS raw'!M22","v":188958},{"$f":"'[3]2017 Econ Cens SDS raw'!N22","v":"D"},{"$f":"'[3]2017 Econ Cens SDS raw'!X22","v":3768964},2.2599999999999998,8.41,2017]
[{"$f":"'[2]2017 Econ Cens SDS'!B23","v":311314},{"$f":"'[2]2017 Econ Cens SDS'!C23","v":"Cane sugar manufacturing"},{"$f":"'[3]2017 Econ Cens SDS raw'!AE23","v":12696},{"$f":"'[3]2017 Econ Cens SDS raw'!AF23","v":309268},{"$f":"'[3]2017 Econ Cens SDS raw'!AG23","v":4632353},{"$f":"'[3]2017 Econ Cens SDS raw'!M23","v":114381},{"$f":"'[3]2017 Econ Cens SDS raw'!N23","v":"D"},{"$f":"'[3]2017 Econ Cens SDS raw'!X23","v":6518998},2.2599999999999998,8.41,2017]
[{"$f":"'[2]2017 Econ Cens SDS'!B24","v":31134},{"$f":"'[2]2017 Econ Cens SDS'!C24","v":"Nonchocolate confectionery manufacturing"},{"$f":"'[3]2017 Econ Cens SDS raw'!AE24","v":34332},{"$f":"'[3]2017 Econ Cens SDS raw'!AF24","v":693996},{"$f":"'[3]2017 Econ Cens SDS raw'!AG24","v":4718188},{"$f":"'[3]2017 Econ Cens SDS raw'!M24","v":34268},{"$f":"'[3]2017 Econ Cens SDS raw'!N24","v":93523},{"$f":"'[3]2017 Econ Cens SDS raw'!X24","v":10026315},2.2599999999999998,8.41,2017]
[{"$f":"'[2]2017 Econ Cens SDS'!B25","v":311340},{"$f":"'[2]2017 Econ Cens SDS'!C25","v":"Nonchocolate confectionery manufacturing"},{"$f":"'[3]2017 Econ Cens SDS raw'!AE25","v":34332},{"$f":"'[3]2017 Econ Cens SDS raw'!AF25","v":693996},{"$f":"'[3]2017 Econ Cens SDS raw'!AG25","v":4718188},{"$f":"'[3]2017 Econ Cens SDS raw'!M25","v":34268},{"$f":"'[3]2017 Econ Cens SDS raw'!N25","v":93523},{"$f":"'[3]2017 Econ Cens SDS raw'!X25","v":10026315},2.2599999999999998,8.41,2017]
[{"$f":"'[2]2017 Econ Cens SDS'!B26","v":31135},{"$f":"'[2]2017 Econ Cens SDS'!C26","v":"Chocolate and chocolate confectionery manufacturing"},{"$f":"'[3]2017 Econ Cens SDS raw'!AE26","v":60489},{"$f":"'[3]2017 Econ Cens SDS raw'!AF26","v":1258193},{"$f":"'[3]2017 Econ Cens SDS raw'!AG26","v":9532907},{"$f":"'[3]2017 Econ Cens SDS raw'!M26","v":49546},{"$f":"'[3]2017 Econ Cens SDS raw'!N26","v":121015},{"$f":"'[3]2017 Econ Cens SDS raw'!X26","v":17368746},2.2599999999999998,8.41,{"$f":"K3","v":2017}]
[{"$f":"'[2]2017 Econ Cens SDS'!B27","v":311351},{"$f":"'[2]2017 Econ Cens SDS'!C27","v":"Chocolate and confectionery manufacturing from cacao beans"},{"$f":"'[3]2017 Econ Cens SDS raw'!AE27","v":11294},{"$f":"'[3]2017 Econ Cens SDS raw'!AF27","v":299104},{"$f":"'[3]2017 Econ Cens SDS raw'!AG27","v":3503728},{"$f":"'[3]2017 Econ Cens SDS raw'!M27","v":11947},{"$f":"'[3]2017 Econ Cens SDS raw'!N27","v":42283},{"$f":"'[3]2017 Econ Cens SDS raw'!X27","v":5096907},2.2599999999999998,8.41,2017]
[{"$f":"'[2]2017 Econ Cens SDS'!B28","v":311352},{"$f":"'[2]2017 Econ Cens SDS'!C28","v":"Confectionery manufacturing from purchased chocolate"},{"$f":"'[3]2017 Econ Cens SDS raw'!AE28","v":49195},{"$f":"'[3]2017 Econ Cens SDS raw'!AF28","v":959089},{"$f":"'[3]2017 Econ Cens SDS raw'!AG28","v":6029179},{"$f":"'[3]2017 Econ Cens SDS raw'!M28","v":37599},{"$f":"'[3]2017 Econ Cens SDS raw'!N28","v":78732},{"$f":"'[3]2017 Econ Cens SDS raw'!X28","v":12271839},2.2599999999999998,8.41,2017]
[{"$f":"'[2]2017 Econ Cens SDS'!B29","v":3114},{"$f":"'[2]2017 Econ Cens SDS'!C29","v":"Fruit and vegetable preserving and specialty food manufacturing"},{"$f":"'[3]2017 Econ Cens SDS raw'!AE29","v":264778},{"$f":"'[3]2017 Econ Cens SDS raw'!AF29","v":5531639},{"$f":"'[3]2017 Econ Cens SDS raw'!AG29","v":38927704},{"$f":"'[3]2017 Econ Cens SDS raw'!M29","v":469446},{"$f":"'[3]2017 Econ Cens SDS raw'!N29","v":663813},{"$f":"'[3]2017 Econ Cens SDS raw'!X29","v":72724157},2.2599999999999998,8.41,2017]
[{"$f":"'[2]2017 Econ Cens SDS'!B30","v":31141},{"$f":"'[2]2017 Econ Cens SDS'!C30","v":"Frozen food manufacturing"},{"$f":"'[3]2017 Econ Cens SDS raw'!AE30","v":144636},{"$f":"'[3]2017 Econ Cens SDS raw'!AF30","v":2945454},{"$f":"'[3]2017 Econ Cens SDS raw'!AG30","v":18190814},{"$f":"'[3]2017 Econ Cens SDS raw'!M30","v":173681},{"$f":"'[3]2017 Econ Cens SDS raw'!N30","v":354159},{"$f":"'[3]2017 Econ Cens SDS raw'!X30","v":33313303},2.2599999999999998,8.41,2017]
[{"$f":"'[2]2017 Econ Cens SDS'!B31","v":311411},{"$f":"'[2]2017 Econ Cens SDS'!C31","v":"Frozen fruit, juice, and vegetable manufacturing"},{"$f":"'[3]2017 Econ Cens SDS raw'!AE31","v":59037},{"$f":"'[3]2017 Econ Cens SDS raw'!AF31","v":1123252},{"$f":"'[3]2017 Econ Cens SDS raw'!AG31","v":7096426},{"$f":"'[3]2017 Econ Cens SDS raw'!M31","v":103502},{"$f":"'[3]2017 Econ Cens SDS raw'!N31","v":168126},{"$f":"'[3]2017 Econ Cens SDS raw'!X31","v":13231056},2.2599999999999998,8.41,2017]
[{"$f":"'[2]2017 Econ Cens SDS'!B32","v":311412},{"$f":"'[2]2017 Econ Cens SDS'!C32","v":"Frozen specialty food manufacturing"},{"$f":"'[3]2017 Econ Cens SDS raw'!AE32","v":85599},{"$f":"'[3]2017 Econ Cens SDS raw'!AF32","v":1822202},{"$f":"'[3]2017 Econ Cens SDS raw'!AG32","v":11094388},{"$f":"'[3]2017 Econ Cens SDS raw'!M32","v":70179},{"$f":"'[3]2017 Econ Cens SDS raw'!N32","v":186033},{"$f":"'[3]2017 Econ Cens SDS raw'!X32","v":20082247},2.2599999999999998,8.41,2017]
[{"$f":"'[2]2017 Econ Cens SDS'!B33","v":31142},{"$f":"'[2]2017 Econ Cens SDS'!C33","v":"Fruit and vegetable canning, pickling, and drying"},{"$f":"'[3]2017 Econ Cens SDS raw'!AE33","v":120142},{"$f":"'[3]2017 Econ Cens SDS raw'!AF33","v":2586185},{"$f":"'[3]2017 Econ Cens SDS raw'!AG33","v":20736890},{"$f":"'[3]2017 Econ Cens SDS raw'!M33","v":295765},{"$f":"'[3]2017 Econ Cens SDS raw'!N33","v":309654},{"$f":"'[3]2017 Econ Cens SDS raw'!X33","v":39410854},2.2599999999999998,8.41,2017]
[{"$f":"'[2]2017 Econ Cens SDS'!B34","v":311421},{"$f":"'[2]2017 Econ Cens SDS'!C34","v":"Fruit and vegetable canning"},{"$f":"'[3]2017 Econ Cens SDS raw'!AE34","v":78341},{"$f":"'[3]2017 Econ Cens SDS raw'!AF34","v":1683178},{"$f":"'[3]2017 Econ Cens SDS raw'!AG34","v":13581861},{"$f":"'[3]2017 Econ Cens SDS raw'!M34","v":194508},{"$f":"'[3]2017 Econ Cens SDS raw'!N34","v":206293},{"$f":"'[3]2017 Econ Cens SDS raw'!X34","v":23586977},2.2599999999999998,8.41,2017]
[{"$f":"'[2]2017 Econ Cens SDS'!B35","v":311422},{"$f":"'[2]2017 Econ Cens SDS'!C35","v":"Specialty canning"},{"$f":"'[3]2017 Econ Cens SDS raw'!AE35","v":19377},{"$f":"'[3]2017 Econ Cens SDS raw'!AF35","v":450546},{"$f":"'[3]2017 Econ Cens SDS raw'!AG35","v":3623703},{"$f":"'[3]2017 Econ Cens SDS raw'!M35","v":39951},{"$f":"'[3]2017 Econ Cens SDS raw'!N35","v":42267},{"$f":"'[3]2017 Econ Cens SDS raw'!X35","v":9176676},2.2599999999999998,8.41,2017]
[{"$f":"'[2]2017 Econ Cens SDS'!B36","v":311423},{"$f":"'[2]2017 Econ Cens SDS'!C36","v":"Dried and dehydrated food manufacturing"},{"$f":"'[3]2017 Econ Cens SDS raw'!AE36","v":22424},{"$f":"'[3]2017 Econ Cens SDS raw'!AF36","v":452461},{"$f":"'[3]2017 Econ Cens SDS raw'!AG36","v":3531326},{"$f":"'[3]2017 Econ Cens SDS raw'!M36","v":61306},{"$f":"'[3]2017 Econ Cens SDS raw'!N36","v":61094},{"$f":"'[3]2017 Econ Cens SDS raw'!X36","v":6647201},2.2599999999999998,8.41,2017]
[{"$f":"'[2]2017 Econ Cens SDS'!B37","v":3115},{"$f":"'[2]2017 Econ Cens SDS'!C37","v":"Dairy product manufacturing"},{"$f":"'[3]2017 Econ Cens SDS raw'!AE37","v":215208},{"$f":"'[3]2017 Econ Cens SDS raw'!AF37","v":5294387},{"$f":"'[3]2017 Econ Cens SDS raw'!AG37","v":81231144},{"$f":"'[3]2017 Econ Cens SDS raw'!M37","v":435757},{"$f":"'[3]2017 Econ Cens SDS raw'!N37","v":779816},{"$f":"'[3]2017 Econ Cens SDS raw'!X37","v":117616943},2.2599999999999998,8.41,2017]
[{"$f":"'[2]2017 Econ Cens SDS'!B38","v":31151},{"$f":"'[2]2017 Econ Cens SDS'!C38","v":"Dairy product (except frozen) manufacturing"},{"$f":"'[3]2017 Econ Cens SDS raw'!AE38","v":186568},{"$f":"'[3]2017 Econ Cens SDS raw'!AF38","v":4631884},{"$f":"'[3]2017 Econ Cens SDS raw'!AG38","v":76817642},{"$f":"'[3]2017 Econ Cens SDS raw'!M38","v":412620},{"$f":"'[3]2017 Econ Cens SDS raw'!N38","v":699790},{"$f":"'[3]2017 Econ Cens SDS raw'!X38","v":110193798},2.2599999999999998,8.41,2017]
[{"$f":"'[2]2017 Econ Cens SDS'!B39","v":311511},{"$f":"'[2]2017 Econ Cens SDS'!C39","v":"Fluid milk manufacturing"},{"$f":"'[3]2017 Econ Cens SDS raw'!AE39","v":68757},{"$f":"'[3]2017 Econ Cens SDS raw'!AF39","v":1767162},{"$f":"'[3]2017 Econ Cens SDS raw'!AG39","v":25948852},{"$f":"'[3]2017 Econ Cens SDS raw'!M39","v":134725},{"$f":"'[3]2017 Econ Cens SDS raw'!N39","v":273725},{"$f":"'[3]2017 Econ Cens SDS raw'!X39","v":38339328},2.2599999999999998,8.41,2017]
[{"$f":"'[2]2017 Econ Cens SDS'!B40","v":311512},{"$f":"'[2]2017 Econ Cens SDS'!C40","v":"Creamery butter manufacturing"},{"$f":"'[3]2017 Econ Cens SDS raw'!AE40","v":6348},{"$f":"'[3]2017 Econ Cens SDS raw'!AF40","v":134640},{"$f":"'[3]2017 Econ Cens SDS raw'!AG40","v":5762327},{"$f":"'[3]2017 Econ Cens SDS raw'!M40","v":31759},{"$f":"'[3]2017 Econ Cens SDS raw'!N40","v":35836},{"$f":"'[3]2017 Econ Cens SDS raw'!X40","v":6519748},2.2599999999999998,8.41,2017]
[{"$f":"'[2]2017 Econ Cens SDS'!B41","v":311513},{"$f":"'[2]2017 Econ Cens SDS'!C41","v":"Cheese manufacturing"},{"$f":"'[3]2017 Econ Cens SDS raw'!AE41","v":86688},{"$f":"'[3]2017 Econ Cens SDS raw'!AF41","v":2095827},{"$f":"'[3]2017 Econ Cens SDS raw'!AG41","v":35616394},{"$f":"'[3]2017 Econ Cens SDS raw'!M41","v":154246},{"$f":"'[3]2017 Econ Cens SDS raw'!N41","v":272090},{"$f":"'[3]2017 Econ Cens SDS raw'!X41","v":47857628},2.2599999999999998,8.41,2017]
[{"$f":"'[2]2017 Econ Cens SDS'!B42","v":311514},{"$f":"'[2]2017 Econ Cens SDS'!C42","v":"Dry, condensed, and evaporated dairy product manufacturing"},{"$f":"'[3]2017 Econ Cens SDS raw'!AE42","v":24775},{"$f":"'[3]2017 Econ Cens SDS raw'!AF42","v":634255},{"$f":"'[3]2017 Econ Cens SDS raw'!AG42","v":9490069},{"$f":"'[3]2017 Econ Cens SDS raw'!M42","v":91890},{"$f":"'[3]2017 Econ Cens SDS raw'!N42","v":118139},{"$f":"'[3]2017 Econ Cens SDS raw'!X42","v":17477094},2.2599999999999998,8.41,2017]
[{"$f":"'[2]2017 Econ Cens SDS'!B43","v":31152},{"$f":"'[2]2017 Econ Cens SDS'!C43","v":"Ice cream and frozen dessert manufacturing"},{"$f":"'[3]2017 Econ Cens SDS raw'!AE43","v":28640},{"$f":"'[3]2017 Econ Cens SDS raw'!AF43","v":662503},{"$f":"'[3]2017 Econ Cens SDS raw'!AG43","v":4413502},{"$f":"'[3]2017 Econ Cens SDS raw'!M43","v":23137},{"$f":"'[3]2017 Econ Cens SDS raw'!N43","v":80026},{"$f":"'[3]2017 Econ Cens SDS raw'!X43","v":7423145},2.2599999999999998,8.41,2017]
[{"$f":"'[2]2017 Econ Cens SDS'!B44","v":311520},{"$f":"'[2]2017 Econ Cens SDS'!C44","v":"Ice cream and frozen dessert manufacturing"},{"$f":"'[3]2017 Econ Cens SDS raw'!AE44","v":28640},{"$f":"'[3]2017 Econ Cens SDS raw'!AF44","v":662503},{"$f":"'[3]2017 Econ Cens SDS raw'!AG44","v":4413502},{"$f":"'[3]2017 Econ Cens SDS raw'!M44","v":23137},{"$f":"'[3]2017 Econ Cens SDS raw'!N44","v":80026},{"$f":"'[3]2017 Econ Cens SDS raw'!X44","v":7423145},2.2599999999999998,8.41,2017]
[{"$f":"'[2]2017 Econ Cens SDS'!B45","v":3116},{"$f":"'[2]2017 Econ Cens SDS'!C45","v":"Animal slaughtering and processing"},{"$f":"'[3]2017 Econ Cens SDS raw'!AE45","v":914698},{"$f":"'[3]2017 Econ Cens SDS raw'!AF45","v":15453738},{"$f":"'[3]2017 Econ Cens SDS raw'!AG45","v":151884059},{"$f":"'[3]2017 Econ Cens SDS raw'!M45","v":602094},{"$f":"'[3]2017 Econ Cens SDS raw'!N45","v":1353159},{"$f":"'[3]2017 Econ Cens SDS raw'!X45","v":217170155},2.2599999999999998,8.41,2017]
[{"$f":"'[2]2017 Econ Cens SDS'!B46","v":31161},{"$f":"'[2]2017 Econ Cens SDS'!C46","v":"Animal slaughtering and processing"},{"$f":"'[3]2017 Econ Cens SDS raw'!AE46","v":914698},{"$f":"'[3]2017 Econ Cens SDS raw'!AF46","v":15453738},{"$f":"'[3]2017 Econ Cens SDS raw'!AG46","v":151884059},{"$f":"'[3]2017 Econ Cens SDS raw'!M46","v":602094},{"$f":"'[3]2017 Econ Cens SDS raw'!N46","v":1353159},{"$f":"'[3]2017 Econ Cens SDS raw'!X46","v":217170155},2.2599999999999998,8.41,2017]
[{"$f":"'[2]2017 Econ Cens SDS'!B47","v":311611},{"$f":"'[2]2017 Econ Cens SDS'!C47","v":"Animal (except poultry) slaughtering"},{"$f":"'[3]2017 Econ Cens SDS raw'!AE47","v":290839},{"$f":"'[3]2017 Econ Cens SDS raw'!AF47","v":5305447},{"$f":"'[3]2017 Econ Cens SDS raw'!AG47","v":72393572},{"$f":"'[3]2017 Econ Cens SDS raw'!M47","v":175423},{"$f":"'[3]2017 Econ Cens SDS raw'!N47","v":384191},{"$f":"'[3]2017 Econ Cens SDS raw'!X47","v":92239658},2.2599999999999998,8.41,2017]
[{"$f":"'[2]2017 Econ Cens SDS'!B48","v":311612},{"$f":"'[2]2017 Econ Cens SDS'!C48","v":"Meat processed from carcasses"},{"$f":"'[3]2017 Econ Cens SDS raw'!AE48","v":187087},{"$f":"'[3]2017 Econ Cens SDS raw'!AF48","v":3437404},{"$f":"'[3]2017 Econ Cens SDS raw'!AG48","v":36117750},{"$f":"'[3]2017 Econ Cens SDS raw'!M48","v":110793},{"$f":"'[3]2017 Econ Cens SDS raw'!N48","v":373679},{"$f":"'[3]2017 Econ Cens SDS raw'!X48","v":52154653},2.2599999999999998,8.41,2017]
[{"$f":"'[2]2017 Econ Cens SDS'!B49","v":311613},{"$f":"'[2]2017 Econ Cens SDS'!C49","v":"Rendering and meat byproduct processing"},{"$f":"'[3]2017 Econ Cens SDS raw'!AE49","v":12541},{"$f":"'[3]2017 Econ Cens SDS raw'!AF49","v":294113},{"$f":"'[3]2017 Econ Cens SDS raw'!AG49","v":2367360},{"$f":"'[3]2017 Econ Cens SDS raw'!M49","v":140362},{"$f":"'[3]2017 Econ Cens SDS raw'!N49","v":73614},{"$f":"'[3]2017 Econ Cens SDS raw'!X49","v":4303469},2.2599999999999998,8.41,2017]
[{"$f":"'[2]2017 Econ Cens SDS'!B50","v":311615},{"$f":"'[2]2017 Econ Cens SDS'!C50","v":"Poultry processing"},{"$f":"'[3]2017 Econ Cens SDS raw'!AE50","v":424231},{"$f":"'[3]2017 Econ Cens SDS raw'!AF50","v":6416774},{"$f":"'[3]2017 Econ Cens SDS raw'!AG50","v":41005377},{"$f":"'[3]2017 Econ Cens SDS raw'!M50","v":175516},{"$f":"'[3]2017 Econ Cens SDS raw'!N50","v":521675},{"$f":"'[3]2017 Econ Cens SDS raw'!X50","v":68472375},2.2599999999999998,8.41,2017]
[{"$f":"'[2]2017 Econ Cens SDS'!B51","v":3117},{"$f":"'[2]2017 Econ Cens SDS'!C51","v":"Seafood product preparation and packaging"},{"$f":"'[3]2017 Econ Cens SDS raw'!AE51","v":55325},{"$f":"'[3]2017 Econ Cens SDS raw'!AF51","v":1058659},{"$f":"'[3]2017 Econ Cens SDS raw'!AG51","v":8816898},{"$f":"'[3]2017 Econ Cens SDS raw'!M51","v":130029},{"$f":"'[3]2017 Econ Cens SDS raw'!N51","v":90945},{"$f":"'[3]2017 Econ Cens SDS raw'!X51","v":13721650},2.2599999999999998,8.41,{"$f":"K3","v":2017}]
[{"$f":"'[2]2017 Econ Cens SDS'!B52","v":31171},{"$f":"'[2]2017 Econ Cens SDS'!C52","v":"Seafood product preparation and packaging"},{"$f":"'[3]2017 Econ Cens SDS raw'!AE52","v":55325},{"$f":"'[3]2017 Econ Cens SDS raw'!AF52","v":1058659},{"$f":"'[3]2017 Econ Cens SDS raw'!AG52","v":8816898},{"$f":"'[3]2017 Econ Cens SDS raw'!M52","v":130029},{"$f":"'[3]2017 Econ Cens SDS raw'!N52","v":90945},{"$f":"'[3]2017 Econ Cens SDS raw'!X52","v":13721650},2.2599999999999998,8.41,2017]
[{"$f":"'[2]2017 Econ Cens SDS'!B53","v":311710},{"$f":"'[2]2017 Econ Cens SDS'!C53","v":"Seafood product preparation and packaging"},{"$f":"'[3]2017 Econ Cens SDS raw'!AE53","v":55325},{"$f":"'[3]2017 Econ Cens SDS raw'!AF53","v":1058659},{"$f":"'[3]2017 Econ Cens SDS raw'!AG53","v":8816898},{"$f":"'[3]2017 Econ Cens SDS raw'!M53","v":130029},{"$f":"'[3]2017 Econ Cens SDS raw'!N53","v":90945},{"$f":"'[3]2017 Econ Cens SDS raw'!X53","v":13721650},2.2599999999999998,8.41,2017]
[{"$f":"'[2]2017 Econ Cens SDS'!B54","v":3118},{"$f":"'[2]2017 Econ Cens SDS'!C54","v":"Bakeries and tortilla manufacturing"},{"$f":"'[3]2017 Econ Cens SDS raw'!AE54","v":372268},{"$f":"'[3]2017 Econ Cens SDS raw'!AF54","v":6938090},{"$f":"'[3]2017 Econ Cens SDS raw'!AG54","v":29418725},{"$f":"'[3]2017 Econ Cens SDS raw'!M54","v":317666},{"$f":"'[3]2017 Econ Cens SDS raw'!N54","v":619269},{"$f":"'[3]2017 Econ Cens SDS raw'!X54","v":69298893},2.2599999999999998,8.41,2017]
[{"$f":"'[2]2017 Econ Cens SDS'!B55","v":31181},{"$f":"'[2]2017 Econ Cens SDS'!C55","v":"Bread and bakery product manufacturing"},{"$f":"'[3]2017 Econ Cens SDS raw'!AE55","v":264581},{"$f":"'[3]2017 Econ Cens SDS raw'!AF55","v":4844902},{"$f":"'[3]2017 Econ Cens SDS raw'!AG55","v":15750972},{"$f":"'[3]2017 Econ Cens SDS raw'!M55","v":218402},{"$f":"'[3]2017 Econ Cens SDS raw'!N55","v":392634},{"$f":"'[3]2017 Econ Cens SDS raw'!X55","v":42268017},2.2599999999999998,8.41,2017]
[{"$f":"'[2]2017 Econ Cens SDS'!B56","v":311811},{"$f":"'[2]2017 Econ Cens SDS'!C56","v":"Retail bakeries"},{"$f":"'[3]2017 Econ Cens SDS raw'!AE56","v":67522},{"$f":"'[3]2017 Econ Cens SDS raw'!AF56","v":941971},{"$f":"'[3]2017 Econ Cens SDS raw'!AG56","v":1447305},{"$f":"'[3]2017 Econ Cens SDS raw'!M56","v":39333},{"$f":"'[3]2017 Econ Cens SDS raw'!N56","v":61872},{"$f":"'[3]2017 Econ Cens SDS raw'!X56","v":4227153},2.2599999999999998,8.41,2017]
[{"$f":"'[2]2017 Econ Cens SDS'!B57","v":311812},{"$f":"'[2]2017 Econ Cens SDS'!C57","v":"Commercial bakeries"},{"$f":"'[3]2017 Econ Cens SDS raw'!AE57","v":159395},{"$f":"'[3]2017 Econ Cens SDS raw'!AF57","v":3321966},{"$f":"'[3]2017 Econ Cens SDS raw'!AG57","v":11431725},{"$f":"'[3]2017 Econ Cens SDS raw'!M57","v":154457},{"$f":"'[3]2017 Econ Cens SDS raw'!N57","v":274686},{"$f":"'[3]2017 Econ Cens SDS raw'!X57","v":31842929},2.2599999999999998,8.41,2017]
[{"$f":"'[2]2017 Econ Cens SDS'!B58","v":311813},{"$f":"'[2]2017 Econ Cens SDS'!C58","v":"Frozen cakes, pies, and other pastries manufacturing"},{"$f":"'[3]2017 Econ Cens SDS raw'!AE58","v":37664},{"$f":"'[3]2017 Econ Cens SDS raw'!AF58","v":580965},{"$f":"'[3]2017 Econ Cens SDS raw'!AG58","v":2871942},{"$f":"'[3]2017 Econ Cens SDS raw'!M58","v":24612},{"$f":"'[3]2017 Econ Cens SDS raw'!N58","v":56076},{"$f":"'[3]2017 Econ Cens SDS raw'!X58","v":6197935},2.2599999999999998,8.41,2017]
[{"$f":"'[2]2017 Econ Cens SDS'!B59","v":31182},{"$f":"'[2]2017 Econ Cens SDS'!C59","v":"Cookie, cracker, and pasta manufacturing"},{"$f":"'[3]2017 Econ Cens SDS raw'!AE59","v":71387},{"$f":"'[3]2017 Econ Cens SDS raw'!AF59","v":1582750},{"$f":"'[3]2017 Econ Cens SDS raw'!AG59","v":11831155},{"$f":"'[3]2017 Econ Cens SDS raw'!M59","v":73000},{"$f":"'[3]2017 Econ Cens SDS raw'!N59","v":179007},{"$f":"'[3]2017 Econ Cens SDS raw'!X59","v":23047058},2.2599999999999998,8.41,2017]
[{"$f":"'[2]2017 Econ Cens SDS'!B60","v":311821},{"$f":"'[2]2017 Econ Cens SDS'!C60","v":"Cookie and cracker manufacturing"},{"$f":"'[3]2017 Econ Cens SDS raw'!AE60","v":42352},{"$f":"'[3]2017 Econ Cens SDS raw'!AF60","v":963513},{"$f":"'[3]2017 Econ Cens SDS raw'!AG60","v":5116264},{"$f":"'[3]2017 Econ Cens SDS raw'!M60","v":44387},{"$f":"'[3]2017 Econ Cens SDS raw'!N60","v":75611},{"$f":"'[3]2017 Econ Cens SDS raw'!X60","v":10997933},2.2599999999999998,8.41,2017]
[{"$f":"'[2]2017 Econ Cens SDS'!B61","v":311824},{"$f":"'[2]2017 Econ Cens SDS'!C61","v":"Dry pasta, dough, and flour mixes manufacturing from purchased flour"},{"$f":"'[3]2017 Econ Cens SDS raw'!AE61","v":29035},{"$f":"'[3]2017 Econ Cens SDS raw'!AF61","v":619237},{"$f":"'[3]2017 Econ Cens SDS raw'!AG61","v":6714891},{"$f":"'[3]2017 Econ Cens SDS raw'!M61","v":28613},{"$f":"'[3]2017 Econ Cens SDS raw'!N61","v":103396},{"$f":"'[3]2017 Econ Cens SDS raw'!X61","v":12049125},2.2599999999999998,8.41,2017]
[{"$f":"'[2]2017 Econ Cens SDS'!B62","v":31183},{"$f":"'[2]2017 Econ Cens SDS'!C62","v":"Tortilla manufacturing"},{"$f":"'[3]2017 Econ Cens SDS raw'!AE62","v":36300},{"$f":"'[3]2017 Econ Cens SDS raw'!AF62","v":510438},{"$f":"'[3]2017 Econ Cens SDS raw'!AG62","v":1836598},{"$f":"'[3]2017 Econ Cens SDS raw'!M62","v":26264},{"$f":"'[3]2017 Econ Cens SDS raw'!N62","v":47628},{"$f":"'[3]2017 Econ Cens SDS raw'!X62","v":3983818},2.2599999999999998,8.41,2017]
[{"$f":"'[2]2017 Econ Cens SDS'!B63","v":311830},{"$f":"'[2]2017 Econ Cens SDS'!C63","v":"Tortilla manufacturing"},{"$f":"'[3]2017 Econ Cens SDS raw'!AE63","v":36300},{"$f":"'[3]2017 Econ Cens SDS raw'!AF63","v":510438},{"$f":"'[3]2017 Econ Cens SDS raw'!AG63","v":1836598},{"$f":"'[3]2017 Econ Cens SDS raw'!M63","v":26264},{"$f":"'[3]2017 Econ Cens SDS raw'!N63","v":47628},{"$f":"'[3]2017 Econ Cens SDS raw'!X63","v":3983818},2.2599999999999998,8.41,2017]
[{"$f":"'[2]2017 Econ Cens SDS'!B64","v":3119},{"$f":"'[2]2017 Econ Cens SDS'!C64","v":"Other food manufacturing"},{"$f":"'[3]2017 Econ Cens SDS raw'!AE64","v":311635},{"$f":"'[3]2017 Econ Cens SDS raw'!AF64","v":6453747},{"$f":"'[3]2017 Econ Cens SDS raw'!AG64","v":58305358},{"$f":"'[3]2017 Econ Cens SDS raw'!M64","v":310995},{"$f":"'[3]2017 Econ Cens SDS raw'!N64","v":581407},{"$f":"'[3]2017 Econ Cens SDS raw'!X64","v":114580291},2.2599999999999998,8.41,2017]
[{"$f":"'[2]2017 Econ Cens SDS'!B65","v":31191},{"$f":"'[2]2017 Econ Cens SDS'!C65","v":"Snack food manufacturing"},{"$f":"'[3]2017 Econ Cens SDS raw'!AE65","v":92915},{"$f":"'[3]2017 Econ Cens SDS raw'!AF65","v":2199633},{"$f":"'[3]2017 Econ Cens SDS raw'!AG65","v":18701034},{"$f":"'[3]2017 Econ Cens SDS raw'!M65","v":126416},{"$f":"'[3]2017 Econ Cens SDS raw'!N65","v":171559},{"$f":"'[3]2017 Econ Cens SDS raw'!X65","v":39499596},2.2599999999999998,8.41,2017]
[{"$f":"'[2]2017 Econ Cens SDS'!B66","v":311911},{"$f":"'[2]2017 Econ Cens SDS'!C66","v":"Roasted nuts and peanut butter manufacturing"},{"$f":"'[3]2017 Econ Cens SDS raw'!AE66","v":32027},{"$f":"'[3]2017 Econ Cens SDS raw'!AF66","v":671806},{"$f":"'[3]2017 Econ Cens SDS raw'!AG66","v":11557635},{"$f":"'[3]2017 Econ Cens SDS raw'!M66","v":28768},{"$f":"'[3]2017 Econ Cens SDS raw'!N66","v":75514},{"$f":"'[3]2017 Econ Cens SDS raw'!X66","v":15389434},2.2599999999999998,8.41,2017]
[{"$f":"'[2]2017 Econ Cens SDS'!B67","v":311919},{"$f":"'[2]2017 Econ Cens SDS'!C67","v":"Other snack food manufacturing"},{"$f":"'[3]2017 Econ Cens SDS raw'!AE67","v":60888},{"$f":"'[3]2017 Econ Cens SDS raw'!AF67","v":1527827},{"$f":"'[3]2017 Econ Cens SDS raw'!AG67","v":7143399},{"$f":"'[3]2017 Econ Cens SDS raw'!M67","v":97648},{"$f":"'[3]2017 Econ Cens SDS raw'!N67","v":96045},{"$f":"'[3]2017 Econ Cens SDS raw'!X67","v":24110162},2.2599999999999998,8.41,2017]
[{"$f":"'[2]2017 Econ Cens SDS'!B68","v":31192},{"$f":"'[2]2017 Econ Cens SDS'!C68","v":"Coffee and tea manufacturing"},{"$f":"'[3]2017 Econ Cens SDS raw'!AE68","v":24499},{"$f":"'[3]2017 Econ Cens SDS raw'!AF68","v":538813},{"$f":"'[3]2017 Econ Cens SDS raw'!AG68","v":8867831},{"$f":"'[3]2017 Econ Cens SDS raw'!M68","v":27107},{"$f":"'[3]2017 Econ Cens SDS raw'!N68","v":54511},{"$f":"'[3]2017 Econ Cens SDS raw'!X68","v":13616484},2.2599999999999998,8.41,2017]
[{"$f":"'[2]2017 Econ Cens SDS'!B69","v":311920},{"$f":"'[2]2017 Econ Cens SDS'!C69","v":"Coffee and tea manufacturing"},{"$f":"'[3]2017 Econ Cens SDS raw'!AE69","v":24499},{"$f":"'[3]2017 Econ Cens SDS raw'!AF69","v":538813},{"$f":"'[3]2017 Econ Cens SDS raw'!AG69","v":8867831},{"$f":"'[3]2017 Econ Cens SDS raw'!M69","v":27107},{"$f":"'[3]2017 Econ Cens SDS raw'!N69","v":54511},{"$f":"'[3]2017 Econ Cens SDS raw'!X69","v":13616484},2.2599999999999998,8.41,2017]
[{"$f":"'[2]2017 Econ Cens SDS'!B70","v":31193},{"$f":"'[2]2017 Econ Cens SDS'!C70","v":"Flavoring syrup and concentrate manufacturing"},{"$f":"'[3]2017 Econ Cens SDS raw'!AE70","v":10338},{"$f":"'[3]2017 Econ Cens SDS raw'!AF70","v":263203},{"$f":"'[3]2017 Econ Cens SDS raw'!AG70","v":3120924},{"$f":"'[3]2017 Econ Cens SDS raw'!M70","v":14794},{"$f":"'[3]2017 Econ Cens SDS raw'!N70","v":34638},{"$f":"'[3]2017 Econ Cens SDS raw'!X70","v":11535252},2.2599999999999998,8.41,2017]
[{"$f":"'[2]2017 Econ Cens SDS'!B71","v":311930},{"$f":"'[2]2017 Econ Cens SDS'!C71","v":"Flavoring syrup and concentrate manufacturing"},{"$f":"'[3]2017 Econ Cens SDS raw'!AE71","v":10338},{"$f":"'[3]2017 Econ Cens SDS raw'!AF71","v":263203},{"$f":"'[3]2017 Econ Cens SDS raw'!AG71","v":3120924},{"$f":"'[3]2017 Econ Cens SDS raw'!M71","v":14794},{"$f":"'[3]2017 Econ Cens SDS raw'!N71","v":34638},{"$f":"'[3]2017 Econ Cens SDS raw'!X71","v":11535252},2.2599999999999998,8.41,2017]
[{"$f":"'[2]2017 Econ Cens SDS'!B72","v":31194},{"$f":"'[2]2017 Econ Cens SDS'!C72","v":"Seasoning and dressing manufacturing"},{"$f":"'[3]2017 Econ Cens SDS raw'!AE72","v":49417},{"$f":"'[3]2017 Econ Cens SDS raw'!AF72","v":1136656},{"$f":"'[3]2017 Econ Cens SDS raw'!AG72","v":11282268},{"$f":"'[3]2017 Econ Cens SDS raw'!M72","v":43167},{"$f":"'[3]2017 Econ Cens SDS raw'!N72","v":99169},{"$f":"'[3]2017 Econ Cens SDS raw'!X72","v":21609194},2.2599999999999998,8.41,2017]
[{"$f":"'[2]2017 Econ Cens SDS'!B73","v":311941},{"$f":"'[2]2017 Econ Cens SDS'!C73","v":"Mayonnaise, dressing, and other prepared sauce manufacturing"},{"$f":"'[3]2017 Econ Cens SDS raw'!AE73","v":24047},{"$f":"'[3]2017 Econ Cens SDS raw'!AF73","v":518816},{"$f":"'[3]2017 Econ Cens SDS raw'!AG73","v":5114483},{"$f":"'[3]2017 Econ Cens SDS raw'!M73","v":20382},{"$f":"'[3]2017 Econ Cens SDS raw'!N73","v":51965},{"$f":"'[3]2017 Econ Cens SDS raw'!X73","v":10353248},2.2599999999999998,8.41,2017]
[{"$f":"'[2]2017 Econ Cens SDS'!B74","v":311942},{"$f":"'[2]2017 Econ Cens SDS'!C74","v":"Spice and extract manufacturing"},{"$f":"'[3]2017 Econ Cens SDS raw'!AE74","v":25370},{"$f":"'[3]2017 Econ Cens SDS raw'!AF74","v":617840},{"$f":"'[3]2017 Econ Cens SDS raw'!AG74","v":6167785},{"$f":"'[3]2017 Econ Cens SDS raw'!M74","v":22785},{"$f":"'[3]2017 Econ Cens SDS raw'!N74","v":47204},{"$f":"'[3]2017 Econ Cens SDS raw'!X74","v":11255946},2.2599999999999998,8.41,2017]
[{"$f":"'[2]2017 Econ Cens SDS'!B75","v":31199},{"$f":"'[2]2017 Econ Cens SDS'!C75","v":"All other food manufacturing"},{"$f":"'[3]2017 Econ Cens SDS raw'!AE75","v":134466},{"$f":"'[3]2017 Econ Cens SDS raw'!AF75","v":2315442},{"$f":"'[3]2017 Econ Cens SDS raw'!AG75","v":16333301},{"$f":"'[3]2017 Econ Cens SDS raw'!M75","v":99511},{"$f":"'[3]2017 Econ Cens SDS raw'!N75","v":221530},{"$f":"'[3]2017 Econ Cens SDS raw'!X75","v":28319765},2.2599999999999998,8.41,{"$f":"K3","v":2017}]
[{"$f":"'[2]2017 Econ Cens SDS'!B76","v":311991},{"$f":"'[2]2017 Econ Cens SDS'!C76","v":"Perishable prepared food manufacturing"},{"$f":"'[3]2017 Econ Cens SDS raw'!AE76","v":95809},{"$f":"'[3]2017 Econ Cens SDS raw'!AF76","v":1533024},{"$f":"'[3]2017 Econ Cens SDS raw'!AG76","v":9357915},{"$f":"'[3]2017 Econ Cens SDS raw'!M76","v":41836},{"$f":"'[3]2017 Econ Cens SDS raw'!N76","v":115885},{"$f":"'[3]2017 Econ Cens SDS raw'!X76","v":15810647},2.2599999999999998,8.41,2017]
[{"$f":"'[2]2017 Econ Cens SDS'!B77","v":311999},{"$f":"'[2]2017 Econ Cens SDS'!C77","v":"All other miscellaneous food manufacturing"},{"$f":"'[3]2017 Econ Cens SDS raw'!AE77","v":38657},{"$f":"'[3]2017 Econ Cens SDS raw'!AF77","v":782418},{"$f":"'[3]2017 Econ Cens SDS raw'!AG77","v":6975386},{"$f":"'[3]2017 Econ Cens SDS raw'!M77","v":57675},{"$f":"'[3]2017 Econ Cens SDS raw'!N77","v":105645},{"$f":"'[3]2017 Econ Cens SDS raw'!X77","v":12509118},2.2599999999999998,8.41,2017]
[{"$f":"'[2]2017 Econ Cens SDS'!B78","v":312},{"$f":"'[2]2017 Econ Cens SDS'!C78","v":"Beverage and tobacco product manufacturing"},{"$f":"'[3]2017 Econ Cens SDS raw'!AE78","v":219556},{"$f":"'[3]2017 Econ Cens SDS raw'!AF78","v":5857482},{"$f":"'[3]2017 Econ Cens SDS raw'!AG78","v":56656404},{"$f":"'[3]2017 Econ Cens SDS raw'!M78","v":367624},{"$f":"'[3]2017 Econ Cens SDS raw'!N78","v":808942},{"$f":"'[3]2017 Econ Cens SDS raw'!X78","v":155715065},2.68,21.22,2017]
[{"$f":"'[2]2017 Econ Cens SDS'!B79","v":3121},{"$f":"'[2]2017 Econ Cens SDS'!C79","v":"Beverage manufacturing"},{"$f":"'[3]2017 Econ Cens SDS raw'!AE79","v":200737},{"$f":"'[3]2017 Econ Cens SDS raw'!AF79","v":5376019},{"$f":"'[3]2017 Econ Cens SDS raw'!AG79","v":48566831},{"$f":"'[3]2017 Econ Cens SDS raw'!M79","v":329895},{"$f":"'[3]2017 Econ Cens SDS raw'!N79","v":744996},{"$f":"'[3]2017 Econ Cens SDS raw'!X79","v":108180455},2.68,21.22,2017]
[{"$f":"'[2]2017 Econ Cens SDS'!B80","v":31211},{"$f":"'[2]2017 Econ Cens SDS'!C80","v":"Soft drink and ice manufacturing"},{"$f":"'[3]2017 Econ Cens SDS raw'!AE80","v":93517},{"$f":"'[3]2017 Econ Cens SDS raw'!AF80","v":2496747},{"$f":"'[3]2017 Econ Cens SDS raw'!AG80","v":26080453},{"$f":"'[3]2017 Econ Cens SDS raw'!M80","v":137058},{"$f":"'[3]2017 Econ Cens SDS raw'!N80","v":396339},{"$f":"'[3]2017 Econ Cens SDS raw'!X80","v":44769464},2.68,21.22,2017]
[{"$f":"'[2]2017 Econ Cens SDS'!B81","v":312111},{"$f":"'[2]2017 Econ Cens SDS'!C81","v":"Soft drink manufacturing"},{"$f":"'[3]2017 Econ Cens SDS raw'!AE81","v":76526},{"$f":"'[3]2017 Econ Cens SDS raw'!AF81","v":2061338},{"$f":"'[3]2017 Econ Cens SDS raw'!AG81","v":23474888},{"$f":"'[3]2017 Econ Cens SDS raw'!M81","v":94203},{"$f":"'[3]2017 Econ Cens SDS raw'!N81","v":222893},{"$f":"'[3]2017 Econ Cens SDS raw'!X81","v":37919534},2.68,21.22,2017]
[{"$f":"'[2]2017 Econ Cens SDS'!B82","v":312112},{"$f":"'[2]2017 Econ Cens SDS'!C82","v":"Bottled water manufacturing"},{"$f":"'[3]2017 Econ Cens SDS raw'!AE82","v":13071},{"$f":"'[3]2017 Econ Cens SDS raw'!AF82","v":364561},{"$f":"'[3]2017 Econ Cens SDS raw'!AG82","v":2445741},{"$f":"'[3]2017 Econ Cens SDS raw'!M82","v":26897},{"$f":"'[3]2017 Econ Cens SDS raw'!N82","v":131290},{"$f":"'[3]2017 Econ Cens SDS raw'!X82","v":6100905},2.68,21.22,2017]
[{"$f":"'[2]2017 Econ Cens SDS'!B83","v":312113},{"$f":"'[2]2017 Econ Cens SDS'!C83","v":"Ice manufacturing"},{"$f":"'[3]2017 Econ Cens SDS raw'!AE83","v":3920},{"$f":"'[3]2017 Econ Cens SDS raw'!AF83","v":70848},{"$f":"'[3]2017 Econ Cens SDS raw'!AG83","v":159824},{"$f":"'[3]2017 Econ Cens SDS raw'!M83","v":15958},{"$f":"'[3]2017 Econ Cens SDS raw'!N83","v":42156},{"$f":"'[3]2017 Econ Cens SDS raw'!X83","v":749025},2.68,21.22,2017]
[{"$f":"'[2]2017 Econ Cens SDS'!B84","v":31212},{"$f":"'[2]2017 Econ Cens SDS'!C84","v":"Breweries"},{"$f":"'[3]2017 Econ Cens SDS raw'!AE84","v":55405},{"$f":"'[3]2017 Econ Cens SDS raw'!AF84","v":1548499},{"$f":"'[3]2017 Econ Cens SDS raw'!AG84","v":11070504},{"$f":"'[3]2017 Econ Cens SDS raw'!M84","v":123068},{"$f":"'[3]2017 Econ Cens SDS raw'!N84","v":205851},{"$f":"'[3]2017 Econ Cens SDS raw'!X84","v":30114222},2.68,21.22,2017]
[{"$f":"'[2]2017 Econ Cens SDS'!B85","v":312120},{"$f":"'[2]2017 Econ Cens SDS'!C85","v":"Breweries"},{"$f":"'[3]2017 Econ Cens SDS raw'!AE85","v":55405},{"$f":"'[3]2017 Econ Cens SDS raw'!AF85","v":1548499},{"$f":"'[3]2017 Econ Cens SDS raw'!AG85","v":11070504},{"$f":"'[3]2017 Econ Cens SDS raw'!M85","v":123068},{"$f":"'[3]2017 Econ Cens SDS raw'!N85","v":205851},{"$f":"'[3]2017 Econ Cens SDS raw'!X85","v":30114222},2.68,21.22,2017]
[{"$f":"'[2]2017 Econ Cens SDS'!B86","v":31213},{"$f":"'[2]2017 Econ Cens SDS'!C86","v":"Wineries"},{"$f":"'[3]2017 Econ Cens SDS raw'!AE86","v":37160},{"$f":"'[3]2017 Econ Cens SDS raw'!AF86","v":956917},{"$f":"'[3]2017 Econ Cens SDS raw'!AG86","v":7736165},{"$f":"'[3]2017 Econ Cens SDS raw'!M86","v":38961},{"$f":"'[3]2017 Econ Cens SDS raw'!N86","v":113140},{"$f":"'[3]2017 Econ Cens SDS raw'!X86","v":20632708},2.68,21.22,2017]
[{"$f":"'[2]2017 Econ Cens SDS'!B87","v":312130},{"$f":"'[2]2017 Econ Cens SDS'!C87","v":"Wineries"},{"$f":"'[3]2017 Econ Cens SDS raw'!AE87","v":37160},{"$f":"'[3]2017 Econ Cens SDS raw'!AF87","v":956917},{"$f":"'[3]2017 Econ Cens SDS raw'!AG87","v":7736165},{"$f":"'[3]2017 Econ Cens SDS raw'!M87","v":38961},{"$f":"'[3]2017 Econ Cens SDS raw'!N87","v":113140},{"$f":"'[3]2017 Econ Cens SDS raw'!X87","v":20632708},2.68,21.22,2017]
[{"$f":"'[2]2017 Econ Cens SDS'!B88","v":31214},{"$f":"'[2]2017 Econ Cens SDS'!C88","v":"Distilleries"},{"$f":"'[3]2017 Econ Cens SDS raw'!AE88","v":14655},{"$f":"'[3]2017 Econ Cens SDS raw'!AF88","v":373856},{"$f":"'[3]2017 Econ Cens SDS raw'!AG88","v":3679709},{"$f":"'[3]2017 Econ Cens SDS raw'!M88","v":30808},{"$f":"'[3]2017 Econ Cens SDS raw'!N88","v":29666},{"$f":"'[3]2017 Econ Cens SDS raw'!X88","v":12664061},2.68,21.22,2017]
[{"$f":"'[2]2017 Econ Cens SDS'!B89","v":312140},{"$f":"'[2]2017 Econ Cens SDS'!C89","v":"Distilleries"},{"$f":"'[3]2017 Econ Cens SDS raw'!AE89","v":14655},{"$f":"'[3]2017 Econ Cens SDS raw'!AF89","v":373856},{"$f":"'[3]2017 Econ Cens SDS raw'!AG89","v":3679709},{"$f":"'[3]2017 Econ Cens SDS raw'!M89","v":30808},{"$f":"'[3]2017 Econ Cens SDS raw'!N89","v":29666},{"$f":"'[3]2017 Econ Cens SDS raw'!X89","v":12664061},2.68,21.22,2017]
[{"$f":"'[2]2017 Econ Cens SDS'!B90","v":3122},{"$f":"'[2]2017 Econ Cens SDS'!C90","v":"Tobacco manufacturing"},{"$f":"'[3]2017 Econ Cens SDS raw'!AE90","v":18819},{"$f":"'[3]2017 Econ Cens SDS raw'!AF90","v":481463},{"$f":"'[3]2017 Econ Cens SDS raw'!AG90","v":8089573},{"$f":"'[3]2017 Econ Cens SDS raw'!M90","v":37729},{"$f":"'[3]2017 Econ Cens SDS raw'!N90","v":63946},{"$f":"'[3]2017 Econ Cens SDS raw'!X90","v":47534610},2.68,21.22,2017]
[{"$f":"'[2]2017 Econ Cens SDS'!B91","v":31223},{"$f":"'[2]2017 Econ Cens SDS'!C91","v":"Tobacco manufacturing"},{"$f":"'[3]2017 Econ Cens SDS raw'!AE91","v":18819},{"$f":"'[3]2017 Econ Cens SDS raw'!AF91","v":481463},{"$f":"'[3]2017 Econ Cens SDS raw'!AG91","v":8089573},{"$f":"'[3]2017 Econ Cens SDS raw'!M91","v":37729},{"$f":"'[3]2017 Econ Cens SDS raw'!N91","v":63946},{"$f":"'[3]2017 Econ Cens SDS raw'!X91","v":47534610},2.68,21.22,2017]
[{"$f":"'[2]2017 Econ Cens SDS'!B92","v":312230},{"$f":"'[2]2017 Econ Cens SDS'!C92","v":"Tobacco manufacturing"},{"$f":"'[3]2017 Econ Cens SDS raw'!AE92","v":18819},{"$f":"'[3]2017 Econ Cens SDS raw'!AF92","v":481463},{"$f":"'[3]2017 Econ Cens SDS raw'!AG92","v":8089573},{"$f":"'[3]2017 Econ Cens SDS raw'!M92","v":37729},{"$f":"'[3]2017 Econ Cens SDS raw'!N92","v":63946},{"$f":"'[3]2017 Econ Cens SDS raw'!X92","v":47534610},2.68,21.22,2017]
[{"$f":"'[2]2017 Econ Cens SDS'!B93","v":313},{"$f":"'[2]2017 Econ Cens SDS'!C93","v":"Textile mills"},{"$f":"'[3]2017 Econ Cens SDS raw'!AE93","v":154924},{"$f":"'[3]2017 Econ Cens SDS raw'!AF93","v":2733944},{"$f":"'[3]2017 Econ Cens SDS raw'!AG93","v":16397788},{"$f":"'[3]2017 Econ Cens SDS raw'!M93","v":190505},{"$f":"'[3]2017 Econ Cens SDS raw'!N93","v":606591},{"$f":"'[3]2017 Econ Cens SDS raw'!X93","v":27905332},3.0700000000000003,8.07,2017]
[{"$f":"'[2]2017 Econ Cens SDS'!B94","v":3131},{"$f":"'[2]2017 Econ Cens SDS'!C94","v":"Fiber, yarn, and thread mills"},{"$f":"'[3]2017 Econ Cens SDS raw'!AE94","v":39766},{"$f":"'[3]2017 Econ Cens SDS raw'!AF94","v":646771},{"$f":"'[3]2017 Econ Cens SDS raw'!AG94","v":4820782},{"$f":"'[3]2017 Econ Cens SDS raw'!M94","v":29457},{"$f":"'[3]2017 Econ Cens SDS raw'!N94","v":231072},{"$f":"'[3]2017 Econ Cens SDS raw'!X94","v":7226716},3.0700000000000003,8.07,2017]
[{"$f":"'[2]2017 Econ Cens SDS'!B95","v":31311},{"$f":"'[2]2017 Econ Cens SDS'!C95","v":"Fiber, yarn, and thread mills"},{"$f":"'[3]2017 Econ Cens SDS raw'!AE95","v":39766},{"$f":"'[3]2017 Econ Cens SDS raw'!AF95","v":646771},{"$f":"'[3]2017 Econ Cens SDS raw'!AG95","v":4820782},{"$f":"'[3]2017 Econ Cens SDS raw'!M95","v":29457},{"$f":"'[3]2017 Econ Cens SDS raw'!N95","v":231072},{"$f":"'[3]2017 Econ Cens SDS raw'!X95","v":7226716},3.0700000000000003,8.07,2017]
[{"$f":"'[2]2017 Econ Cens SDS'!B96","v":313110},{"$f":"'[2]2017 Econ Cens SDS'!C96","v":"Fiber, yarn, and thread mills"},{"$f":"'[3]2017 Econ Cens SDS raw'!AE96","v":39766},{"$f":"'[3]2017 Econ Cens SDS raw'!AF96","v":646771},{"$f":"'[3]2017 Econ Cens SDS raw'!AG96","v":4820782},{"$f":"'[3]2017 Econ Cens SDS raw'!M96","v":29457},{"$f":"'[3]2017 Econ Cens SDS raw'!N96","v":231072},{"$f":"'[3]2017 Econ Cens SDS raw'!X96","v":7226716},3.0700000000000003,8.07,2017]
[{"$f":"'[2]2017 Econ Cens SDS'!B97","v":3132},{"$f":"'[2]2017 Econ Cens SDS'!C97","v":"Fabric mills"},{"$f":"'[3]2017 Econ Cens SDS raw'!AE97","v":73645},{"$f":"'[3]2017 Econ Cens SDS raw'!AF97","v":1357390},{"$f":"'[3]2017 Econ Cens SDS raw'!AG97","v":7181572},{"$f":"'[3]2017 Econ Cens SDS raw'!M97","v":83191},{"$f":"'[3]2017 Econ Cens SDS raw'!N97","v":272088},{"$f":"'[3]2017 Econ Cens SDS raw'!X97","v":13368804},3.0700000000000003,8.07,2017]
[{"$f":"'[2]2017 Econ Cens SDS'!B98","v":31321},{"$f":"'[2]2017 Econ Cens SDS'!C98","v":"Broadwoven fabric mills"},{"$f":"'[3]2017 Econ Cens SDS raw'!AE98","v":28951},{"$f":"'[3]2017 Econ Cens SDS raw'!AF98","v":501541},{"$f":"'[3]2017 Econ Cens SDS raw'!AG98","v":2396544},{"$f":"'[3]2017 Econ Cens SDS raw'!M98","v":19628},{"$f":"'[3]2017 Econ Cens SDS raw'!N98","v":99451},{"$f":"'[3]2017 Econ Cens SDS raw'!X98","v":3895760},3.0700000000000003,8.07,2017]
[{"$f":"'[2]2017 Econ Cens SDS'!B99","v":313210},{"$f":"'[2]2017 Econ Cens SDS'!C99","v":"Broadwoven fabric mills"},{"$f":"'[3]2017 Econ Cens SDS raw'!AE99","v":28951},{"$f":"'[3]2017 Econ Cens SDS raw'!AF99","v":501541},{"$f":"'[3]2017 Econ Cens SDS raw'!AG99","v":2396544},{"$f":"'[3]2017 Econ Cens SDS raw'!M99","v":19628},{"$f":"'[3]2017 Econ Cens SDS raw'!N99","v":99451},{"$f":"'[3]2017 Econ Cens SDS raw'!X99","v":3895760},3.0700000000000003,8.07,2017]
[{"$f":"'[2]2017 Econ Cens SDS'!B100","v":31322},{"$f":"'[2]2017 Econ Cens SDS'!C100","v":"Narrow fabric mills and schiffli machine embroidery"},{"$f":"'[3]2017 Econ Cens SDS raw'!AE100","v":8628},{"$f":"'[3]2017 Econ Cens SDS raw'!AF100","v":147653},{"$f":"'[3]2017 Econ Cens SDS raw'!AG100","v":394061},{"$f":"'[3]2017 Econ Cens SDS raw'!M100","v":6644},{"$f":"'[3]2017 Econ Cens SDS raw'!N100","v":14251},{"$f":"'[3]2017 Econ Cens SDS raw'!X100","v":911215},3.0700000000000003,8.07,2017]
[{"$f":"'[2]2017 Econ Cens SDS'!B101","v":313220},{"$f":"'[2]2017 Econ Cens SDS'!C101","v":"Narrow fabric mills and schiffli machine embroidery"},{"$f":"'[3]2017 Econ Cens SDS raw'!AE101","v":8628},{"$f":"'[3]2017 Econ Cens SDS raw'!AF101","v":147653},{"$f":"'[3]2017 Econ Cens SDS raw'!AG101","v":394061},{"$f":"'[3]2017 Econ Cens SDS raw'!M101","v":6644},{"$f":"'[3]2017 Econ Cens SDS raw'!N101","v":14251},{"$f":"'[3]2017 Econ Cens SDS raw'!X101","v":911215},3.0700000000000003,8.07,{"$f":"K3","v":2017}]
[{"$f":"'[2]2017 Econ Cens SDS'!B102","v":31323},{"$f":"'[2]2017 Econ Cens SDS'!C102","v":"Nonwoven fabric mills"},{"$f":"'[3]2017 Econ Cens SDS raw'!AE102","v":26046},{"$f":"'[3]2017 Econ Cens SDS raw'!AF102","v":557838},{"$f":"'[3]2017 Econ Cens SDS raw'!AG102","v":3657145},{"$f":"'[3]2017 Econ Cens SDS raw'!M102","v":42659},{"$f":"'[3]2017 Econ Cens SDS raw'!N102","v":137925},{"$f":"'[3]2017 Econ Cens SDS raw'!X102","v":7171565},3.0700000000000003,8.07,2017]
[{"$f":"'[2]2017 Econ Cens SDS'!B103","v":313230},{"$f":"'[2]2017 Econ Cens SDS'!C103","v":"Nonwoven fabric mills"},{"$f":"'[3]2017 Econ Cens SDS raw'!AE103","v":26046},{"$f":"'[3]2017 Econ Cens SDS raw'!AF103","v":557838},{"$f":"'[3]2017 Econ Cens SDS raw'!AG103","v":3657145},{"$f":"'[3]2017 Econ Cens SDS raw'!M103","v":42659},{"$f":"'[3]2017 Econ Cens SDS raw'!N103","v":137925},{"$f":"'[3]2017 Econ Cens SDS raw'!X103","v":7171565},3.0700000000000003,8.07,2017]
[{"$f":"'[2]2017 Econ Cens SDS'!B104","v":31324},{"$f":"'[2]2017 Econ Cens SDS'!C104","v":"Knit fabric mills"},{"$f":"'[3]2017 Econ Cens SDS raw'!AE104","v":10020},{"$f":"'[3]2017 Econ Cens SDS raw'!AF104","v":150358},{"$f":"'[3]2017 Econ Cens SDS raw'!AG104","v":733822},{"$f":"'[3]2017 Econ Cens SDS raw'!M104","v":14260},{"$f":"'[3]2017 Econ Cens SDS raw'!N104","v":20461},{"$f":"'[3]2017 Econ Cens SDS raw'!X104","v":1390264},3.0700000000000003,8.07,2017]
[{"$f":"'[2]2017 Econ Cens SDS'!B105","v":313240},{"$f":"'[2]2017 Econ Cens SDS'!C105","v":"Knit fabric mills"},{"$f":"'[3]2017 Econ Cens SDS raw'!AE105","v":10020},{"$f":"'[3]2017 Econ Cens SDS raw'!AF105","v":150358},{"$f":"'[3]2017 Econ Cens SDS raw'!AG105","v":733822},{"$f":"'[3]2017 Econ Cens SDS raw'!M105","v":14260},{"$f":"'[3]2017 Econ Cens SDS raw'!N105","v":20461},{"$f":"'[3]2017 Econ Cens SDS raw'!X105","v":1390264},3.0700000000000003,8.07,2017]
[{"$f":"'[2]2017 Econ Cens SDS'!B106","v":3133},{"$f":"'[2]2017 Econ Cens SDS'!C106","v":"Textile and fabric finishing and fabric coating mills"},{"$f":"'[3]2017 Econ Cens SDS raw'!AE106","v":41513},{"$f":"'[3]2017 Econ Cens SDS raw'!AF106","v":729783},{"$f":"'[3]2017 Econ Cens SDS raw'!AG106","v":4395434},{"$f":"'[3]2017 Econ Cens SDS raw'!M106","v":77857},{"$f":"'[3]2017 Econ Cens SDS raw'!N106","v":103431},{"$f":"'[3]2017 Econ Cens SDS raw'!X106","v":7309812},3.0700000000000003,8.07,2017]
[{"$f":"'[2]2017 Econ Cens SDS'!B107","v":31331},{"$f":"'[2]2017 Econ Cens SDS'!C107","v":"Textile and fabric finishing mills"},{"$f":"'[3]2017 Econ Cens SDS raw'!AE107","v":31520},{"$f":"'[3]2017 Econ Cens SDS raw'!AF107","v":535976},{"$f":"'[3]2017 Econ Cens SDS raw'!AG107","v":2959194},{"$f":"'[3]2017 Econ Cens SDS raw'!M107","v":65604},{"$f":"'[3]2017 Econ Cens SDS raw'!N107","v":82104},{"$f":"'[3]2017 Econ Cens SDS raw'!X107","v":4920031},3.0700000000000003,8.07,2017]
[{"$f":"'[2]2017 Econ Cens SDS'!B108","v":313310},{"$f":"'[2]2017 Econ Cens SDS'!C108","v":"Textile and fabric finishing mills"},{"$f":"'[3]2017 Econ Cens SDS raw'!AE108","v":31520},{"$f":"'[3]2017 Econ Cens SDS raw'!AF108","v":535976},{"$f":"'[3]2017 Econ Cens SDS raw'!AG108","v":2959194},{"$f":"'[3]2017 Econ Cens SDS raw'!M108","v":65604},{"$f":"'[3]2017 Econ Cens SDS raw'!N108","v":82104},{"$f":"'[3]2017 Econ Cens SDS raw'!X108","v":4920031},3.0700000000000003,8.07,2017]
[{"$f":"'[2]2017 Econ Cens SDS'!B109","v":31332},{"$f":"'[2]2017 Econ Cens SDS'!C109","v":"Fabric coating mills"},{"$f":"'[3]2017 Econ Cens SDS raw'!AE109","v":9993},{"$f":"'[3]2017 Econ Cens SDS raw'!AF109","v":193807},{"$f":"'[3]2017 Econ Cens SDS raw'!AG109","v":1436240},{"$f":"'[3]2017 Econ Cens SDS raw'!M109","v":12253},{"$f":"'[3]2017 Econ Cens SDS raw'!N109","v":21327},{"$f":"'[3]2017 Econ Cens SDS raw'!X109","v":2389781},3.0700000000000003,8.07,2017]
[{"$f":"'[2]2017 Econ Cens SDS'!B110","v":313320},{"$f":"'[2]2017 Econ Cens SDS'!C110","v":"Fabric coating mills"},{"$f":"'[3]2017 Econ Cens SDS raw'!AE110","v":9993},{"$f":"'[3]2017 Econ Cens SDS raw'!AF110","v":193807},{"$f":"'[3]2017 Econ Cens SDS raw'!AG110","v":1436240},{"$f":"'[3]2017 Econ Cens SDS raw'!M110","v":12253},{"$f":"'[3]2017 Econ Cens SDS raw'!N110","v":21327},{"$f":"'[3]2017 Econ Cens SDS raw'!X110","v":2389781},3.0700000000000003,8.07,2017]
[{"$f":"'[2]2017 Econ Cens SDS'!B111","v":314},{"$f":"'[2]2017 Econ Cens SDS'!C111","v":"Textile product mills"},{"$f":"'[3]2017 Econ Cens SDS raw'!AE111","v":155000},{"$f":"'[3]2017 Econ Cens SDS raw'!AF111","v":2503731},{"$f":"'[3]2017 Econ Cens SDS raw'!AG111","v":12114535},{"$f":"'[3]2017 Econ Cens SDS raw'!M111","v":68550},{"$f":"'[3]2017 Econ Cens SDS raw'!N111","v":201627},{"$f":"'[3]2017 Econ Cens SDS raw'!X111","v":22983744},3.0700000000000003,8.07,2017]
[{"$f":"'[2]2017 Econ Cens SDS'!B112","v":3141},{"$f":"'[2]2017 Econ Cens SDS'!C112","v":"Textile furnishings mills"},{"$f":"'[3]2017 Econ Cens SDS raw'!AE112","v":76799},{"$f":"'[3]2017 Econ Cens SDS raw'!AF112","v":1220828},{"$f":"'[3]2017 Econ Cens SDS raw'!AG112","v":7880440},{"$f":"'[3]2017 Econ Cens SDS raw'!M112","v":42454},{"$f":"'[3]2017 Econ Cens SDS raw'!N112","v":109469},{"$f":"'[3]2017 Econ Cens SDS raw'!X112","v":13739242},3.0700000000000003,8.07,2017]
[{"$f":"'[2]2017 Econ Cens SDS'!B113","v":31411},{"$f":"'[2]2017 Econ Cens SDS'!C113","v":"Carpet and rug mills"},{"$f":"'[3]2017 Econ Cens SDS raw'!AE113","v":46066},{"$f":"'[3]2017 Econ Cens SDS raw'!AF113","v":784094},{"$f":"'[3]2017 Econ Cens SDS raw'!AG113","v":6090789},{"$f":"'[3]2017 Econ Cens SDS raw'!M113","v":35840},{"$f":"'[3]2017 Econ Cens SDS raw'!N113","v":95499},{"$f":"'[3]2017 Econ Cens SDS raw'!X113","v":9940742},3.0700000000000003,8.07,2017]
[{"$f":"'[2]2017 Econ Cens SDS'!B114","v":314110},{"$f":"'[2]2017 Econ Cens SDS'!C114","v":"Carpet and rug mills"},{"$f":"'[3]2017 Econ Cens SDS raw'!AE114","v":46066},{"$f":"'[3]2017 Econ Cens SDS raw'!AF114","v":784094},{"$f":"'[3]2017 Econ Cens SDS raw'!AG114","v":6090789},{"$f":"'[3]2017 Econ Cens SDS raw'!M114","v":35840},{"$f":"'[3]2017 Econ Cens SDS raw'!N114","v":95499},{"$f":"'[3]2017 Econ Cens SDS raw'!X114","v":9940742},3.0700000000000003,8.07,2017]
[{"$f":"'[2]2017 Econ Cens SDS'!B115","v":31412},{"$f":"'[2]2017 Econ Cens SDS'!C115","v":"Curtain and linen mills"},{"$f":"'[3]2017 Econ Cens SDS raw'!AE115","v":30733},{"$f":"'[3]2017 Econ Cens SDS raw'!AF115","v":436734},{"$f":"'[3]2017 Econ Cens SDS raw'!AG115","v":1789651},{"$f":"'[3]2017 Econ Cens SDS raw'!M115","v":6614},{"$f":"'[3]2017 Econ Cens SDS raw'!N115","v":13970},{"$f":"'[3]2017 Econ Cens SDS raw'!X115","v":3798500},3.0700000000000003,8.07,2017]
[{"$f":"'[2]2017 Econ Cens SDS'!B116","v":314120},{"$f":"'[2]2017 Econ Cens SDS'!C116","v":"Curtain and linen mills"},{"$f":"'[3]2017 Econ Cens SDS raw'!AE116","v":30733},{"$f":"'[3]2017 Econ Cens SDS raw'!AF116","v":436734},{"$f":"'[3]2017 Econ Cens SDS raw'!AG116","v":1789651},{"$f":"'[3]2017 Econ Cens SDS raw'!M116","v":6614},{"$f":"'[3]2017 Econ Cens SDS raw'!N116","v":13970},{"$f":"'[3]2017 Econ Cens SDS raw'!X116","v":3798500},3.0700000000000003,8.07,2017]
[{"$f":"'[2]2017 Econ Cens SDS'!B117","v":3149},{"$f":"'[2]2017 Econ Cens SDS'!C117","v":"Other textile product mills"},{"$f":"'[3]2017 Econ Cens SDS raw'!AE117","v":78201},{"$f":"'[3]2017 Econ Cens SDS raw'!AF117","v":1282903},{"$f":"'[3]2017 Econ Cens SDS raw'!AG117","v":4234095},{"$f":"'[3]2017 Econ Cens SDS raw'!M117","v":26096},{"$f":"'[3]2017 Econ Cens SDS raw'!N117","v":92158},{"$f":"'[3]2017 Econ Cens SDS raw'!X117","v":9244502},3.0700000000000003,8.07,2017]
[{"$f":"'[2]2017 Econ Cens SDS'!B118","v":31491},{"$f":"'[2]2017 Econ Cens SDS'!C118","v":"Textile bag and canvas mills"},{"$f":"'[3]2017 Econ Cens SDS raw'!AE118","v":26659},{"$f":"'[3]2017 Econ Cens SDS raw'!AF118","v":442307},{"$f":"'[3]2017 Econ Cens SDS raw'!AG118","v":1410108},{"$f":"'[3]2017 Econ Cens SDS raw'!M118","v":6608},{"$f":"'[3]2017 Econ Cens SDS raw'!N118","v":19044},{"$f":"'[3]2017 Econ Cens SDS raw'!X118","v":3243777},3.0700000000000003,8.07,2017]
[{"$f":"'[2]2017 Econ Cens SDS'!B119","v":314910},{"$f":"'[2]2017 Econ Cens SDS'!C119","v":"Textile bag and canvas mills"},{"$f":"'[3]2017 Econ Cens SDS raw'!AE119","v":26659},{"$f":"'[3]2017 Econ Cens SDS raw'!AF119","v":442307},{"$f":"'[3]2017 Econ Cens SDS raw'!AG119","v":1410108},{"$f":"'[3]2017 Econ Cens SDS raw'!M119","v":6608},{"$f":"'[3]2017 Econ Cens SDS raw'!N119","v":19044},{"$f":"'[3]2017 Econ Cens SDS raw'!X119","v":3243777},3.0700000000000003,8.07,2017]
[{"$f":"'[2]2017 Econ Cens SDS'!B120","v":31499},{"$f":"'[2]2017 Econ Cens SDS'!C120","v":"All other textile product mills"},{"$f":"'[3]2017 Econ Cens SDS raw'!AE120","v":51542},{"$f":"'[3]2017 Econ Cens SDS raw'!AF120","v":840596},{"$f":"'[3]2017 Econ Cens SDS raw'!AG120","v":2823987},{"$f":"'[3]2017 Econ Cens SDS raw'!M120","v":19488},{"$f":"'[3]2017 Econ Cens SDS raw'!N120","v":73114},{"$f":"'[3]2017 Econ Cens SDS raw'!X120","v":6000725},3.0700000000000003,8.07,2017]
[{"$f":"'[2]2017 Econ Cens SDS'!B121","v":314994},{"$f":"'[2]2017 Econ Cens SDS'!C121","v":"Rope, cordage, twine, tire cord, and tire fabric mills"},{"$f":"'[3]2017 Econ Cens SDS raw'!AE121","v":8482},{"$f":"'[3]2017 Econ Cens SDS raw'!AF121","v":169819},{"$f":"'[3]2017 Econ Cens SDS raw'!AG121","v":870435},{"$f":"'[3]2017 Econ Cens SDS raw'!M121","v":7189},{"$f":"'[3]2017 Econ Cens SDS raw'!N121","v":39386},{"$f":"'[3]2017 Econ Cens SDS raw'!X121","v":1509538},3.0700000000000003,8.07,2017]
[{"$f":"'[2]2017 Econ Cens SDS'!B122","v":314999},{"$f":"'[2]2017 Econ Cens SDS'!C122","v":"All other miscellaneous textile product mills"},{"$f":"'[3]2017 Econ Cens SDS raw'!AE122","v":43060},{"$f":"'[3]2017 Econ Cens SDS raw'!AF122","v":670777},{"$f":"'[3]2017 Econ Cens SDS raw'!AG122","v":1953552},{"$f":"'[3]2017 Econ Cens SDS raw'!M122","v":12299},{"$f":"'[3]2017 Econ Cens SDS raw'!N122","v":33728},{"$f":"'[3]2017 Econ Cens SDS raw'!X122","v":4491187},3.0700000000000003,8.07,2017]
[{"$f":"'[2]2017 Econ Cens SDS'!B123","v":315},{"$f":"'[2]2017 Econ Cens SDS'!C123","v":"Apparel manufacturing"},{"$f":"'[3]2017 Econ Cens SDS raw'!AE123","v":123267},{"$f":"'[3]2017 Econ Cens SDS raw'!AF123","v":1779634},{"$f":"'[3]2017 Econ Cens SDS raw'!AG123","v":4611614},{"$f":"'[3]2017 Econ Cens SDS raw'!M123","v":23802},{"$f":"'[3]2017 Econ Cens SDS raw'!N123","v":59953},{"$f":"'[3]2017 Econ Cens SDS raw'!X123","v":10407833},24.6,11.04,2017]
[{"$f":"'[2]2017 Econ Cens SDS'!B124","v":3151},{"$f":"'[2]2017 Econ Cens SDS'!C124","v":"Apparel knitting mills"},{"$f":"'[3]2017 Econ Cens SDS raw'!AE124","v":17730},{"$f":"'[3]2017 Econ Cens SDS raw'!AF124","v":238948},{"$f":"'[3]2017 Econ Cens SDS raw'!AG124","v":585987},{"$f":"'[3]2017 Econ Cens SDS raw'!M124","v":6785},{"$f":"'[3]2017 Econ Cens SDS raw'!N124","v":24057},{"$f":"'[3]2017 Econ Cens SDS raw'!X124","v":1212509},24.6,11.04,2017]
[{"$f":"'[2]2017 Econ Cens SDS'!B125","v":31511},{"$f":"'[2]2017 Econ Cens SDS'!C125","v":"Hosiery and sock mills"},{"$f":"'[3]2017 Econ Cens SDS raw'!AE125","v":14264},{"$f":"'[3]2017 Econ Cens SDS raw'!AF125","v":188313},{"$f":"'[3]2017 Econ Cens SDS raw'!AG125","v":438854},{"$f":"'[3]2017 Econ Cens SDS raw'!M125","v":6118},{"$f":"'[3]2017 Econ Cens SDS raw'!N125","v":21970},{"$f":"'[3]2017 Econ Cens SDS raw'!X125","v":937252},24.6,11.04,2017]
[{"$f":"'[2]2017 Econ Cens SDS'!B126","v":315110},{"$f":"'[2]2017 Econ Cens SDS'!C126","v":"Hosiery and sock mills"},{"$f":"'[3]2017 Econ Cens SDS raw'!AE126","v":14264},{"$f":"'[3]2017 Econ Cens SDS raw'!AF126","v":188313},{"$f":"'[3]2017 Econ Cens SDS raw'!AG126","v":438854},{"$f":"'[3]2017 Econ Cens SDS raw'!M126","v":6118},{"$f":"'[3]2017 Econ Cens SDS raw'!N126","v":21970},{"$f":"'[3]2017 Econ Cens SDS raw'!X126","v":937252},24.6,11.04,2017]
[{"$f":"'[2]2017 Econ Cens SDS'!B127","v":31519},{"$f":"'[2]2017 Econ Cens SDS'!C127","v":"Other apparel knitting mills"},{"$f":"'[3]2017 Econ Cens SDS raw'!AE127","v":3466},{"$f":"'[3]2017 Econ Cens SDS raw'!AF127","v":50635},{"$f":"'[3]2017 Econ Cens SDS raw'!AG127","v":147133},{"$f":"'[3]2017 Econ Cens SDS raw'!M127","v":667},{"$f":"'[3]2017 Econ Cens SDS raw'!N127","v":2087},{"$f":"'[3]2017 Econ Cens SDS raw'!X127","v":275257},24.6,11.04,2017]
[{"$f":"'[2]2017 Econ Cens SDS'!B128","v":315190},{"$f":"'[2]2017 Econ Cens SDS'!C128","v":"Other apparel knitting mills"},{"$f":"'[3]2017 Econ Cens SDS raw'!AE128","v":3466},{"$f":"'[3]2017 Econ Cens SDS raw'!AF128","v":50635},{"$f":"'[3]2017 Econ Cens SDS raw'!AG128","v":147133},{"$f":"'[3]2017 Econ Cens SDS raw'!M128","v":667},{"$f":"'[3]2017 Econ Cens SDS raw'!N128","v":2087},{"$f":"'[3]2017 Econ Cens SDS raw'!X128","v":275257},24.6,11.04,2017]
[{"$f":"'[2]2017 Econ Cens SDS'!B129","v":3152},{"$f":"'[2]2017 Econ Cens SDS'!C129","v":"Cut and sew apparel manufacturing"},{"$f":"'[3]2017 Econ Cens SDS raw'!AE129","v":94813},{"$f":"'[3]2017 Econ Cens SDS raw'!AF129","v":1395477},{"$f":"'[3]2017 Econ Cens SDS raw'!AG129","v":3581308},{"$f":"'[3]2017 Econ Cens SDS raw'!M129","v":15032},{"$f":"'[3]2017 Econ Cens SDS raw'!N129","v":30141},{"$f":"'[3]2017 Econ Cens SDS raw'!X129","v":8160845},24.6,11.04,2017]
[{"$f":"'[2]2017 Econ Cens SDS'!B130","v":31521},{"$f":"'[2]2017 Econ Cens SDS'!C130","v":"Cut and sew apparel contractors"},{"$f":"'[3]2017 Econ Cens SDS raw'!AE130","v":41962},{"$f":"'[3]2017 Econ Cens SDS raw'!AF130","v":580054},{"$f":"'[3]2017 Econ Cens SDS raw'!AG130","v":711329},{"$f":"'[3]2017 Econ Cens SDS raw'!M130","v":6498},{"$f":"'[3]2017 Econ Cens SDS raw'!N130","v":10736},{"$f":"'[3]2017 Econ Cens SDS raw'!X130","v":2113714},24.6,11.04,2017]
[{"$f":"'[2]2017 Econ Cens SDS'!B131","v":315210},{"$f":"'[2]2017 Econ Cens SDS'!C131","v":"Cut and sew apparel contractors"},{"$f":"'[3]2017 Econ Cens SDS raw'!AE131","v":41962},{"$f":"'[3]2017 Econ Cens SDS raw'!AF131","v":580054},{"$f":"'[3]2017 Econ Cens SDS raw'!AG131","v":711329},{"$f":"'[3]2017 Econ Cens SDS raw'!M131","v":6498},{"$f":"'[3]2017 Econ Cens SDS raw'!N131","v":10736},{"$f":"'[3]2017 Econ Cens SDS raw'!X131","v":2113714},24.6,11.04,2017]
[{"$f":"'[2]2017 Econ Cens SDS'!B132","v":31522},{"$f":"'[2]2017 Econ Cens SDS'!C132","v":"Men's and boys' cut and sew apparel manufacturing"},{"$f":"'[3]2017 Econ Cens SDS raw'!AE132","v":23173},{"$f":"'[3]2017 Econ Cens SDS raw'!AF132","v":299752},{"$f":"'[3]2017 Econ Cens SDS raw'!AG132","v":734889},{"$f":"'[3]2017 Econ Cens SDS raw'!M132","v":3863},{"$f":"'[3]2017 Econ Cens SDS raw'!N132","v":8045},{"$f":"'[3]2017 Econ Cens SDS raw'!X132","v":1555087},24.6,11.04,2017]
[{"$f":"'[2]2017 Econ Cens SDS'!B133","v":315220},{"$f":"'[2]2017 Econ Cens SDS'!C133","v":"Men's and boys' cut and sew apparel manufacturing"},{"$f":"'[3]2017 Econ Cens SDS raw'!AE133","v":23173},{"$f":"'[3]2017 Econ Cens SDS raw'!AF133","v":299752},{"$f":"'[3]2017 Econ Cens SDS raw'!AG133","v":734889},{"$f":"'[3]2017 Econ Cens SDS raw'!M133","v":3863},{"$f":"'[3]2017 Econ Cens SDS raw'!N133","v":8045},{"$f":"'[3]2017 Econ Cens SDS raw'!X133","v":1555087},24.6,11.04,2017]
[{"$f":"'[2]2017 Econ Cens SDS'!B134","v":31524},{"$f":"'[2]2017 Econ Cens SDS'!C134","v":"Women's, girls', and infants' cut and sew apparel manufacturing"},{"$f":"'[3]2017 Econ Cens SDS raw'!AE134","v":19219},{"$f":"'[3]2017 Econ Cens SDS raw'!AF134","v":358830},{"$f":"'[3]2017 Econ Cens SDS raw'!AG134","v":1717979},{"$f":"'[3]2017 Econ Cens SDS raw'!M134","v":3806},{"$f":"'[3]2017 Econ Cens SDS raw'!N134","v":6609},{"$f":"'[3]2017 Econ Cens SDS raw'!X134","v":3430312},24.6,11.04,2017]
[{"$f":"'[2]2017 Econ Cens SDS'!B135","v":315240},{"$f":"'[2]2017 Econ Cens SDS'!C135","v":"Women's, girls', and infants' cut and sew apparel manufacturing"},{"$f":"'[3]2017 Econ Cens SDS raw'!AE135","v":19219},{"$f":"'[3]2017 Econ Cens SDS raw'!AF135","v":358830},{"$f":"'[3]2017 Econ Cens SDS raw'!AG135","v":1717979},{"$f":"'[3]2017 Econ Cens SDS raw'!M135","v":3806},{"$f":"'[3]2017 Econ Cens SDS raw'!N135","v":6609},{"$f":"'[3]2017 Econ Cens SDS raw'!X135","v":3430312},24.6,11.04,2017]
[{"$f":"'[2]2017 Econ Cens SDS'!B136","v":31528},{"$f":"'[2]2017 Econ Cens SDS'!C136","v":"Other cut and sew apparel manufacturing"},{"$f":"'[3]2017 Econ Cens SDS raw'!AE136","v":10459},{"$f":"'[3]2017 Econ Cens SDS raw'!AF136","v":156841},{"$f":"'[3]2017 Econ Cens SDS raw'!AG136","v":417111},{"$f":"'[3]2017 Econ Cens SDS raw'!M136","v":865},{"$f":"'[3]2017 Econ Cens SDS raw'!N136","v":4751},{"$f":"'[3]2017 Econ Cens SDS raw'!X136","v":1061732},24.6,11.04,2017]
[{"$f":"'[2]2017 Econ Cens SDS'!B137","v":315280},{"$f":"'[2]2017 Econ Cens SDS'!C137","v":"Other cut and sew apparel manufacturing"},{"$f":"'[3]2017 Econ Cens SDS raw'!AE137","v":10459},{"$f":"'[3]2017 Econ Cens SDS raw'!AF137","v":156841},{"$f":"'[3]2017 Econ Cens SDS raw'!AG137","v":417111},{"$f":"'[3]2017 Econ Cens SDS raw'!M137","v":865},{"$f":"'[3]2017 Econ Cens SDS raw'!N137","v":4751},{"$f":"'[3]2017 Econ Cens SDS raw'!X137","v":1061732},24.6,11.04,2017]
[{"$f":"'[2]2017 Econ Cens SDS'!B138","v":3159},{"$f":"'[2]2017 Econ Cens SDS'!C138","v":"Apparel accessories and other apparel manufacturing"},{"$f":"'[3]2017 Econ Cens SDS raw'!AE138","v":10724},{"$f":"'[3]2017 Econ Cens SDS raw'!AF138","v":145209},{"$f":"'[3]2017 Econ Cens SDS raw'!AG138","v":444319},{"$f":"'[3]2017 Econ Cens SDS raw'!M138","v":1985},{"$f":"'[3]2017 Econ Cens SDS raw'!N138","v":5755},{"$f":"'[3]2017 Econ Cens SDS raw'!X138","v":1034479},24.6,11.04,2017]
[{"$f":"'[2]2017 Econ Cens SDS'!B139","v":31599},{"$f":"'[2]2017 Econ Cens SDS'!C139","v":"Apparel accessories and other apparel manufacturing"},{"$f":"'[3]2017 Econ Cens SDS raw'!AE139","v":10724},{"$f":"'[3]2017 Econ Cens SDS raw'!AF139","v":145209},{"$f":"'[3]2017 Econ Cens SDS raw'!AG139","v":444319},{"$f":"'[3]2017 Econ Cens SDS raw'!M139","v":1985},{"$f":"'[3]2017 Econ Cens SDS raw'!N139","v":5755},{"$f":"'[3]2017 Econ Cens SDS raw'!X139","v":1034479},24.6,11.04,2017]
[{"$f":"'[2]2017 Econ Cens SDS'!B140","v":315990},{"$f":"'[2]2017 Econ Cens SDS'!C140","v":"Apparel accessories and other apparel manufacturing"},{"$f":"'[3]2017 Econ Cens SDS raw'!AE140","v":10724},{"$f":"'[3]2017 Econ Cens SDS raw'!AF140","v":145209},{"$f":"'[3]2017 Econ Cens SDS raw'!AG140","v":444319},{"$f":"'[3]2017 Econ Cens SDS raw'!M140","v":1985},{"$f":"'[3]2017 Econ Cens SDS raw'!N140","v":5755},{"$f":"'[3]2017 Econ Cens SDS raw'!X140","v":1034479},24.6,11.04,2017]
[{"$f":"'[2]2017 Econ Cens SDS'!B141","v":316},{"$f":"'[2]2017 Econ Cens SDS'!C141","v":"Leather and allied product manufacturing"},{"$f":"'[3]2017 Econ Cens SDS raw'!AE141","v":35521},{"$f":"'[3]2017 Econ Cens SDS raw'!AF141","v":566458},{"$f":"'[3]2017 Econ Cens SDS raw'!AG141","v":2783132},{"$f":"'[3]2017 Econ Cens SDS raw'!M141","v":8624},{"$f":"'[3]2017 Econ Cens SDS raw'!N141","v":28267},{"$f":"'[3]2017 Econ Cens SDS raw'!X141","v":4808453},24.6,11.04,2017]
[{"$f":"'[2]2017 Econ Cens SDS'!B142","v":3161},{"$f":"'[2]2017 Econ Cens SDS'!C142","v":"Leather and hide tanning and finishing"},{"$f":"'[3]2017 Econ Cens SDS raw'!AE142","v":5370},{"$f":"'[3]2017 Econ Cens SDS raw'!AF142","v":93146},{"$f":"'[3]2017 Econ Cens SDS raw'!AG142","v":1143965},{"$f":"'[3]2017 Econ Cens SDS raw'!M142","v":4040},{"$f":"'[3]2017 Econ Cens SDS raw'!N142","v":10626},{"$f":"'[3]2017 Econ Cens SDS raw'!X142","v":1510866},24.6,11.04,2017]
[{"$f":"'[2]2017 Econ Cens SDS'!B143","v":31611},{"$f":"'[2]2017 Econ Cens SDS'!C143","v":"Leather and hide tanning and finishing"},{"$f":"'[3]2017 Econ Cens SDS raw'!AE143","v":5370},{"$f":"'[3]2017 Econ Cens SDS raw'!AF143","v":93146},{"$f":"'[3]2017 Econ Cens SDS raw'!AG143","v":1143965},{"$f":"'[3]2017 Econ Cens SDS raw'!M143","v":4040},{"$f":"'[3]2017 Econ Cens SDS raw'!N143","v":10626},{"$f":"'[3]2017 Econ Cens SDS raw'!X143","v":1510866},24.6,11.04,2017]
[{"$f":"'[2]2017 Econ Cens SDS'!B144","v":316110},{"$f":"'[2]2017 Econ Cens SDS'!C144","v":"Leather and hide tanning and finishing"},{"$f":"'[3]2017 Econ Cens SDS raw'!AE144","v":5370},{"$f":"'[3]2017 Econ Cens SDS raw'!AF144","v":93146},{"$f":"'[3]2017 Econ Cens SDS raw'!AG144","v":1143965},{"$f":"'[3]2017 Econ Cens SDS raw'!M144","v":4040},{"$f":"'[3]2017 Econ Cens SDS raw'!N144","v":10626},{"$f":"'[3]2017 Econ Cens SDS raw'!X144","v":1510866},24.6,11.04,2017]
[{"$f":"'[2]2017 Econ Cens SDS'!B145","v":3162},{"$f":"'[2]2017 Econ Cens SDS'!C145","v":"Footwear manufacturing"},{"$f":"'[3]2017 Econ Cens SDS raw'!AE145","v":15574},{"$f":"'[3]2017 Econ Cens SDS raw'!AF145","v":261035},{"$f":"'[3]2017 Econ Cens SDS raw'!AG145","v":926851},{"$f":"'[3]2017 Econ Cens SDS raw'!M145","v":1967},{"$f":"'[3]2017 Econ Cens SDS raw'!N145","v":9657},{"$f":"'[3]2017 Econ Cens SDS raw'!X145","v":1756116},24.6,11.04,2017]
[{"$f":"'[2]2017 Econ Cens SDS'!B146","v":31621},{"$f":"'[2]2017 Econ Cens SDS'!C146","v":"Footwear manufacturing"},{"$f":"'[3]2017 Econ Cens SDS raw'!AE146","v":15574},{"$f":"'[3]2017 Econ Cens SDS raw'!AF146","v":261035},{"$f":"'[3]2017 Econ Cens SDS raw'!AG146","v":926851},{"$f":"'[3]2017 Econ Cens SDS raw'!M146","v":1967},{"$f":"'[3]2017 Econ Cens SDS raw'!N146","v":9657},{"$f":"'[3]2017 Econ Cens SDS raw'!X146","v":1756116},24.6,11.04,2017]
[{"$f":"'[2]2017 Econ Cens SDS'!B147","v":316210},{"$f":"'[2]2017 Econ Cens SDS'!C147","v":"Footwear manufacturing"},{"$f":"'[3]2017 Econ Cens SDS raw'!AE147","v":15574},{"$f":"'[3]2017 Econ Cens SDS raw'!AF147","v":261035},{"$f":"'[3]2017 Econ Cens SDS raw'!AG147","v":926851},{"$f":"'[3]2017 Econ Cens SDS raw'!M147","v":1967},{"$f":"'[3]2017 Econ Cens SDS raw'!N147","v":9657},{"$f":"'[3]2017 Econ Cens SDS raw'!X147","v":1756116},24.6,11.04,2017]
[{"$f":"'[2]2017 Econ Cens SDS'!B148","v":3169},{"$f":"'[2]2017 Econ Cens SDS'!C148","v":"Other leather and allied product manufacturing"},{"$f":"'[3]2017 Econ Cens SDS raw'!AE148","v":14577},{"$f":"'[3]2017 Econ Cens SDS raw'!AF148","v":212277},{"$f":"'[3]2017 Econ Cens SDS raw'!AG148","v":712316},{"$f":"'[3]2017 Econ Cens SDS raw'!M148","v":2617},{"$f":"'[3]2017 Econ Cens SDS raw'!N148","v":7984},{"$f":"'[3]2017 Econ Cens SDS raw'!X148","v":1541471},24.6,11.04,2017]
[{"$f":"'[2]2017 Econ Cens SDS'!B149","v":31699},{"$f":"'[2]2017 Econ Cens SDS'!C149","v":"Other leather and allied product manufacturing"},{"$f":"'[3]2017 Econ Cens SDS raw'!AE149","v":14577},{"$f":"'[3]2017 Econ Cens SDS raw'!AF149","v":212277},{"$f":"'[3]2017 Econ Cens SDS raw'!AG149","v":712316},{"$f":"'[3]2017 Econ Cens SDS raw'!M149","v":2617},{"$f":"'[3]2017 Econ Cens SDS raw'!N149","v":7984},{"$f":"'[3]2017 Econ Cens SDS raw'!X149","v":1541471},24.6,11.04,2017]
[{"$f":"'[2]2017 Econ Cens SDS'!B150","v":316992},{"$f":"'[2]2017 Econ Cens SDS'!C150","v":"Women's handbag and purse manufacturing"},{"$f":"'[3]2017 Econ Cens SDS raw'!AE150","v":2041},{"$f":"'[3]2017 Econ Cens SDS raw'!AF150","v":32577},{"$f":"'[3]2017 Econ Cens SDS raw'!AG150","v":145832},{"$f":"'[3]2017 Econ Cens SDS raw'!M150","v":123},{"$f":"'[3]2017 Econ Cens SDS raw'!N150","v":1150},{"$f":"'[3]2017 Econ Cens SDS raw'!X150","v":324953},24.6,11.04,2017]
[{"$f":"'[2]2017 Econ Cens SDS'!B151","v":316998},{"$f":"'[2]2017 Econ Cens SDS'!C151","v":"All other leather good and allied product manufacturing"},{"$f":"'[3]2017 Econ Cens SDS raw'!AE151","v":12536},{"$f":"'[3]2017 Econ Cens SDS raw'!AF151","v":179700},{"$f":"'[3]2017 Econ Cens SDS raw'!AG151","v":566484},{"$f":"'[3]2017 Econ Cens SDS raw'!M151","v":2494},{"$f":"'[3]2017 Econ Cens SDS raw'!N151","v":6834},{"$f":"'[3]2017 Econ Cens SDS raw'!X151","v":1216518},24.6,11.04,2017]
[{"$f":"'[2]2017 Econ Cens SDS'!B152","v":321},{"$f":"'[2]2017 Econ Cens SDS'!C152","v":"Wood product manufacturing"},{"$f":"'[3]2017 Econ Cens SDS raw'!AE152","v":634425},{"$f":"'[3]2017 Econ Cens SDS raw'!AF152","v":12020409},{"$f":"'[3]2017 Econ Cens SDS raw'!AG152","v":60767096},{"$f":"'[3]2017 Econ Cens SDS raw'!M152","v":716324},{"$f":"'[3]2017 Econ Cens SDS raw'!N152","v":1577221},{"$f":"'[3]2017 Econ Cens SDS raw'!X152","v":107606458},2.88,9.1300000000000008,2017]
[{"$f":"'[2]2017 Econ Cens SDS'!B153","v":3211},{"$f":"'[2]2017 Econ Cens SDS'!C153","v":"Sawmills and wood preservation"},{"$f":"'[3]2017 Econ Cens SDS raw'!AE153","v":147174},{"$f":"'[3]2017 Econ Cens SDS raw'!AF153","v":3166216},{"$f":"'[3]2017 Econ Cens SDS raw'!AG153","v":19925735},{"$f":"'[3]2017 Econ Cens SDS raw'!M153","v":248240},{"$f":"'[3]2017 Econ Cens SDS raw'!N153","v":574466},{"$f":"'[3]2017 Econ Cens SDS raw'!X153","v":32769072},2.88,9.1300000000000008,2017]
[{"$f":"'[2]2017 Econ Cens SDS'!B154","v":32111},{"$f":"'[2]2017 Econ Cens SDS'!C154","v":"Sawmills and wood preservation"},{"$f":"'[3]2017 Econ Cens SDS raw'!AE154","v":147174},{"$f":"'[3]2017 Econ Cens SDS raw'!AF154","v":3166216},{"$f":"'[3]2017 Econ Cens SDS raw'!AG154","v":19925735},{"$f":"'[3]2017 Econ Cens SDS raw'!M154","v":248240},{"$f":"'[3]2017 Econ Cens SDS raw'!N154","v":574466},{"$f":"'[3]2017 Econ Cens SDS raw'!X154","v":32769072},2.88,9.1300000000000008,2017]
[{"$f":"'[2]2017 Econ Cens SDS'!B155","v":321113},{"$f":"'[2]2017 Econ Cens SDS'!C155","v":"Sawmills"},{"$f":"'[3]2017 Econ Cens SDS raw'!AE155","v":131261},{"$f":"'[3]2017 Econ Cens SDS raw'!AF155","v":2843411},{"$f":"'[3]2017 Econ Cens SDS raw'!AG155","v":14814842},{"$f":"'[3]2017 Econ Cens SDS raw'!M155","v":218317},{"$f":"'[3]2017 Econ Cens SDS raw'!N155","v":544439},{"$f":"'[3]2017 Econ Cens SDS raw'!X155","v":26199964},2.88,9.1300000000000008,2017]
[{"$f":"'[2]2017 Econ Cens SDS'!B156","v":321114},{"$f":"'[2]2017 Econ Cens SDS'!C156","v":"Wood preservation"},{"$f":"'[3]2017 Econ Cens SDS raw'!AE156","v":15913},{"$f":"'[3]2017 Econ Cens SDS raw'!AF156","v":322805},{"$f":"'[3]2017 Econ Cens SDS raw'!AG156","v":5110893},{"$f":"'[3]2017 Econ Cens SDS raw'!M156","v":29923},{"$f":"'[3]2017 Econ Cens SDS raw'!N156","v":30027},{"$f":"'[3]2017 Econ Cens SDS raw'!X156","v":6569108},2.88,9.1300000000000008,2017]
[{"$f":"'[2]2017 Econ Cens SDS'!B157","v":3212},{"$f":"'[2]2017 Econ Cens SDS'!C157","v":"Veneer, plywood, and engineered wood product manufacturing"},{"$f":"'[3]2017 Econ Cens SDS raw'!AE157","v":126891},{"$f":"'[3]2017 Econ Cens SDS raw'!AF157","v":2501960},{"$f":"'[3]2017 Econ Cens SDS raw'!AG157","v":13708599},{"$f":"'[3]2017 Econ Cens SDS raw'!M157","v":217301},{"$f":"'[3]2017 Econ Cens SDS raw'!N157","v":508687},{"$f":"'[3]2017 Econ Cens SDS raw'!X157","v":24749053},2.88,9.1300000000000008,2017]
[{"$f":"'[2]2017 Econ Cens SDS'!B158","v":32121},{"$f":"'[2]2017 Econ Cens SDS'!C158","v":"Veneer, plywood, and engineered wood product manufacturing"},{"$f":"'[3]2017 Econ Cens SDS raw'!AE158","v":126891},{"$f":"'[3]2017 Econ Cens SDS raw'!AF158","v":2501960},{"$f":"'[3]2017 Econ Cens SDS raw'!AG158","v":13708599},{"$f":"'[3]2017 Econ Cens SDS raw'!M158","v":217301},{"$f":"'[3]2017 Econ Cens SDS raw'!N158","v":508687},{"$f":"'[3]2017 Econ Cens SDS raw'!X158","v":24749053},2.88,9.1300000000000008,2017]
[{"$f":"'[2]2017 Econ Cens SDS'!B159","v":321211},{"$f":"'[2]2017 Econ Cens SDS'!C159","v":"Hardwood veneer and plywood manufacturing"},{"$f":"'[3]2017 Econ Cens SDS raw'!AE159","v":21778},{"$f":"'[3]2017 Econ Cens SDS raw'!AF159","v":395175},{"$f":"'[3]2017 Econ Cens SDS raw'!AG159","v":2110850},{"$f":"'[3]2017 Econ Cens SDS raw'!M159","v":14284},{"$f":"'[3]2017 Econ Cens SDS raw'!N159","v":40628},{"$f":"'[3]2017 Econ Cens SDS raw'!X159","v":3247627},2.88,9.1300000000000008,2017]
[{"$f":"'[2]2017 Econ Cens SDS'!B160","v":321212},{"$f":"'[2]2017 Econ Cens SDS'!C160","v":"Softwood veneer and plywood manufacturing"},{"$f":"'[3]2017 Econ Cens SDS raw'!AE160","v":28190},{"$f":"'[3]2017 Econ Cens SDS raw'!AF160","v":604995},{"$f":"'[3]2017 Econ Cens SDS raw'!AG160","v":2505764},{"$f":"'[3]2017 Econ Cens SDS raw'!M160","v":47141},{"$f":"'[3]2017 Econ Cens SDS raw'!N160","v":101152},{"$f":"'[3]2017 Econ Cens SDS raw'!X160","v":4207812},2.88,9.1300000000000008,2017]
[{"$f":"'[2]2017 Econ Cens SDS'!B161","v":321213},{"$f":"'[2]2017 Econ Cens SDS'!C161","v":"Engineered wood member (except truss) manufacturing"},{"$f":"'[3]2017 Econ Cens SDS raw'!AE161","v":8860},{"$f":"'[3]2017 Econ Cens SDS raw'!AF161","v":202755},{"$f":"'[3]2017 Econ Cens SDS raw'!AG161","v":1313411},{"$f":"'[3]2017 Econ Cens SDS raw'!M161","v":10977},{"$f":"'[3]2017 Econ Cens SDS raw'!N161","v":28325},{"$f":"'[3]2017 Econ Cens SDS raw'!X161","v":1985402},2.88,9.1300000000000008,2017]
[{"$f":"'[2]2017 Econ Cens SDS'!B162","v":321214},{"$f":"'[2]2017 Econ Cens SDS'!C162","v":"Truss manufacturing"},{"$f":"'[3]2017 Econ Cens SDS raw'!AE162","v":44871},{"$f":"'[3]2017 Econ Cens SDS raw'!AF162","v":720634},{"$f":"'[3]2017 Econ Cens SDS raw'!AG162","v":3537706},{"$f":"'[3]2017 Econ Cens SDS raw'!M162","v":15265},{"$f":"'[3]2017 Econ Cens SDS raw'!N162","v":33608},{"$f":"'[3]2017 Econ Cens SDS raw'!X162","v":6608190},2.88,9.1300000000000008,2017]
[{"$f":"'[2]2017 Econ Cens SDS'!B163","v":321219},{"$f":"'[2]2017 Econ Cens SDS'!C163","v":"Reconstituted wood product manufacturing"},{"$f":"'[3]2017 Econ Cens SDS raw'!AE163","v":23192},{"$f":"'[3]2017 Econ Cens SDS raw'!AF163","v":578401},{"$f":"'[3]2017 Econ Cens SDS raw'!AG163","v":4240868},{"$f":"'[3]2017 Econ Cens SDS raw'!M163","v":129634},{"$f":"'[3]2017 Econ Cens SDS raw'!N163","v":304974},{"$f":"'[3]2017 Econ Cens SDS raw'!X163","v":8700022},2.88,9.1300000000000008,2017]
[{"$f":"'[2]2017 Econ Cens SDS'!B164","v":3219},{"$f":"'[2]2017 Econ Cens SDS'!C164","v":"Other wood product manufacturing"},{"$f":"'[3]2017 Econ Cens SDS raw'!AE164","v":360360},{"$f":"'[3]2017 Econ Cens SDS raw'!AF164","v":6352233},{"$f":"'[3]2017 Econ Cens SDS raw'!AG164","v":27132762},{"$f":"'[3]2017 Econ Cens SDS raw'!M164","v":250783},{"$f":"'[3]2017 Econ Cens SDS raw'!N164","v":494068},{"$f":"'[3]2017 Econ Cens SDS raw'!X164","v":50088333},2.88,9.1300000000000008,2017]
[{"$f":"'[2]2017 Econ Cens SDS'!B165","v":32191},{"$f":"'[2]2017 Econ Cens SDS'!C165","v":"Millwork"},{"$f":"'[3]2017 Econ Cens SDS raw'!AE165","v":157911},{"$f":"'[3]2017 Econ Cens SDS raw'!AF165","v":2974294},{"$f":"'[3]2017 Econ Cens SDS raw'!AG165","v":13406436},{"$f":"'[3]2017 Econ Cens SDS raw'!M165","v":105950},{"$f":"'[3]2017 Econ Cens SDS raw'!N165","v":264776},{"$f":"'[3]2017 Econ Cens SDS raw'!X165","v":25600375},2.88,9.1300000000000008,{"$f":"K67","v":2017}]
[{"$f":"'[2]2017 Econ Cens SDS'!B166","v":321911},{"$f":"'[2]2017 Econ Cens SDS'!C166","v":"Wood window and door manufacturing"},{"$f":"'[3]2017 Econ Cens SDS raw'!AE166","v":76419},{"$f":"'[3]2017 Econ Cens SDS raw'!AF166","v":1531301},{"$f":"'[3]2017 Econ Cens SDS raw'!AG166","v":5740822},{"$f":"'[3]2017 Econ Cens SDS raw'!M166","v":38215},{"$f":"'[3]2017 Econ Cens SDS raw'!N166","v":104419},{"$f":"'[3]2017 Econ Cens SDS raw'!X166","v":12395209},2.88,9.1300000000000008,2017]
[{"$f":"'[2]2017 Econ Cens SDS'!B167","v":321912},{"$f":"'[2]2017 Econ Cens SDS'!C167","v":"Cut stock, resawing lumber, and planing"},{"$f":"'[3]2017 Econ Cens SDS raw'!AE167","v":33406},{"$f":"'[3]2017 Econ Cens SDS raw'!AF167","v":606669},{"$f":"'[3]2017 Econ Cens SDS raw'!AG167","v":3663620},{"$f":"'[3]2017 Econ Cens SDS raw'!M167","v":33129},{"$f":"'[3]2017 Econ Cens SDS raw'!N167","v":78004},{"$f":"'[3]2017 Econ Cens SDS raw'!X167","v":5872971},2.88,9.1300000000000008,2017]
[{"$f":"'[2]2017 Econ Cens SDS'!B168","v":321918},{"$f":"'[2]2017 Econ Cens SDS'!C168","v":"Other millwork (including flooring)"},{"$f":"'[3]2017 Econ Cens SDS raw'!AE168","v":48086},{"$f":"'[3]2017 Econ Cens SDS raw'!AF168","v":836324},{"$f":"'[3]2017 Econ Cens SDS raw'!AG168","v":4001994},{"$f":"'[3]2017 Econ Cens SDS raw'!M168","v":34606},{"$f":"'[3]2017 Econ Cens SDS raw'!N168","v":82353},{"$f":"'[3]2017 Econ Cens SDS raw'!X168","v":7332195},2.88,9.1300000000000008,2017]
[{"$f":"'[2]2017 Econ Cens SDS'!B169","v":32192},{"$f":"'[2]2017 Econ Cens SDS'!C169","v":"Wood container and pallet manufacturing"},{"$f":"'[3]2017 Econ Cens SDS raw'!AE169","v":89566},{"$f":"'[3]2017 Econ Cens SDS raw'!AF169","v":1434825},{"$f":"'[3]2017 Econ Cens SDS raw'!AG169","v":5493954},{"$f":"'[3]2017 Econ Cens SDS raw'!M169","v":71399},{"$f":"'[3]2017 Econ Cens SDS raw'!N169","v":90474},{"$f":"'[3]2017 Econ Cens SDS raw'!X169","v":9507080},2.88,9.1300000000000008,2017]
[{"$f":"'[2]2017 Econ Cens SDS'!B170","v":321920},{"$f":"'[2]2017 Econ Cens SDS'!C170","v":"Wood container and pallet manufacturing"},{"$f":"'[3]2017 Econ Cens SDS raw'!AE170","v":89566},{"$f":"'[3]2017 Econ Cens SDS raw'!AF170","v":1434825},{"$f":"'[3]2017 Econ Cens SDS raw'!AG170","v":5493954},{"$f":"'[3]2017 Econ Cens SDS raw'!M170","v":71399},{"$f":"'[3]2017 Econ Cens SDS raw'!N170","v":90474},{"$f":"'[3]2017 Econ Cens SDS raw'!X170","v":9507080},2.88,9.1300000000000008,2017]
[{"$f":"'[2]2017 Econ Cens SDS'!B171","v":32199},{"$f":"'[2]2017 Econ Cens SDS'!C171","v":"All other wood product manufacturing"},{"$f":"'[3]2017 Econ Cens SDS raw'!AE171","v":112883},{"$f":"'[3]2017 Econ Cens SDS raw'!AF171","v":1943114},{"$f":"'[3]2017 Econ Cens SDS raw'!AG171","v":8232372},{"$f":"'[3]2017 Econ Cens SDS raw'!M171","v":73434},{"$f":"'[3]2017 Econ Cens SDS raw'!N171","v":138818},{"$f":"'[3]2017 Econ Cens SDS raw'!X171","v":14980878},2.88,9.1300000000000008,2017]
[{"$f":"'[2]2017 Econ Cens SDS'!B172","v":321991},{"$f":"'[2]2017 Econ Cens SDS'!C172","v":"Manufactured home (mobile home) manufacturing"},{"$f":"'[3]2017 Econ Cens SDS raw'!AE172","v":41222},{"$f":"'[3]2017 Econ Cens SDS raw'!AF172","v":653755},{"$f":"'[3]2017 Econ Cens SDS raw'!AG172","v":2613071},{"$f":"'[3]2017 Econ Cens SDS raw'!M172","v":15531},{"$f":"'[3]2017 Econ Cens SDS raw'!N172","v":10882},{"$f":"'[3]2017 Econ Cens SDS raw'!X172","v":4418468},2.88,9.1300000000000008,2017]
[{"$f":"'[2]2017 Econ Cens SDS'!B173","v":321992},{"$f":"'[2]2017 Econ Cens SDS'!C173","v":"Prefabricated wood building manufacturing"},{"$f":"'[3]2017 Econ Cens SDS raw'!AE173","v":22707},{"$f":"'[3]2017 Econ Cens SDS raw'!AF173","v":412686},{"$f":"'[3]2017 Econ Cens SDS raw'!AG173","v":2125156},{"$f":"'[3]2017 Econ Cens SDS raw'!M173","v":14347},{"$f":"'[3]2017 Econ Cens SDS raw'!N173","v":12576},{"$f":"'[3]2017 Econ Cens SDS raw'!X173","v":3653977},2.88,9.1300000000000008,2017]
[{"$f":"'[2]2017 Econ Cens SDS'!B174","v":321999},{"$f":"'[2]2017 Econ Cens SDS'!C174","v":"All other miscellaneous wood product manufacturing"},{"$f":"'[3]2017 Econ Cens SDS raw'!AE174","v":48954},{"$f":"'[3]2017 Econ Cens SDS raw'!AF174","v":876673},{"$f":"'[3]2017 Econ Cens SDS raw'!AG174","v":3494145},{"$f":"'[3]2017 Econ Cens SDS raw'!M174","v":43556},{"$f":"'[3]2017 Econ Cens SDS raw'!N174","v":115360},{"$f":"'[3]2017 Econ Cens SDS raw'!X174","v":6908433},2.88,9.1300000000000008,2017]
[{"$f":"'[2]2017 Econ Cens SDS'!B175","v":322},{"$f":"'[2]2017 Econ Cens SDS'!C175","v":"Paper manufacturing"},{"$f":"'[3]2017 Econ Cens SDS raw'!AE175","v":551299},{"$f":"'[3]2017 Econ Cens SDS raw'!AF175","v":14866032},{"$f":"'[3]2017 Econ Cens SDS raw'!AG175","v":101435441},{"$f":"'[3]2017 Econ Cens SDS raw'!M175","v":3241216},{"$f":"'[3]2017 Econ Cens SDS raw'!N175","v":3371856},{"$f":"'[3]2017 Econ Cens SDS raw'!X175","v":184587048},4.8500000000000005,6.88,2017]
[{"$f":"'[2]2017 Econ Cens SDS'!B176","v":3221},{"$f":"'[2]2017 Econ Cens SDS'!C176","v":"Pulp, paper, and paperboard mills"},{"$f":"'[3]2017 Econ Cens SDS raw'!AE176","v":174381},{"$f":"'[3]2017 Econ Cens SDS raw'!AF176","v":6153444},{"$f":"'[3]2017 Econ Cens SDS raw'!AG176","v":36736553},{"$f":"'[3]2017 Econ Cens SDS raw'!M176","v":2828636},{"$f":"'[3]2017 Econ Cens SDS raw'!N176","v":2426977},{"$f":"'[3]2017 Econ Cens SDS raw'!X176","v":77272117},4.8500000000000005,6.88,2017]
[{"$f":"'[2]2017 Econ Cens SDS'!B177","v":32211},{"$f":"'[2]2017 Econ Cens SDS'!C177","v":"Pulp mills"},{"$f":"'[3]2017 Econ Cens SDS raw'!AE177","v":14505},{"$f":"'[3]2017 Econ Cens SDS raw'!AF177","v":535044},{"$f":"'[3]2017 Econ Cens SDS raw'!AG177","v":2789661},{"$f":"'[3]2017 Econ Cens SDS raw'!M177","v":256202},{"$f":"'[3]2017 Econ Cens SDS raw'!N177","v":"D"},{"$f":"'[3]2017 Econ Cens SDS raw'!X177","v":5679217},4.8500000000000005,6.88,2017]
[{"$f":"'[2]2017 Econ Cens SDS'!B178","v":322110},{"$f":"'[2]2017 Econ Cens SDS'!C178","v":"Pulp mills"},{"$f":"'[3]2017 Econ Cens SDS raw'!AE178","v":14505},{"$f":"'[3]2017 Econ Cens SDS raw'!AF178","v":535044},{"$f":"'[3]2017 Econ Cens SDS raw'!AG178","v":2789661},{"$f":"'[3]2017 Econ Cens SDS raw'!M178","v":256202},{"$f":"'[3]2017 Econ Cens SDS raw'!N178","v":"D"},{"$f":"'[3]2017 Econ Cens SDS raw'!X178","v":5679217},4.8500000000000005,6.88,2017]
[{"$f":"'[2]2017 Econ Cens SDS'!B179","v":32212},{"$f":"'[2]2017 Econ Cens SDS'!C179","v":"Paper mills"},{"$f":"'[3]2017 Econ Cens SDS raw'!AE179","v":97760},{"$f":"'[3]2017 Econ Cens SDS raw'!AF179","v":3296839},{"$f":"'[3]2017 Econ Cens SDS raw'!AG179","v":19806499},{"$f":"'[3]2017 Econ Cens SDS raw'!M179","v":1264288},{"$f":"'[3]2017 Econ Cens SDS raw'!N179","v":1257740},{"$f":"'[3]2017 Econ Cens SDS raw'!X179","v":40646429},4.8500000000000005,6.88,2017]
[{"$f":"'[2]2017 Econ Cens SDS'!B180","v":322121},{"$f":"'[2]2017 Econ Cens SDS'!C180","v":"Paper (except newsprint) mills"},{"$f":"'[3]2017 Econ Cens SDS raw'!AE180","v":94730},{"$f":"'[3]2017 Econ Cens SDS raw'!AF180","v":3192862},{"$f":"'[3]2017 Econ Cens SDS raw'!AG180","v":19038846},{"$f":"'[3]2017 Econ Cens SDS raw'!M180","v":1232416},{"$f":"'[3]2017 Econ Cens SDS raw'!N180","v":"D"},{"$f":"'[3]2017 Econ Cens SDS raw'!X180","v":39460551},4.8500000000000005,6.88,2017]
[{"$f":"'[2]2017 Econ Cens SDS'!B181","v":322122},{"$f":"'[2]2017 Econ Cens SDS'!C181","v":"Newsprint mills"},{"$f":"'[3]2017 Econ Cens SDS raw'!AE181","v":3030},{"$f":"'[3]2017 Econ Cens SDS raw'!AF181","v":103977},{"$f":"'[3]2017 Econ Cens SDS raw'!AG181","v":767653},{"$f":"'[3]2017 Econ Cens SDS raw'!M181","v":31872},{"$f":"'[3]2017 Econ Cens SDS raw'!N181","v":"D"},{"$f":"'[3]2017 Econ Cens SDS raw'!X181","v":1185878},4.8500000000000005,6.88,2017]
[{"$f":"'[2]2017 Econ Cens SDS'!B182","v":32213},{"$f":"'[2]2017 Econ Cens SDS'!C182","v":"Paperboard mills"},{"$f":"'[3]2017 Econ Cens SDS raw'!AE182","v":62116},{"$f":"'[3]2017 Econ Cens SDS raw'!AF182","v":2321561},{"$f":"'[3]2017 Econ Cens SDS raw'!AG182","v":14140393},{"$f":"'[3]2017 Econ Cens SDS raw'!M182","v":1308146},{"$f":"'[3]2017 Econ Cens SDS raw'!N182","v":"D"},{"$f":"'[3]2017 Econ Cens SDS raw'!X182","v":30946471},4.8500000000000005,6.88,2017]
[{"$f":"'[2]2017 Econ Cens SDS'!B183","v":322130},{"$f":"'[2]2017 Econ Cens SDS'!C183","v":"Paperboard mills"},{"$f":"'[3]2017 Econ Cens SDS raw'!AE183","v":62116},{"$f":"'[3]2017 Econ Cens SDS raw'!AF183","v":2321561},{"$f":"'[3]2017 Econ Cens SDS raw'!AG183","v":14140393},{"$f":"'[3]2017 Econ Cens SDS raw'!M183","v":1308146},{"$f":"'[3]2017 Econ Cens SDS raw'!N183","v":"D"},{"$f":"'[3]2017 Econ Cens SDS raw'!X183","v":30946471},4.8500000000000005,6.88,2017]
[{"$f":"'[2]2017 Econ Cens SDS'!B184","v":3222},{"$f":"'[2]2017 Econ Cens SDS'!C184","v":"Converted paper product manufacturing"},{"$f":"'[3]2017 Econ Cens SDS raw'!AE184","v":376918},{"$f":"'[3]2017 Econ Cens SDS raw'!AF184","v":8712588},{"$f":"'[3]2017 Econ Cens SDS raw'!AG184","v":64698888},{"$f":"'[3]2017 Econ Cens SDS raw'!M184","v":412580},{"$f":"'[3]2017 Econ Cens SDS raw'!N184","v":944879},{"$f":"'[3]2017 Econ Cens SDS raw'!X184","v":107314931},4.8500000000000005,6.88,2017]
[{"$f":"'[2]2017 Econ Cens SDS'!B185","v":32221},{"$f":"'[2]2017 Econ Cens SDS'!C185","v":"Paperboard container manufacturing"},{"$f":"'[3]2017 Econ Cens SDS raw'!AE185","v":231373},{"$f":"'[3]2017 Econ Cens SDS raw'!AF185","v":5376787},{"$f":"'[3]2017 Econ Cens SDS raw'!AG185","v":41334279},{"$f":"'[3]2017 Econ Cens SDS raw'!M185","v":233341},{"$f":"'[3]2017 Econ Cens SDS raw'!N185","v":522152},{"$f":"'[3]2017 Econ Cens SDS raw'!X185","v":65204682},4.8500000000000005,6.88,2017]
[{"$f":"'[2]2017 Econ Cens SDS'!B186","v":322211},{"$f":"'[2]2017 Econ Cens SDS'!C186","v":"Corrugated and solid fiber box manufacturing"},{"$f":"'[3]2017 Econ Cens SDS raw'!AE186","v":134384},{"$f":"'[3]2017 Econ Cens SDS raw'!AF186","v":3256347},{"$f":"'[3]2017 Econ Cens SDS raw'!AG186","v":29117124},{"$f":"'[3]2017 Econ Cens SDS raw'!M186","v":188106},{"$f":"'[3]2017 Econ Cens SDS raw'!N186","v":309081},{"$f":"'[3]2017 Econ Cens SDS raw'!X186","v":44346333},4.8500000000000005,6.88,2017]
[{"$f":"'[2]2017 Econ Cens SDS'!B187","v":322212},{"$f":"'[2]2017 Econ Cens SDS'!C187","v":"Folding paperboard box manufacturing"},{"$f":"'[3]2017 Econ Cens SDS raw'!AE187","v":58642},{"$f":"'[3]2017 Econ Cens SDS raw'!AF187","v":1359127},{"$f":"'[3]2017 Econ Cens SDS raw'!AG187","v":7500877},{"$f":"'[3]2017 Econ Cens SDS raw'!M187","v":26717},{"$f":"'[3]2017 Econ Cens SDS raw'!N187","v":115170},{"$f":"'[3]2017 Econ Cens SDS raw'!X187","v":12517306},4.8500000000000005,6.88,2017]
[{"$f":"'[2]2017 Econ Cens SDS'!B188","v":322219},{"$f":"'[2]2017 Econ Cens SDS'!C188","v":"Other paperboard container manufacturing"},{"$f":"'[3]2017 Econ Cens SDS raw'!AE188","v":38347},{"$f":"'[3]2017 Econ Cens SDS raw'!AF188","v":761313},{"$f":"'[3]2017 Econ Cens SDS raw'!AG188","v":4716278},{"$f":"'[3]2017 Econ Cens SDS raw'!M188","v":18518},{"$f":"'[3]2017 Econ Cens SDS raw'!N188","v":97901},{"$f":"'[3]2017 Econ Cens SDS raw'!X188","v":8341043},4.8500000000000005,6.88,2017]
[{"$f":"'[2]2017 Econ Cens SDS'!B189","v":32222},{"$f":"'[2]2017 Econ Cens SDS'!C189","v":"Paper bag and coated and treated paper manufacturing"},{"$f":"'[3]2017 Econ Cens SDS raw'!AE189","v":70097},{"$f":"'[3]2017 Econ Cens SDS raw'!AF189","v":1654195},{"$f":"'[3]2017 Econ Cens SDS raw'!AG189","v":11148308},{"$f":"'[3]2017 Econ Cens SDS raw'!M189","v":92963},{"$f":"'[3]2017 Econ Cens SDS raw'!N189","v":183344},{"$f":"'[3]2017 Econ Cens SDS raw'!X189","v":20450223},4.8500000000000005,6.88,2017]
[{"$f":"'[2]2017 Econ Cens SDS'!B190","v":322220},{"$f":"'[2]2017 Econ Cens SDS'!C190","v":"Paper bag and coated and treated paper manufacturing"},{"$f":"'[3]2017 Econ Cens SDS raw'!AE190","v":70097},{"$f":"'[3]2017 Econ Cens SDS raw'!AF190","v":1654195},{"$f":"'[3]2017 Econ Cens SDS raw'!AG190","v":11148308},{"$f":"'[3]2017 Econ Cens SDS raw'!M190","v":92963},{"$f":"'[3]2017 Econ Cens SDS raw'!N190","v":183344},{"$f":"'[3]2017 Econ Cens SDS raw'!X190","v":20450223},4.8500000000000005,6.88,2017]
[{"$f":"'[2]2017 Econ Cens SDS'!B191","v":32223},{"$f":"'[2]2017 Econ Cens SDS'!C191","v":"Stationery product manufacturing"},{"$f":"'[3]2017 Econ Cens SDS raw'!AE191","v":25211},{"$f":"'[3]2017 Econ Cens SDS raw'!AF191","v":514092},{"$f":"'[3]2017 Econ Cens SDS raw'!AG191","v":3790820},{"$f":"'[3]2017 Econ Cens SDS raw'!M191","v":6021},{"$f":"'[3]2017 Econ Cens SDS raw'!N191","v":51472},{"$f":"'[3]2017 Econ Cens SDS raw'!X191","v":5803949},4.8500000000000005,6.88,2017]
[{"$f":"'[2]2017 Econ Cens SDS'!B192","v":322230},{"$f":"'[2]2017 Econ Cens SDS'!C192","v":"Stationery product manufacturing"},{"$f":"'[3]2017 Econ Cens SDS raw'!AE192","v":25211},{"$f":"'[3]2017 Econ Cens SDS raw'!AF192","v":514092},{"$f":"'[3]2017 Econ Cens SDS raw'!AG192","v":3790820},{"$f":"'[3]2017 Econ Cens SDS raw'!M192","v":6021},{"$f":"'[3]2017 Econ Cens SDS raw'!N192","v":51472},{"$f":"'[3]2017 Econ Cens SDS raw'!X192","v":5803949},4.8500000000000005,6.88,2017]
[{"$f":"'[2]2017 Econ Cens SDS'!B193","v":32229},{"$f":"'[2]2017 Econ Cens SDS'!C193","v":"Other converted paper product manufacturing"},{"$f":"'[3]2017 Econ Cens SDS raw'!AE193","v":50237},{"$f":"'[3]2017 Econ Cens SDS raw'!AF193","v":1167514},{"$f":"'[3]2017 Econ Cens SDS raw'!AG193","v":8425481},{"$f":"'[3]2017 Econ Cens SDS raw'!M193","v":80255},{"$f":"'[3]2017 Econ Cens SDS raw'!N193","v":187911},{"$f":"'[3]2017 Econ Cens SDS raw'!X193","v":15856077},4.8500000000000005,6.88,2017]
[{"$f":"'[2]2017 Econ Cens SDS'!B194","v":322291},{"$f":"'[2]2017 Econ Cens SDS'!C194","v":"Sanitary paper product manufacturing"},{"$f":"'[3]2017 Econ Cens SDS raw'!AE194","v":28918},{"$f":"'[3]2017 Econ Cens SDS raw'!AF194","v":726243},{"$f":"'[3]2017 Econ Cens SDS raw'!AG194","v":6310235},{"$f":"'[3]2017 Econ Cens SDS raw'!M194","v":47138},{"$f":"'[3]2017 Econ Cens SDS raw'!N194","v":112693},{"$f":"'[3]2017 Econ Cens SDS raw'!X194","v":11591603},4.8500000000000005,6.88,2017]
[{"$f":"'[2]2017 Econ Cens SDS'!B195","v":322299},{"$f":"'[2]2017 Econ Cens SDS'!C195","v":"All other converted paper product manufacturing"},{"$f":"'[3]2017 Econ Cens SDS raw'!AE195","v":21319},{"$f":"'[3]2017 Econ Cens SDS raw'!AF195","v":441271},{"$f":"'[3]2017 Econ Cens SDS raw'!AG195","v":2115246},{"$f":"'[3]2017 Econ Cens SDS raw'!M195","v":33117},{"$f":"'[3]2017 Econ Cens SDS raw'!N195","v":75218},{"$f":"'[3]2017 Econ Cens SDS raw'!X195","v":4264474},4.8500000000000005,6.88,2017]
[{"$f":"'[2]2017 Econ Cens SDS'!B196","v":323},{"$f":"'[2]2017 Econ Cens SDS'!C196","v":"Printing and related support activities"},{"$f":"'[3]2017 Econ Cens SDS raw'!AE196","v":574786},{"$f":"'[3]2017 Econ Cens SDS raw'!AF196","v":12881685},{"$f":"'[3]2017 Econ Cens SDS raw'!AG196","v":32736254},{"$f":"'[3]2017 Econ Cens SDS raw'!M196","v":254988},{"$f":"'[3]2017 Econ Cens SDS raw'!N196","v":915058},{"$f":"'[3]2017 Econ Cens SDS raw'!X196","v":80900790},3.91,2.33,2017]
[{"$f":"'[2]2017 Econ Cens SDS'!B197","v":3231},{"$f":"'[2]2017 Econ Cens SDS'!C197","v":"Printing and related support activities"},{"$f":"'[3]2017 Econ Cens SDS raw'!AE197","v":574786},{"$f":"'[3]2017 Econ Cens SDS raw'!AF197","v":12881685},{"$f":"'[3]2017 Econ Cens SDS raw'!AG197","v":32736254},{"$f":"'[3]2017 Econ Cens SDS raw'!M197","v":254988},{"$f":"'[3]2017 Econ Cens SDS raw'!N197","v":915058},{"$f":"'[3]2017 Econ Cens SDS raw'!X197","v":80900790},3.91,2.33,2017]
[{"$f":"'[2]2017 Econ Cens SDS'!B198","v":32311},{"$f":"'[2]2017 Econ Cens SDS'!C198","v":"Printing"},{"$f":"'[3]2017 Econ Cens SDS raw'!AE198","v":542514},{"$f":"'[3]2017 Econ Cens SDS raw'!AF198","v":12188573},{"$f":"'[3]2017 Econ Cens SDS raw'!AG198","v":31951628},{"$f":"'[3]2017 Econ Cens SDS raw'!M198","v":249060},{"$f":"'[3]2017 Econ Cens SDS raw'!N198","v":883320},{"$f":"'[3]2017 Econ Cens SDS raw'!X198","v":77827809},3.91,2.33,2017]
[{"$f":"'[2]2017 Econ Cens SDS'!B199","v":323111},{"$f":"'[2]2017 Econ Cens SDS'!C199","v":"Commercial printing (except screen and books)"},{"$f":"'[3]2017 Econ Cens SDS raw'!AE199","v":428540},{"$f":"'[3]2017 Econ Cens SDS raw'!AF199","v":10096199},{"$f":"'[3]2017 Econ Cens SDS raw'!AG199","v":26575971},{"$f":"'[3]2017 Econ Cens SDS raw'!M199","v":210279},{"$f":"'[3]2017 Econ Cens SDS raw'!N199","v":745826},{"$f":"'[3]2017 Econ Cens SDS raw'!X199","v":65079799},3.91,2.33,2017]
[{"$f":"'[2]2017 Econ Cens SDS'!B200","v":323113},{"$f":"'[2]2017 Econ Cens SDS'!C200","v":"Commercial screen printing"},{"$f":"'[3]2017 Econ Cens SDS raw'!AE200","v":80924},{"$f":"'[3]2017 Econ Cens SDS raw'!AF200","v":1354764},{"$f":"'[3]2017 Econ Cens SDS raw'!AG200","v":3566507},{"$f":"'[3]2017 Econ Cens SDS raw'!M200","v":25770},{"$f":"'[3]2017 Econ Cens SDS raw'!N200","v":63876},{"$f":"'[3]2017 Econ Cens SDS raw'!X200","v":8432963},3.91,2.33,2017]
[{"$f":"'[2]2017 Econ Cens SDS'!B201","v":323117},{"$f":"'[2]2017 Econ Cens SDS'!C201","v":"Books printing"},{"$f":"'[3]2017 Econ Cens SDS raw'!AE201","v":33050},{"$f":"'[3]2017 Econ Cens SDS raw'!AF201","v":737610},{"$f":"'[3]2017 Econ Cens SDS raw'!AG201","v":1809150},{"$f":"'[3]2017 Econ Cens SDS raw'!M201","v":13011},{"$f":"'[3]2017 Econ Cens SDS raw'!N201","v":73618},{"$f":"'[3]2017 Econ Cens SDS raw'!X201","v":4315047},3.91,2.33,{"$f":"K3","v":2017}]
[{"$f":"'[2]2017 Econ Cens SDS'!B202","v":32312},{"$f":"'[2]2017 Econ Cens SDS'!C202","v":"Support activities for printing"},{"$f":"'[3]2017 Econ Cens SDS raw'!AE202","v":32272},{"$f":"'[3]2017 Econ Cens SDS raw'!AF202","v":693112},{"$f":"'[3]2017 Econ Cens SDS raw'!AG202","v":784626},{"$f":"'[3]2017 Econ Cens SDS raw'!M202","v":5928},{"$f":"'[3]2017 Econ Cens SDS raw'!N202","v":31738},{"$f":"'[3]2017 Econ Cens SDS raw'!X202","v":3072981},3.91,2.33,2017]
[{"$f":"'[2]2017 Econ Cens SDS'!B203","v":323120},{"$f":"'[2]2017 Econ Cens SDS'!C203","v":"Support activities for printing"},{"$f":"'[3]2017 Econ Cens SDS raw'!AE203","v":32272},{"$f":"'[3]2017 Econ Cens SDS raw'!AF203","v":693112},{"$f":"'[3]2017 Econ Cens SDS raw'!AG203","v":784626},{"$f":"'[3]2017 Econ Cens SDS raw'!M203","v":5928},{"$f":"'[3]2017 Econ Cens SDS raw'!N203","v":31738},{"$f":"'[3]2017 Econ Cens SDS raw'!X203","v":3072981},3.91,2.33,2017]
[{"$f":"'[2]2017 Econ Cens SDS'!B204","v":324},{"$f":"'[2]2017 Econ Cens SDS'!C204","v":"Petroleum and coal products manufacturing"},{"$f":"'[3]2017 Econ Cens SDS raw'!AE204","v":157165},{"$f":"'[3]2017 Econ Cens SDS raw'!AF204","v":6526795},{"$f":"'[3]2017 Econ Cens SDS raw'!AG204","v":445223682},{"$f":"'[3]2017 Econ Cens SDS raw'!M204","v":5274052},{"$f":"'[3]2017 Econ Cens SDS raw'!N204","v":3090249},{"$f":"'[3]2017 Econ Cens SDS raw'!X204","v":548122623},4.17,1.77,2017]
[{"$f":"'[2]2017 Econ Cens SDS'!B205","v":3241},{"$f":"'[2]2017 Econ Cens SDS'!C205","v":"Petroleum and coal products manufacturing"},{"$f":"'[3]2017 Econ Cens SDS raw'!AE205","v":157165},{"$f":"'[3]2017 Econ Cens SDS raw'!AF205","v":6526795},{"$f":"'[3]2017 Econ Cens SDS raw'!AG205","v":445223682},{"$f":"'[3]2017 Econ Cens SDS raw'!M205","v":5274052},{"$f":"'[3]2017 Econ Cens SDS raw'!N205","v":3090249},{"$f":"'[3]2017 Econ Cens SDS raw'!X205","v":548122623},4.17,1.77,2017]
[{"$f":"'[2]2017 Econ Cens SDS'!B206","v":32411},{"$f":"'[2]2017 Econ Cens SDS'!C206","v":"Petroleum refineries"},{"$f":"'[3]2017 Econ Cens SDS raw'!AE206","v":92708},{"$f":"'[3]2017 Econ Cens SDS raw'!AF206","v":4595748},{"$f":"'[3]2017 Econ Cens SDS raw'!AG206","v":418264231},{"$f":"'[3]2017 Econ Cens SDS raw'!M206","v":4797004},{"$f":"'[3]2017 Econ Cens SDS raw'!N206","v":2745913},{"$f":"'[3]2017 Econ Cens SDS raw'!X206","v":502941280},4.17,1.77,2017]
[{"$f":"'[2]2017 Econ Cens SDS'!B207","v":324110},{"$f":"'[2]2017 Econ Cens SDS'!C207","v":"Petroleum refineries"},{"$f":"'[3]2017 Econ Cens SDS raw'!AE207","v":92708},{"$f":"'[3]2017 Econ Cens SDS raw'!AF207","v":4595748},{"$f":"'[3]2017 Econ Cens SDS raw'!AG207","v":418264231},{"$f":"'[3]2017 Econ Cens SDS raw'!M207","v":4797004},{"$f":"'[3]2017 Econ Cens SDS raw'!N207","v":2745913},{"$f":"'[3]2017 Econ Cens SDS raw'!X207","v":502941280},4.17,1.77,2017]
[{"$f":"'[2]2017 Econ Cens SDS'!B208","v":32412},{"$f":"'[2]2017 Econ Cens SDS'!C208","v":"Asphalt paving, roofing, and saturated materials manufacturing"},{"$f":"'[3]2017 Econ Cens SDS raw'!AE208","v":41587},{"$f":"'[3]2017 Econ Cens SDS raw'!AF208","v":1224595},{"$f":"'[3]2017 Econ Cens SDS raw'!AG208","v":13609654},{"$f":"'[3]2017 Econ Cens SDS raw'!M208","v":341964},{"$f":"'[3]2017 Econ Cens SDS raw'!N208","v":263137},{"$f":"'[3]2017 Econ Cens SDS raw'!X208","v":24311047},4.17,1.77,2017]
[{"$f":"'[2]2017 Econ Cens SDS'!B209","v":324121},{"$f":"'[2]2017 Econ Cens SDS'!C209","v":"Asphalt paving mixture and block manufacturing"},{"$f":"'[3]2017 Econ Cens SDS raw'!AE209","v":23879},{"$f":"'[3]2017 Econ Cens SDS raw'!AF209","v":706627},{"$f":"'[3]2017 Econ Cens SDS raw'!AG209","v":7682954},{"$f":"'[3]2017 Econ Cens SDS raw'!M209","v":278030},{"$f":"'[3]2017 Econ Cens SDS raw'!N209","v":186320},{"$f":"'[3]2017 Econ Cens SDS raw'!X209","v":13023050},4.17,1.77,2017]
[{"$f":"'[2]2017 Econ Cens SDS'!B210","v":324122},{"$f":"'[2]2017 Econ Cens SDS'!C210","v":"Asphalt shingle and coating materials manufacturing"},{"$f":"'[3]2017 Econ Cens SDS raw'!AE210","v":17708},{"$f":"'[3]2017 Econ Cens SDS raw'!AF210","v":517968},{"$f":"'[3]2017 Econ Cens SDS raw'!AG210","v":5926700},{"$f":"'[3]2017 Econ Cens SDS raw'!M210","v":63934},{"$f":"'[3]2017 Econ Cens SDS raw'!N210","v":76817},{"$f":"'[3]2017 Econ Cens SDS raw'!X210","v":11287997},4.17,1.77,2017]
[{"$f":"'[2]2017 Econ Cens SDS'!B211","v":32419},{"$f":"'[2]2017 Econ Cens SDS'!C211","v":"Other petroleum and coal products manufacturing"},{"$f":"'[3]2017 Econ Cens SDS raw'!AE211","v":22870},{"$f":"'[3]2017 Econ Cens SDS raw'!AF211","v":706452},{"$f":"'[3]2017 Econ Cens SDS raw'!AG211","v":13349797},{"$f":"'[3]2017 Econ Cens SDS raw'!M211","v":135084},{"$f":"'[3]2017 Econ Cens SDS raw'!N211","v":81199},{"$f":"'[3]2017 Econ Cens SDS raw'!X211","v":20870296},4.17,1.77,2017]
[{"$f":"'[2]2017 Econ Cens SDS'!B212","v":324191},{"$f":"'[2]2017 Econ Cens SDS'!C212","v":"Petroleum lubricating oil and grease manufacturing"},{"$f":"'[3]2017 Econ Cens SDS raw'!AE212","v":17559},{"$f":"'[3]2017 Econ Cens SDS raw'!AF212","v":541308},{"$f":"'[3]2017 Econ Cens SDS raw'!AG212","v":11012390},{"$f":"'[3]2017 Econ Cens SDS raw'!M212","v":82044},{"$f":"'[3]2017 Econ Cens SDS raw'!N212","v":54179},{"$f":"'[3]2017 Econ Cens SDS raw'!X212","v":16874674},4.17,1.77,2017]
[{"$f":"'[2]2017 Econ Cens SDS'!B213","v":324199},{"$f":"'[2]2017 Econ Cens SDS'!C213","v":"All other petroleum and coal products manufacturing"},{"$f":"'[3]2017 Econ Cens SDS raw'!AE213","v":5311},{"$f":"'[3]2017 Econ Cens SDS raw'!AF213","v":165144},{"$f":"'[3]2017 Econ Cens SDS raw'!AG213","v":2337407},{"$f":"'[3]2017 Econ Cens SDS raw'!M213","v":53040},{"$f":"'[3]2017 Econ Cens SDS raw'!N213","v":27020},{"$f":"'[3]2017 Econ Cens SDS raw'!X213","v":3995622},4.17,1.77,2017]
[{"$f":"'[2]2017 Econ Cens SDS'!B214","v":325},{"$f":"'[2]2017 Econ Cens SDS'!C214","v":"Chemical manufacturing"},{"$f":"'[3]2017 Econ Cens SDS raw'!AE214","v":956374},{"$f":"'[3]2017 Econ Cens SDS raw'!AF214","v":30712174},{"$f":"'[3]2017 Econ Cens SDS raw'!AG214","v":352119556},{"$f":"'[3]2017 Econ Cens SDS raw'!M214","v":9505606},{"$f":"'[3]2017 Econ Cens SDS raw'!N214","v":8734498},{"$f":"'[3]2017 Econ Cens SDS raw'!X214","v":756408618},3.52,12.520000000000001,2017]
[{"$f":"'[2]2017 Econ Cens SDS'!B215","v":3251},{"$f":"'[2]2017 Econ Cens SDS'!C215","v":"Basic chemical manufacturing"},{"$f":"'[3]2017 Econ Cens SDS raw'!AE215","v":193243},{"$f":"'[3]2017 Econ Cens SDS raw'!AF215","v":7565064},{"$f":"'[3]2017 Econ Cens SDS raw'!AG215","v":119576688},{"$f":"'[3]2017 Econ Cens SDS raw'!M215","v":6428541},{"$f":"'[3]2017 Econ Cens SDS raw'!N215","v":4555821},{"$f":"'[3]2017 Econ Cens SDS raw'!X215","v":214177491},4.8899999999999997,7.9699999999999989,2017]
[{"$f":"'[2]2017 Econ Cens SDS'!B216","v":32511},{"$f":"'[2]2017 Econ Cens SDS'!C216","v":"Petrochemical manufacturing"},{"$f":"'[3]2017 Econ Cens SDS raw'!AE216","v":11966},{"$f":"'[3]2017 Econ Cens SDS raw'!AF216","v":664803},{"$f":"'[3]2017 Econ Cens SDS raw'!AG216","v":28466331},{"$f":"'[3]2017 Econ Cens SDS raw'!M216","v":1609115},{"$f":"'[3]2017 Econ Cens SDS raw'!N216","v":370289},{"$f":"'[3]2017 Econ Cens SDS raw'!X216","v":53711089},4.8899999999999997,7.9699999999999989,2017]
[{"$f":"'[2]2017 Econ Cens SDS'!B217","v":325110},{"$f":"'[2]2017 Econ Cens SDS'!C217","v":"Petrochemical manufacturing"},{"$f":"'[3]2017 Econ Cens SDS raw'!AE217","v":11966},{"$f":"'[3]2017 Econ Cens SDS raw'!AF217","v":664803},{"$f":"'[3]2017 Econ Cens SDS raw'!AG217","v":28466331},{"$f":"'[3]2017 Econ Cens SDS raw'!M217","v":1609115},{"$f":"'[3]2017 Econ Cens SDS raw'!N217","v":370289},{"$f":"'[3]2017 Econ Cens SDS raw'!X217","v":53711089},4.8899999999999997,7.9699999999999989,2017]
[{"$f":"'[2]2017 Econ Cens SDS'!B218","v":32512},{"$f":"'[2]2017 Econ Cens SDS'!C218","v":"Industrial gas manufacturing"},{"$f":"'[3]2017 Econ Cens SDS raw'!AE218","v":16859},{"$f":"'[3]2017 Econ Cens SDS raw'!AF218","v":634696},{"$f":"'[3]2017 Econ Cens SDS raw'!AG218","v":3360152},{"$f":"'[3]2017 Econ Cens SDS raw'!M218","v":612503},{"$f":"'[3]2017 Econ Cens SDS raw'!N218","v":974689},{"$f":"'[3]2017 Econ Cens SDS raw'!X218","v":9279037},4.8899999999999997,7.9699999999999989,2017]
[{"$f":"'[2]2017 Econ Cens SDS'!B219","v":325120},{"$f":"'[2]2017 Econ Cens SDS'!C219","v":"Industrial gas manufacturing"},{"$f":"'[3]2017 Econ Cens SDS raw'!AE219","v":16859},{"$f":"'[3]2017 Econ Cens SDS raw'!AF219","v":634696},{"$f":"'[3]2017 Econ Cens SDS raw'!AG219","v":3360152},{"$f":"'[3]2017 Econ Cens SDS raw'!M219","v":612503},{"$f":"'[3]2017 Econ Cens SDS raw'!N219","v":974689},{"$f":"'[3]2017 Econ Cens SDS raw'!X219","v":9279037},4.8899999999999997,7.9699999999999989,2017]
[{"$f":"'[2]2017 Econ Cens SDS'!B220","v":32513},{"$f":"'[2]2017 Econ Cens SDS'!C220","v":"Synthetic dye and pigment manufacturing"},{"$f":"'[3]2017 Econ Cens SDS raw'!AE220","v":10614},{"$f":"'[3]2017 Econ Cens SDS raw'!AF220","v":390208},{"$f":"'[3]2017 Econ Cens SDS raw'!AG220","v":3233829},{"$f":"'[3]2017 Econ Cens SDS raw'!M220","v":90733},{"$f":"'[3]2017 Econ Cens SDS raw'!N220","v":117780},{"$f":"'[3]2017 Econ Cens SDS raw'!X220","v":6723430},4.8899999999999997,7.9699999999999989,2017]
[{"$f":"'[2]2017 Econ Cens SDS'!B221","v":325130},{"$f":"'[2]2017 Econ Cens SDS'!C221","v":"Synthetic dye and pigment manufacturing"},{"$f":"'[3]2017 Econ Cens SDS raw'!AE221","v":10614},{"$f":"'[3]2017 Econ Cens SDS raw'!AF221","v":390208},{"$f":"'[3]2017 Econ Cens SDS raw'!AG221","v":3233829},{"$f":"'[3]2017 Econ Cens SDS raw'!M221","v":90733},{"$f":"'[3]2017 Econ Cens SDS raw'!N221","v":117780},{"$f":"'[3]2017 Econ Cens SDS raw'!X221","v":6723430},4.8899999999999997,7.9699999999999989,2017]
[{"$f":"'[2]2017 Econ Cens SDS'!B222","v":32518},{"$f":"'[2]2017 Econ Cens SDS'!C222","v":"Other basic inorganic chemical manufacturing"},{"$f":"'[3]2017 Econ Cens SDS raw'!AE222","v":51580},{"$f":"'[3]2017 Econ Cens SDS raw'!AF222","v":1918727},{"$f":"'[3]2017 Econ Cens SDS raw'!AG222","v":12642054},{"$f":"'[3]2017 Econ Cens SDS raw'!M222","v":1119353},{"$f":"'[3]2017 Econ Cens SDS raw'!N222","v":1313917},{"$f":"'[3]2017 Econ Cens SDS raw'!X222","v":31434279},4.8899999999999997,7.9699999999999989,2017]
[{"$f":"'[2]2017 Econ Cens SDS'!B223","v":325180},{"$f":"'[2]2017 Econ Cens SDS'!C223","v":"Other basic inorganic chemical manufacturing"},{"$f":"'[3]2017 Econ Cens SDS raw'!AE223","v":51580},{"$f":"'[3]2017 Econ Cens SDS raw'!AF223","v":1918727},{"$f":"'[3]2017 Econ Cens SDS raw'!AG223","v":12642054},{"$f":"'[3]2017 Econ Cens SDS raw'!M223","v":1119353},{"$f":"'[3]2017 Econ Cens SDS raw'!N223","v":1313917},{"$f":"'[3]2017 Econ Cens SDS raw'!X223","v":31434279},4.8899999999999997,7.9699999999999989,2017]
[{"$f":"'[2]2017 Econ Cens SDS'!B224","v":32519},{"$f":"'[2]2017 Econ Cens SDS'!C224","v":"Other basic organic chemical manufacturing"},{"$f":"'[3]2017 Econ Cens SDS raw'!AE224","v":102224},{"$f":"'[3]2017 Econ Cens SDS raw'!AF224","v":3956630},{"$f":"'[3]2017 Econ Cens SDS raw'!AG224","v":71874322},{"$f":"'[3]2017 Econ Cens SDS raw'!M224","v":2996837},{"$f":"'[3]2017 Econ Cens SDS raw'!N224","v":1779146},{"$f":"'[3]2017 Econ Cens SDS raw'!X224","v":113029656},4.8899999999999997,7.9699999999999989,2017]
[{"$f":"'[2]2017 Econ Cens SDS'!B225","v":325193},{"$f":"'[2]2017 Econ Cens SDS'!C225","v":"Ethyl alcohol manufacturing"},{"$f":"'[3]2017 Econ Cens SDS raw'!AE225","v":17572},{"$f":"'[3]2017 Econ Cens SDS raw'!AF225","v":494908},{"$f":"'[3]2017 Econ Cens SDS raw'!AG225","v":25925733},{"$f":"'[3]2017 Econ Cens SDS raw'!M225","v":1342545},{"$f":"'[3]2017 Econ Cens SDS raw'!N225","v":712096},{"$f":"'[3]2017 Econ Cens SDS raw'!X225","v":30551730},4.8899999999999997,7.9699999999999989,2017]
[{"$f":"'[2]2017 Econ Cens SDS'!B226","v":325194},{"$f":"'[2]2017 Econ Cens SDS'!C226","v":"Cyclic crude, intermediate, and gum and wood chemical manufacturing"},{"$f":"'[3]2017 Econ Cens SDS raw'!AE226","v":7755},{"$f":"'[3]2017 Econ Cens SDS raw'!AF226","v":288143},{"$f":"'[3]2017 Econ Cens SDS raw'!AG226","v":3901253},{"$f":"'[3]2017 Econ Cens SDS raw'!M226","v":68925},{"$f":"'[3]2017 Econ Cens SDS raw'!N226","v":109220},{"$f":"'[3]2017 Econ Cens SDS raw'!X226","v":7609017},4.8899999999999997,7.9699999999999989,2017]
[{"$f":"'[2]2017 Econ Cens SDS'!B227","v":325199},{"$f":"'[2]2017 Econ Cens SDS'!C227","v":"All other basic organic chemical manufacturing"},{"$f":"'[3]2017 Econ Cens SDS raw'!AE227","v":76897},{"$f":"'[3]2017 Econ Cens SDS raw'!AF227","v":3173579},{"$f":"'[3]2017 Econ Cens SDS raw'!AG227","v":42047336},{"$f":"'[3]2017 Econ Cens SDS raw'!M227","v":1585367},{"$f":"'[3]2017 Econ Cens SDS raw'!N227","v":957830},{"$f":"'[3]2017 Econ Cens SDS raw'!X227","v":74868909},4.8899999999999997,7.9699999999999989,2017]
[{"$f":"'[2]2017 Econ Cens SDS'!B228","v":3252},{"$f":"'[2]2017 Econ Cens SDS'!C228","v":"Resin, synthetic rubber, and artificial synthetic fibers and filaments manufacturing"},{"$f":"'[3]2017 Econ Cens SDS raw'!AE228","v":137409},{"$f":"'[3]2017 Econ Cens SDS raw'!AF228","v":4405964},{"$f":"'[3]2017 Econ Cens SDS raw'!AG228","v":67441315},{"$f":"'[3]2017 Econ Cens SDS raw'!M228","v":1799856},{"$f":"'[3]2017 Econ Cens SDS raw'!N228","v":1911292},{"$f":"'[3]2017 Econ Cens SDS raw'!X228","v":105325354},4.8899999999999997,7.9699999999999989,2017]
[{"$f":"'[2]2017 Econ Cens SDS'!B229","v":32521},{"$f":"'[2]2017 Econ Cens SDS'!C229","v":"Resin and synthetic rubber manufacturing"},{"$f":"'[3]2017 Econ Cens SDS raw'!AE229","v":114412},{"$f":"'[3]2017 Econ Cens SDS raw'!AF229","v":3895517},{"$f":"'[3]2017 Econ Cens SDS raw'!AG229","v":63391216},{"$f":"'[3]2017 Econ Cens SDS raw'!M229","v":1715429},{"$f":"'[3]2017 Econ Cens SDS raw'!N229","v":1751385},{"$f":"'[3]2017 Econ Cens SDS raw'!X229","v":98539132},4.8899999999999997,7.9699999999999989,2017]
[{"$f":"'[2]2017 Econ Cens SDS'!B230","v":325211},{"$f":"'[2]2017 Econ Cens SDS'!C230","v":"Plastics material and resin manufacturing"},{"$f":"'[3]2017 Econ Cens SDS raw'!AE230","v":101642},{"$f":"'[3]2017 Econ Cens SDS raw'!AF230","v":3474209},{"$f":"'[3]2017 Econ Cens SDS raw'!AG230","v":58426722},{"$f":"'[3]2017 Econ Cens SDS raw'!M230","v":1594847},{"$f":"'[3]2017 Econ Cens SDS raw'!N230","v":1652985},{"$f":"'[3]2017 Econ Cens SDS raw'!X230","v":90209020},4.8899999999999997,7.9699999999999989,2017]
[{"$f":"'[2]2017 Econ Cens SDS'!B231","v":325212},{"$f":"'[2]2017 Econ Cens SDS'!C231","v":"Synthetic rubber manufacturing"},{"$f":"'[3]2017 Econ Cens SDS raw'!AE231","v":12770},{"$f":"'[3]2017 Econ Cens SDS raw'!AF231","v":421308},{"$f":"'[3]2017 Econ Cens SDS raw'!AG231","v":4964494},{"$f":"'[3]2017 Econ Cens SDS raw'!M231","v":120582},{"$f":"'[3]2017 Econ Cens SDS raw'!N231","v":98400},{"$f":"'[3]2017 Econ Cens SDS raw'!X231","v":8330112},4.8899999999999997,7.9699999999999989,2017]
[{"$f":"'[2]2017 Econ Cens SDS'!B232","v":32522},{"$f":"'[2]2017 Econ Cens SDS'!C232","v":"Artificial and synthetic fibers and filaments manufacturing"},{"$f":"'[3]2017 Econ Cens SDS raw'!AE232","v":22997},{"$f":"'[3]2017 Econ Cens SDS raw'!AF232","v":510447},{"$f":"'[3]2017 Econ Cens SDS raw'!AG232","v":4050099},{"$f":"'[3]2017 Econ Cens SDS raw'!M232","v":84427},{"$f":"'[3]2017 Econ Cens SDS raw'!N232","v":159907},{"$f":"'[3]2017 Econ Cens SDS raw'!X232","v":6786222},4.8899999999999997,7.9699999999999989,2017]
[{"$f":"'[2]2017 Econ Cens SDS'!B233","v":325220},{"$f":"'[2]2017 Econ Cens SDS'!C233","v":"Artificial and synthetic fibers and filaments manufacturing"},{"$f":"'[3]2017 Econ Cens SDS raw'!AE233","v":22997},{"$f":"'[3]2017 Econ Cens SDS raw'!AF233","v":510447},{"$f":"'[3]2017 Econ Cens SDS raw'!AG233","v":4050099},{"$f":"'[3]2017 Econ Cens SDS raw'!M233","v":84427},{"$f":"'[3]2017 Econ Cens SDS raw'!N233","v":159907},{"$f":"'[3]2017 Econ Cens SDS raw'!X233","v":6786222},4.8899999999999997,7.9699999999999989,2017]
[{"$f":"'[2]2017 Econ Cens SDS'!B234","v":3253},{"$f":"'[2]2017 Econ Cens SDS'!C234","v":"Pesticide, fertilizer, and other agricultural chemical manufacturing"},{"$f":"'[3]2017 Econ Cens SDS raw'!AE234","v":45478},{"$f":"'[3]2017 Econ Cens SDS raw'!AF234","v":1354105},{"$f":"'[3]2017 Econ Cens SDS raw'!AG234","v":15083158},{"$f":"'[3]2017 Econ Cens SDS raw'!M234","v":378768},{"$f":"'[3]2017 Econ Cens SDS raw'!N234","v":422863},{"$f":"'[3]2017 Econ Cens SDS raw'!X234","v":31448638},3.8600000000000003,11.940000000000001,2017]
[{"$f":"'[2]2017 Econ Cens SDS'!B235","v":32531},{"$f":"'[2]2017 Econ Cens SDS'!C235","v":"Fertilizer manufacturing"},{"$f":"'[3]2017 Econ Cens SDS raw'!AE235","v":29647},{"$f":"'[3]2017 Econ Cens SDS raw'!AF235","v":906025},{"$f":"'[3]2017 Econ Cens SDS raw'!AG235","v":8023190},{"$f":"'[3]2017 Econ Cens SDS raw'!M235","v":326121},{"$f":"'[3]2017 Econ Cens SDS raw'!N235","v":348617},{"$f":"'[3]2017 Econ Cens SDS raw'!X235","v":16850855},3.8600000000000003,11.940000000000001,2017]
[{"$f":"'[2]2017 Econ Cens SDS'!B236","v":325311},{"$f":"'[2]2017 Econ Cens SDS'!C236","v":"Nitrogenous fertilizer manufacturing"},{"$f":"'[3]2017 Econ Cens SDS raw'!AE236","v":8550},{"$f":"'[3]2017 Econ Cens SDS raw'!AF236","v":309703},{"$f":"'[3]2017 Econ Cens SDS raw'!AG236","v":2165771},{"$f":"'[3]2017 Econ Cens SDS raw'!M236","v":270945},{"$f":"'[3]2017 Econ Cens SDS raw'!N236","v":221795},{"$f":"'[3]2017 Econ Cens SDS raw'!X236","v":6116007},3.8600000000000003,11.940000000000001,2017]
[{"$f":"'[2]2017 Econ Cens SDS'!B237","v":325312},{"$f":"'[2]2017 Econ Cens SDS'!C237","v":"Phosphatic fertilizer manufacturing"},{"$f":"'[3]2017 Econ Cens SDS raw'!AE237","v":9711},{"$f":"'[3]2017 Econ Cens SDS raw'!AF237","v":367783},{"$f":"'[3]2017 Econ Cens SDS raw'!AG237","v":3183541},"N.A.",{"$f":"'[3]2017 Econ Cens SDS raw'!N237","v":102168},{"$f":"'[3]2017 Econ Cens SDS raw'!X237","v":5886222},3.8600000000000003,11.940000000000001,2017]
[{"$f":"'[2]2017 Econ Cens SDS'!B238","v":325314},{"$f":"'[2]2017 Econ Cens SDS'!C238","v":"Fertilizer (mixing only) manufacturing"},{"$f":"'[3]2017 Econ Cens SDS raw'!AE238","v":11386},{"$f":"'[3]2017 Econ Cens SDS raw'!AF238","v":228539},{"$f":"'[3]2017 Econ Cens SDS raw'!AG238","v":2673878},{"$f":"'[3]2017 Econ Cens SDS raw'!M238","v":"D"},{"$f":"'[3]2017 Econ Cens SDS raw'!N238","v":24654},{"$f":"'[3]2017 Econ Cens SDS raw'!X238","v":4848626},3.8600000000000003,11.940000000000001,2017]
[{"$f":"'[2]2017 Econ Cens SDS'!B239","v":32532},{"$f":"'[2]2017 Econ Cens SDS'!C239","v":"Pesticide and other agricultural chemical manufacturing"},{"$f":"'[3]2017 Econ Cens SDS raw'!AE239","v":15831},{"$f":"'[3]2017 Econ Cens SDS raw'!AF239","v":448080},{"$f":"'[3]2017 Econ Cens SDS raw'!AG239","v":7059968},{"$f":"'[3]2017 Econ Cens SDS raw'!M239","v":52647},{"$f":"'[3]2017 Econ Cens SDS raw'!N239","v":74246},{"$f":"'[3]2017 Econ Cens SDS raw'!X239","v":14597783},3.8600000000000003,11.940000000000001,2017]
[{"$f":"'[2]2017 Econ Cens SDS'!B240","v":325320},{"$f":"'[2]2017 Econ Cens SDS'!C240","v":"Pesticide and other agricultural chemical manufacturing"},{"$f":"'[3]2017 Econ Cens SDS raw'!AE240","v":15831},{"$f":"'[3]2017 Econ Cens SDS raw'!AF240","v":448080},{"$f":"'[3]2017 Econ Cens SDS raw'!AG240","v":7059968},{"$f":"'[3]2017 Econ Cens SDS raw'!M240","v":52647},{"$f":"'[3]2017 Econ Cens SDS raw'!N240","v":74246},{"$f":"'[3]2017 Econ Cens SDS raw'!X240","v":14597783},3.8600000000000003,11.940000000000001,2017]
[{"$f":"'[2]2017 Econ Cens SDS'!B241","v":3254},{"$f":"'[2]2017 Econ Cens SDS'!C241","v":"Pharmaceutical and medicine manufacturing"},{"$f":"'[3]2017 Econ Cens SDS raw'!AE241","v":284772},{"$f":"'[3]2017 Econ Cens SDS raw'!AF241","v":9809074},{"$f":"'[3]2017 Econ Cens SDS raw'!AG241","v":69910985},{"$f":"'[3]2017 Econ Cens SDS raw'!M241","v":367875},{"$f":"'[3]2017 Econ Cens SDS raw'!N241","v":875442},{"$f":"'[3]2017 Econ Cens SDS raw'!X241","v":233298900},2.6100000000000003,15.25,2017]
[{"$f":"'[2]2017 Econ Cens SDS'!B242","v":32541},{"$f":"'[2]2017 Econ Cens SDS'!C242","v":"Pharmaceutical and medicine manufacturing"},{"$f":"'[3]2017 Econ Cens SDS raw'!AE242","v":284772},{"$f":"'[3]2017 Econ Cens SDS raw'!AF242","v":9809074},{"$f":"'[3]2017 Econ Cens SDS raw'!AG242","v":69910985},{"$f":"'[3]2017 Econ Cens SDS raw'!M242","v":367875},{"$f":"'[3]2017 Econ Cens SDS raw'!N242","v":875442},{"$f":"'[3]2017 Econ Cens SDS raw'!X242","v":233298900},2.6100000000000003,15.25,2017]
[{"$f":"'[2]2017 Econ Cens SDS'!B243","v":325411},{"$f":"'[2]2017 Econ Cens SDS'!C243","v":"Medicinal and botanical manufacturing"},{"$f":"'[3]2017 Econ Cens SDS raw'!AE243","v":33368},{"$f":"'[3]2017 Econ Cens SDS raw'!AF243","v":929827},{"$f":"'[3]2017 Econ Cens SDS raw'!AG243","v":4764745},{"$f":"'[3]2017 Econ Cens SDS raw'!M243","v":37717},{"$f":"'[3]2017 Econ Cens SDS raw'!N243","v":"D"},{"$f":"'[3]2017 Econ Cens SDS raw'!X243","v":11381439},2.6100000000000003,15.25,2017]
[{"$f":"'[2]2017 Econ Cens SDS'!B244","v":325412},{"$f":"'[2]2017 Econ Cens SDS'!C244","v":"Pharmaceutical preparation manufacturing"},{"$f":"'[3]2017 Econ Cens SDS raw'!AE244","v":171031},{"$f":"'[3]2017 Econ Cens SDS raw'!AF244","v":5624555},{"$f":"'[3]2017 Econ Cens SDS raw'!AG244","v":50813126},{"$f":"'[3]2017 Econ Cens SDS raw'!M244","v":193598},{"$f":"'[3]2017 Econ Cens SDS raw'!N244","v":530954},{"$f":"'[3]2017 Econ Cens SDS raw'!X244","v":177771497},2.6100000000000003,15.25,2017]
[{"$f":"'[2]2017 Econ Cens SDS'!B245","v":325413},{"$f":"'[2]2017 Econ Cens SDS'!C245","v":"In-vitro diagnostic substance manufacturing"},{"$f":"'[3]2017 Econ Cens SDS raw'!AE245","v":21894},{"$f":"'[3]2017 Econ Cens SDS raw'!AF245","v":688710},{"$f":"'[3]2017 Econ Cens SDS raw'!AG245","v":4783617},{"$f":"'[3]2017 Econ Cens SDS raw'!M245","v":12870},{"$f":"'[3]2017 Econ Cens SDS raw'!N245","v":47706},{"$f":"'[3]2017 Econ Cens SDS raw'!X245","v":13648218},2.6100000000000003,15.25,2017]
[{"$f":"'[2]2017 Econ Cens SDS'!B246","v":325414},{"$f":"'[2]2017 Econ Cens SDS'!C246","v":"Biological product (except diagnostic) manufacturing"},{"$f":"'[3]2017 Econ Cens SDS raw'!AE246","v":58479},{"$f":"'[3]2017 Econ Cens SDS raw'!AF246","v":2565982},{"$f":"'[3]2017 Econ Cens SDS raw'!AG246","v":9549497},{"$f":"'[3]2017 Econ Cens SDS raw'!M246","v":123690},{"$f":"'[3]2017 Econ Cens SDS raw'!N246","v":"D"},{"$f":"'[3]2017 Econ Cens SDS raw'!X246","v":30497746},2.6100000000000003,15.25,2017]
[{"$f":"'[2]2017 Econ Cens SDS'!B247","v":3255},{"$f":"'[2]2017 Econ Cens SDS'!C247","v":"Paint, coating, and adhesive manufacturing"},{"$f":"'[3]2017 Econ Cens SDS raw'!AE247","v":73179},{"$f":"'[3]2017 Econ Cens SDS raw'!AF247","v":1928977},{"$f":"'[3]2017 Econ Cens SDS raw'!AG247","v":21929932},{"$f":"'[3]2017 Econ Cens SDS raw'!M247","v":102606},{"$f":"'[3]2017 Econ Cens SDS raw'!N247","v":215567},{"$f":"'[3]2017 Econ Cens SDS raw'!X247","v":42410808},3.8600000000000003,11.940000000000001,2017]
[{"$f":"'[2]2017 Econ Cens SDS'!B248","v":32551},{"$f":"'[2]2017 Econ Cens SDS'!C248","v":"Paint and coating manufacturing"},{"$f":"'[3]2017 Econ Cens SDS raw'!AE248","v":44338},{"$f":"'[3]2017 Econ Cens SDS raw'!AF248","v":1158005},{"$f":"'[3]2017 Econ Cens SDS raw'!AG248","v":14658589},{"$f":"'[3]2017 Econ Cens SDS raw'!M248","v":49250},{"$f":"'[3]2017 Econ Cens SDS raw'!N248","v":114641},{"$f":"'[3]2017 Econ Cens SDS raw'!X248","v":27599514},3.8600000000000003,11.940000000000001,2017]
[{"$f":"'[2]2017 Econ Cens SDS'!B249","v":325510},{"$f":"'[2]2017 Econ Cens SDS'!C249","v":"Paint and coating manufacturing"},{"$f":"'[3]2017 Econ Cens SDS raw'!AE249","v":44338},{"$f":"'[3]2017 Econ Cens SDS raw'!AF249","v":1158005},{"$f":"'[3]2017 Econ Cens SDS raw'!AG249","v":14658589},{"$f":"'[3]2017 Econ Cens SDS raw'!M249","v":49250},{"$f":"'[3]2017 Econ Cens SDS raw'!N249","v":114641},{"$f":"'[3]2017 Econ Cens SDS raw'!X249","v":27599514},3.8600000000000003,11.940000000000001,2017]
[{"$f":"'[2]2017 Econ Cens SDS'!B250","v":32552},{"$f":"'[2]2017 Econ Cens SDS'!C250","v":"Adhesive manufacturing"},{"$f":"'[3]2017 Econ Cens SDS raw'!AE250","v":28841},{"$f":"'[3]2017 Econ Cens SDS raw'!AF250","v":770972},{"$f":"'[3]2017 Econ Cens SDS raw'!AG250","v":7271343},{"$f":"'[3]2017 Econ Cens SDS raw'!M250","v":53356},{"$f":"'[3]2017 Econ Cens SDS raw'!N250","v":100926},{"$f":"'[3]2017 Econ Cens SDS raw'!X250","v":14811294},3.8600000000000003,11.940000000000001,2017]
[{"$f":"'[2]2017 Econ Cens SDS'!B251","v":325520},{"$f":"'[2]2017 Econ Cens SDS'!C251","v":"Adhesive manufacturing"},{"$f":"'[3]2017 Econ Cens SDS raw'!AE251","v":28841},{"$f":"'[3]2017 Econ Cens SDS raw'!AF251","v":770972},{"$f":"'[3]2017 Econ Cens SDS raw'!AG251","v":7271343},{"$f":"'[3]2017 Econ Cens SDS raw'!M251","v":53356},{"$f":"'[3]2017 Econ Cens SDS raw'!N251","v":100926},{"$f":"'[3]2017 Econ Cens SDS raw'!X251","v":14811294},3.8600000000000003,11.940000000000001,2017]
[{"$f":"'[2]2017 Econ Cens SDS'!B252","v":3256},{"$f":"'[2]2017 Econ Cens SDS'!C252","v":"Soap, cleaning compound, and toilet preparation manufacturing"},{"$f":"'[3]2017 Econ Cens SDS raw'!AE252","v":113942},{"$f":"'[3]2017 Econ Cens SDS raw'!AF252","v":2839591},{"$f":"'[3]2017 Econ Cens SDS raw'!AG252","v":33083573},{"$f":"'[3]2017 Econ Cens SDS raw'!M252","v":172389},{"$f":"'[3]2017 Econ Cens SDS raw'!N252","v":307456},{"$f":"'[3]2017 Econ Cens SDS raw'!X252","v":81824697},3.8600000000000003,11.940000000000001,2017]
[{"$f":"'[2]2017 Econ Cens SDS'!B253","v":32561},{"$f":"'[2]2017 Econ Cens SDS'!C253","v":"Soap and cleaning compound manufacturing"},{"$f":"'[3]2017 Econ Cens SDS raw'!AE253","v":57549},{"$f":"'[3]2017 Econ Cens SDS raw'!AF253","v":1529629},{"$f":"'[3]2017 Econ Cens SDS raw'!AG253","v":15853032},{"$f":"'[3]2017 Econ Cens SDS raw'!M253","v":129423},{"$f":"'[3]2017 Econ Cens SDS raw'!N253","v":180280},{"$f":"'[3]2017 Econ Cens SDS raw'!X253","v":38555737},3.8600000000000003,11.940000000000001,2017]
[{"$f":"'[2]2017 Econ Cens SDS'!B254","v":325611},{"$f":"'[2]2017 Econ Cens SDS'!C254","v":"Soap and other detergent manufacturing"},{"$f":"'[3]2017 Econ Cens SDS raw'!AE254","v":33646},{"$f":"'[3]2017 Econ Cens SDS raw'!AF254","v":874513},{"$f":"'[3]2017 Econ Cens SDS raw'!AG254","v":8796238},{"$f":"'[3]2017 Econ Cens SDS raw'!M254","v":34125},{"$f":"'[3]2017 Econ Cens SDS raw'!N254","v":92545},{"$f":"'[3]2017 Econ Cens SDS raw'!X254","v":25194239},3.8600000000000003,11.940000000000001,2017]
[{"$f":"'[2]2017 Econ Cens SDS'!B255","v":325612},{"$f":"'[2]2017 Econ Cens SDS'!C255","v":"Polish and other sanitation good manufacturing"},{"$f":"'[3]2017 Econ Cens SDS raw'!AE255","v":16944},{"$f":"'[3]2017 Econ Cens SDS raw'!AF255","v":398117},{"$f":"'[3]2017 Econ Cens SDS raw'!AG255","v":3456077},{"$f":"'[3]2017 Econ Cens SDS raw'!M255","v":10896},{"$f":"'[3]2017 Econ Cens SDS raw'!N255","v":46792},{"$f":"'[3]2017 Econ Cens SDS raw'!X255","v":6221507},3.8600000000000003,11.940000000000001,2017]
[{"$f":"'[2]2017 Econ Cens SDS'!B256","v":325613},{"$f":"'[2]2017 Econ Cens SDS'!C256","v":"Surface active agent manufacturing"},{"$f":"'[3]2017 Econ Cens SDS raw'!AE256","v":6959},{"$f":"'[3]2017 Econ Cens SDS raw'!AF256","v":256999},{"$f":"'[3]2017 Econ Cens SDS raw'!AG256","v":3600717},{"$f":"'[3]2017 Econ Cens SDS raw'!M256","v":84402},{"$f":"'[3]2017 Econ Cens SDS raw'!N256","v":40943},{"$f":"'[3]2017 Econ Cens SDS raw'!X256","v":7139991},3.8600000000000003,11.940000000000001,2017]
[{"$f":"'[2]2017 Econ Cens SDS'!B257","v":32562},{"$f":"'[2]2017 Econ Cens SDS'!C257","v":"Toilet preparation manufacturing"},{"$f":"'[3]2017 Econ Cens SDS raw'!AE257","v":56393},{"$f":"'[3]2017 Econ Cens SDS raw'!AF257","v":1309962},{"$f":"'[3]2017 Econ Cens SDS raw'!AG257","v":17230541},{"$f":"'[3]2017 Econ Cens SDS raw'!M257","v":42966},{"$f":"'[3]2017 Econ Cens SDS raw'!N257","v":127176},{"$f":"'[3]2017 Econ Cens SDS raw'!X257","v":43268960},3.8600000000000003,11.940000000000001,2017]
[{"$f":"'[2]2017 Econ Cens SDS'!B258","v":325620},{"$f":"'[2]2017 Econ Cens SDS'!C258","v":"Toilet preparation manufacturing"},{"$f":"'[3]2017 Econ Cens SDS raw'!AE258","v":56393},{"$f":"'[3]2017 Econ Cens SDS raw'!AF258","v":1309962},{"$f":"'[3]2017 Econ Cens SDS raw'!AG258","v":17230541},{"$f":"'[3]2017 Econ Cens SDS raw'!M258","v":42966},{"$f":"'[3]2017 Econ Cens SDS raw'!N258","v":127176},{"$f":"'[3]2017 Econ Cens SDS raw'!X258","v":43268960},3.8600000000000003,11.940000000000001,2017]
[{"$f":"'[2]2017 Econ Cens SDS'!B259","v":3259},{"$f":"'[2]2017 Econ Cens SDS'!C259","v":"Other chemical product and preparation manufacturing"},{"$f":"'[3]2017 Econ Cens SDS raw'!AE259","v":108351},{"$f":"'[3]2017 Econ Cens SDS raw'!AF259","v":2809399},{"$f":"'[3]2017 Econ Cens SDS raw'!AG259","v":25093905},{"$f":"'[3]2017 Econ Cens SDS raw'!M259","v":255571},{"$f":"'[3]2017 Econ Cens SDS raw'!N259","v":446057},{"$f":"'[3]2017 Econ Cens SDS raw'!X259","v":47922730},3.8600000000000003,11.940000000000001,2017]
[{"$f":"'[2]2017 Econ Cens SDS'!B260","v":32591},{"$f":"'[2]2017 Econ Cens SDS'!C260","v":"Printing ink manufacturing"},{"$f":"'[3]2017 Econ Cens SDS raw'!AE260","v":12922},{"$f":"'[3]2017 Econ Cens SDS raw'!AF260","v":335034},{"$f":"'[3]2017 Econ Cens SDS raw'!AG260","v":2662599},{"$f":"'[3]2017 Econ Cens SDS raw'!M260","v":7365},{"$f":"'[3]2017 Econ Cens SDS raw'!N260","v":34234},{"$f":"'[3]2017 Econ Cens SDS raw'!X260","v":4334796},3.8600000000000003,11.940000000000001,2017]
[{"$f":"'[2]2017 Econ Cens SDS'!B261","v":325910},{"$f":"'[2]2017 Econ Cens SDS'!C261","v":"Printing ink manufacturing"},{"$f":"'[3]2017 Econ Cens SDS raw'!AE261","v":12922},{"$f":"'[3]2017 Econ Cens SDS raw'!AF261","v":335034},{"$f":"'[3]2017 Econ Cens SDS raw'!AG261","v":2662599},{"$f":"'[3]2017 Econ Cens SDS raw'!M261","v":7365},{"$f":"'[3]2017 Econ Cens SDS raw'!N261","v":34234},{"$f":"'[3]2017 Econ Cens SDS raw'!X261","v":4334796},3.8600000000000003,11.940000000000001,2017]
[{"$f":"'[2]2017 Econ Cens SDS'!B262","v":32592},{"$f":"'[2]2017 Econ Cens SDS'!C262","v":"Explosives manufacturing"},{"$f":"'[3]2017 Econ Cens SDS raw'!AE262","v":8952},{"$f":"'[3]2017 Econ Cens SDS raw'!AF262","v":224523},{"$f":"'[3]2017 Econ Cens SDS raw'!AG262","v":964951},{"$f":"'[3]2017 Econ Cens SDS raw'!M262","v":16829},{"$f":"'[3]2017 Econ Cens SDS raw'!N262","v":19825},{"$f":"'[3]2017 Econ Cens SDS raw'!X262","v":2421644},3.8600000000000003,11.940000000000001,2017]
[{"$f":"'[2]2017 Econ Cens SDS'!B263","v":325920},{"$f":"'[2]2017 Econ Cens SDS'!C263","v":"Explosives manufacturing"},{"$f":"'[3]2017 Econ Cens SDS raw'!AE263","v":8952},{"$f":"'[3]2017 Econ Cens SDS raw'!AF263","v":224523},{"$f":"'[3]2017 Econ Cens SDS raw'!AG263","v":964951},{"$f":"'[3]2017 Econ Cens SDS raw'!M263","v":16829},{"$f":"'[3]2017 Econ Cens SDS raw'!N263","v":19825},{"$f":"'[3]2017 Econ Cens SDS raw'!X263","v":2421644},3.8600000000000003,11.940000000000001,2017]
[{"$f":"'[2]2017 Econ Cens SDS'!B264","v":32599},{"$f":"'[2]2017 Econ Cens SDS'!C264","v":"All other chemical product and preparation manufacturing"},{"$f":"'[3]2017 Econ Cens SDS raw'!AE264","v":86477},{"$f":"'[3]2017 Econ Cens SDS raw'!AF264","v":2249842},{"$f":"'[3]2017 Econ Cens SDS raw'!AG264","v":21466355},{"$f":"'[3]2017 Econ Cens SDS raw'!M264","v":231377},{"$f":"'[3]2017 Econ Cens SDS raw'!N264","v":391998},{"$f":"'[3]2017 Econ Cens SDS raw'!X264","v":41166290},3.8600000000000003,11.940000000000001,2017]
[{"$f":"'[2]2017 Econ Cens SDS'!B265","v":325991},{"$f":"'[2]2017 Econ Cens SDS'!C265","v":"Custom compounding of purchased resins"},{"$f":"'[3]2017 Econ Cens SDS raw'!AE265","v":26085},{"$f":"'[3]2017 Econ Cens SDS raw'!AF265","v":607972},{"$f":"'[3]2017 Econ Cens SDS raw'!AG265","v":7269329},{"$f":"'[3]2017 Econ Cens SDS raw'!M265","v":33709},{"$f":"'[3]2017 Econ Cens SDS raw'!N265","v":140364},{"$f":"'[3]2017 Econ Cens SDS raw'!X265","v":11322629},3.8600000000000003,11.940000000000001,{"$f":"K67","v":2017}]
[{"$f":"'[2]2017 Econ Cens SDS'!B266","v":325992},{"$f":"'[2]2017 Econ Cens SDS'!C266","v":"Photographic film, paper, plate, and chemical manufacturing"},{"$f":"'[3]2017 Econ Cens SDS raw'!AE266","v":14793},{"$f":"'[3]2017 Econ Cens SDS raw'!AF266","v":372382},{"$f":"'[3]2017 Econ Cens SDS raw'!AG266","v":3555529},{"$f":"'[3]2017 Econ Cens SDS raw'!M266","v":41220},{"$f":"'[3]2017 Econ Cens SDS raw'!N266","v":65692},{"$f":"'[3]2017 Econ Cens SDS raw'!X266","v":7070091},3.8600000000000003,11.940000000000001,2017]
[{"$f":"'[2]2017 Econ Cens SDS'!B267","v":325998},{"$f":"'[2]2017 Econ Cens SDS'!C267","v":"All other miscellaneous chemical product and preparation manufacturing"},{"$f":"'[3]2017 Econ Cens SDS raw'!AE267","v":45599},{"$f":"'[3]2017 Econ Cens SDS raw'!AF267","v":1269488},{"$f":"'[3]2017 Econ Cens SDS raw'!AG267","v":10641497},{"$f":"'[3]2017 Econ Cens SDS raw'!M267","v":156448},{"$f":"'[3]2017 Econ Cens SDS raw'!N267","v":185942},{"$f":"'[3]2017 Econ Cens SDS raw'!X267","v":22773570},3.8600000000000003,11.940000000000001,2017]
[{"$f":"'[2]2017 Econ Cens SDS'!B268","v":326},{"$f":"'[2]2017 Econ Cens SDS'!C268","v":"Plastics and rubber products manufacturing"},{"$f":"'[3]2017 Econ Cens SDS raw'!AE268","v":1151174},{"$f":"'[3]2017 Econ Cens SDS raw'!AF268","v":23516657},{"$f":"'[3]2017 Econ Cens SDS raw'!AG268","v":121288650},{"$f":"'[3]2017 Econ Cens SDS raw'!M268","v":847961},{"$f":"'[3]2017 Econ Cens SDS raw'!N268","v":3746503},{"$f":"'[3]2017 Econ Cens SDS raw'!X268","v":237455411},3.49,8.59,2017]
[{"$f":"'[2]2017 Econ Cens SDS'!B269","v":3261},{"$f":"'[2]2017 Econ Cens SDS'!C269","v":"Plastics product manufacturing"},{"$f":"'[3]2017 Econ Cens SDS raw'!AE269","v":955631},{"$f":"'[3]2017 Econ Cens SDS raw'!AF269","v":18951112},{"$f":"'[3]2017 Econ Cens SDS raw'!AG269","v":98547922},{"$f":"'[3]2017 Econ Cens SDS raw'!M269","v":619088},{"$f":"'[3]2017 Econ Cens SDS raw'!N269","v":3222181},{"$f":"'[3]2017 Econ Cens SDS raw'!X269","v":195000995},3.49,8.59,2017]
[{"$f":"'[2]2017 Econ Cens SDS'!B270","v":32611},{"$f":"'[2]2017 Econ Cens SDS'!C270","v":"Plastics packaging materials and unlaminated film and sheet manufacturing"},{"$f":"'[3]2017 Econ Cens SDS raw'!AE270","v":160514},{"$f":"'[3]2017 Econ Cens SDS raw'!AF270","v":3520880},{"$f":"'[3]2017 Econ Cens SDS raw'!AG270","v":22471127},{"$f":"'[3]2017 Econ Cens SDS raw'!M270","v":134875},{"$f":"'[3]2017 Econ Cens SDS raw'!N270","v":657118},{"$f":"'[3]2017 Econ Cens SDS raw'!X270","v":40240261},3.49,8.59,2017]
[{"$f":"'[2]2017 Econ Cens SDS'!B271","v":326111},{"$f":"'[2]2017 Econ Cens SDS'!C271","v":"Plastics bag and pouch manufacturing"},{"$f":"'[3]2017 Econ Cens SDS raw'!AE271","v":54119},{"$f":"'[3]2017 Econ Cens SDS raw'!AF271","v":1031971},{"$f":"'[3]2017 Econ Cens SDS raw'!AG271","v":5790172},{"$f":"'[3]2017 Econ Cens SDS raw'!M271","v":22766},{"$f":"'[3]2017 Econ Cens SDS raw'!N271","v":166529},{"$f":"'[3]2017 Econ Cens SDS raw'!X271","v":10868215},3.49,8.59,2017]
[{"$f":"'[2]2017 Econ Cens SDS'!B272","v":326112},{"$f":"'[2]2017 Econ Cens SDS'!C272","v":"Plastics packaging film and sheet (including laminated) manufacturing"},{"$f":"'[3]2017 Econ Cens SDS raw'!AE272","v":53817},{"$f":"'[3]2017 Econ Cens SDS raw'!AF272","v":1280006},{"$f":"'[3]2017 Econ Cens SDS raw'!AG272","v":8070770},{"$f":"'[3]2017 Econ Cens SDS raw'!M272","v":44478},{"$f":"'[3]2017 Econ Cens SDS raw'!N272","v":203455},{"$f":"'[3]2017 Econ Cens SDS raw'!X272","v":13632034},3.49,8.59,2017]
[{"$f":"'[2]2017 Econ Cens SDS'!B273","v":326113},{"$f":"'[2]2017 Econ Cens SDS'!C273","v":"Unlaminated plastics film and sheet (except packaging) manufacturing"},{"$f":"'[3]2017 Econ Cens SDS raw'!AE273","v":52578},{"$f":"'[3]2017 Econ Cens SDS raw'!AF273","v":1208903},{"$f":"'[3]2017 Econ Cens SDS raw'!AG273","v":8610185},{"$f":"'[3]2017 Econ Cens SDS raw'!M273","v":67631},{"$f":"'[3]2017 Econ Cens SDS raw'!N273","v":287134},{"$f":"'[3]2017 Econ Cens SDS raw'!X273","v":15740012},3.49,8.59,2017]
[{"$f":"'[2]2017 Econ Cens SDS'!B274","v":32612},{"$f":"'[2]2017 Econ Cens SDS'!C274","v":"Plastics pipe, pipe fitting, and unlaminated profile shape manufacturing"},{"$f":"'[3]2017 Econ Cens SDS raw'!AE274","v":64428},{"$f":"'[3]2017 Econ Cens SDS raw'!AF274","v":1394583},{"$f":"'[3]2017 Econ Cens SDS raw'!AG274","v":8699641},{"$f":"'[3]2017 Econ Cens SDS raw'!M274","v":43869},{"$f":"'[3]2017 Econ Cens SDS raw'!N274","v":287558},{"$f":"'[3]2017 Econ Cens SDS raw'!X274","v":18678142},3.49,8.59,2017]
[{"$f":"'[2]2017 Econ Cens SDS'!B275","v":326121},{"$f":"'[2]2017 Econ Cens SDS'!C275","v":"Unlaminated plastics profile shape manufacturing"},{"$f":"'[3]2017 Econ Cens SDS raw'!AE275","v":27419},{"$f":"'[3]2017 Econ Cens SDS raw'!AF275","v":610601},{"$f":"'[3]2017 Econ Cens SDS raw'!AG275","v":2666907},{"$f":"'[3]2017 Econ Cens SDS raw'!M275","v":19929},{"$f":"'[3]2017 Econ Cens SDS raw'!N275","v":95653},{"$f":"'[3]2017 Econ Cens SDS raw'!X275","v":7922323},3.49,8.59,2017]
[{"$f":"'[2]2017 Econ Cens SDS'!B276","v":326122},{"$f":"'[2]2017 Econ Cens SDS'!C276","v":"Plastics pipe and pipe fitting manufacturing"},{"$f":"'[3]2017 Econ Cens SDS raw'!AE276","v":37009},{"$f":"'[3]2017 Econ Cens SDS raw'!AF276","v":783982},{"$f":"'[3]2017 Econ Cens SDS raw'!AG276","v":6032734},{"$f":"'[3]2017 Econ Cens SDS raw'!M276","v":23940},{"$f":"'[3]2017 Econ Cens SDS raw'!N276","v":191905},{"$f":"'[3]2017 Econ Cens SDS raw'!X276","v":10755819},3.49,8.59,2017]
[{"$f":"'[2]2017 Econ Cens SDS'!B277","v":32613},{"$f":"'[2]2017 Econ Cens SDS'!C277","v":"Laminated plastics plate, sheet (except packaging), and shape manufacturing"},{"$f":"'[3]2017 Econ Cens SDS raw'!AE277","v":17733},{"$f":"'[3]2017 Econ Cens SDS raw'!AF277","v":405077},{"$f":"'[3]2017 Econ Cens SDS raw'!AG277","v":1725636},{"$f":"'[3]2017 Econ Cens SDS raw'!M277","v":22113},{"$f":"'[3]2017 Econ Cens SDS raw'!N277","v":43505},{"$f":"'[3]2017 Econ Cens SDS raw'!X277","v":4089019},3.49,8.59,2017]
[{"$f":"'[2]2017 Econ Cens SDS'!B278","v":326130},{"$f":"'[2]2017 Econ Cens SDS'!C278","v":"Laminated plastics plate, sheet (except packaging), and shape manufacturing"},{"$f":"'[3]2017 Econ Cens SDS raw'!AE278","v":17733},{"$f":"'[3]2017 Econ Cens SDS raw'!AF278","v":405077},{"$f":"'[3]2017 Econ Cens SDS raw'!AG278","v":1725636},{"$f":"'[3]2017 Econ Cens SDS raw'!M278","v":22113},{"$f":"'[3]2017 Econ Cens SDS raw'!N278","v":43505},{"$f":"'[3]2017 Econ Cens SDS raw'!X278","v":4089019},3.49,8.59,2017]
[{"$f":"'[2]2017 Econ Cens SDS'!B279","v":32614},{"$f":"'[2]2017 Econ Cens SDS'!C279","v":"Polystyrene foam product manufacturing"},{"$f":"'[3]2017 Econ Cens SDS raw'!AE279","v":45288},{"$f":"'[3]2017 Econ Cens SDS raw'!AF279","v":805869},{"$f":"'[3]2017 Econ Cens SDS raw'!AG279","v":5396700},{"$f":"'[3]2017 Econ Cens SDS raw'!M279","v":67161},{"$f":"'[3]2017 Econ Cens SDS raw'!N279","v":139712},{"$f":"'[3]2017 Econ Cens SDS raw'!X279","v":9680983},3.49,8.59,2017]
[{"$f":"'[2]2017 Econ Cens SDS'!B280","v":326140},{"$f":"'[2]2017 Econ Cens SDS'!C280","v":"Polystyrene foam product manufacturing"},{"$f":"'[3]2017 Econ Cens SDS raw'!AE280","v":45288},{"$f":"'[3]2017 Econ Cens SDS raw'!AF280","v":805869},{"$f":"'[3]2017 Econ Cens SDS raw'!AG280","v":5396700},{"$f":"'[3]2017 Econ Cens SDS raw'!M280","v":67161},{"$f":"'[3]2017 Econ Cens SDS raw'!N280","v":139712},{"$f":"'[3]2017 Econ Cens SDS raw'!X280","v":9680983},3.49,8.59,2017]
[{"$f":"'[2]2017 Econ Cens SDS'!B281","v":32615},{"$f":"'[2]2017 Econ Cens SDS'!C281","v":"Urethane and other foam product (except polystyrene) manufacturing"},{"$f":"'[3]2017 Econ Cens SDS raw'!AE281","v":50704},{"$f":"'[3]2017 Econ Cens SDS raw'!AF281","v":920403},{"$f":"'[3]2017 Econ Cens SDS raw'!AG281","v":6130315},{"$f":"'[3]2017 Econ Cens SDS raw'!M281","v":35436},{"$f":"'[3]2017 Econ Cens SDS raw'!N281","v":79570},{"$f":"'[3]2017 Econ Cens SDS raw'!X281","v":11055408},3.49,8.59,2017]
[{"$f":"'[2]2017 Econ Cens SDS'!B282","v":326150},{"$f":"'[2]2017 Econ Cens SDS'!C282","v":"Urethane and other foam product (except polystyrene) manufacturing"},{"$f":"'[3]2017 Econ Cens SDS raw'!AE282","v":50704},{"$f":"'[3]2017 Econ Cens SDS raw'!AF282","v":920403},{"$f":"'[3]2017 Econ Cens SDS raw'!AG282","v":6130315},{"$f":"'[3]2017 Econ Cens SDS raw'!M282","v":35436},{"$f":"'[3]2017 Econ Cens SDS raw'!N282","v":79570},{"$f":"'[3]2017 Econ Cens SDS raw'!X282","v":11055408},3.49,8.59,2017]
[{"$f":"'[2]2017 Econ Cens SDS'!B283","v":32616},{"$f":"'[2]2017 Econ Cens SDS'!C283","v":"Plastics bottle manufacturing"},{"$f":"'[3]2017 Econ Cens SDS raw'!AE283","v":52142},{"$f":"'[3]2017 Econ Cens SDS raw'!AF283","v":1054238},{"$f":"'[3]2017 Econ Cens SDS raw'!AG283","v":6116441},{"$f":"'[3]2017 Econ Cens SDS raw'!M283","v":25267},{"$f":"'[3]2017 Econ Cens SDS raw'!N283","v":381284},{"$f":"'[3]2017 Econ Cens SDS raw'!X283","v":11051987},3.49,8.59,2017]
[{"$f":"'[2]2017 Econ Cens SDS'!B284","v":326160},{"$f":"'[2]2017 Econ Cens SDS'!C284","v":"Plastics bottle manufacturing"},{"$f":"'[3]2017 Econ Cens SDS raw'!AE284","v":52142},{"$f":"'[3]2017 Econ Cens SDS raw'!AF284","v":1054238},{"$f":"'[3]2017 Econ Cens SDS raw'!AG284","v":6116441},{"$f":"'[3]2017 Econ Cens SDS raw'!M284","v":25267},{"$f":"'[3]2017 Econ Cens SDS raw'!N284","v":381284},{"$f":"'[3]2017 Econ Cens SDS raw'!X284","v":11051987},3.49,8.59,2017]
[{"$f":"'[2]2017 Econ Cens SDS'!B285","v":32619},{"$f":"'[2]2017 Econ Cens SDS'!C285","v":"Other plastics product manufacturing"},{"$f":"'[3]2017 Econ Cens SDS raw'!AE285","v":564822},{"$f":"'[3]2017 Econ Cens SDS raw'!AF285","v":10850062},{"$f":"'[3]2017 Econ Cens SDS raw'!AG285","v":48008062},{"$f":"'[3]2017 Econ Cens SDS raw'!M285","v":290367},{"$f":"'[3]2017 Econ Cens SDS raw'!N285","v":1633434},{"$f":"'[3]2017 Econ Cens SDS raw'!X285","v":100205195},3.49,8.59,2017]
[{"$f":"'[2]2017 Econ Cens SDS'!B286","v":326191},{"$f":"'[2]2017 Econ Cens SDS'!C286","v":"Plastics plumbing fixture manufacturing"},{"$f":"'[3]2017 Econ Cens SDS raw'!AE286","v":26139},{"$f":"'[3]2017 Econ Cens SDS raw'!AF286","v":458479},{"$f":"'[3]2017 Econ Cens SDS raw'!AG286","v":1775278},{"$f":"'[3]2017 Econ Cens SDS raw'!M286","v":11982},{"$f":"'[3]2017 Econ Cens SDS raw'!N286","v":32208},{"$f":"'[3]2017 Econ Cens SDS raw'!X286","v":4216437},3.49,8.59,2017]
[{"$f":"'[2]2017 Econ Cens SDS'!B287","v":326199},{"$f":"'[2]2017 Econ Cens SDS'!C287","v":"All other plastics product manufacturing"},{"$f":"'[3]2017 Econ Cens SDS raw'!AE287","v":538683},{"$f":"'[3]2017 Econ Cens SDS raw'!AF287","v":10391583},{"$f":"'[3]2017 Econ Cens SDS raw'!AG287","v":46232784},{"$f":"'[3]2017 Econ Cens SDS raw'!M287","v":278385},{"$f":"'[3]2017 Econ Cens SDS raw'!N287","v":1601226},{"$f":"'[3]2017 Econ Cens SDS raw'!X287","v":95988758},3.49,8.59,2017]
[{"$f":"'[2]2017 Econ Cens SDS'!B288","v":3262},{"$f":"'[2]2017 Econ Cens SDS'!C288","v":"Rubber product manufacturing"},{"$f":"'[3]2017 Econ Cens SDS raw'!AE288","v":195543},{"$f":"'[3]2017 Econ Cens SDS raw'!AF288","v":4565545},{"$f":"'[3]2017 Econ Cens SDS raw'!AG288","v":22740728},{"$f":"'[3]2017 Econ Cens SDS raw'!M288","v":228873},{"$f":"'[3]2017 Econ Cens SDS raw'!N288","v":524322},{"$f":"'[3]2017 Econ Cens SDS raw'!X288","v":42454416},3.49,8.59,2017]
[{"$f":"'[2]2017 Econ Cens SDS'!B289","v":32621},{"$f":"'[2]2017 Econ Cens SDS'!C289","v":"Tire manufacturing"},{"$f":"'[3]2017 Econ Cens SDS raw'!AE289","v":76944},{"$f":"'[3]2017 Econ Cens SDS raw'!AF289","v":2109763},{"$f":"'[3]2017 Econ Cens SDS raw'!AG289","v":10564649},{"$f":"'[3]2017 Econ Cens SDS raw'!M289","v":138650},{"$f":"'[3]2017 Econ Cens SDS raw'!N289","v":247244},{"$f":"'[3]2017 Econ Cens SDS raw'!X289","v":19274047},3.49,8.59,2017]
[{"$f":"'[2]2017 Econ Cens SDS'!B290","v":326211},{"$f":"'[2]2017 Econ Cens SDS'!C290","v":"Tire manufacturing (except retreading)"},{"$f":"'[3]2017 Econ Cens SDS raw'!AE290","v":67157},{"$f":"'[3]2017 Econ Cens SDS raw'!AF290","v":1929995},{"$f":"'[3]2017 Econ Cens SDS raw'!AG290","v":9646219},{"$f":"'[3]2017 Econ Cens SDS raw'!M290","v":125494},{"$f":"'[3]2017 Econ Cens SDS raw'!N290","v":229063},{"$f":"'[3]2017 Econ Cens SDS raw'!X290","v":17584078},3.49,8.59,2017]
[{"$f":"'[2]2017 Econ Cens SDS'!B291","v":326212},{"$f":"'[2]2017 Econ Cens SDS'!C291","v":"Tire retreading"},{"$f":"'[3]2017 Econ Cens SDS raw'!AE291","v":9787},{"$f":"'[3]2017 Econ Cens SDS raw'!AF291","v":179768},{"$f":"'[3]2017 Econ Cens SDS raw'!AG291","v":918430},{"$f":"'[3]2017 Econ Cens SDS raw'!M291","v":13156},{"$f":"'[3]2017 Econ Cens SDS raw'!N291","v":18181},{"$f":"'[3]2017 Econ Cens SDS raw'!X291","v":1689969},3.49,8.59,2017]
[{"$f":"'[2]2017 Econ Cens SDS'!B292","v":32622},{"$f":"'[2]2017 Econ Cens SDS'!C292","v":"Rubber and plastics hoses and belting manufacturing"},{"$f":"'[3]2017 Econ Cens SDS raw'!AE292","v":29008},{"$f":"'[3]2017 Econ Cens SDS raw'!AF292","v":602215},{"$f":"'[3]2017 Econ Cens SDS raw'!AG292","v":2428428},{"$f":"'[3]2017 Econ Cens SDS raw'!M292","v":26584},{"$f":"'[3]2017 Econ Cens SDS raw'!N292","v":61649},{"$f":"'[3]2017 Econ Cens SDS raw'!X292","v":5275142},3.49,8.59,2017]
[{"$f":"'[2]2017 Econ Cens SDS'!B293","v":326220},{"$f":"'[2]2017 Econ Cens SDS'!C293","v":"Rubber and plastics hoses and belting manufacturing"},{"$f":"'[3]2017 Econ Cens SDS raw'!AE293","v":29008},{"$f":"'[3]2017 Econ Cens SDS raw'!AF293","v":602215},{"$f":"'[3]2017 Econ Cens SDS raw'!AG293","v":2428428},{"$f":"'[3]2017 Econ Cens SDS raw'!M293","v":26584},{"$f":"'[3]2017 Econ Cens SDS raw'!N293","v":61649},{"$f":"'[3]2017 Econ Cens SDS raw'!X293","v":5275142},3.49,8.59,2017]
[{"$f":"'[2]2017 Econ Cens SDS'!B294","v":32629},{"$f":"'[2]2017 Econ Cens SDS'!C294","v":"Other rubber product manufacturing"},{"$f":"'[3]2017 Econ Cens SDS raw'!AE294","v":89591},{"$f":"'[3]2017 Econ Cens SDS raw'!AF294","v":1853567},{"$f":"'[3]2017 Econ Cens SDS raw'!AG294","v":9747651},{"$f":"'[3]2017 Econ Cens SDS raw'!M294","v":63639},{"$f":"'[3]2017 Econ Cens SDS raw'!N294","v":215429},{"$f":"'[3]2017 Econ Cens SDS raw'!X294","v":17905227},3.49,8.59,2017]
[{"$f":"'[2]2017 Econ Cens SDS'!B295","v":326291},{"$f":"'[2]2017 Econ Cens SDS'!C295","v":"Rubber product manufacturing for mechanical use"},{"$f":"'[3]2017 Econ Cens SDS raw'!AE295","v":47474},{"$f":"'[3]2017 Econ Cens SDS raw'!AF295","v":952043},{"$f":"'[3]2017 Econ Cens SDS raw'!AG295","v":4007730},{"$f":"'[3]2017 Econ Cens SDS raw'!M295","v":25719},{"$f":"'[3]2017 Econ Cens SDS raw'!N295","v":101132},{"$f":"'[3]2017 Econ Cens SDS raw'!X295","v":7886013},3.49,8.59,2017]
[{"$f":"'[2]2017 Econ Cens SDS'!B296","v":326299},{"$f":"'[2]2017 Econ Cens SDS'!C296","v":"All other rubber product manufacturing"},{"$f":"'[3]2017 Econ Cens SDS raw'!AE296","v":42117},{"$f":"'[3]2017 Econ Cens SDS raw'!AF296","v":901524},{"$f":"'[3]2017 Econ Cens SDS raw'!AG296","v":5739921},{"$f":"'[3]2017 Econ Cens SDS raw'!M296","v":37920},{"$f":"'[3]2017 Econ Cens SDS raw'!N296","v":114297},{"$f":"'[3]2017 Econ Cens SDS raw'!X296","v":10019214},3.49,8.59,2017]
[{"$f":"'[2]2017 Econ Cens SDS'!B297","v":327},{"$f":"'[2]2017 Econ Cens SDS'!C297","v":"Nonmetallic mineral product manufacturing"},{"$f":"'[3]2017 Econ Cens SDS raw'!AE297","v":597274},{"$f":"'[3]2017 Econ Cens SDS raw'!AF297","v":14364732},{"$f":"'[3]2017 Econ Cens SDS raw'!AG297","v":55836296},{"$f":"'[3]2017 Econ Cens SDS raw'!M297","v":2498944},{"$f":"'[3]2017 Econ Cens SDS raw'!N297","v":2521788},{"$f":"'[3]2017 Econ Cens SDS raw'!X297","v":127259464},5.5100000000000007,10.4,2017]
[{"$f":"'[2]2017 Econ Cens SDS'!B298","v":3271},{"$f":"'[2]2017 Econ Cens SDS'!C298","v":"Clay product and refractory manufacturing"},{"$f":"'[3]2017 Econ Cens SDS raw'!AE298","v":54794},{"$f":"'[3]2017 Econ Cens SDS raw'!AF298","v":1130474},{"$f":"'[3]2017 Econ Cens SDS raw'!AG298","v":2957165},{"$f":"'[3]2017 Econ Cens SDS raw'!M298","v":162807},{"$f":"'[3]2017 Econ Cens SDS raw'!N298","v":162606},{"$f":"'[3]2017 Econ Cens SDS raw'!X298","v":8307811},5.5100000000000007,10.4,2017]
[{"$f":"'[2]2017 Econ Cens SDS'!B299","v":32711},{"$f":"'[2]2017 Econ Cens SDS'!C299","v":"Pottery, ceramics, and plumbing fixture manufacturing"},{"$f":"'[3]2017 Econ Cens SDS raw'!AE299","v":20758},{"$f":"'[3]2017 Econ Cens SDS raw'!AF299","v":389670},{"$f":"'[3]2017 Econ Cens SDS raw'!AG299","v":649360},{"$f":"'[3]2017 Econ Cens SDS raw'!M299","v":21747},{"$f":"'[3]2017 Econ Cens SDS raw'!N299","v":37110},{"$f":"'[3]2017 Econ Cens SDS raw'!X299","v":2435545},5.5100000000000007,10.4,2017]
[{"$f":"'[2]2017 Econ Cens SDS'!B300","v":327110},{"$f":"'[2]2017 Econ Cens SDS'!C300","v":"Pottery, ceramics, and plumbing fixture manufacturing"},{"$f":"'[3]2017 Econ Cens SDS raw'!AE300","v":20758},{"$f":"'[3]2017 Econ Cens SDS raw'!AF300","v":389670},{"$f":"'[3]2017 Econ Cens SDS raw'!AG300","v":649360},{"$f":"'[3]2017 Econ Cens SDS raw'!M300","v":21747},{"$f":"'[3]2017 Econ Cens SDS raw'!N300","v":37110},{"$f":"'[3]2017 Econ Cens SDS raw'!X300","v":2435545},5.5100000000000007,10.4,2017]
[{"$f":"'[2]2017 Econ Cens SDS'!B301","v":32712},{"$f":"'[2]2017 Econ Cens SDS'!C301","v":"Clay building material and refractories manufacturing"},{"$f":"'[3]2017 Econ Cens SDS raw'!AE301","v":34036},{"$f":"'[3]2017 Econ Cens SDS raw'!AF301","v":740804},{"$f":"'[3]2017 Econ Cens SDS raw'!AG301","v":2307805},{"$f":"'[3]2017 Econ Cens SDS raw'!M301","v":141060},{"$f":"'[3]2017 Econ Cens SDS raw'!N301","v":125496},{"$f":"'[3]2017 Econ Cens SDS raw'!X301","v":5872266},5.5100000000000007,10.4,{"$f":"K3","v":2017}]
[{"$f":"'[2]2017 Econ Cens SDS'!B302","v":327120},{"$f":"'[2]2017 Econ Cens SDS'!C302","v":"Clay building material and refractories manufacturing"},{"$f":"'[3]2017 Econ Cens SDS raw'!AE302","v":34036},{"$f":"'[3]2017 Econ Cens SDS raw'!AF302","v":740804},{"$f":"'[3]2017 Econ Cens SDS raw'!AG302","v":2307805},{"$f":"'[3]2017 Econ Cens SDS raw'!M302","v":141060},{"$f":"'[3]2017 Econ Cens SDS raw'!N302","v":125496},{"$f":"'[3]2017 Econ Cens SDS raw'!X302","v":5872266},5.5100000000000007,10.4,2017]
[{"$f":"'[2]2017 Econ Cens SDS'!B303","v":3272},{"$f":"'[2]2017 Econ Cens SDS'!C303","v":"Glass and glass product manufacturing"},{"$f":"'[3]2017 Econ Cens SDS raw'!AE303","v":146849},{"$f":"'[3]2017 Econ Cens SDS raw'!AF303","v":3437690},{"$f":"'[3]2017 Econ Cens SDS raw'!AG303","v":10674775},{"$f":"'[3]2017 Econ Cens SDS raw'!M303","v":451973},{"$f":"'[3]2017 Econ Cens SDS raw'!N303","v":758129},{"$f":"'[3]2017 Econ Cens SDS raw'!X303","v":26067467},5.5100000000000007,10.4,2017]
[{"$f":"'[2]2017 Econ Cens SDS'!B304","v":32721},{"$f":"'[2]2017 Econ Cens SDS'!C304","v":"Glass and glass product manufacturing"},{"$f":"'[3]2017 Econ Cens SDS raw'!AE304","v":146849},{"$f":"'[3]2017 Econ Cens SDS raw'!AF304","v":3437690},{"$f":"'[3]2017 Econ Cens SDS raw'!AG304","v":10674775},{"$f":"'[3]2017 Econ Cens SDS raw'!M304","v":451973},{"$f":"'[3]2017 Econ Cens SDS raw'!N304","v":758129},{"$f":"'[3]2017 Econ Cens SDS raw'!X304","v":26067467},5.5100000000000007,10.4,2017]
[{"$f":"'[2]2017 Econ Cens SDS'!B305","v":327211},{"$f":"'[2]2017 Econ Cens SDS'!C305","v":"Flat glass manufacturing"},{"$f":"'[3]2017 Econ Cens SDS raw'!AE305","v":18302},{"$f":"'[3]2017 Econ Cens SDS raw'!AF305","v":384520},{"$f":"'[3]2017 Econ Cens SDS raw'!AG305","v":1648816},{"$f":"'[3]2017 Econ Cens SDS raw'!M305","v":149769},{"$f":"'[3]2017 Econ Cens SDS raw'!N305","v":107179},{"$f":"'[3]2017 Econ Cens SDS raw'!X305","v":4135849},5.5100000000000007,10.4,2017]
[{"$f":"'[2]2017 Econ Cens SDS'!B306","v":327212},{"$f":"'[2]2017 Econ Cens SDS'!C306","v":"Other pressed and blown glass and glassware manufacturing"},{"$f":"'[3]2017 Econ Cens SDS raw'!AE306","v":19978},{"$f":"'[3]2017 Econ Cens SDS raw'!AF306","v":536867},{"$f":"'[3]2017 Econ Cens SDS raw'!AG306","v":1356677},{"$f":"'[3]2017 Econ Cens SDS raw'!M306","v":85522},{"$f":"'[3]2017 Econ Cens SDS raw'!N306","v":120506},{"$f":"'[3]2017 Econ Cens SDS raw'!X306","v":3384131},5.5100000000000007,10.4,2017]
[{"$f":"'[2]2017 Econ Cens SDS'!B307","v":327213},{"$f":"'[2]2017 Econ Cens SDS'!C307","v":"Glass container manufacturing"},{"$f":"'[3]2017 Econ Cens SDS raw'!AE307","v":24166},{"$f":"'[3]2017 Econ Cens SDS raw'!AF307","v":762334},{"$f":"'[3]2017 Econ Cens SDS raw'!AG307","v":1473545},{"$f":"'[3]2017 Econ Cens SDS raw'!M307","v":159507},{"$f":"'[3]2017 Econ Cens SDS raw'!N307","v":251649},{"$f":"'[3]2017 Econ Cens SDS raw'!X307","v":4792449},5.5100000000000007,10.4,2017]
[{"$f":"'[2]2017 Econ Cens SDS'!B308","v":327215},{"$f":"'[2]2017 Econ Cens SDS'!C308","v":"Glass product manufacturing made of purchased glass"},{"$f":"'[3]2017 Econ Cens SDS raw'!AE308","v":84403},{"$f":"'[3]2017 Econ Cens SDS raw'!AF308","v":1753969},{"$f":"'[3]2017 Econ Cens SDS raw'!AG308","v":6195737},{"$f":"'[3]2017 Econ Cens SDS raw'!M308","v":57175},{"$f":"'[3]2017 Econ Cens SDS raw'!N308","v":278795},{"$f":"'[3]2017 Econ Cens SDS raw'!X308","v":13755038},5.5100000000000007,10.4,2017]
[{"$f":"'[2]2017 Econ Cens SDS'!B309","v":3273},{"$f":"'[2]2017 Econ Cens SDS'!C309","v":"Cement and concrete product manufacturing"},{"$f":"'[3]2017 Econ Cens SDS raw'!AE309","v":268374},{"$f":"'[3]2017 Econ Cens SDS raw'!AF309","v":6614323},{"$f":"'[3]2017 Econ Cens SDS raw'!AG309","v":27634411},{"$f":"'[3]2017 Econ Cens SDS raw'!M309","v":1027699},{"$f":"'[3]2017 Econ Cens SDS raw'!N309","v":934291},{"$f":"'[3]2017 Econ Cens SDS raw'!X309","v":59122529},5.5100000000000007,10.4,2017]
[{"$f":"'[2]2017 Econ Cens SDS'!B310","v":32731},{"$f":"'[2]2017 Econ Cens SDS'!C310","v":"Cement manufacturing"},{"$f":"'[3]2017 Econ Cens SDS raw'!AE310","v":25193},{"$f":"'[3]2017 Econ Cens SDS raw'!AF310","v":751096},{"$f":"'[3]2017 Econ Cens SDS raw'!AG310","v":3461956},{"$f":"'[3]2017 Econ Cens SDS raw'!M310","v":703286},{"$f":"'[3]2017 Econ Cens SDS raw'!N310","v":635297},{"$f":"'[3]2017 Econ Cens SDS raw'!X310","v":8543788},5.5100000000000007,10.4,2017]
[{"$f":"'[2]2017 Econ Cens SDS'!B311","v":327310},{"$f":"'[2]2017 Econ Cens SDS'!C311","v":"Cement manufacturing"},{"$f":"'[3]2017 Econ Cens SDS raw'!AE311","v":25193},{"$f":"'[3]2017 Econ Cens SDS raw'!AF311","v":751096},{"$f":"'[3]2017 Econ Cens SDS raw'!AG311","v":3461956},{"$f":"'[3]2017 Econ Cens SDS raw'!M311","v":703286},{"$f":"'[3]2017 Econ Cens SDS raw'!N311","v":635297},{"$f":"'[3]2017 Econ Cens SDS raw'!X311","v":8543788},5.5100000000000007,10.4,2017]
[{"$f":"'[2]2017 Econ Cens SDS'!B312","v":32732},{"$f":"'[2]2017 Econ Cens SDS'!C312","v":"Ready-mix concrete manufacturing"},{"$f":"'[3]2017 Econ Cens SDS raw'!AE312","v":136181},{"$f":"'[3]2017 Econ Cens SDS raw'!AF312","v":3533347},{"$f":"'[3]2017 Econ Cens SDS raw'!AG312","v":16665788},{"$f":"'[3]2017 Econ Cens SDS raw'!M312","v":231991},{"$f":"'[3]2017 Econ Cens SDS raw'!N312","v":155319},{"$f":"'[3]2017 Econ Cens SDS raw'!X312","v":31718425},5.5100000000000007,10.4,2017]
[{"$f":"'[2]2017 Econ Cens SDS'!B313","v":327320},{"$f":"'[2]2017 Econ Cens SDS'!C313","v":"Ready-mix concrete manufacturing"},{"$f":"'[3]2017 Econ Cens SDS raw'!AE313","v":136181},{"$f":"'[3]2017 Econ Cens SDS raw'!AF313","v":3533347},{"$f":"'[3]2017 Econ Cens SDS raw'!AG313","v":16665788},{"$f":"'[3]2017 Econ Cens SDS raw'!M313","v":231991},{"$f":"'[3]2017 Econ Cens SDS raw'!N313","v":155319},{"$f":"'[3]2017 Econ Cens SDS raw'!X313","v":31718425},5.5100000000000007,10.4,2017]
[{"$f":"'[2]2017 Econ Cens SDS'!B314","v":32733},{"$f":"'[2]2017 Econ Cens SDS'!C314","v":"Concrete pipe, brick, and block manufacturing"},{"$f":"'[3]2017 Econ Cens SDS raw'!AE314","v":31078},{"$f":"'[3]2017 Econ Cens SDS raw'!AF314","v":696270},{"$f":"'[3]2017 Econ Cens SDS raw'!AG314","v":2736114},{"$f":"'[3]2017 Econ Cens SDS raw'!M314","v":41848},{"$f":"'[3]2017 Econ Cens SDS raw'!N314","v":57268},{"$f":"'[3]2017 Econ Cens SDS raw'!X314","v":6560227},5.5100000000000007,10.4,2017]
[{"$f":"'[2]2017 Econ Cens SDS'!B315","v":327331},{"$f":"'[2]2017 Econ Cens SDS'!C315","v":"Concrete block and brick manufacturing"},{"$f":"'[3]2017 Econ Cens SDS raw'!AE315","v":20502},{"$f":"'[3]2017 Econ Cens SDS raw'!AF315","v":477281},{"$f":"'[3]2017 Econ Cens SDS raw'!AG315","v":2017762},{"$f":"'[3]2017 Econ Cens SDS raw'!M315","v":32108},{"$f":"'[3]2017 Econ Cens SDS raw'!N315","v":43301},{"$f":"'[3]2017 Econ Cens SDS raw'!X315","v":4882479},5.5100000000000007,10.4,2017]
[{"$f":"'[2]2017 Econ Cens SDS'!B316","v":327332},{"$f":"'[2]2017 Econ Cens SDS'!C316","v":"Concrete pipe manufacturing"},{"$f":"'[3]2017 Econ Cens SDS raw'!AE316","v":10576},{"$f":"'[3]2017 Econ Cens SDS raw'!AF316","v":218989},{"$f":"'[3]2017 Econ Cens SDS raw'!AG316","v":718352},{"$f":"'[3]2017 Econ Cens SDS raw'!M316","v":9740},{"$f":"'[3]2017 Econ Cens SDS raw'!N316","v":13967},{"$f":"'[3]2017 Econ Cens SDS raw'!X316","v":1677748},5.5100000000000007,10.4,2017]
[{"$f":"'[2]2017 Econ Cens SDS'!B317","v":32739},{"$f":"'[2]2017 Econ Cens SDS'!C317","v":"Other concrete product manufacturing"},{"$f":"'[3]2017 Econ Cens SDS raw'!AE317","v":75922},{"$f":"'[3]2017 Econ Cens SDS raw'!AF317","v":1633610},{"$f":"'[3]2017 Econ Cens SDS raw'!AG317","v":4770553},{"$f":"'[3]2017 Econ Cens SDS raw'!M317","v":50574},{"$f":"'[3]2017 Econ Cens SDS raw'!N317","v":86407},{"$f":"'[3]2017 Econ Cens SDS raw'!X317","v":12300089},5.5100000000000007,10.4,2017]
[{"$f":"'[2]2017 Econ Cens SDS'!B318","v":327390},{"$f":"'[2]2017 Econ Cens SDS'!C318","v":"Other concrete product manufacturing"},{"$f":"'[3]2017 Econ Cens SDS raw'!AE318","v":75922},{"$f":"'[3]2017 Econ Cens SDS raw'!AF318","v":1633610},{"$f":"'[3]2017 Econ Cens SDS raw'!AG318","v":4770553},{"$f":"'[3]2017 Econ Cens SDS raw'!M318","v":50574},{"$f":"'[3]2017 Econ Cens SDS raw'!N318","v":86407},{"$f":"'[3]2017 Econ Cens SDS raw'!X318","v":12300089},5.5100000000000007,10.4,2017]
[{"$f":"'[2]2017 Econ Cens SDS'!B319","v":3274},{"$f":"'[2]2017 Econ Cens SDS'!C319","v":"Lime and gypsum product manufacturing"},{"$f":"'[3]2017 Econ Cens SDS raw'!AE319","v":22297},{"$f":"'[3]2017 Econ Cens SDS raw'!AF319","v":631383},{"$f":"'[3]2017 Econ Cens SDS raw'!AG319","v":3965472},{"$f":"'[3]2017 Econ Cens SDS raw'!M319","v":557900},{"$f":"'[3]2017 Econ Cens SDS raw'!N319","v":205233},{"$f":"'[3]2017 Econ Cens SDS raw'!X319","v":8288989},5.5100000000000007,10.4,2017]
[{"$f":"'[2]2017 Econ Cens SDS'!B320","v":32741},{"$f":"'[2]2017 Econ Cens SDS'!C320","v":"Lime manufacturing"},{"$f":"'[3]2017 Econ Cens SDS raw'!AE320","v":7427},{"$f":"'[3]2017 Econ Cens SDS raw'!AF320","v":233335},{"$f":"'[3]2017 Econ Cens SDS raw'!AG320","v":1044198},{"$f":"'[3]2017 Econ Cens SDS raw'!M320","v":326716},{"$f":"'[3]2017 Econ Cens SDS raw'!N320","v":96719},{"$f":"'[3]2017 Econ Cens SDS raw'!X320","v":2249192},5.5100000000000007,10.4,2017]
[{"$f":"'[2]2017 Econ Cens SDS'!B321","v":327410},{"$f":"'[2]2017 Econ Cens SDS'!C321","v":"Lime manufacturing"},{"$f":"'[3]2017 Econ Cens SDS raw'!AE321","v":7427},{"$f":"'[3]2017 Econ Cens SDS raw'!AF321","v":233335},{"$f":"'[3]2017 Econ Cens SDS raw'!AG321","v":1044198},{"$f":"'[3]2017 Econ Cens SDS raw'!M321","v":326716},{"$f":"'[3]2017 Econ Cens SDS raw'!N321","v":96719},{"$f":"'[3]2017 Econ Cens SDS raw'!X321","v":2249192},5.5100000000000007,10.4,2017]
[{"$f":"'[2]2017 Econ Cens SDS'!B322","v":32742},{"$f":"'[2]2017 Econ Cens SDS'!C322","v":"Gypsum product manufacturing"},{"$f":"'[3]2017 Econ Cens SDS raw'!AE322","v":14870},{"$f":"'[3]2017 Econ Cens SDS raw'!AF322","v":398048},{"$f":"'[3]2017 Econ Cens SDS raw'!AG322","v":2921274},{"$f":"'[3]2017 Econ Cens SDS raw'!M322","v":231184},{"$f":"'[3]2017 Econ Cens SDS raw'!N322","v":108514},{"$f":"'[3]2017 Econ Cens SDS raw'!X322","v":6039797},5.5100000000000007,10.4,2017]
[{"$f":"'[2]2017 Econ Cens SDS'!B323","v":327420},{"$f":"'[2]2017 Econ Cens SDS'!C323","v":"Gypsum product manufacturing"},{"$f":"'[3]2017 Econ Cens SDS raw'!AE323","v":14870},{"$f":"'[3]2017 Econ Cens SDS raw'!AF323","v":398048},{"$f":"'[3]2017 Econ Cens SDS raw'!AG323","v":2921274},{"$f":"'[3]2017 Econ Cens SDS raw'!M323","v":231184},{"$f":"'[3]2017 Econ Cens SDS raw'!N323","v":108514},{"$f":"'[3]2017 Econ Cens SDS raw'!X323","v":6039797},5.5100000000000007,10.4,2017]
[{"$f":"'[2]2017 Econ Cens SDS'!B324","v":3279},{"$f":"'[2]2017 Econ Cens SDS'!C324","v":"Other nonmetallic mineral product manufacturing"},{"$f":"'[3]2017 Econ Cens SDS raw'!AE324","v":104960},{"$f":"'[3]2017 Econ Cens SDS raw'!AF324","v":2550862},{"$f":"'[3]2017 Econ Cens SDS raw'!AG324","v":10604473},{"$f":"'[3]2017 Econ Cens SDS raw'!M324","v":298565},{"$f":"'[3]2017 Econ Cens SDS raw'!N324","v":461529},{"$f":"'[3]2017 Econ Cens SDS raw'!X324","v":25472668},5.5100000000000007,10.4,2017]
[{"$f":"'[2]2017 Econ Cens SDS'!B325","v":32791},{"$f":"'[2]2017 Econ Cens SDS'!C325","v":"Abrasive product manufacturing"},{"$f":"'[3]2017 Econ Cens SDS raw'!AE325","v":14725},{"$f":"'[3]2017 Econ Cens SDS raw'!AF325","v":362190},{"$f":"'[3]2017 Econ Cens SDS raw'!AG325","v":1466799},{"$f":"'[3]2017 Econ Cens SDS raw'!M325","v":23723},{"$f":"'[3]2017 Econ Cens SDS raw'!N325","v":58620},{"$f":"'[3]2017 Econ Cens SDS raw'!X325","v":5431236},5.5100000000000007,10.4,2017]
[{"$f":"'[2]2017 Econ Cens SDS'!B326","v":327910},{"$f":"'[2]2017 Econ Cens SDS'!C326","v":"Abrasive product manufacturing"},{"$f":"'[3]2017 Econ Cens SDS raw'!AE326","v":14725},{"$f":"'[3]2017 Econ Cens SDS raw'!AF326","v":362190},{"$f":"'[3]2017 Econ Cens SDS raw'!AG326","v":1466799},{"$f":"'[3]2017 Econ Cens SDS raw'!M326","v":23723},{"$f":"'[3]2017 Econ Cens SDS raw'!N326","v":58620},{"$f":"'[3]2017 Econ Cens SDS raw'!X326","v":5431236},5.5100000000000007,10.4,2017]
[{"$f":"'[2]2017 Econ Cens SDS'!B327","v":32799},{"$f":"'[2]2017 Econ Cens SDS'!C327","v":"All other nonmetallic mineral product manufacturing"},{"$f":"'[3]2017 Econ Cens SDS raw'!AE327","v":90235},{"$f":"'[3]2017 Econ Cens SDS raw'!AF327","v":2188672},{"$f":"'[3]2017 Econ Cens SDS raw'!AG327","v":9137674},{"$f":"'[3]2017 Econ Cens SDS raw'!M327","v":274842},{"$f":"'[3]2017 Econ Cens SDS raw'!N327","v":402909},{"$f":"'[3]2017 Econ Cens SDS raw'!X327","v":20041432},5.5100000000000007,10.4,2017]
[{"$f":"'[2]2017 Econ Cens SDS'!B328","v":327991},{"$f":"'[2]2017 Econ Cens SDS'!C328","v":"Cut stone and stone product manufacturing"},{"$f":"'[3]2017 Econ Cens SDS raw'!AE328","v":38257},{"$f":"'[3]2017 Econ Cens SDS raw'!AF328","v":863504},{"$f":"'[3]2017 Econ Cens SDS raw'!AG328","v":2122247},{"$f":"'[3]2017 Econ Cens SDS raw'!M328","v":20003},{"$f":"'[3]2017 Econ Cens SDS raw'!N328","v":37396},{"$f":"'[3]2017 Econ Cens SDS raw'!X328","v":4869629},5.5100000000000007,10.4,2017]
[{"$f":"'[2]2017 Econ Cens SDS'!B329","v":327992},{"$f":"'[2]2017 Econ Cens SDS'!C329","v":"Ground or treated mineral and earth manufacturing"},{"$f":"'[3]2017 Econ Cens SDS raw'!AE329","v":12736},{"$f":"'[3]2017 Econ Cens SDS raw'!AF329","v":362364},{"$f":"'[3]2017 Econ Cens SDS raw'!AG329","v":2562967},{"$f":"'[3]2017 Econ Cens SDS raw'!M329","v":99353},{"$f":"'[3]2017 Econ Cens SDS raw'!N329","v":100121},{"$f":"'[3]2017 Econ Cens SDS raw'!X329","v":4399122},5.5100000000000007,10.4,2017]
[{"$f":"'[2]2017 Econ Cens SDS'!B330","v":327993},{"$f":"'[2]2017 Econ Cens SDS'!C330","v":"Mineral wool manufacturing"},{"$f":"'[3]2017 Econ Cens SDS raw'!AE330","v":23150},{"$f":"'[3]2017 Econ Cens SDS raw'!AF330","v":606155},{"$f":"'[3]2017 Econ Cens SDS raw'!AG330","v":2429237},{"$f":"'[3]2017 Econ Cens SDS raw'!M330","v":105483},{"$f":"'[3]2017 Econ Cens SDS raw'!N330","v":208180},{"$f":"'[3]2017 Econ Cens SDS raw'!X330","v":6228874},5.5100000000000007,10.4,2017]
[{"$f":"'[2]2017 Econ Cens SDS'!B331","v":327999},{"$f":"'[2]2017 Econ Cens SDS'!C331","v":"All other miscellaneous nonmetallic mineral product manufacturing"},{"$f":"'[3]2017 Econ Cens SDS raw'!AE331","v":16092},{"$f":"'[3]2017 Econ Cens SDS raw'!AF331","v":356649},{"$f":"'[3]2017 Econ Cens SDS raw'!AG331","v":2023223},{"$f":"'[3]2017 Econ Cens SDS raw'!M331","v":50003},{"$f":"'[3]2017 Econ Cens SDS raw'!N331","v":57212},{"$f":"'[3]2017 Econ Cens SDS raw'!X331","v":4543807},5.5100000000000007,10.4,2017]
[{"$f":"'[2]2017 Econ Cens SDS'!B332","v":331},{"$f":"'[2]2017 Econ Cens SDS'!C332","v":"Primary metal manufacturing"},{"$f":"'[3]2017 Econ Cens SDS raw'!AE332","v":605132},{"$f":"'[3]2017 Econ Cens SDS raw'!AF332","v":16543793},{"$f":"'[3]2017 Econ Cens SDS raw'!AG332","v":138976426},{"$f":"'[3]2017 Econ Cens SDS raw'!M332","v":2366163},{"$f":"'[3]2017 Econ Cens SDS raw'!N332","v":5353477},{"$f":"'[3]2017 Econ Cens SDS raw'!X332","v":220957865},3.52,5.8999999999999995,2017]
[{"$f":"'[2]2017 Econ Cens SDS'!B333","v":3311},{"$f":"'[2]2017 Econ Cens SDS'!C333","v":"Iron and steel mills and ferroalloy manufacturing"},{"$f":"'[3]2017 Econ Cens SDS raw'!AE333","v":160308},{"$f":"'[3]2017 Econ Cens SDS raw'!AF333","v":5841630},{"$f":"'[3]2017 Econ Cens SDS raw'!AG333","v":57904107},{"$f":"'[3]2017 Econ Cens SDS raw'!M333","v":1403635},{"$f":"'[3]2017 Econ Cens SDS raw'!N333","v":2769483},{"$f":"'[3]2017 Econ Cens SDS raw'!X333","v":89164053},3.37,4.79,2017]
[{"$f":"'[2]2017 Econ Cens SDS'!B334","v":33111},{"$f":"'[2]2017 Econ Cens SDS'!C334","v":"Iron and steel mills and ferroalloy manufacturing"},{"$f":"'[3]2017 Econ Cens SDS raw'!AE334","v":160308},{"$f":"'[3]2017 Econ Cens SDS raw'!AF334","v":5841630},{"$f":"'[3]2017 Econ Cens SDS raw'!AG334","v":57904107},{"$f":"'[3]2017 Econ Cens SDS raw'!M334","v":1403635},{"$f":"'[3]2017 Econ Cens SDS raw'!N334","v":2769483},{"$f":"'[3]2017 Econ Cens SDS raw'!X334","v":89164053},3.37,4.79,2017]
[{"$f":"'[2]2017 Econ Cens SDS'!B335","v":331110},{"$f":"'[2]2017 Econ Cens SDS'!C335","v":"Iron and steel mills and ferroalloy manufacturing"},{"$f":"'[3]2017 Econ Cens SDS raw'!AE335","v":160308},{"$f":"'[3]2017 Econ Cens SDS raw'!AF335","v":5841630},{"$f":"'[3]2017 Econ Cens SDS raw'!AG335","v":57904107},{"$f":"'[3]2017 Econ Cens SDS raw'!M335","v":1403635},{"$f":"'[3]2017 Econ Cens SDS raw'!N335","v":2769483},{"$f":"'[3]2017 Econ Cens SDS raw'!X335","v":89164053},3.37,4.79,2017]
[{"$f":"'[2]2017 Econ Cens SDS'!B336","v":3312},{"$f":"'[2]2017 Econ Cens SDS'!C336","v":"Steel product manufacturing from purchased steel"},{"$f":"'[3]2017 Econ Cens SDS raw'!AE336","v":75676},{"$f":"'[3]2017 Econ Cens SDS raw'!AF336","v":1777558},{"$f":"'[3]2017 Econ Cens SDS raw'!AG336","v":13252117},{"$f":"'[3]2017 Econ Cens SDS raw'!M336","v":95785},{"$f":"'[3]2017 Econ Cens SDS raw'!N336","v":298727},{"$f":"'[3]2017 Econ Cens SDS raw'!X336","v":21141982},3.37,4.79,2017]
[{"$f":"'[2]2017 Econ Cens SDS'!B337","v":33121},{"$f":"'[2]2017 Econ Cens SDS'!C337","v":"Iron and steel pipe and tube manufacturing from purchased steel"},{"$f":"'[3]2017 Econ Cens SDS raw'!AE337","v":41382},{"$f":"'[3]2017 Econ Cens SDS raw'!AF337","v":1015437},{"$f":"'[3]2017 Econ Cens SDS raw'!AG337","v":6879631},{"$f":"'[3]2017 Econ Cens SDS raw'!M337","v":51717},{"$f":"'[3]2017 Econ Cens SDS raw'!N337","v":166609},{"$f":"'[3]2017 Econ Cens SDS raw'!X337","v":11162085},3.37,4.79,2017]
[{"$f":"'[2]2017 Econ Cens SDS'!B338","v":331210},{"$f":"'[2]2017 Econ Cens SDS'!C338","v":"Iron and steel pipe and tube manufacturing from purchased steel"},{"$f":"'[3]2017 Econ Cens SDS raw'!AE338","v":41382},{"$f":"'[3]2017 Econ Cens SDS raw'!AF338","v":1015437},{"$f":"'[3]2017 Econ Cens SDS raw'!AG338","v":6879631},{"$f":"'[3]2017 Econ Cens SDS raw'!M338","v":51717},{"$f":"'[3]2017 Econ Cens SDS raw'!N338","v":166609},{"$f":"'[3]2017 Econ Cens SDS raw'!X338","v":11162085},3.37,4.79,2017]
[{"$f":"'[2]2017 Econ Cens SDS'!B339","v":33122},{"$f":"'[2]2017 Econ Cens SDS'!C339","v":"Rolling and drawing of purchased steel"},{"$f":"'[3]2017 Econ Cens SDS raw'!AE339","v":34294},{"$f":"'[3]2017 Econ Cens SDS raw'!AF339","v":762121},{"$f":"'[3]2017 Econ Cens SDS raw'!AG339","v":6372486},{"$f":"'[3]2017 Econ Cens SDS raw'!M339","v":44068},{"$f":"'[3]2017 Econ Cens SDS raw'!N339","v":132118},{"$f":"'[3]2017 Econ Cens SDS raw'!X339","v":9979897},3.37,4.79,2017]
[{"$f":"'[2]2017 Econ Cens SDS'!B340","v":331221},{"$f":"'[2]2017 Econ Cens SDS'!C340","v":"Rolled steel shape manufacturing"},{"$f":"'[3]2017 Econ Cens SDS raw'!AE340","v":11126},{"$f":"'[3]2017 Econ Cens SDS raw'!AF340","v":280345},{"$f":"'[3]2017 Econ Cens SDS raw'!AG340","v":3010796},{"$f":"'[3]2017 Econ Cens SDS raw'!M340","v":14983},{"$f":"'[3]2017 Econ Cens SDS raw'!N340","v":52123},{"$f":"'[3]2017 Econ Cens SDS raw'!X340","v":4641951},3.37,4.79,2017]
[{"$f":"'[2]2017 Econ Cens SDS'!B341","v":331222},{"$f":"'[2]2017 Econ Cens SDS'!C341","v":"Steel wire drawing"},{"$f":"'[3]2017 Econ Cens SDS raw'!AE341","v":23168},{"$f":"'[3]2017 Econ Cens SDS raw'!AF341","v":481776},{"$f":"'[3]2017 Econ Cens SDS raw'!AG341","v":3361690},{"$f":"'[3]2017 Econ Cens SDS raw'!M341","v":29085},{"$f":"'[3]2017 Econ Cens SDS raw'!N341","v":79995},{"$f":"'[3]2017 Econ Cens SDS raw'!X341","v":5337946},3.37,4.79,2017]
[{"$f":"'[2]2017 Econ Cens SDS'!B342","v":3313},{"$f":"'[2]2017 Econ Cens SDS'!C342","v":"Alumina and aluminum production and processing"},{"$f":"'[3]2017 Econ Cens SDS raw'!AE342","v":94869},{"$f":"'[3]2017 Econ Cens SDS raw'!AF342","v":2390966},{"$f":"'[3]2017 Econ Cens SDS raw'!AG342","v":24180546},{"$f":"'[3]2017 Econ Cens SDS raw'!M342","v":411186},{"$f":"'[3]2017 Econ Cens SDS raw'!N342","v":877739},{"$f":"'[3]2017 Econ Cens SDS raw'!X342","v":35825474},3.81,5.8500000000000005,2017]
[{"$f":"'[2]2017 Econ Cens SDS'!B343","v":33131},{"$f":"'[2]2017 Econ Cens SDS'!C343","v":"Alumina and aluminum production and processing"},{"$f":"'[3]2017 Econ Cens SDS raw'!AE343","v":94869},{"$f":"'[3]2017 Econ Cens SDS raw'!AF343","v":2390966},{"$f":"'[3]2017 Econ Cens SDS raw'!AG343","v":24180546},{"$f":"'[3]2017 Econ Cens SDS raw'!M343","v":411186},{"$f":"'[3]2017 Econ Cens SDS raw'!N343","v":877739},{"$f":"'[3]2017 Econ Cens SDS raw'!X343","v":35825474},3.81,5.8500000000000005,2017]
[{"$f":"'[2]2017 Econ Cens SDS'!B344","v":331313},{"$f":"'[2]2017 Econ Cens SDS'!C344","v":"Alumina refining and primary aluminum production"},{"$f":"'[3]2017 Econ Cens SDS raw'!AE344","v":5991},{"$f":"'[3]2017 Econ Cens SDS raw'!AF344","v":200010},{"$f":"'[3]2017 Econ Cens SDS raw'!AG344","v":2170393},{"$f":"'[3]2017 Econ Cens SDS raw'!M344","v":106686},{"$f":"'[3]2017 Econ Cens SDS raw'!N344","v":412798},{"$f":"'[3]2017 Econ Cens SDS raw'!X344","v":2989713},3.81,5.8500000000000005,2017]
[{"$f":"'[2]2017 Econ Cens SDS'!B345","v":331314},{"$f":"'[2]2017 Econ Cens SDS'!C345","v":"Secondary smelting and alloying of aluminum"},{"$f":"'[3]2017 Econ Cens SDS raw'!AE345","v":9670},{"$f":"'[3]2017 Econ Cens SDS raw'!AF345","v":228379},{"$f":"'[3]2017 Econ Cens SDS raw'!AG345","v":4784625},{"$f":"'[3]2017 Econ Cens SDS raw'!M345","v":74936},{"$f":"'[3]2017 Econ Cens SDS raw'!N345","v":59292},{"$f":"'[3]2017 Econ Cens SDS raw'!X345","v":5991638},3.81,5.8500000000000005,2017]
[{"$f":"'[2]2017 Econ Cens SDS'!B346","v":331315},{"$f":"'[2]2017 Econ Cens SDS'!C346","v":"Aluminum sheet, plate, and foil manufacturing"},{"$f":"'[3]2017 Econ Cens SDS raw'!AE346","v":30317},{"$f":"'[3]2017 Econ Cens SDS raw'!AF346","v":977887},{"$f":"'[3]2017 Econ Cens SDS raw'!AG346","v":10064676},{"$f":"'[3]2017 Econ Cens SDS raw'!M346","v":158196},{"$f":"'[3]2017 Econ Cens SDS raw'!N346","v":256994},{"$f":"'[3]2017 Econ Cens SDS raw'!X346","v":15616213},3.81,5.8500000000000005,2017]
[{"$f":"'[2]2017 Econ Cens SDS'!B347","v":331318},{"$f":"'[2]2017 Econ Cens SDS'!C347","v":"Other aluminum rolling, drawing, and extruding"},{"$f":"'[3]2017 Econ Cens SDS raw'!AE347","v":48891},{"$f":"'[3]2017 Econ Cens SDS raw'!AF347","v":984690},{"$f":"'[3]2017 Econ Cens SDS raw'!AG347","v":7160852},{"$f":"'[3]2017 Econ Cens SDS raw'!M347","v":71368},{"$f":"'[3]2017 Econ Cens SDS raw'!N347","v":148655},{"$f":"'[3]2017 Econ Cens SDS raw'!X347","v":11227910},3.81,5.8500000000000005,2017]
[{"$f":"'[2]2017 Econ Cens SDS'!B348","v":3314},{"$f":"'[2]2017 Econ Cens SDS'!C348","v":"Nonferrous metal (except aluminum) production and processing"},{"$f":"'[3]2017 Econ Cens SDS raw'!AE348","v":88075},{"$f":"'[3]2017 Econ Cens SDS raw'!AF348","v":2237352},{"$f":"'[3]2017 Econ Cens SDS raw'!AG348","v":30572596},{"$f":"'[3]2017 Econ Cens SDS raw'!M348","v":212957},{"$f":"'[3]2017 Econ Cens SDS raw'!N348","v":613221},{"$f":"'[3]2017 Econ Cens SDS raw'!X348","v":45457025},3.81,5.8500000000000005,2017]
[{"$f":"'[2]2017 Econ Cens SDS'!B349","v":33141},{"$f":"'[2]2017 Econ Cens SDS'!C349","v":"Nonferrous metal (except aluminum) smelting and refining"},{"$f":"'[3]2017 Econ Cens SDS raw'!AE349","v":11793},{"$f":"'[3]2017 Econ Cens SDS raw'!AF349","v":329438},{"$f":"'[3]2017 Econ Cens SDS raw'!AG349","v":5557546},{"$f":"'[3]2017 Econ Cens SDS raw'!M349","v":57522},{"$f":"'[3]2017 Econ Cens SDS raw'!N349","v":236801},{"$f":"'[3]2017 Econ Cens SDS raw'!X349","v":9262880},3.81,5.8500000000000005,2017]
[{"$f":"'[2]2017 Econ Cens SDS'!B350","v":331410},{"$f":"'[2]2017 Econ Cens SDS'!C350","v":"Nonferrous metal (except aluminum) smelting and refining"},{"$f":"'[3]2017 Econ Cens SDS raw'!AE350","v":11793},{"$f":"'[3]2017 Econ Cens SDS raw'!AF350","v":329438},{"$f":"'[3]2017 Econ Cens SDS raw'!AG350","v":5557546},{"$f":"'[3]2017 Econ Cens SDS raw'!M350","v":57522},{"$f":"'[3]2017 Econ Cens SDS raw'!N350","v":236801},{"$f":"'[3]2017 Econ Cens SDS raw'!X350","v":9262880},3.81,5.8500000000000005,2017]
[{"$f":"'[2]2017 Econ Cens SDS'!B351","v":33142},{"$f":"'[2]2017 Econ Cens SDS'!C351","v":"Copper rolling, drawing, extruding, and alloying"},{"$f":"'[3]2017 Econ Cens SDS raw'!AE351","v":40234},{"$f":"'[3]2017 Econ Cens SDS raw'!AF351","v":955516},{"$f":"'[3]2017 Econ Cens SDS raw'!AG351","v":16671958},{"$f":"'[3]2017 Econ Cens SDS raw'!M351","v":52461},{"$f":"'[3]2017 Econ Cens SDS raw'!N351","v":163020},{"$f":"'[3]2017 Econ Cens SDS raw'!X351","v":21791901},3.81,5.8500000000000005,2017]
[{"$f":"'[2]2017 Econ Cens SDS'!B352","v":331420},{"$f":"'[2]2017 Econ Cens SDS'!C352","v":"Copper rolling, drawing, extruding, and alloying"},{"$f":"'[3]2017 Econ Cens SDS raw'!AE352","v":40234},{"$f":"'[3]2017 Econ Cens SDS raw'!AF352","v":955516},{"$f":"'[3]2017 Econ Cens SDS raw'!AG352","v":16671958},{"$f":"'[3]2017 Econ Cens SDS raw'!M352","v":52461},{"$f":"'[3]2017 Econ Cens SDS raw'!N352","v":163020},{"$f":"'[3]2017 Econ Cens SDS raw'!X352","v":21791901},3.81,5.8500000000000005,2017]
[{"$f":"'[2]2017 Econ Cens SDS'!B353","v":33149},{"$f":"'[2]2017 Econ Cens SDS'!C353","v":"Nonferrous metal (except copper and aluminum) rolling, drawing, extruding, and alloying"},{"$f":"'[3]2017 Econ Cens SDS raw'!AE353","v":36048},{"$f":"'[3]2017 Econ Cens SDS raw'!AF353","v":952398},{"$f":"'[3]2017 Econ Cens SDS raw'!AG353","v":8343092},{"$f":"'[3]2017 Econ Cens SDS raw'!M353","v":102974},{"$f":"'[3]2017 Econ Cens SDS raw'!N353","v":213400},{"$f":"'[3]2017 Econ Cens SDS raw'!X353","v":14402244},3.81,5.8500000000000005,2017]
[{"$f":"'[2]2017 Econ Cens SDS'!B354","v":331491},{"$f":"'[2]2017 Econ Cens SDS'!C354","v":"Nonferrous metal (except copper and aluminum) rolling, drawing, extruding, and alloying"},{"$f":"'[3]2017 Econ Cens SDS raw'!AE354","v":21905},{"$f":"'[3]2017 Econ Cens SDS raw'!AF354","v":598645},{"$f":"'[3]2017 Econ Cens SDS raw'!AG354","v":3715418},{"$f":"'[3]2017 Econ Cens SDS raw'!M354","v":52941},{"$f":"'[3]2017 Econ Cens SDS raw'!N354","v":119444},{"$f":"'[3]2017 Econ Cens SDS raw'!X354","v":6625538},3.81,5.8500000000000005,2017]
[{"$f":"'[2]2017 Econ Cens SDS'!B355","v":331492},{"$f":"'[2]2017 Econ Cens SDS'!C355","v":"Secondary smelting, refining, and alloying of nonferrous metal (except copper and aluminum)"},{"$f":"'[3]2017 Econ Cens SDS raw'!AE355","v":14143},{"$f":"'[3]2017 Econ Cens SDS raw'!AF355","v":353753},{"$f":"'[3]2017 Econ Cens SDS raw'!AG355","v":4627674},{"$f":"'[3]2017 Econ Cens SDS raw'!M355","v":50033},{"$f":"'[3]2017 Econ Cens SDS raw'!N355","v":93956},{"$f":"'[3]2017 Econ Cens SDS raw'!X355","v":7776706},3.81,5.8500000000000005,2017]
[{"$f":"'[2]2017 Econ Cens SDS'!B356","v":3315},{"$f":"'[2]2017 Econ Cens SDS'!C356","v":"Foundries"},{"$f":"'[3]2017 Econ Cens SDS raw'!AE356","v":186204},{"$f":"'[3]2017 Econ Cens SDS raw'!AF356","v":4296287},{"$f":"'[3]2017 Econ Cens SDS raw'!AG356","v":13067060},{"$f":"'[3]2017 Econ Cens SDS raw'!M356","v":242600},{"$f":"'[3]2017 Econ Cens SDS raw'!N356","v":794307},{"$f":"'[3]2017 Econ Cens SDS raw'!X356","v":29369331},3.3099999999999996,10.94,2017]
[{"$f":"'[2]2017 Econ Cens SDS'!B357","v":33151},{"$f":"'[2]2017 Econ Cens SDS'!C357","v":"Ferrous metal foundries"},{"$f":"'[3]2017 Econ Cens SDS raw'!AE357","v":97827},{"$f":"'[3]2017 Econ Cens SDS raw'!AF357","v":2306641},{"$f":"'[3]2017 Econ Cens SDS raw'!AG357","v":7444294},{"$f":"'[3]2017 Econ Cens SDS raw'!M357","v":130029},{"$f":"'[3]2017 Econ Cens SDS raw'!N357","v":525897},{"$f":"'[3]2017 Econ Cens SDS raw'!X357","v":16307542},3.3099999999999996,10.94,2017]
[{"$f":"'[2]2017 Econ Cens SDS'!B358","v":331511},{"$f":"'[2]2017 Econ Cens SDS'!C358","v":"Iron foundries"},{"$f":"'[3]2017 Econ Cens SDS raw'!AE358","v":56185},{"$f":"'[3]2017 Econ Cens SDS raw'!AF358","v":1344084},{"$f":"'[3]2017 Econ Cens SDS raw'!AG358","v":4259770},{"$f":"'[3]2017 Econ Cens SDS raw'!M358","v":72985},{"$f":"'[3]2017 Econ Cens SDS raw'!N358","v":342028},{"$f":"'[3]2017 Econ Cens SDS raw'!X358","v":9075033},3.3099999999999996,10.94,2017]
[{"$f":"'[2]2017 Econ Cens SDS'!B359","v":331512},{"$f":"'[2]2017 Econ Cens SDS'!C359","v":"Steel investment foundries"},{"$f":"'[3]2017 Econ Cens SDS raw'!AE359","v":22525},{"$f":"'[3]2017 Econ Cens SDS raw'!AF359","v":511567},{"$f":"'[3]2017 Econ Cens SDS raw'!AG359","v":1636448},{"$f":"'[3]2017 Econ Cens SDS raw'!M359","v":22592},{"$f":"'[3]2017 Econ Cens SDS raw'!N359","v":91490},{"$f":"'[3]2017 Econ Cens SDS raw'!X359","v":3935965},3.3099999999999996,10.94,2017]
[{"$f":"'[2]2017 Econ Cens SDS'!B360","v":331513},{"$f":"'[2]2017 Econ Cens SDS'!C360","v":"Steel foundries (except investment)"},{"$f":"'[3]2017 Econ Cens SDS raw'!AE360","v":19117},{"$f":"'[3]2017 Econ Cens SDS raw'!AF360","v":450990},{"$f":"'[3]2017 Econ Cens SDS raw'!AG360","v":1548076},{"$f":"'[3]2017 Econ Cens SDS raw'!M360","v":34452},{"$f":"'[3]2017 Econ Cens SDS raw'!N360","v":92379},{"$f":"'[3]2017 Econ Cens SDS raw'!X360","v":3296544},3.3099999999999996,10.94,2017]
[{"$f":"'[2]2017 Econ Cens SDS'!B361","v":33152},{"$f":"'[2]2017 Econ Cens SDS'!C361","v":"Nonferrous metal foundries"},{"$f":"'[3]2017 Econ Cens SDS raw'!AE361","v":88377},{"$f":"'[3]2017 Econ Cens SDS raw'!AF361","v":1989646},{"$f":"'[3]2017 Econ Cens SDS raw'!AG361","v":5622766},{"$f":"'[3]2017 Econ Cens SDS raw'!M361","v":112571},{"$f":"'[3]2017 Econ Cens SDS raw'!N361","v":268410},{"$f":"'[3]2017 Econ Cens SDS raw'!X361","v":13061789},3.3099999999999996,10.94,2017]
[{"$f":"'[2]2017 Econ Cens SDS'!B362","v":331523},{"$f":"'[2]2017 Econ Cens SDS'!C362","v":"Nonferrous metal die-casting foundries"},{"$f":"'[3]2017 Econ Cens SDS raw'!AE362","v":52364},{"$f":"'[3]2017 Econ Cens SDS raw'!AF362","v":1199375},{"$f":"'[3]2017 Econ Cens SDS raw'!AG362","v":3240899},{"$f":"'[3]2017 Econ Cens SDS raw'!M362","v":68657},{"$f":"'[3]2017 Econ Cens SDS raw'!N362","v":165702},{"$f":"'[3]2017 Econ Cens SDS raw'!X362","v":7483706},3.3099999999999996,10.94,2017]
[{"$f":"'[2]2017 Econ Cens SDS'!B363","v":331524},{"$f":"'[2]2017 Econ Cens SDS'!C363","v":"Aluminum foundries (except die-casting)"},{"$f":"'[3]2017 Econ Cens SDS raw'!AE363","v":21150},{"$f":"'[3]2017 Econ Cens SDS raw'!AF363","v":459005},{"$f":"'[3]2017 Econ Cens SDS raw'!AG363","v":1266871},{"$f":"'[3]2017 Econ Cens SDS raw'!M363","v":33570},{"$f":"'[3]2017 Econ Cens SDS raw'!N363","v":61817},{"$f":"'[3]2017 Econ Cens SDS raw'!X363","v":3004029},3.3099999999999996,10.94,2017]
[{"$f":"'[2]2017 Econ Cens SDS'!B364","v":331529},{"$f":"'[2]2017 Econ Cens SDS'!C364","v":"Other nonferrous metal foundries (except die-casting)"},{"$f":"'[3]2017 Econ Cens SDS raw'!AE364","v":14863},{"$f":"'[3]2017 Econ Cens SDS raw'!AF364","v":331266},{"$f":"'[3]2017 Econ Cens SDS raw'!AG364","v":1114996},{"$f":"'[3]2017 Econ Cens SDS raw'!M364","v":10344},{"$f":"'[3]2017 Econ Cens SDS raw'!N364","v":40891},{"$f":"'[3]2017 Econ Cens SDS raw'!X364","v":2574054},3.3099999999999996,10.94,2017]
[{"$f":"'[2]2017 Econ Cens SDS'!B365","v":332},{"$f":"'[2]2017 Econ Cens SDS'!C365","v":"Fabricated metal product manufacturing"},{"$f":"'[3]2017 Econ Cens SDS raw'!AE365","v":2024352},{"$f":"'[3]2017 Econ Cens SDS raw'!AF365","v":47579535},{"$f":"'[3]2017 Econ Cens SDS raw'!AG365","v":156195391},{"$f":"'[3]2017 Econ Cens SDS raw'!M365","v":1208867},{"$f":"'[3]2017 Econ Cens SDS raw'!N365","v":3416269},{"$f":"'[3]2017 Econ Cens SDS raw'!X365","v":344742838},2.86,9.0499999999999989,{"$f":"K67","v":2017}]
[{"$f":"'[2]2017 Econ Cens SDS'!B366","v":3321},{"$f":"'[2]2017 Econ Cens SDS'!C366","v":"Forging and stamping"},{"$f":"'[3]2017 Econ Cens SDS raw'!AE366","v":159833},{"$f":"'[3]2017 Econ Cens SDS raw'!AF366","v":3729413},{"$f":"'[3]2017 Econ Cens SDS raw'!AG366","v":16486502},{"$f":"'[3]2017 Econ Cens SDS raw'!M366","v":192028},{"$f":"'[3]2017 Econ Cens SDS raw'!N366","v":460639},{"$f":"'[3]2017 Econ Cens SDS raw'!X366","v":31558875},2.86,9.0499999999999989,2017]
[{"$f":"'[2]2017 Econ Cens SDS'!B367","v":33211},{"$f":"'[2]2017 Econ Cens SDS'!C367","v":"Forging and stamping"},{"$f":"'[3]2017 Econ Cens SDS raw'!AE367","v":159833},{"$f":"'[3]2017 Econ Cens SDS raw'!AF367","v":3729413},{"$f":"'[3]2017 Econ Cens SDS raw'!AG367","v":16486502},{"$f":"'[3]2017 Econ Cens SDS raw'!M367","v":192028},{"$f":"'[3]2017 Econ Cens SDS raw'!N367","v":460639},{"$f":"'[3]2017 Econ Cens SDS raw'!X367","v":31558875},2.86,9.0499999999999989,2017]
[{"$f":"'[2]2017 Econ Cens SDS'!B368","v":332111},{"$f":"'[2]2017 Econ Cens SDS'!C368","v":"Iron and steel forging"},{"$f":"'[3]2017 Econ Cens SDS raw'!AE368","v":29366},{"$f":"'[3]2017 Econ Cens SDS raw'!AF368","v":784504},{"$f":"'[3]2017 Econ Cens SDS raw'!AG368","v":4496372},{"$f":"'[3]2017 Econ Cens SDS raw'!M368","v":74944},{"$f":"'[3]2017 Econ Cens SDS raw'!N368","v":159404},{"$f":"'[3]2017 Econ Cens SDS raw'!X368","v":7708536},2.86,9.0499999999999989,2017]
[{"$f":"'[2]2017 Econ Cens SDS'!B369","v":332112},{"$f":"'[2]2017 Econ Cens SDS'!C369","v":"Nonferrous forging"},{"$f":"'[3]2017 Econ Cens SDS raw'!AE369","v":10462},{"$f":"'[3]2017 Econ Cens SDS raw'!AF369","v":261727},{"$f":"'[3]2017 Econ Cens SDS raw'!AG369","v":1749332},{"$f":"'[3]2017 Econ Cens SDS raw'!M369","v":"D"},{"$f":"'[3]2017 Econ Cens SDS raw'!N369","v":31627},{"$f":"'[3]2017 Econ Cens SDS raw'!X369","v":2956390},2.86,9.0499999999999989,2017]
[{"$f":"'[2]2017 Econ Cens SDS'!B370","v":332114},{"$f":"'[2]2017 Econ Cens SDS'!C370","v":"Custom roll forming"},{"$f":"'[3]2017 Econ Cens SDS raw'!AE370","v":28078},{"$f":"'[3]2017 Econ Cens SDS raw'!AF370","v":634302},{"$f":"'[3]2017 Econ Cens SDS raw'!AG370","v":3956509},{"$f":"'[3]2017 Econ Cens SDS raw'!M370","v":28567},{"$f":"'[3]2017 Econ Cens SDS raw'!N370","v":88235},{"$f":"'[3]2017 Econ Cens SDS raw'!X370","v":7271280},2.86,9.0499999999999989,2017]
[{"$f":"'[2]2017 Econ Cens SDS'!B371","v":332117},{"$f":"'[2]2017 Econ Cens SDS'!C371","v":"Powder metallurgy part manufacturing"},{"$f":"'[3]2017 Econ Cens SDS raw'!AE371","v":15273},{"$f":"'[3]2017 Econ Cens SDS raw'!AF371","v":286201},{"$f":"'[3]2017 Econ Cens SDS raw'!AG371","v":1015959},{"$f":"'[3]2017 Econ Cens SDS raw'!M371","v":"D"},{"$f":"'[3]2017 Econ Cens SDS raw'!N371","v":53037},{"$f":"'[3]2017 Econ Cens SDS raw'!X371","v":2268121},2.86,9.0499999999999989,2017]
[{"$f":"'[2]2017 Econ Cens SDS'!B372","v":332119},{"$f":"'[2]2017 Econ Cens SDS'!C372","v":"Metal crown, closure, and other metal stamping (except automotive)"},{"$f":"'[3]2017 Econ Cens SDS raw'!AE372","v":76654},{"$f":"'[3]2017 Econ Cens SDS raw'!AF372","v":1762679},{"$f":"'[3]2017 Econ Cens SDS raw'!AG372","v":5268330},{"$f":"'[3]2017 Econ Cens SDS raw'!M372","v":38800},{"$f":"'[3]2017 Econ Cens SDS raw'!N372","v":128336},{"$f":"'[3]2017 Econ Cens SDS raw'!X372","v":11354548},2.86,9.0499999999999989,2017]
[{"$f":"'[2]2017 Econ Cens SDS'!B373","v":3322},{"$f":"'[2]2017 Econ Cens SDS'!C373","v":"Cutlery and handtool manufacturing"},{"$f":"'[3]2017 Econ Cens SDS raw'!AE373","v":50349},{"$f":"'[3]2017 Econ Cens SDS raw'!AF373","v":1142875},{"$f":"'[3]2017 Econ Cens SDS raw'!AG373","v":3351421},{"$f":"'[3]2017 Econ Cens SDS raw'!M373","v":33348},{"$f":"'[3]2017 Econ Cens SDS raw'!N373","v":75684},{"$f":"'[3]2017 Econ Cens SDS raw'!X373","v":9626114},2.86,9.0499999999999989,2017]
[{"$f":"'[2]2017 Econ Cens SDS'!B374","v":33221},{"$f":"'[2]2017 Econ Cens SDS'!C374","v":"Cutlery and handtool manufacturing"},{"$f":"'[3]2017 Econ Cens SDS raw'!AE374","v":50349},{"$f":"'[3]2017 Econ Cens SDS raw'!AF374","v":1142875},{"$f":"'[3]2017 Econ Cens SDS raw'!AG374","v":3351421},{"$f":"'[3]2017 Econ Cens SDS raw'!M374","v":33348},{"$f":"'[3]2017 Econ Cens SDS raw'!N374","v":75684},{"$f":"'[3]2017 Econ Cens SDS raw'!X374","v":9626114},2.86,9.0499999999999989,2017]
[{"$f":"'[2]2017 Econ Cens SDS'!B375","v":332215},{"$f":"'[2]2017 Econ Cens SDS'!C375","v":"Metal kitchen cookware, utensil, cutlery, and flatware (except precious) manufacturing"},{"$f":"'[3]2017 Econ Cens SDS raw'!AE375","v":10593},{"$f":"'[3]2017 Econ Cens SDS raw'!AF375","v":258308},{"$f":"'[3]2017 Econ Cens SDS raw'!AG375","v":887293},{"$f":"'[3]2017 Econ Cens SDS raw'!M375","v":12981},{"$f":"'[3]2017 Econ Cens SDS raw'!N375","v":18089},{"$f":"'[3]2017 Econ Cens SDS raw'!X375","v":3286860},2.86,9.0499999999999989,2017]
[{"$f":"'[2]2017 Econ Cens SDS'!B376","v":332216},{"$f":"'[2]2017 Econ Cens SDS'!C376","v":"Saw blade and handtool manufacturing"},{"$f":"'[3]2017 Econ Cens SDS raw'!AE376","v":39756},{"$f":"'[3]2017 Econ Cens SDS raw'!AF376","v":884567},{"$f":"'[3]2017 Econ Cens SDS raw'!AG376","v":2464128},{"$f":"'[3]2017 Econ Cens SDS raw'!M376","v":20367},{"$f":"'[3]2017 Econ Cens SDS raw'!N376","v":57595},{"$f":"'[3]2017 Econ Cens SDS raw'!X376","v":6339254},2.86,9.0499999999999989,2017]
[{"$f":"'[2]2017 Econ Cens SDS'!B377","v":3323},{"$f":"'[2]2017 Econ Cens SDS'!C377","v":"Architectural and structural metals manufacturing"},{"$f":"'[3]2017 Econ Cens SDS raw'!AE377","v":502694},{"$f":"'[3]2017 Econ Cens SDS raw'!AF377","v":11290179},{"$f":"'[3]2017 Econ Cens SDS raw'!AG377","v":43934084},{"$f":"'[3]2017 Econ Cens SDS raw'!M377","v":191705},{"$f":"'[3]2017 Econ Cens SDS raw'!N377","v":549711},{"$f":"'[3]2017 Econ Cens SDS raw'!X377","v":89193140},2.86,9.0499999999999989,2017]
[{"$f":"'[2]2017 Econ Cens SDS'!B378","v":33231},{"$f":"'[2]2017 Econ Cens SDS'!C378","v":"Plate work and fabricated structural product manufacturing"},{"$f":"'[3]2017 Econ Cens SDS raw'!AE378","v":229967},{"$f":"'[3]2017 Econ Cens SDS raw'!AF378","v":5433963},{"$f":"'[3]2017 Econ Cens SDS raw'!AG378","v":23809236},{"$f":"'[3]2017 Econ Cens SDS raw'!M378","v":95447},{"$f":"'[3]2017 Econ Cens SDS raw'!N378","v":281103},{"$f":"'[3]2017 Econ Cens SDS raw'!X378","v":46257181},2.86,9.0499999999999989,2017]
[{"$f":"'[2]2017 Econ Cens SDS'!B379","v":332311},{"$f":"'[2]2017 Econ Cens SDS'!C379","v":"Prefabricated metal building and component manufacturing"},{"$f":"'[3]2017 Econ Cens SDS raw'!AE379","v":32410},{"$f":"'[3]2017 Econ Cens SDS raw'!AF379","v":687010},{"$f":"'[3]2017 Econ Cens SDS raw'!AG379","v":4101611},{"$f":"'[3]2017 Econ Cens SDS raw'!M379","v":10500},{"$f":"'[3]2017 Econ Cens SDS raw'!N379","v":29718},{"$f":"'[3]2017 Econ Cens SDS raw'!X379","v":7435566},2.86,9.0499999999999989,2017]
[{"$f":"'[2]2017 Econ Cens SDS'!B380","v":332312},{"$f":"'[2]2017 Econ Cens SDS'!C380","v":"Fabricated structural metal manufacturing"},{"$f":"'[3]2017 Econ Cens SDS raw'!AE380","v":144190},{"$f":"'[3]2017 Econ Cens SDS raw'!AF380","v":3526730},{"$f":"'[3]2017 Econ Cens SDS raw'!AG380","v":16616749},{"$f":"'[3]2017 Econ Cens SDS raw'!M380","v":60778},{"$f":"'[3]2017 Econ Cens SDS raw'!N380","v":184282},{"$f":"'[3]2017 Econ Cens SDS raw'!X380","v":31852667},2.86,9.0499999999999989,2017]
[{"$f":"'[2]2017 Econ Cens SDS'!B381","v":332313},{"$f":"'[2]2017 Econ Cens SDS'!C381","v":"Plate work manufacturing"},{"$f":"'[3]2017 Econ Cens SDS raw'!AE381","v":53367},{"$f":"'[3]2017 Econ Cens SDS raw'!AF381","v":1220223},{"$f":"'[3]2017 Econ Cens SDS raw'!AG381","v":3090876},{"$f":"'[3]2017 Econ Cens SDS raw'!M381","v":24169},{"$f":"'[3]2017 Econ Cens SDS raw'!N381","v":67103},{"$f":"'[3]2017 Econ Cens SDS raw'!X381","v":6968948},2.86,9.0499999999999989,2017]
[{"$f":"'[2]2017 Econ Cens SDS'!B382","v":33232},{"$f":"'[2]2017 Econ Cens SDS'!C382","v":"Ornamental and architectural metal products manufacturing"},{"$f":"'[3]2017 Econ Cens SDS raw'!AE382","v":272727},{"$f":"'[3]2017 Econ Cens SDS raw'!AF382","v":5856216},{"$f":"'[3]2017 Econ Cens SDS raw'!AG382","v":20124848},{"$f":"'[3]2017 Econ Cens SDS raw'!M382","v":96258},{"$f":"'[3]2017 Econ Cens SDS raw'!N382","v":268608},{"$f":"'[3]2017 Econ Cens SDS raw'!X382","v":42935959},2.86,9.0499999999999989,2017]
[{"$f":"'[2]2017 Econ Cens SDS'!B383","v":332321},{"$f":"'[2]2017 Econ Cens SDS'!C383","v":"Metal window and door manufacturing"},{"$f":"'[3]2017 Econ Cens SDS raw'!AE383","v":72176},{"$f":"'[3]2017 Econ Cens SDS raw'!AF383","v":1390445},{"$f":"'[3]2017 Econ Cens SDS raw'!AG383","v":6231004},{"$f":"'[3]2017 Econ Cens SDS raw'!M383","v":25174},{"$f":"'[3]2017 Econ Cens SDS raw'!N383","v":77817},{"$f":"'[3]2017 Econ Cens SDS raw'!X383","v":12418399},2.86,9.0499999999999989,2017]
[{"$f":"'[2]2017 Econ Cens SDS'!B384","v":332322},{"$f":"'[2]2017 Econ Cens SDS'!C384","v":"Sheet metal work manufacturing"},{"$f":"'[3]2017 Econ Cens SDS raw'!AE384","v":150614},{"$f":"'[3]2017 Econ Cens SDS raw'!AF384","v":3367198},{"$f":"'[3]2017 Econ Cens SDS raw'!AG384","v":10741582},{"$f":"'[3]2017 Econ Cens SDS raw'!M384","v":54994},{"$f":"'[3]2017 Econ Cens SDS raw'!N384","v":151780},{"$f":"'[3]2017 Econ Cens SDS raw'!X384","v":22676579},2.86,9.0499999999999989,2017]
[{"$f":"'[2]2017 Econ Cens SDS'!B385","v":332323},{"$f":"'[2]2017 Econ Cens SDS'!C385","v":"Ornamental and architectural metal work manufacturing"},{"$f":"'[3]2017 Econ Cens SDS raw'!AE385","v":49937},{"$f":"'[3]2017 Econ Cens SDS raw'!AF385","v":1098573},{"$f":"'[3]2017 Econ Cens SDS raw'!AG385","v":3152262},{"$f":"'[3]2017 Econ Cens SDS raw'!M385","v":16090},{"$f":"'[3]2017 Econ Cens SDS raw'!N385","v":39011},{"$f":"'[3]2017 Econ Cens SDS raw'!X385","v":7840981},2.86,9.0499999999999989,2017]
[{"$f":"'[2]2017 Econ Cens SDS'!B386","v":3324},{"$f":"'[2]2017 Econ Cens SDS'!C386","v":"Boiler, tank, and shipping container manufacturing"},{"$f":"'[3]2017 Econ Cens SDS raw'!AE386","v":127256},{"$f":"'[3]2017 Econ Cens SDS raw'!AF386","v":3410692},{"$f":"'[3]2017 Econ Cens SDS raw'!AG386","v":19592558},{"$f":"'[3]2017 Econ Cens SDS raw'!M386","v":88202},{"$f":"'[3]2017 Econ Cens SDS raw'!N386","v":343978},{"$f":"'[3]2017 Econ Cens SDS raw'!X386","v":33166065},2.86,9.0499999999999989,2017]
[{"$f":"'[2]2017 Econ Cens SDS'!B387","v":33241},{"$f":"'[2]2017 Econ Cens SDS'!C387","v":"Power boiler and heat exchanger manufacturing"},{"$f":"'[3]2017 Econ Cens SDS raw'!AE387","v":31824},{"$f":"'[3]2017 Econ Cens SDS raw'!AF387","v":854351},{"$f":"'[3]2017 Econ Cens SDS raw'!AG387","v":3271711},{"$f":"'[3]2017 Econ Cens SDS raw'!M387","v":10320},{"$f":"'[3]2017 Econ Cens SDS raw'!N387","v":44544},{"$f":"'[3]2017 Econ Cens SDS raw'!X387","v":6893861},2.86,9.0499999999999989,2017]
[{"$f":"'[2]2017 Econ Cens SDS'!B388","v":332410},{"$f":"'[2]2017 Econ Cens SDS'!C388","v":"Power boiler and heat exchanger manufacturing"},{"$f":"'[3]2017 Econ Cens SDS raw'!AE388","v":31824},{"$f":"'[3]2017 Econ Cens SDS raw'!AF388","v":854351},{"$f":"'[3]2017 Econ Cens SDS raw'!AG388","v":3271711},{"$f":"'[3]2017 Econ Cens SDS raw'!M388","v":10320},{"$f":"'[3]2017 Econ Cens SDS raw'!N388","v":44544},{"$f":"'[3]2017 Econ Cens SDS raw'!X388","v":6893861},2.86,9.0499999999999989,2017]
[{"$f":"'[2]2017 Econ Cens SDS'!B389","v":33242},{"$f":"'[2]2017 Econ Cens SDS'!C389","v":"Metal tank (heavy gauge) manufacturing"},{"$f":"'[3]2017 Econ Cens SDS raw'!AE389","v":48820},{"$f":"'[3]2017 Econ Cens SDS raw'!AF389","v":1260028},{"$f":"'[3]2017 Econ Cens SDS raw'!AG389","v":4003255},{"$f":"'[3]2017 Econ Cens SDS raw'!M389","v":25920},{"$f":"'[3]2017 Econ Cens SDS raw'!N389","v":56115},{"$f":"'[3]2017 Econ Cens SDS raw'!X389","v":8428859},2.86,9.0499999999999989,2017]
[{"$f":"'[2]2017 Econ Cens SDS'!B390","v":332420},{"$f":"'[2]2017 Econ Cens SDS'!C390","v":"Metal tank (heavy gauge) manufacturing"},{"$f":"'[3]2017 Econ Cens SDS raw'!AE390","v":48820},{"$f":"'[3]2017 Econ Cens SDS raw'!AF390","v":1260028},{"$f":"'[3]2017 Econ Cens SDS raw'!AG390","v":4003255},{"$f":"'[3]2017 Econ Cens SDS raw'!M390","v":25920},{"$f":"'[3]2017 Econ Cens SDS raw'!N390","v":56115},{"$f":"'[3]2017 Econ Cens SDS raw'!X390","v":8428859},2.86,9.0499999999999989,2017]
[{"$f":"'[2]2017 Econ Cens SDS'!B391","v":33243},{"$f":"'[2]2017 Econ Cens SDS'!C391","v":"Metal can, box, and other metal container (light gauge) manufacturing"},{"$f":"'[3]2017 Econ Cens SDS raw'!AE391","v":46612},{"$f":"'[3]2017 Econ Cens SDS raw'!AF391","v":1296313},{"$f":"'[3]2017 Econ Cens SDS raw'!AG391","v":12317592},{"$f":"'[3]2017 Econ Cens SDS raw'!M391","v":51962},{"$f":"'[3]2017 Econ Cens SDS raw'!N391","v":243319},{"$f":"'[3]2017 Econ Cens SDS raw'!X391","v":17843345},2.86,9.0499999999999989,2017]
[{"$f":"'[2]2017 Econ Cens SDS'!B392","v":332431},{"$f":"'[2]2017 Econ Cens SDS'!C392","v":"Metal can manufacturing"},{"$f":"'[3]2017 Econ Cens SDS raw'!AE392","v":30050},{"$f":"'[3]2017 Econ Cens SDS raw'!AF392","v":946259},{"$f":"'[3]2017 Econ Cens SDS raw'!AG392","v":10567850},{"$f":"'[3]2017 Econ Cens SDS raw'!M392","v":34099},{"$f":"'[3]2017 Econ Cens SDS raw'!N392","v":218835},{"$f":"'[3]2017 Econ Cens SDS raw'!X392","v":14585169},2.86,9.0499999999999989,2017]
[{"$f":"'[2]2017 Econ Cens SDS'!B393","v":332439},{"$f":"'[2]2017 Econ Cens SDS'!C393","v":"Other metal container manufacturing"},{"$f":"'[3]2017 Econ Cens SDS raw'!AE393","v":16562},{"$f":"'[3]2017 Econ Cens SDS raw'!AF393","v":350054},{"$f":"'[3]2017 Econ Cens SDS raw'!AG393","v":1749742},{"$f":"'[3]2017 Econ Cens SDS raw'!M393","v":17863},{"$f":"'[3]2017 Econ Cens SDS raw'!N393","v":24484},{"$f":"'[3]2017 Econ Cens SDS raw'!X393","v":3258176},2.86,9.0499999999999989,2017]
[{"$f":"'[2]2017 Econ Cens SDS'!B394","v":3325},{"$f":"'[2]2017 Econ Cens SDS'!C394","v":"Hardware manufacturing"},{"$f":"'[3]2017 Econ Cens SDS raw'!AE394","v":38987},{"$f":"'[3]2017 Econ Cens SDS raw'!AF394","v":792760},{"$f":"'[3]2017 Econ Cens SDS raw'!AG394","v":3671549},{"$f":"'[3]2017 Econ Cens SDS raw'!M394","v":15760},{"$f":"'[3]2017 Econ Cens SDS raw'!N394","v":54102},{"$f":"'[3]2017 Econ Cens SDS raw'!X394","v":8239344},2.86,9.0499999999999989,2017]
[{"$f":"'[2]2017 Econ Cens SDS'!B395","v":33251},{"$f":"'[2]2017 Econ Cens SDS'!C395","v":"Hardware manufacturing"},{"$f":"'[3]2017 Econ Cens SDS raw'!AE395","v":38987},{"$f":"'[3]2017 Econ Cens SDS raw'!AF395","v":792760},{"$f":"'[3]2017 Econ Cens SDS raw'!AG395","v":3671549},{"$f":"'[3]2017 Econ Cens SDS raw'!M395","v":15760},{"$f":"'[3]2017 Econ Cens SDS raw'!N395","v":54102},{"$f":"'[3]2017 Econ Cens SDS raw'!X395","v":8239344},2.86,9.0499999999999989,2017]
[{"$f":"'[2]2017 Econ Cens SDS'!B396","v":332510},{"$f":"'[2]2017 Econ Cens SDS'!C396","v":"Hardware manufacturing"},{"$f":"'[3]2017 Econ Cens SDS raw'!AE396","v":38987},{"$f":"'[3]2017 Econ Cens SDS raw'!AF396","v":792760},{"$f":"'[3]2017 Econ Cens SDS raw'!AG396","v":3671549},{"$f":"'[3]2017 Econ Cens SDS raw'!M396","v":15760},{"$f":"'[3]2017 Econ Cens SDS raw'!N396","v":54102},{"$f":"'[3]2017 Econ Cens SDS raw'!X396","v":8239344},2.86,9.0499999999999989,2017]
[{"$f":"'[2]2017 Econ Cens SDS'!B397","v":3326},{"$f":"'[2]2017 Econ Cens SDS'!C397","v":"Spring and wire product manufacturing"},{"$f":"'[3]2017 Econ Cens SDS raw'!AE397","v":58981},{"$f":"'[3]2017 Econ Cens SDS raw'!AF397","v":1198248},{"$f":"'[3]2017 Econ Cens SDS raw'!AG397","v":4262768},{"$f":"'[3]2017 Econ Cens SDS raw'!M397","v":33024},{"$f":"'[3]2017 Econ Cens SDS raw'!N397","v":85286},{"$f":"'[3]2017 Econ Cens SDS raw'!X397","v":9164703},2.86,9.0499999999999989,2017]
[{"$f":"'[2]2017 Econ Cens SDS'!B398","v":33261},{"$f":"'[2]2017 Econ Cens SDS'!C398","v":"Spring and wire product manufacturing"},{"$f":"'[3]2017 Econ Cens SDS raw'!AE398","v":58981},{"$f":"'[3]2017 Econ Cens SDS raw'!AF398","v":1198248},{"$f":"'[3]2017 Econ Cens SDS raw'!AG398","v":4262768},{"$f":"'[3]2017 Econ Cens SDS raw'!M398","v":33024},{"$f":"'[3]2017 Econ Cens SDS raw'!N398","v":85286},{"$f":"'[3]2017 Econ Cens SDS raw'!X398","v":9164703},2.86,9.0499999999999989,2017]
[{"$f":"'[2]2017 Econ Cens SDS'!B399","v":332613},{"$f":"'[2]2017 Econ Cens SDS'!C399","v":"Spring manufacturing"},{"$f":"'[3]2017 Econ Cens SDS raw'!AE399","v":27195},{"$f":"'[3]2017 Econ Cens SDS raw'!AF399","v":565239},{"$f":"'[3]2017 Econ Cens SDS raw'!AG399","v":1754931},{"$f":"'[3]2017 Econ Cens SDS raw'!M399","v":17540},{"$f":"'[3]2017 Econ Cens SDS raw'!N399","v":41530},{"$f":"'[3]2017 Econ Cens SDS raw'!X399","v":4000162},2.86,9.0499999999999989,2017]
[{"$f":"'[2]2017 Econ Cens SDS'!B400","v":332618},{"$f":"'[2]2017 Econ Cens SDS'!C400","v":"Other fabricated wire product manufacturing"},{"$f":"'[3]2017 Econ Cens SDS raw'!AE400","v":31786},{"$f":"'[3]2017 Econ Cens SDS raw'!AF400","v":633009},{"$f":"'[3]2017 Econ Cens SDS raw'!AG400","v":2507837},{"$f":"'[3]2017 Econ Cens SDS raw'!M400","v":15484},{"$f":"'[3]2017 Econ Cens SDS raw'!N400","v":43756},{"$f":"'[3]2017 Econ Cens SDS raw'!X400","v":5164541},2.86,9.0499999999999989,2017]
[{"$f":"'[2]2017 Econ Cens SDS'!B401","v":3327},{"$f":"'[2]2017 Econ Cens SDS'!C401","v":"Machine shops; turned product; and screw, nut, and bolt manufacturing"},{"$f":"'[3]2017 Econ Cens SDS raw'!AE401","v":545716},{"$f":"'[3]2017 Econ Cens SDS raw'!AF401","v":13619138},{"$f":"'[3]2017 Econ Cens SDS raw'!AG401","v":25040795},{"$f":"'[3]2017 Econ Cens SDS raw'!M401","v":190059},{"$f":"'[3]2017 Econ Cens SDS raw'!N401","v":745983},{"$f":"'[3]2017 Econ Cens SDS raw'!X401","v":66041628},2.86,9.0499999999999989,{"$f":"K3","v":2017}]
[{"$f":"'[2]2017 Econ Cens SDS'!B402","v":33271},{"$f":"'[2]2017 Econ Cens SDS'!C402","v":"Machine shops"},{"$f":"'[3]2017 Econ Cens SDS raw'!AE402","v":333401},{"$f":"'[3]2017 Econ Cens SDS raw'!AF402","v":8434623},{"$f":"'[3]2017 Econ Cens SDS raw'!AG402","v":12991727},{"$f":"'[3]2017 Econ Cens SDS raw'!M402","v":113909},{"$f":"'[3]2017 Econ Cens SDS raw'!N402","v":388999},{"$f":"'[3]2017 Econ Cens SDS raw'!X402","v":36756196},2.86,9.0499999999999989,2017]
[{"$f":"'[2]2017 Econ Cens SDS'!B403","v":332710},{"$f":"'[2]2017 Econ Cens SDS'!C403","v":"Machine shops"},{"$f":"'[3]2017 Econ Cens SDS raw'!AE403","v":333401},{"$f":"'[3]2017 Econ Cens SDS raw'!AF403","v":8434623},{"$f":"'[3]2017 Econ Cens SDS raw'!AG403","v":12991727},{"$f":"'[3]2017 Econ Cens SDS raw'!M403","v":113909},{"$f":"'[3]2017 Econ Cens SDS raw'!N403","v":388999},{"$f":"'[3]2017 Econ Cens SDS raw'!X403","v":36756196},2.86,9.0499999999999989,2017]
[{"$f":"'[2]2017 Econ Cens SDS'!B404","v":33272},{"$f":"'[2]2017 Econ Cens SDS'!C404","v":"Turned product and screw, nut, and bolt manufacturing"},{"$f":"'[3]2017 Econ Cens SDS raw'!AE404","v":212315},{"$f":"'[3]2017 Econ Cens SDS raw'!AF404","v":5184515},{"$f":"'[3]2017 Econ Cens SDS raw'!AG404","v":12049068},{"$f":"'[3]2017 Econ Cens SDS raw'!M404","v":76150},{"$f":"'[3]2017 Econ Cens SDS raw'!N404","v":356984},{"$f":"'[3]2017 Econ Cens SDS raw'!X404","v":29285432},2.86,9.0499999999999989,2017]
[{"$f":"'[2]2017 Econ Cens SDS'!B405","v":332721},{"$f":"'[2]2017 Econ Cens SDS'!C405","v":"Precision turned product manufacturing"},{"$f":"'[3]2017 Econ Cens SDS raw'!AE405","v":157086},{"$f":"'[3]2017 Econ Cens SDS raw'!AF405","v":3796809},{"$f":"'[3]2017 Econ Cens SDS raw'!AG405","v":7105977},{"$f":"'[3]2017 Econ Cens SDS raw'!M405","v":44086},{"$f":"'[3]2017 Econ Cens SDS raw'!N405","v":240294},{"$f":"'[3]2017 Econ Cens SDS raw'!X405","v":18667961},2.86,9.0499999999999989,2017]
[{"$f":"'[2]2017 Econ Cens SDS'!B406","v":332722},{"$f":"'[2]2017 Econ Cens SDS'!C406","v":"Bolt, nut, screw, rivet, and washer manufacturing"},{"$f":"'[3]2017 Econ Cens SDS raw'!AE406","v":55229},{"$f":"'[3]2017 Econ Cens SDS raw'!AF406","v":1387706},{"$f":"'[3]2017 Econ Cens SDS raw'!AG406","v":4943091},{"$f":"'[3]2017 Econ Cens SDS raw'!M406","v":32064},{"$f":"'[3]2017 Econ Cens SDS raw'!N406","v":116690},{"$f":"'[3]2017 Econ Cens SDS raw'!X406","v":10617471},2.86,9.0499999999999989,2017]
[{"$f":"'[2]2017 Econ Cens SDS'!B407","v":3328},{"$f":"'[2]2017 Econ Cens SDS'!C407","v":"Coating, engraving, heat treating, and allied activities"},{"$f":"'[3]2017 Econ Cens SDS raw'!AE407","v":192629},{"$f":"'[3]2017 Econ Cens SDS raw'!AF407","v":3973964},{"$f":"'[3]2017 Econ Cens SDS raw'!AG407","v":9812961},{"$f":"'[3]2017 Econ Cens SDS raw'!M407","v":295181},{"$f":"'[3]2017 Econ Cens SDS raw'!N407","v":529973},{"$f":"'[3]2017 Econ Cens SDS raw'!X407","v":25872819},2.86,9.0499999999999989,2017]
[{"$f":"'[2]2017 Econ Cens SDS'!B408","v":33281},{"$f":"'[2]2017 Econ Cens SDS'!C408","v":"Coating, engraving, heat treating, and allied activities"},{"$f":"'[3]2017 Econ Cens SDS raw'!AE408","v":192629},{"$f":"'[3]2017 Econ Cens SDS raw'!AF408","v":3973964},{"$f":"'[3]2017 Econ Cens SDS raw'!AG408","v":9812961},{"$f":"'[3]2017 Econ Cens SDS raw'!M408","v":295181},{"$f":"'[3]2017 Econ Cens SDS raw'!N408","v":529973},{"$f":"'[3]2017 Econ Cens SDS raw'!X408","v":25872819},2.86,9.0499999999999989,2017]
[{"$f":"'[2]2017 Econ Cens SDS'!B409","v":332811},{"$f":"'[2]2017 Econ Cens SDS'!C409","v":"Metal heat treating"},{"$f":"'[3]2017 Econ Cens SDS raw'!AE409","v":33882},{"$f":"'[3]2017 Econ Cens SDS raw'!AF409","v":783094},{"$f":"'[3]2017 Econ Cens SDS raw'!AG409","v":1651037},{"$f":"'[3]2017 Econ Cens SDS raw'!M409","v":97482},{"$f":"'[3]2017 Econ Cens SDS raw'!N409","v":167860},{"$f":"'[3]2017 Econ Cens SDS raw'!X409","v":5270403},2.86,9.0499999999999989,2017]
[{"$f":"'[2]2017 Econ Cens SDS'!B410","v":332812},{"$f":"'[2]2017 Econ Cens SDS'!C410","v":"Metal coating, engraving (except jewelry and silverware), and allied services to manufacturers"},{"$f":"'[3]2017 Econ Cens SDS raw'!AE410","v":82506},{"$f":"'[3]2017 Econ Cens SDS raw'!AF410","v":1722731},{"$f":"'[3]2017 Econ Cens SDS raw'!AG410","v":5841900},{"$f":"'[3]2017 Econ Cens SDS raw'!M410","v":111391},{"$f":"'[3]2017 Econ Cens SDS raw'!N410","v":196430},{"$f":"'[3]2017 Econ Cens SDS raw'!X410","v":13417305},2.86,9.0499999999999989,2017]
[{"$f":"'[2]2017 Econ Cens SDS'!B411","v":332813},{"$f":"'[2]2017 Econ Cens SDS'!C411","v":"Electroplating, plating, polishing, anodizing, and coloring"},{"$f":"'[3]2017 Econ Cens SDS raw'!AE411","v":76241},{"$f":"'[3]2017 Econ Cens SDS raw'!AF411","v":1468139},{"$f":"'[3]2017 Econ Cens SDS raw'!AG411","v":2320024},{"$f":"'[3]2017 Econ Cens SDS raw'!M411","v":86308},{"$f":"'[3]2017 Econ Cens SDS raw'!N411","v":165683},{"$f":"'[3]2017 Econ Cens SDS raw'!X411","v":7185111},2.86,9.0499999999999989,2017]
[{"$f":"'[2]2017 Econ Cens SDS'!B412","v":3329},{"$f":"'[2]2017 Econ Cens SDS'!C412","v":"Other fabricated metal product manufacturing"},{"$f":"'[3]2017 Econ Cens SDS raw'!AE412","v":347907},{"$f":"'[3]2017 Econ Cens SDS raw'!AF412","v":8422266},{"$f":"'[3]2017 Econ Cens SDS raw'!AG412","v":30042753},{"$f":"'[3]2017 Econ Cens SDS raw'!M412","v":169560},{"$f":"'[3]2017 Econ Cens SDS raw'!N412","v":570913},{"$f":"'[3]2017 Econ Cens SDS raw'!X412","v":71880150},2.86,9.0499999999999989,2017]
[{"$f":"'[2]2017 Econ Cens SDS'!B413","v":33291},{"$f":"'[2]2017 Econ Cens SDS'!C413","v":"Metal valve manufacturing"},{"$f":"'[3]2017 Econ Cens SDS raw'!AE413","v":124654},{"$f":"'[3]2017 Econ Cens SDS raw'!AF413","v":3057365},{"$f":"'[3]2017 Econ Cens SDS raw'!AG413","v":13898186},{"$f":"'[3]2017 Econ Cens SDS raw'!M413","v":39562},{"$f":"'[3]2017 Econ Cens SDS raw'!N413","v":205715},{"$f":"'[3]2017 Econ Cens SDS raw'!X413","v":32208809},2.86,9.0499999999999989,2017]
[{"$f":"'[2]2017 Econ Cens SDS'!B414","v":332911},{"$f":"'[2]2017 Econ Cens SDS'!C414","v":"Industrial valve manufacturing"},{"$f":"'[3]2017 Econ Cens SDS raw'!AE414","v":45564},{"$f":"'[3]2017 Econ Cens SDS raw'!AF414","v":1139088},{"$f":"'[3]2017 Econ Cens SDS raw'!AG414","v":4819575},{"$f":"'[3]2017 Econ Cens SDS raw'!M414","v":14456},{"$f":"'[3]2017 Econ Cens SDS raw'!N414","v":84612},{"$f":"'[3]2017 Econ Cens SDS raw'!X414","v":11864641},2.86,9.0499999999999989,2017]
[{"$f":"'[2]2017 Econ Cens SDS'!B415","v":332912},{"$f":"'[2]2017 Econ Cens SDS'!C415","v":"Fluid power valve and hose fitting manufacturing"},{"$f":"'[3]2017 Econ Cens SDS raw'!AE415","v":46073},{"$f":"'[3]2017 Econ Cens SDS raw'!AF415","v":1201486},{"$f":"'[3]2017 Econ Cens SDS raw'!AG415","v":5183161},{"$f":"'[3]2017 Econ Cens SDS raw'!M415","v":12296},{"$f":"'[3]2017 Econ Cens SDS raw'!N415","v":73900},{"$f":"'[3]2017 Econ Cens SDS raw'!X415","v":11283373},2.86,9.0499999999999989,2017]
[{"$f":"'[2]2017 Econ Cens SDS'!B416","v":332913},{"$f":"'[2]2017 Econ Cens SDS'!C416","v":"Plumbing fixture fitting and trim manufacturing"},{"$f":"'[3]2017 Econ Cens SDS raw'!AE416","v":15376},{"$f":"'[3]2017 Econ Cens SDS raw'!AF416","v":304549},{"$f":"'[3]2017 Econ Cens SDS raw'!AG416","v":2171900},{"$f":"'[3]2017 Econ Cens SDS raw'!M416","v":3122},{"$f":"'[3]2017 Econ Cens SDS raw'!N416","v":14026},{"$f":"'[3]2017 Econ Cens SDS raw'!X416","v":5033819},2.86,9.0499999999999989,2017]
[{"$f":"'[2]2017 Econ Cens SDS'!B417","v":332919},{"$f":"'[2]2017 Econ Cens SDS'!C417","v":"Other metal valve and pipe fitting manufacturing"},{"$f":"'[3]2017 Econ Cens SDS raw'!AE417","v":17641},{"$f":"'[3]2017 Econ Cens SDS raw'!AF417","v":412242},{"$f":"'[3]2017 Econ Cens SDS raw'!AG417","v":1723550},{"$f":"'[3]2017 Econ Cens SDS raw'!M417","v":9688},{"$f":"'[3]2017 Econ Cens SDS raw'!N417","v":33177},{"$f":"'[3]2017 Econ Cens SDS raw'!X417","v":4026976},2.86,9.0499999999999989,2017]
[{"$f":"'[2]2017 Econ Cens SDS'!B418","v":33299},{"$f":"'[2]2017 Econ Cens SDS'!C418","v":"All other fabricated metal product manufacturing"},{"$f":"'[3]2017 Econ Cens SDS raw'!AE418","v":223253},{"$f":"'[3]2017 Econ Cens SDS raw'!AF418","v":5364901},{"$f":"'[3]2017 Econ Cens SDS raw'!AG418","v":16144567},{"$f":"'[3]2017 Econ Cens SDS raw'!M418","v":129998},{"$f":"'[3]2017 Econ Cens SDS raw'!N418","v":365198},{"$f":"'[3]2017 Econ Cens SDS raw'!X418","v":39671341},2.86,9.0499999999999989,2017]
[{"$f":"'[2]2017 Econ Cens SDS'!B419","v":332991},{"$f":"'[2]2017 Econ Cens SDS'!C419","v":"Ball and roller bearing manufacturing"},{"$f":"'[3]2017 Econ Cens SDS raw'!AE419","v":30986},{"$f":"'[3]2017 Econ Cens SDS raw'!AF419","v":762870},{"$f":"'[3]2017 Econ Cens SDS raw'!AG419","v":2400418},{"$f":"'[3]2017 Econ Cens SDS raw'!M419","v":"D"},{"$f":"'[3]2017 Econ Cens SDS raw'!N419","v":88885},{"$f":"'[3]2017 Econ Cens SDS raw'!X419","v":6159361},2.86,9.0499999999999989,2017]
[{"$f":"'[2]2017 Econ Cens SDS'!B420","v":332992},{"$f":"'[2]2017 Econ Cens SDS'!C420","v":"Small arms ammunition manufacturing"},{"$f":"'[3]2017 Econ Cens SDS raw'!AE420","v":20769},{"$f":"'[3]2017 Econ Cens SDS raw'!AF420","v":528602},{"$f":"'[3]2017 Econ Cens SDS raw'!AG420","v":1651559},{"$f":"'[3]2017 Econ Cens SDS raw'!M420","v":"D"},{"$f":"'[3]2017 Econ Cens SDS raw'!N420","v":29420},{"$f":"'[3]2017 Econ Cens SDS raw'!X420","v":4117447},2.86,9.0499999999999989,2017]
[{"$f":"'[2]2017 Econ Cens SDS'!B421","v":332993},{"$f":"'[2]2017 Econ Cens SDS'!C421","v":"Ammunition (except small arms) manufacturing"},{"$f":"'[3]2017 Econ Cens SDS raw'!AE421","v":8854},{"$f":"'[3]2017 Econ Cens SDS raw'!AF421","v":297546},{"$f":"'[3]2017 Econ Cens SDS raw'!AG421","v":439426},{"$f":"'[3]2017 Econ Cens SDS raw'!M421","v":"D"},{"$f":"'[3]2017 Econ Cens SDS raw'!N421","v":27676},{"$f":"'[3]2017 Econ Cens SDS raw'!X421","v":2735555},2.86,9.0499999999999989,2017]
[{"$f":"'[2]2017 Econ Cens SDS'!B422","v":332994},{"$f":"'[2]2017 Econ Cens SDS'!C422","v":"Small arms, ordnance, and ordnance accessories manufacturing"},{"$f":"'[3]2017 Econ Cens SDS raw'!AE422","v":24971},{"$f":"'[3]2017 Econ Cens SDS raw'!AF422","v":618439},{"$f":"'[3]2017 Econ Cens SDS raw'!AG422","v":2665726},{"$f":"'[3]2017 Econ Cens SDS raw'!M422","v":8682},{"$f":"'[3]2017 Econ Cens SDS raw'!N422","v":35533},{"$f":"'[3]2017 Econ Cens SDS raw'!X422","v":5982177},2.86,9.0499999999999989,2017]
[{"$f":"'[2]2017 Econ Cens SDS'!B423","v":332996},{"$f":"'[2]2017 Econ Cens SDS'!C423","v":"Fabricated pipe and pipe fitting manufacturing"},{"$f":"'[3]2017 Econ Cens SDS raw'!AE423","v":41729},{"$f":"'[3]2017 Econ Cens SDS raw'!AF423","v":1010572},{"$f":"'[3]2017 Econ Cens SDS raw'!AG423","v":2767503},{"$f":"'[3]2017 Econ Cens SDS raw'!M423","v":17959},{"$f":"'[3]2017 Econ Cens SDS raw'!N423","v":47768},{"$f":"'[3]2017 Econ Cens SDS raw'!X423","v":6532023},2.86,9.0499999999999989,2017]
[{"$f":"'[2]2017 Econ Cens SDS'!B424","v":332999},{"$f":"'[2]2017 Econ Cens SDS'!C424","v":"All other miscellaneous fabricated metal product manufacturing"},{"$f":"'[3]2017 Econ Cens SDS raw'!AE424","v":95944},{"$f":"'[3]2017 Econ Cens SDS raw'!AF424","v":2146872},{"$f":"'[3]2017 Econ Cens SDS raw'!AG424","v":6219935},{"$f":"'[3]2017 Econ Cens SDS raw'!M424","v":53058},{"$f":"'[3]2017 Econ Cens SDS raw'!N424","v":135916},{"$f":"'[3]2017 Econ Cens SDS raw'!X424","v":14144778},2.86,9.0499999999999989,2017]
[{"$f":"'[2]2017 Econ Cens SDS'!B425","v":333},{"$f":"'[2]2017 Econ Cens SDS'!C425","v":"Machinery manufacturing"},{"$f":"'[3]2017 Econ Cens SDS raw'!AE425","v":1269332},{"$f":"'[3]2017 Econ Cens SDS raw'!AF425","v":32229926},{"$f":"'[3]2017 Econ Cens SDS raw'!AG425","v":178995882},{"$f":"'[3]2017 Econ Cens SDS raw'!M425","v":533522},{"$f":"'[3]2017 Econ Cens SDS raw'!N425","v":1927461},{"$f":"'[3]2017 Econ Cens SDS raw'!X425","v":356613188},2.87,7.0900000000000007,2017]
[{"$f":"'[2]2017 Econ Cens SDS'!B426","v":3331},{"$f":"'[2]2017 Econ Cens SDS'!C426","v":"Agriculture, construction, and mining machinery manufacturing"},{"$f":"'[3]2017 Econ Cens SDS raw'!AE426","v":234164},{"$f":"'[3]2017 Econ Cens SDS raw'!AF426","v":5943718},{"$f":"'[3]2017 Econ Cens SDS raw'!AG426","v":43740721},{"$f":"'[3]2017 Econ Cens SDS raw'!M426","v":136739},{"$f":"'[3]2017 Econ Cens SDS raw'!N426","v":380462},{"$f":"'[3]2017 Econ Cens SDS raw'!X426","v":77303421},2.87,7.0900000000000007,2017]
[{"$f":"'[2]2017 Econ Cens SDS'!B427","v":33311},{"$f":"'[2]2017 Econ Cens SDS'!C427","v":"Agricultural implement manufacturing"},{"$f":"'[3]2017 Econ Cens SDS raw'!AE427","v":95599},{"$f":"'[3]2017 Econ Cens SDS raw'!AF427","v":2139923},{"$f":"'[3]2017 Econ Cens SDS raw'!AG427","v":17480288},{"$f":"'[3]2017 Econ Cens SDS raw'!M427","v":46686},{"$f":"'[3]2017 Econ Cens SDS raw'!N427","v":126008},{"$f":"'[3]2017 Econ Cens SDS raw'!X427","v":28738893},2.87,7.0900000000000007,2017]
[{"$f":"'[2]2017 Econ Cens SDS'!B428","v":333111},{"$f":"'[2]2017 Econ Cens SDS'!C428","v":"Farm machinery and equipment manufacturing"},{"$f":"'[3]2017 Econ Cens SDS raw'!AE428","v":68406},{"$f":"'[3]2017 Econ Cens SDS raw'!AF428","v":1674289},{"$f":"'[3]2017 Econ Cens SDS raw'!AG428","v":11730915},{"$f":"'[3]2017 Econ Cens SDS raw'!M428","v":35674},{"$f":"'[3]2017 Econ Cens SDS raw'!N428","v":94371},{"$f":"'[3]2017 Econ Cens SDS raw'!X428","v":20117326},2.87,7.0900000000000007,2017]
[{"$f":"'[2]2017 Econ Cens SDS'!B429","v":333112},{"$f":"'[2]2017 Econ Cens SDS'!C429","v":"Lawn and garden tractor and home lawn and garden equipment manufacturing"},{"$f":"'[3]2017 Econ Cens SDS raw'!AE429","v":27193},{"$f":"'[3]2017 Econ Cens SDS raw'!AF429","v":465634},{"$f":"'[3]2017 Econ Cens SDS raw'!AG429","v":5749373},{"$f":"'[3]2017 Econ Cens SDS raw'!M429","v":11012},{"$f":"'[3]2017 Econ Cens SDS raw'!N429","v":31637},{"$f":"'[3]2017 Econ Cens SDS raw'!X429","v":8621567},2.87,7.0900000000000007,2017]
[{"$f":"'[2]2017 Econ Cens SDS'!B430","v":33312},{"$f":"'[2]2017 Econ Cens SDS'!C430","v":"Construction machinery manufacturing"},{"$f":"'[3]2017 Econ Cens SDS raw'!AE430","v":79695},{"$f":"'[3]2017 Econ Cens SDS raw'!AF430","v":2025299},{"$f":"'[3]2017 Econ Cens SDS raw'!AG430","v":16868279},{"$f":"'[3]2017 Econ Cens SDS raw'!M430","v":49754},{"$f":"'[3]2017 Econ Cens SDS raw'!N430","v":141402},{"$f":"'[3]2017 Econ Cens SDS raw'!X430","v":32088964},2.87,7.0900000000000007,2017]
[{"$f":"'[2]2017 Econ Cens SDS'!B431","v":333120},{"$f":"'[2]2017 Econ Cens SDS'!C431","v":"Construction machinery manufacturing"},{"$f":"'[3]2017 Econ Cens SDS raw'!AE431","v":79695},{"$f":"'[3]2017 Econ Cens SDS raw'!AF431","v":2025299},{"$f":"'[3]2017 Econ Cens SDS raw'!AG431","v":16868279},{"$f":"'[3]2017 Econ Cens SDS raw'!M431","v":49754},{"$f":"'[3]2017 Econ Cens SDS raw'!N431","v":141402},{"$f":"'[3]2017 Econ Cens SDS raw'!X431","v":32088964},2.87,7.0900000000000007,2017]
[{"$f":"'[2]2017 Econ Cens SDS'!B432","v":33313},{"$f":"'[2]2017 Econ Cens SDS'!C432","v":"Mining and oil and gas field machinery manufacturing"},{"$f":"'[3]2017 Econ Cens SDS raw'!AE432","v":58870},{"$f":"'[3]2017 Econ Cens SDS raw'!AF432","v":1778496},{"$f":"'[3]2017 Econ Cens SDS raw'!AG432","v":9392154},{"$f":"'[3]2017 Econ Cens SDS raw'!M432","v":40299},{"$f":"'[3]2017 Econ Cens SDS raw'!N432","v":113052},{"$f":"'[3]2017 Econ Cens SDS raw'!X432","v":16475564},2.87,7.0900000000000007,2017]
[{"$f":"'[2]2017 Econ Cens SDS'!B433","v":333131},{"$f":"'[2]2017 Econ Cens SDS'!C433","v":"Mining machinery and equipment manufacturing"},{"$f":"'[3]2017 Econ Cens SDS raw'!AE433","v":14820},{"$f":"'[3]2017 Econ Cens SDS raw'!AF433","v":361140},{"$f":"'[3]2017 Econ Cens SDS raw'!AG433","v":1970471},{"$f":"'[3]2017 Econ Cens SDS raw'!M433","v":11440},{"$f":"'[3]2017 Econ Cens SDS raw'!N433","v":34289},{"$f":"'[3]2017 Econ Cens SDS raw'!X433","v":3691368},2.87,7.0900000000000007,2017]
[{"$f":"'[2]2017 Econ Cens SDS'!B434","v":333132},{"$f":"'[2]2017 Econ Cens SDS'!C434","v":"Oil and gas field machinery and equipment manufacturing"},{"$f":"'[3]2017 Econ Cens SDS raw'!AE434","v":44050},{"$f":"'[3]2017 Econ Cens SDS raw'!AF434","v":1417356},{"$f":"'[3]2017 Econ Cens SDS raw'!AG434","v":7421683},{"$f":"'[3]2017 Econ Cens SDS raw'!M434","v":28859},{"$f":"'[3]2017 Econ Cens SDS raw'!N434","v":78763},{"$f":"'[3]2017 Econ Cens SDS raw'!X434","v":12784196},2.87,7.0900000000000007,2017]
[{"$f":"'[2]2017 Econ Cens SDS'!B435","v":3332},{"$f":"'[2]2017 Econ Cens SDS'!C435","v":"Industrial machinery manufacturing"},{"$f":"'[3]2017 Econ Cens SDS raw'!AE435","v":117963},{"$f":"'[3]2017 Econ Cens SDS raw'!AF435","v":3238123},{"$f":"'[3]2017 Econ Cens SDS raw'!AG435","v":14670067},{"$f":"'[3]2017 Econ Cens SDS raw'!M435","v":45503},{"$f":"'[3]2017 Econ Cens SDS raw'!N435","v":176358},{"$f":"'[3]2017 Econ Cens SDS raw'!X435","v":33287302},2.87,7.0900000000000007,2017]
[{"$f":"'[2]2017 Econ Cens SDS'!B436","v":33324},{"$f":"'[2]2017 Econ Cens SDS'!C436","v":"Industrial machinery manufacturing"},{"$f":"'[3]2017 Econ Cens SDS raw'!AE436","v":117963},{"$f":"'[3]2017 Econ Cens SDS raw'!AF436","v":3238123},{"$f":"'[3]2017 Econ Cens SDS raw'!AG436","v":14670067},{"$f":"'[3]2017 Econ Cens SDS raw'!M436","v":45503},{"$f":"'[3]2017 Econ Cens SDS raw'!N436","v":176358},{"$f":"'[3]2017 Econ Cens SDS raw'!X436","v":33287302},2.87,7.0900000000000007,2017]
[{"$f":"'[2]2017 Econ Cens SDS'!B437","v":333241},{"$f":"'[2]2017 Econ Cens SDS'!C437","v":"Food product machinery manufacturing"},{"$f":"'[3]2017 Econ Cens SDS raw'!AE437","v":20001},{"$f":"'[3]2017 Econ Cens SDS raw'!AF437","v":502622},{"$f":"'[3]2017 Econ Cens SDS raw'!AG437","v":2185613},{"$f":"'[3]2017 Econ Cens SDS raw'!M437","v":6783},{"$f":"'[3]2017 Econ Cens SDS raw'!N437","v":19212},{"$f":"'[3]2017 Econ Cens SDS raw'!X437","v":4887776},2.87,7.0900000000000007,2017]
[{"$f":"'[2]2017 Econ Cens SDS'!B438","v":333242},{"$f":"'[2]2017 Econ Cens SDS'!C438","v":"Semiconductor machinery manufacturing"},{"$f":"'[3]2017 Econ Cens SDS raw'!AE438","v":13497},{"$f":"'[3]2017 Econ Cens SDS raw'!AF438","v":464724},{"$f":"'[3]2017 Econ Cens SDS raw'!AG438","v":3375423},{"$f":"'[3]2017 Econ Cens SDS raw'!M438","v":4625},{"$f":"'[3]2017 Econ Cens SDS raw'!N438","v":35852},{"$f":"'[3]2017 Econ Cens SDS raw'!X438","v":8771021},2.87,7.0900000000000007,2017]
[{"$f":"'[2]2017 Econ Cens SDS'!B439","v":333243},{"$f":"'[2]2017 Econ Cens SDS'!C439","v":"Sawmill, woodworking, and paper machinery manufacturing"},{"$f":"'[3]2017 Econ Cens SDS raw'!AE439","v":13879},{"$f":"'[3]2017 Econ Cens SDS raw'!AF439","v":401991},{"$f":"'[3]2017 Econ Cens SDS raw'!AG439","v":1648558},{"$f":"'[3]2017 Econ Cens SDS raw'!M439","v":7629},{"$f":"'[3]2017 Econ Cens SDS raw'!N439","v":25084},{"$f":"'[3]2017 Econ Cens SDS raw'!X439","v":3378487},2.87,7.0900000000000007,2017]
[{"$f":"'[2]2017 Econ Cens SDS'!B440","v":333244},{"$f":"'[2]2017 Econ Cens SDS'!C440","v":"Printing machinery and equipment manufacturing"},{"$f":"'[3]2017 Econ Cens SDS raw'!AE440","v":7456},{"$f":"'[3]2017 Econ Cens SDS raw'!AF440","v":198580},{"$f":"'[3]2017 Econ Cens SDS raw'!AG440","v":919285},{"$f":"'[3]2017 Econ Cens SDS raw'!M440","v":3811},{"$f":"'[3]2017 Econ Cens SDS raw'!N440","v":17153},{"$f":"'[3]2017 Econ Cens SDS raw'!X440","v":1830703},2.87,7.0900000000000007,2017]
[{"$f":"'[2]2017 Econ Cens SDS'!B441","v":333249},{"$f":"'[2]2017 Econ Cens SDS'!C441","v":"Other industrial machinery manufacturing"},{"$f":"'[3]2017 Econ Cens SDS raw'!AE441","v":63130},{"$f":"'[3]2017 Econ Cens SDS raw'!AF441","v":1670206},{"$f":"'[3]2017 Econ Cens SDS raw'!AG441","v":6541188},{"$f":"'[3]2017 Econ Cens SDS raw'!M441","v":22655},{"$f":"'[3]2017 Econ Cens SDS raw'!N441","v":79057},{"$f":"'[3]2017 Econ Cens SDS raw'!X441","v":14419315},2.87,7.0900000000000007,2017]
[{"$f":"'[2]2017 Econ Cens SDS'!B442","v":3333},{"$f":"'[2]2017 Econ Cens SDS'!C442","v":"Commercial and service industry machinery manufacturing"},{"$f":"'[3]2017 Econ Cens SDS raw'!AE442","v":83532},{"$f":"'[3]2017 Econ Cens SDS raw'!AF442","v":2029250},{"$f":"'[3]2017 Econ Cens SDS raw'!AG442","v":10949904},{"$f":"'[3]2017 Econ Cens SDS raw'!M442","v":29466},{"$f":"'[3]2017 Econ Cens SDS raw'!N442","v":118148},{"$f":"'[3]2017 Econ Cens SDS raw'!X442","v":24446528},2.87,7.0900000000000007,2017]
[{"$f":"'[2]2017 Econ Cens SDS'!B443","v":33331},{"$f":"'[2]2017 Econ Cens SDS'!C443","v":"Commercial and service industry machinery manufacturing"},{"$f":"'[3]2017 Econ Cens SDS raw'!AE443","v":83532},{"$f":"'[3]2017 Econ Cens SDS raw'!AF443","v":2029250},{"$f":"'[3]2017 Econ Cens SDS raw'!AG443","v":10949904},{"$f":"'[3]2017 Econ Cens SDS raw'!M443","v":29466},{"$f":"'[3]2017 Econ Cens SDS raw'!N443","v":118148},{"$f":"'[3]2017 Econ Cens SDS raw'!X443","v":24446528},2.87,7.0900000000000007,2017]
[{"$f":"'[2]2017 Econ Cens SDS'!B444","v":333314},{"$f":"'[2]2017 Econ Cens SDS'!C444","v":"Optical instrument and lens manufacturing"},{"$f":"'[3]2017 Econ Cens SDS raw'!AE444","v":18343},{"$f":"'[3]2017 Econ Cens SDS raw'!AF444","v":548241},{"$f":"'[3]2017 Econ Cens SDS raw'!AG444","v":1805577},{"$f":"'[3]2017 Econ Cens SDS raw'!M444","v":7829},{"$f":"'[3]2017 Econ Cens SDS raw'!N444","v":32669},{"$f":"'[3]2017 Econ Cens SDS raw'!X444","v":4642004},2.87,7.0900000000000007,2017]
[{"$f":"'[2]2017 Econ Cens SDS'!B445","v":333316},{"$f":"'[2]2017 Econ Cens SDS'!C445","v":"Photographic and photocopying equipment manufacturing"},{"$f":"'[3]2017 Econ Cens SDS raw'!AE445","v":3003},{"$f":"'[3]2017 Econ Cens SDS raw'!AF445","v":81922},{"$f":"'[3]2017 Econ Cens SDS raw'!AG445","v":596171},{"$f":"'[3]2017 Econ Cens SDS raw'!M445","v":1361},{"$f":"'[3]2017 Econ Cens SDS raw'!N445","v":6205},{"$f":"'[3]2017 Econ Cens SDS raw'!X445","v":1520705},2.87,7.0900000000000007,2017]
[{"$f":"'[2]2017 Econ Cens SDS'!B446","v":333318},{"$f":"'[2]2017 Econ Cens SDS'!C446","v":"Other commercial and service industry machinery manufacturing"},{"$f":"'[3]2017 Econ Cens SDS raw'!AE446","v":62186},{"$f":"'[3]2017 Econ Cens SDS raw'!AF446","v":1399087},{"$f":"'[3]2017 Econ Cens SDS raw'!AG446","v":8548156},{"$f":"'[3]2017 Econ Cens SDS raw'!M446","v":20276},{"$f":"'[3]2017 Econ Cens SDS raw'!N446","v":79274},{"$f":"'[3]2017 Econ Cens SDS raw'!X446","v":18283819},2.87,7.0900000000000007,2017]
[{"$f":"'[2]2017 Econ Cens SDS'!B447","v":3334},{"$f":"'[2]2017 Econ Cens SDS'!C447","v":"Ventilation, heating, air-conditioning, and commercial refrigeration equipment manufacturing"},{"$f":"'[3]2017 Econ Cens SDS raw'!AE447","v":172107},{"$f":"'[3]2017 Econ Cens SDS raw'!AF447","v":3551300},{"$f":"'[3]2017 Econ Cens SDS raw'!AG447","v":20954295},{"$f":"'[3]2017 Econ Cens SDS raw'!M447","v":57821},{"$f":"'[3]2017 Econ Cens SDS raw'!N447","v":184631},{"$f":"'[3]2017 Econ Cens SDS raw'!X447","v":42995670},2.87,7.0900000000000007,2017]
[{"$f":"'[2]2017 Econ Cens SDS'!B448","v":33341},{"$f":"'[2]2017 Econ Cens SDS'!C448","v":"Ventilation, heating, air-conditioning, and commercial refrigeration equipment manufacturing"},{"$f":"'[3]2017 Econ Cens SDS raw'!AE448","v":172107},{"$f":"'[3]2017 Econ Cens SDS raw'!AF448","v":3551300},{"$f":"'[3]2017 Econ Cens SDS raw'!AG448","v":20954295},{"$f":"'[3]2017 Econ Cens SDS raw'!M448","v":57821},{"$f":"'[3]2017 Econ Cens SDS raw'!N448","v":184631},{"$f":"'[3]2017 Econ Cens SDS raw'!X448","v":42995670},2.87,7.0900000000000007,2017]
[{"$f":"'[2]2017 Econ Cens SDS'!B449","v":333413},{"$f":"'[2]2017 Econ Cens SDS'!C449","v":"Industrial and commercial fan and blower and air purification equipment manufacturing"},{"$f":"'[3]2017 Econ Cens SDS raw'!AE449","v":32948},{"$f":"'[3]2017 Econ Cens SDS raw'!AF449","v":621285},{"$f":"'[3]2017 Econ Cens SDS raw'!AG449","v":2722181},{"$f":"'[3]2017 Econ Cens SDS raw'!M449","v":11781},{"$f":"'[3]2017 Econ Cens SDS raw'!N449","v":32266},{"$f":"'[3]2017 Econ Cens SDS raw'!X449","v":5834988},2.87,7.0900000000000007,2017]
[{"$f":"'[2]2017 Econ Cens SDS'!B450","v":333414},{"$f":"'[2]2017 Econ Cens SDS'!C450","v":"Heating equipment (except warm air furnaces) manufacturing"},{"$f":"'[3]2017 Econ Cens SDS raw'!AE450","v":15699},{"$f":"'[3]2017 Econ Cens SDS raw'!AF450","v":349484},{"$f":"'[3]2017 Econ Cens SDS raw'!AG450","v":2028632},{"$f":"'[3]2017 Econ Cens SDS raw'!M450","v":10981},{"$f":"'[3]2017 Econ Cens SDS raw'!N450","v":31623},{"$f":"'[3]2017 Econ Cens SDS raw'!X450","v":4382973},2.87,7.0900000000000007,2017]
[{"$f":"'[2]2017 Econ Cens SDS'!B451","v":333415},{"$f":"'[2]2017 Econ Cens SDS'!C451","v":"Air-conditioning and warm air heating equipment and commercial and industrial refrigeration equipment manufacturing"},{"$f":"'[3]2017 Econ Cens SDS raw'!AE451","v":123460},{"$f":"'[3]2017 Econ Cens SDS raw'!AF451","v":2580531},{"$f":"'[3]2017 Econ Cens SDS raw'!AG451","v":16203482},{"$f":"'[3]2017 Econ Cens SDS raw'!M451","v":35059},{"$f":"'[3]2017 Econ Cens SDS raw'!N451","v":120742},{"$f":"'[3]2017 Econ Cens SDS raw'!X451","v":32777709},2.87,7.0900000000000007,2017]
[{"$f":"'[2]2017 Econ Cens SDS'!B452","v":3335},{"$f":"'[2]2017 Econ Cens SDS'!C452","v":"Metalworking machinery manufacturing"},{"$f":"'[3]2017 Econ Cens SDS raw'!AE452","v":202734},{"$f":"'[3]2017 Econ Cens SDS raw'!AF452","v":5551179},{"$f":"'[3]2017 Econ Cens SDS raw'!AG452","v":12839866},{"$f":"'[3]2017 Econ Cens SDS raw'!M452","v":66914},{"$f":"'[3]2017 Econ Cens SDS raw'!N452","v":325710},{"$f":"'[3]2017 Econ Cens SDS raw'!X452","v":32109031},2.87,7.0900000000000007,2017]
[{"$f":"'[2]2017 Econ Cens SDS'!B453","v":33351},{"$f":"'[2]2017 Econ Cens SDS'!C453","v":"Metalworking machinery manufacturing"},{"$f":"'[3]2017 Econ Cens SDS raw'!AE453","v":202734},{"$f":"'[3]2017 Econ Cens SDS raw'!AF453","v":5551179},{"$f":"'[3]2017 Econ Cens SDS raw'!AG453","v":12839866},{"$f":"'[3]2017 Econ Cens SDS raw'!M453","v":66914},{"$f":"'[3]2017 Econ Cens SDS raw'!N453","v":325710},{"$f":"'[3]2017 Econ Cens SDS raw'!X453","v":32109031},2.87,7.0900000000000007,2017]
[{"$f":"'[2]2017 Econ Cens SDS'!B454","v":333511},{"$f":"'[2]2017 Econ Cens SDS'!C454","v":"Industrial mold manufacturing"},{"$f":"'[3]2017 Econ Cens SDS raw'!AE454","v":52566},{"$f":"'[3]2017 Econ Cens SDS raw'!AF454","v":1386757},{"$f":"'[3]2017 Econ Cens SDS raw'!AG454","v":2227823},{"$f":"'[3]2017 Econ Cens SDS raw'!M454","v":20027},{"$f":"'[3]2017 Econ Cens SDS raw'!N454","v":85872},{"$f":"'[3]2017 Econ Cens SDS raw'!X454","v":6441566},2.87,7.0900000000000007,2017]
[{"$f":"'[2]2017 Econ Cens SDS'!B455","v":333514},{"$f":"'[2]2017 Econ Cens SDS'!C455","v":"Special die and tool, die set, jig, and fixture manufacturing"},{"$f":"'[3]2017 Econ Cens SDS raw'!AE455","v":61029},{"$f":"'[3]2017 Econ Cens SDS raw'!AF455","v":1782048},{"$f":"'[3]2017 Econ Cens SDS raw'!AG455","v":3454167},{"$f":"'[3]2017 Econ Cens SDS raw'!M455","v":19071},{"$f":"'[3]2017 Econ Cens SDS raw'!N455","v":110765},{"$f":"'[3]2017 Econ Cens SDS raw'!X455","v":8872751},2.87,7.0900000000000007,2017]
[{"$f":"'[2]2017 Econ Cens SDS'!B456","v":333515},{"$f":"'[2]2017 Econ Cens SDS'!C456","v":"Cutting tool and machine tool accessory manufacturing"},{"$f":"'[3]2017 Econ Cens SDS raw'!AE456","v":37780},{"$f":"'[3]2017 Econ Cens SDS raw'!AF456","v":918588},{"$f":"'[3]2017 Econ Cens SDS raw'!AG456","v":1886169},{"$f":"'[3]2017 Econ Cens SDS raw'!M456","v":11399},{"$f":"'[3]2017 Econ Cens SDS raw'!N456","v":69087},{"$f":"'[3]2017 Econ Cens SDS raw'!X456","v":5186446},2.87,7.0900000000000007,2017]
[{"$f":"'[2]2017 Econ Cens SDS'!B457","v":333517},{"$f":"'[2]2017 Econ Cens SDS'!C457","v":"Machine tool manufacturing"},{"$f":"'[3]2017 Econ Cens SDS raw'!AE457","v":34331},{"$f":"'[3]2017 Econ Cens SDS raw'!AF457","v":921016},{"$f":"'[3]2017 Econ Cens SDS raw'!AG457","v":3437299},{"$f":"'[3]2017 Econ Cens SDS raw'!M457","v":8891},{"$f":"'[3]2017 Econ Cens SDS raw'!N457","v":39008},{"$f":"'[3]2017 Econ Cens SDS raw'!X457","v":7777939},2.87,7.0900000000000007,2017]
[{"$f":"'[2]2017 Econ Cens SDS'!B458","v":333519},{"$f":"'[2]2017 Econ Cens SDS'!C458","v":"Rolling mill and other metalworking machinery manufacturing"},{"$f":"'[3]2017 Econ Cens SDS raw'!AE458","v":17028},{"$f":"'[3]2017 Econ Cens SDS raw'!AF458","v":542770},{"$f":"'[3]2017 Econ Cens SDS raw'!AG458","v":1834408},{"$f":"'[3]2017 Econ Cens SDS raw'!M458","v":7526},{"$f":"'[3]2017 Econ Cens SDS raw'!N458","v":20978},{"$f":"'[3]2017 Econ Cens SDS raw'!X458","v":3830329},2.87,7.0900000000000007,2017]
[{"$f":"'[2]2017 Econ Cens SDS'!B459","v":3336},{"$f":"'[2]2017 Econ Cens SDS'!C459","v":"Engine, turbine, and power transmission equipment manufacturing"},{"$f":"'[3]2017 Econ Cens SDS raw'!AE459","v":121205},{"$f":"'[3]2017 Econ Cens SDS raw'!AF459","v":3203703},{"$f":"'[3]2017 Econ Cens SDS raw'!AG459","v":25144214},{"$f":"'[3]2017 Econ Cens SDS raw'!M459","v":61196},{"$f":"'[3]2017 Econ Cens SDS raw'!N459","v":243197},{"$f":"'[3]2017 Econ Cens SDS raw'!X459","v":44072307},2.87,7.0900000000000007,2017]
[{"$f":"'[2]2017 Econ Cens SDS'!B460","v":33361},{"$f":"'[2]2017 Econ Cens SDS'!C460","v":"Engine, turbine, and power transmission equipment manufacturing"},{"$f":"'[3]2017 Econ Cens SDS raw'!AE460","v":121205},{"$f":"'[3]2017 Econ Cens SDS raw'!AF460","v":3203703},{"$f":"'[3]2017 Econ Cens SDS raw'!AG460","v":25144214},{"$f":"'[3]2017 Econ Cens SDS raw'!M460","v":61196},{"$f":"'[3]2017 Econ Cens SDS raw'!N460","v":243197},{"$f":"'[3]2017 Econ Cens SDS raw'!X460","v":44072307},2.87,7.0900000000000007,2017]
[{"$f":"'[2]2017 Econ Cens SDS'!B461","v":333611},{"$f":"'[2]2017 Econ Cens SDS'!C461","v":"Turbine and turbine generator set units manufacturing"},{"$f":"'[3]2017 Econ Cens SDS raw'!AE461","v":34975},{"$f":"'[3]2017 Econ Cens SDS raw'!AF461","v":1155414},{"$f":"'[3]2017 Econ Cens SDS raw'!AG461","v":6406666},{"$f":"'[3]2017 Econ Cens SDS raw'!M461","v":16448},{"$f":"'[3]2017 Econ Cens SDS raw'!N461","v":63320},{"$f":"'[3]2017 Econ Cens SDS raw'!X461","v":13751984},2.87,7.0900000000000007,2017]
[{"$f":"'[2]2017 Econ Cens SDS'!B462","v":333612},{"$f":"'[2]2017 Econ Cens SDS'!C462","v":"Speed changer, industrial high-speed drive, and gear manufacturing"},{"$f":"'[3]2017 Econ Cens SDS raw'!AE462","v":15802},{"$f":"'[3]2017 Econ Cens SDS raw'!AF462","v":392733},{"$f":"'[3]2017 Econ Cens SDS raw'!AG462","v":1551236},{"$f":"'[3]2017 Econ Cens SDS raw'!M462","v":8217},{"$f":"'[3]2017 Econ Cens SDS raw'!N462","v":31378},{"$f":"'[3]2017 Econ Cens SDS raw'!X462","v":3338111},2.87,7.0900000000000007,2017]
[{"$f":"'[2]2017 Econ Cens SDS'!B463","v":333613},{"$f":"'[2]2017 Econ Cens SDS'!C463","v":"Mechanical power transmission equipment manufacturing"},{"$f":"'[3]2017 Econ Cens SDS raw'!AE463","v":21221},{"$f":"'[3]2017 Econ Cens SDS raw'!AF463","v":478714},{"$f":"'[3]2017 Econ Cens SDS raw'!AG463","v":1908387},{"$f":"'[3]2017 Econ Cens SDS raw'!M463","v":9854},{"$f":"'[3]2017 Econ Cens SDS raw'!N463","v":42079},{"$f":"'[3]2017 Econ Cens SDS raw'!X463","v":4281386},2.87,7.0900000000000007,2017]
[{"$f":"'[2]2017 Econ Cens SDS'!B464","v":333618},{"$f":"'[2]2017 Econ Cens SDS'!C464","v":"Other engine equipment manufacturing"},{"$f":"'[3]2017 Econ Cens SDS raw'!AE464","v":49207},{"$f":"'[3]2017 Econ Cens SDS raw'!AF464","v":1176842},{"$f":"'[3]2017 Econ Cens SDS raw'!AG464","v":15277925},{"$f":"'[3]2017 Econ Cens SDS raw'!M464","v":26677},{"$f":"'[3]2017 Econ Cens SDS raw'!N464","v":106420},{"$f":"'[3]2017 Econ Cens SDS raw'!X464","v":22700826},2.87,7.0900000000000007,2017]
[{"$f":"'[2]2017 Econ Cens SDS'!B465","v":3339},{"$f":"'[2]2017 Econ Cens SDS'!C465","v":"Other general purpose machinery manufacturing"},{"$f":"'[3]2017 Econ Cens SDS raw'!AE465","v":337627},{"$f":"'[3]2017 Econ Cens SDS raw'!AF465","v":8712653},{"$f":"'[3]2017 Econ Cens SDS raw'!AG465","v":50696815},{"$f":"'[3]2017 Econ Cens SDS raw'!M465","v":135883},{"$f":"'[3]2017 Econ Cens SDS raw'!N465","v":498955},{"$f":"'[3]2017 Econ Cens SDS raw'!X465","v":102398929},2.87,7.0900000000000007,{"$f":"K67","v":2017}]
[{"$f":"'[2]2017 Econ Cens SDS'!B466","v":33391},{"$f":"'[2]2017 Econ Cens SDS'!C466","v":"Pump and compressor manufacturing"},{"$f":"'[3]2017 Econ Cens SDS raw'!AE466","v":63504},{"$f":"'[3]2017 Econ Cens SDS raw'!AF466","v":1595936},{"$f":"'[3]2017 Econ Cens SDS raw'!AG466","v":12435325},{"$f":"'[3]2017 Econ Cens SDS raw'!M466","v":32608},{"$f":"'[3]2017 Econ Cens SDS raw'!N466","v":126481},{"$f":"'[3]2017 Econ Cens SDS raw'!X466","v":26549897},2.87,7.0900000000000007,2017]
[{"$f":"'[2]2017 Econ Cens SDS'!B467","v":333912},{"$f":"'[2]2017 Econ Cens SDS'!C467","v":"Air and gas compressor manufacturing"},{"$f":"'[3]2017 Econ Cens SDS raw'!AE467","v":21971},{"$f":"'[3]2017 Econ Cens SDS raw'!AF467","v":524259},{"$f":"'[3]2017 Econ Cens SDS raw'!AG467","v":5139664},{"$f":"'[3]2017 Econ Cens SDS raw'!M467","v":9405},{"$f":"'[3]2017 Econ Cens SDS raw'!N467","v":37216},{"$f":"'[3]2017 Econ Cens SDS raw'!X467","v":9492295},2.87,7.0900000000000007,2017]
[{"$f":"'[2]2017 Econ Cens SDS'!B468","v":333914},{"$f":"'[2]2017 Econ Cens SDS'!C468","v":"Measuring, dispensing, and other pumping equipment manufacturing"},{"$f":"'[3]2017 Econ Cens SDS raw'!AE468","v":41533},{"$f":"'[3]2017 Econ Cens SDS raw'!AF468","v":1071677},{"$f":"'[3]2017 Econ Cens SDS raw'!AG468","v":7295661},{"$f":"'[3]2017 Econ Cens SDS raw'!M468","v":23203},{"$f":"'[3]2017 Econ Cens SDS raw'!N468","v":89265},{"$f":"'[3]2017 Econ Cens SDS raw'!X468","v":17057602},2.87,7.0900000000000007,2017]
[{"$f":"'[2]2017 Econ Cens SDS'!B469","v":33392},{"$f":"'[2]2017 Econ Cens SDS'!C469","v":"Material handling equipment manufacturing"},{"$f":"'[3]2017 Econ Cens SDS raw'!AE469","v":106985},{"$f":"'[3]2017 Econ Cens SDS raw'!AF469","v":2665367},{"$f":"'[3]2017 Econ Cens SDS raw'!AG469","v":16567973},{"$f":"'[3]2017 Econ Cens SDS raw'!M469","v":41681},{"$f":"'[3]2017 Econ Cens SDS raw'!N469","v":114665},{"$f":"'[3]2017 Econ Cens SDS raw'!X469","v":30086616},2.87,7.0900000000000007,2017]
[{"$f":"'[2]2017 Econ Cens SDS'!B470","v":333921},{"$f":"'[2]2017 Econ Cens SDS'!C470","v":"Elevator and moving stairway manufacturing"},{"$f":"'[3]2017 Econ Cens SDS raw'!AE470","v":11942},{"$f":"'[3]2017 Econ Cens SDS raw'!AF470","v":248523},{"$f":"'[3]2017 Econ Cens SDS raw'!AG470","v":1749202},{"$f":"'[3]2017 Econ Cens SDS raw'!M470","v":5644},{"$f":"'[3]2017 Econ Cens SDS raw'!N470","v":11077},{"$f":"'[3]2017 Econ Cens SDS raw'!X470","v":3509058},2.87,7.0900000000000007,2017]
[{"$f":"'[2]2017 Econ Cens SDS'!B471","v":333922},{"$f":"'[2]2017 Econ Cens SDS'!C471","v":"Conveyor and conveying equipment manufacturing"},{"$f":"'[3]2017 Econ Cens SDS raw'!AE471","v":39868},{"$f":"'[3]2017 Econ Cens SDS raw'!AF471","v":1048133},{"$f":"'[3]2017 Econ Cens SDS raw'!AG471","v":4701288},{"$f":"'[3]2017 Econ Cens SDS raw'!M471","v":13713},{"$f":"'[3]2017 Econ Cens SDS raw'!N471","v":47473},{"$f":"'[3]2017 Econ Cens SDS raw'!X471","v":9656945},2.87,7.0900000000000007,2017]
[{"$f":"'[2]2017 Econ Cens SDS'!B472","v":333923},{"$f":"'[2]2017 Econ Cens SDS'!C472","v":"Overhead traveling crane, hoist, and monorail system manufacturing"},{"$f":"'[3]2017 Econ Cens SDS raw'!AE472","v":23595},{"$f":"'[3]2017 Econ Cens SDS raw'!AF472","v":607523},{"$f":"'[3]2017 Econ Cens SDS raw'!AG472","v":4268161},{"$f":"'[3]2017 Econ Cens SDS raw'!M472","v":11153},{"$f":"'[3]2017 Econ Cens SDS raw'!N472","v":17633},{"$f":"'[3]2017 Econ Cens SDS raw'!X472","v":6943027},2.87,7.0900000000000007,2017]
[{"$f":"'[2]2017 Econ Cens SDS'!B473","v":333924},{"$f":"'[2]2017 Econ Cens SDS'!C473","v":"Industrial truck, trailer, and stacker machinery manufacturing"},{"$f":"'[3]2017 Econ Cens SDS raw'!AE473","v":31580},{"$f":"'[3]2017 Econ Cens SDS raw'!AF473","v":761188},{"$f":"'[3]2017 Econ Cens SDS raw'!AG473","v":5849322},{"$f":"'[3]2017 Econ Cens SDS raw'!M473","v":11171},{"$f":"'[3]2017 Econ Cens SDS raw'!N473","v":38482},{"$f":"'[3]2017 Econ Cens SDS raw'!X473","v":9977586},2.87,7.0900000000000007,2017]
[{"$f":"'[2]2017 Econ Cens SDS'!B474","v":33399},{"$f":"'[2]2017 Econ Cens SDS'!C474","v":"All other general purpose machinery manufacturing"},{"$f":"'[3]2017 Econ Cens SDS raw'!AE474","v":167138},{"$f":"'[3]2017 Econ Cens SDS raw'!AF474","v":4451350},{"$f":"'[3]2017 Econ Cens SDS raw'!AG474","v":21693517},{"$f":"'[3]2017 Econ Cens SDS raw'!M474","v":61594},{"$f":"'[3]2017 Econ Cens SDS raw'!N474","v":257809},{"$f":"'[3]2017 Econ Cens SDS raw'!X474","v":45762416},2.87,7.0900000000000007,2017]
[{"$f":"'[2]2017 Econ Cens SDS'!B475","v":333991},{"$f":"'[2]2017 Econ Cens SDS'!C475","v":"Power-driven handtool manufacturing"},{"$f":"'[3]2017 Econ Cens SDS raw'!AE475","v":9082},{"$f":"'[3]2017 Econ Cens SDS raw'!AF475","v":223887},{"$f":"'[3]2017 Econ Cens SDS raw'!AG475","v":1787128},{"$f":"'[3]2017 Econ Cens SDS raw'!M475","v":3931},{"$f":"'[3]2017 Econ Cens SDS raw'!N475","v":16968},{"$f":"'[3]2017 Econ Cens SDS raw'!X475","v":3326975},2.87,7.0900000000000007,2017]
[{"$f":"'[2]2017 Econ Cens SDS'!B476","v":333992},{"$f":"'[2]2017 Econ Cens SDS'!C476","v":"Welding and soldering equipment manufacturing"},{"$f":"'[3]2017 Econ Cens SDS raw'!AE476","v":15556},{"$f":"'[3]2017 Econ Cens SDS raw'!AF476","v":400878},{"$f":"'[3]2017 Econ Cens SDS raw'!AG476","v":1931970},{"$f":"'[3]2017 Econ Cens SDS raw'!M476","v":7740},{"$f":"'[3]2017 Econ Cens SDS raw'!N476","v":25348},{"$f":"'[3]2017 Econ Cens SDS raw'!X476","v":4692969},2.87,7.0900000000000007,2017]
[{"$f":"'[2]2017 Econ Cens SDS'!B477","v":333993},{"$f":"'[2]2017 Econ Cens SDS'!C477","v":"Packaging machinery manufacturing"},{"$f":"'[3]2017 Econ Cens SDS raw'!AE477","v":23058},{"$f":"'[3]2017 Econ Cens SDS raw'!AF477","v":648860},{"$f":"'[3]2017 Econ Cens SDS raw'!AG477","v":3098784},{"$f":"'[3]2017 Econ Cens SDS raw'!M477","v":5722},{"$f":"'[3]2017 Econ Cens SDS raw'!N477","v":26728},{"$f":"'[3]2017 Econ Cens SDS raw'!X477","v":6909605},2.87,7.0900000000000007,2017]
[{"$f":"'[2]2017 Econ Cens SDS'!B478","v":333994},{"$f":"'[2]2017 Econ Cens SDS'!C478","v":"Industrial process furnace and oven manufacturing"},{"$f":"'[3]2017 Econ Cens SDS raw'!AE478","v":12787},{"$f":"'[3]2017 Econ Cens SDS raw'!AF478","v":308925},{"$f":"'[3]2017 Econ Cens SDS raw'!AG478","v":1121615},{"$f":"'[3]2017 Econ Cens SDS raw'!M478","v":4621},{"$f":"'[3]2017 Econ Cens SDS raw'!N478","v":16970},{"$f":"'[3]2017 Econ Cens SDS raw'!X478","v":2527701},2.87,7.0900000000000007,2017]
[{"$f":"'[2]2017 Econ Cens SDS'!B479","v":333995},{"$f":"'[2]2017 Econ Cens SDS'!C479","v":"Fluid power cylinder and actuator manufacturing"},{"$f":"'[3]2017 Econ Cens SDS raw'!AE479","v":31125},{"$f":"'[3]2017 Econ Cens SDS raw'!AF479","v":883311},{"$f":"'[3]2017 Econ Cens SDS raw'!AG479","v":3712023},{"$f":"'[3]2017 Econ Cens SDS raw'!M479","v":11291},{"$f":"'[3]2017 Econ Cens SDS raw'!N479","v":46990},{"$f":"'[3]2017 Econ Cens SDS raw'!X479","v":7381014},2.87,7.0900000000000007,2017]
[{"$f":"'[2]2017 Econ Cens SDS'!B480","v":333996},{"$f":"'[2]2017 Econ Cens SDS'!C480","v":"Fluid power pump and motor manufacturing"},{"$f":"'[3]2017 Econ Cens SDS raw'!AE480","v":12841},{"$f":"'[3]2017 Econ Cens SDS raw'!AF480","v":354106},{"$f":"'[3]2017 Econ Cens SDS raw'!AG480","v":2218437},{"$f":"'[3]2017 Econ Cens SDS raw'!M480","v":3683},{"$f":"'[3]2017 Econ Cens SDS raw'!N480","v":26317},{"$f":"'[3]2017 Econ Cens SDS raw'!X480","v":3804128},2.87,7.0900000000000007,2017]
[{"$f":"'[2]2017 Econ Cens SDS'!B481","v":333997},{"$f":"'[2]2017 Econ Cens SDS'!C481","v":"Scale and balance manufacturing"},{"$f":"'[3]2017 Econ Cens SDS raw'!AE481","v":3181},{"$f":"'[3]2017 Econ Cens SDS raw'!AF481","v":68930},{"$f":"'[3]2017 Econ Cens SDS raw'!AG481","v":555243},{"$f":"'[3]2017 Econ Cens SDS raw'!M481","v":1102},{"$f":"'[3]2017 Econ Cens SDS raw'!N481","v":3768},{"$f":"'[3]2017 Econ Cens SDS raw'!X481","v":963221},2.87,7.0900000000000007,2017]
[{"$f":"'[2]2017 Econ Cens SDS'!B482","v":333999},{"$f":"'[2]2017 Econ Cens SDS'!C482","v":"All other miscellaneous general purpose machinery manufacturing"},{"$f":"'[3]2017 Econ Cens SDS raw'!AE482","v":59508},{"$f":"'[3]2017 Econ Cens SDS raw'!AF482","v":1562453},{"$f":"'[3]2017 Econ Cens SDS raw'!AG482","v":7268317},{"$f":"'[3]2017 Econ Cens SDS raw'!M482","v":23504},{"$f":"'[3]2017 Econ Cens SDS raw'!N482","v":94720},{"$f":"'[3]2017 Econ Cens SDS raw'!X482","v":16156803},2.87,7.0900000000000007,2017]
[{"$f":"'[2]2017 Econ Cens SDS'!B483","v":334},{"$f":"'[2]2017 Econ Cens SDS'!C483","v":"Computer and electronic product manufacturing"},{"$f":"'[3]2017 Econ Cens SDS raw'!AE483","v":729124},{"$f":"'[3]2017 Econ Cens SDS raw'!AF483","v":21251817},{"$f":"'[3]2017 Econ Cens SDS raw'!AG483","v":129376838},{"$f":"'[3]2017 Econ Cens SDS raw'!M483","v":475193},{"$f":"'[3]2017 Econ Cens SDS raw'!N483","v":3018498},{"$f":"'[3]2017 Econ Cens SDS raw'!X483","v":310162157},3.61,8.86,2017]
[{"$f":"'[2]2017 Econ Cens SDS'!B484","v":3341},{"$f":"'[2]2017 Econ Cens SDS'!C484","v":"Computer and peripheral equipment manufacturing"},{"$f":"'[3]2017 Econ Cens SDS raw'!AE484","v":32078},{"$f":"'[3]2017 Econ Cens SDS raw'!AF484","v":767213},{"$f":"'[3]2017 Econ Cens SDS raw'!AG484","v":12873378},{"$f":"'[3]2017 Econ Cens SDS raw'!M484","v":11497},{"$f":"'[3]2017 Econ Cens SDS raw'!N484","v":85884},{"$f":"'[3]2017 Econ Cens SDS raw'!X484","v":23154942},2.13,11.459999999999999,2017]
[{"$f":"'[2]2017 Econ Cens SDS'!B485","v":33411},{"$f":"'[2]2017 Econ Cens SDS'!C485","v":"Computer and peripheral equipment manufacturing"},{"$f":"'[3]2017 Econ Cens SDS raw'!AE485","v":32078},{"$f":"'[3]2017 Econ Cens SDS raw'!AF485","v":767213},{"$f":"'[3]2017 Econ Cens SDS raw'!AG485","v":12873378},{"$f":"'[3]2017 Econ Cens SDS raw'!M485","v":11497},{"$f":"'[3]2017 Econ Cens SDS raw'!N485","v":85884},{"$f":"'[3]2017 Econ Cens SDS raw'!X485","v":23154942},2.13,11.459999999999999,2017]
[{"$f":"'[2]2017 Econ Cens SDS'!B486","v":334111},{"$f":"'[2]2017 Econ Cens SDS'!C486","v":"Electronic computer manufacturing"},{"$f":"'[3]2017 Econ Cens SDS raw'!AE486","v":11266},{"$f":"'[3]2017 Econ Cens SDS raw'!AF486","v":254980},{"$f":"'[3]2017 Econ Cens SDS raw'!AG486","v":6581752},{"$f":"'[3]2017 Econ Cens SDS raw'!M486","v":1562},{"$f":"'[3]2017 Econ Cens SDS raw'!N486","v":27747},{"$f":"'[3]2017 Econ Cens SDS raw'!X486","v":10065720},2.13,11.459999999999999,2017]
[{"$f":"'[2]2017 Econ Cens SDS'!B487","v":334112},{"$f":"'[2]2017 Econ Cens SDS'!C487","v":"Computer storage device manufacturing"},{"$f":"'[3]2017 Econ Cens SDS raw'!AE487","v":6060},{"$f":"'[3]2017 Econ Cens SDS raw'!AF487","v":138381},{"$f":"'[3]2017 Econ Cens SDS raw'!AG487","v":3146485},{"$f":"'[3]2017 Econ Cens SDS raw'!M487","v":"D"},{"$f":"'[3]2017 Econ Cens SDS raw'!N487","v":34951},{"$f":"'[3]2017 Econ Cens SDS raw'!X487","v":5865240},2.13,11.459999999999999,2017]
[{"$f":"'[2]2017 Econ Cens SDS'!B488","v":334118},{"$f":"'[2]2017 Econ Cens SDS'!C488","v":"Computer terminal and other computer peripheral equipment manufacturing"},{"$f":"'[3]2017 Econ Cens SDS raw'!AE488","v":14752},{"$f":"'[3]2017 Econ Cens SDS raw'!AF488","v":373852},{"$f":"'[3]2017 Econ Cens SDS raw'!AG488","v":3145141},{"$f":"'[3]2017 Econ Cens SDS raw'!M488","v":"D"},{"$f":"'[3]2017 Econ Cens SDS raw'!N488","v":23186},{"$f":"'[3]2017 Econ Cens SDS raw'!X488","v":7223982},2.13,11.459999999999999,2017]
[{"$f":"'[2]2017 Econ Cens SDS'!B489","v":3342},{"$f":"'[2]2017 Econ Cens SDS'!C489","v":"Communications equipment manufacturing"},{"$f":"'[3]2017 Econ Cens SDS raw'!AE489","v":70419},{"$f":"'[3]2017 Econ Cens SDS raw'!AF489","v":2523906},{"$f":"'[3]2017 Econ Cens SDS raw'!AG489","v":15903466},{"$f":"'[3]2017 Econ Cens SDS raw'!M489","v":21830},{"$f":"'[3]2017 Econ Cens SDS raw'!N489","v":154748},{"$f":"'[3]2017 Econ Cens SDS raw'!X489","v":35344268},2.64,8.1199999999999992,2017]
[{"$f":"'[2]2017 Econ Cens SDS'!B490","v":33421},{"$f":"'[2]2017 Econ Cens SDS'!C490","v":"Telephone apparatus manufacturing"},{"$f":"'[3]2017 Econ Cens SDS raw'!AE490","v":9479},{"$f":"'[3]2017 Econ Cens SDS raw'!AF490","v":272009},{"$f":"'[3]2017 Econ Cens SDS raw'!AG490","v":2613288},{"$f":"'[3]2017 Econ Cens SDS raw'!M490","v":3364},{"$f":"'[3]2017 Econ Cens SDS raw'!N490","v":24154},{"$f":"'[3]2017 Econ Cens SDS raw'!X490","v":4570439},2.64,8.1199999999999992,2017]
[{"$f":"'[2]2017 Econ Cens SDS'!B491","v":334210},{"$f":"'[2]2017 Econ Cens SDS'!C491","v":"Telephone apparatus manufacturing"},{"$f":"'[3]2017 Econ Cens SDS raw'!AE491","v":9479},{"$f":"'[3]2017 Econ Cens SDS raw'!AF491","v":272009},{"$f":"'[3]2017 Econ Cens SDS raw'!AG491","v":2613288},{"$f":"'[3]2017 Econ Cens SDS raw'!M491","v":3364},{"$f":"'[3]2017 Econ Cens SDS raw'!N491","v":24154},{"$f":"'[3]2017 Econ Cens SDS raw'!X491","v":4570439},2.64,8.1199999999999992,2017]
[{"$f":"'[2]2017 Econ Cens SDS'!B492","v":33422},{"$f":"'[2]2017 Econ Cens SDS'!C492","v":"Radio and television broadcasting and wireless communications equipment manufacturing"},{"$f":"'[3]2017 Econ Cens SDS raw'!AE492","v":51145},{"$f":"'[3]2017 Econ Cens SDS raw'!AF492","v":2024275},{"$f":"'[3]2017 Econ Cens SDS raw'!AG492","v":11523955},{"$f":"'[3]2017 Econ Cens SDS raw'!M492","v":15020},{"$f":"'[3]2017 Econ Cens SDS raw'!N492","v":118721},{"$f":"'[3]2017 Econ Cens SDS raw'!X492","v":26440347},2.64,8.1199999999999992,2017]
[{"$f":"'[2]2017 Econ Cens SDS'!B493","v":334220},{"$f":"'[2]2017 Econ Cens SDS'!C493","v":"Radio and television broadcasting and wireless communications equipment manufacturing"},{"$f":"'[3]2017 Econ Cens SDS raw'!AE493","v":51145},{"$f":"'[3]2017 Econ Cens SDS raw'!AF493","v":2024275},{"$f":"'[3]2017 Econ Cens SDS raw'!AG493","v":11523955},{"$f":"'[3]2017 Econ Cens SDS raw'!M493","v":15020},{"$f":"'[3]2017 Econ Cens SDS raw'!N493","v":118721},{"$f":"'[3]2017 Econ Cens SDS raw'!X493","v":26440347},2.64,8.1199999999999992,2017]
[{"$f":"'[2]2017 Econ Cens SDS'!B494","v":33429},{"$f":"'[2]2017 Econ Cens SDS'!C494","v":"Other communications equipment manufacturing"},{"$f":"'[3]2017 Econ Cens SDS raw'!AE494","v":9795},{"$f":"'[3]2017 Econ Cens SDS raw'!AF494","v":227622},{"$f":"'[3]2017 Econ Cens SDS raw'!AG494","v":1766223},{"$f":"'[3]2017 Econ Cens SDS raw'!M494","v":3446},{"$f":"'[3]2017 Econ Cens SDS raw'!N494","v":11873},{"$f":"'[3]2017 Econ Cens SDS raw'!X494","v":4333482},2.64,8.1199999999999992,2017]
[{"$f":"'[2]2017 Econ Cens SDS'!B495","v":334290},{"$f":"'[2]2017 Econ Cens SDS'!C495","v":"Other communications equipment manufacturing"},{"$f":"'[3]2017 Econ Cens SDS raw'!AE495","v":9795},{"$f":"'[3]2017 Econ Cens SDS raw'!AF495","v":227622},{"$f":"'[3]2017 Econ Cens SDS raw'!AG495","v":1766223},{"$f":"'[3]2017 Econ Cens SDS raw'!M495","v":3446},{"$f":"'[3]2017 Econ Cens SDS raw'!N495","v":11873},{"$f":"'[3]2017 Econ Cens SDS raw'!X495","v":4333482},2.64,8.1199999999999992,2017]
[{"$f":"'[2]2017 Econ Cens SDS'!B496","v":3343},{"$f":"'[2]2017 Econ Cens SDS'!C496","v":"Audio and video equipment manufacturing"},{"$f":"'[3]2017 Econ Cens SDS raw'!AE496","v":9153},{"$f":"'[3]2017 Econ Cens SDS raw'!AF496","v":187014},{"$f":"'[3]2017 Econ Cens SDS raw'!AG496","v":1326408},{"$f":"'[3]2017 Econ Cens SDS raw'!M496","v":2594},{"$f":"'[3]2017 Econ Cens SDS raw'!N496","v":9447},{"$f":"'[3]2017 Econ Cens SDS raw'!X496","v":2985928},5.04,7.16,2017]
[{"$f":"'[2]2017 Econ Cens SDS'!B497","v":33431},{"$f":"'[2]2017 Econ Cens SDS'!C497","v":"Audio and video equipment manufacturing"},{"$f":"'[3]2017 Econ Cens SDS raw'!AE497","v":9153},{"$f":"'[3]2017 Econ Cens SDS raw'!AF497","v":187014},{"$f":"'[3]2017 Econ Cens SDS raw'!AG497","v":1326408},{"$f":"'[3]2017 Econ Cens SDS raw'!M497","v":2594},{"$f":"'[3]2017 Econ Cens SDS raw'!N497","v":9447},{"$f":"'[3]2017 Econ Cens SDS raw'!X497","v":2985928},5.04,7.16,2017]
[{"$f":"'[2]2017 Econ Cens SDS'!B498","v":334310},{"$f":"'[2]2017 Econ Cens SDS'!C498","v":"Audio and video equipment manufacturing"},{"$f":"'[3]2017 Econ Cens SDS raw'!AE498","v":9153},{"$f":"'[3]2017 Econ Cens SDS raw'!AF498","v":187014},{"$f":"'[3]2017 Econ Cens SDS raw'!AG498","v":1326408},{"$f":"'[3]2017 Econ Cens SDS raw'!M498","v":2594},{"$f":"'[3]2017 Econ Cens SDS raw'!N498","v":9447},{"$f":"'[3]2017 Econ Cens SDS raw'!X498","v":2985928},5.04,7.16,2017]
[{"$f":"'[2]2017 Econ Cens SDS'!B499","v":3344},{"$f":"'[2]2017 Econ Cens SDS'!C499","v":"Semiconductor and other electronic component manufacturing"},{"$f":"'[3]2017 Econ Cens SDS raw'!AE499","v":324396},{"$f":"'[3]2017 Econ Cens SDS raw'!AF499","v":9219756},{"$f":"'[3]2017 Econ Cens SDS raw'!AG499","v":44377467},{"$f":"'[3]2017 Econ Cens SDS raw'!M499","v":227325},{"$f":"'[3]2017 Econ Cens SDS raw'!N499","v":2157359},{"$f":"'[3]2017 Econ Cens SDS raw'!X499","v":96538086},5.04,7.16,2017]
[{"$f":"'[2]2017 Econ Cens SDS'!B500","v":33441},{"$f":"'[2]2017 Econ Cens SDS'!C500","v":"Semiconductor and other electronic component manufacturing"},{"$f":"'[3]2017 Econ Cens SDS raw'!AE500","v":324396},{"$f":"'[3]2017 Econ Cens SDS raw'!AF500","v":9219756},{"$f":"'[3]2017 Econ Cens SDS raw'!AG500","v":44377467},{"$f":"'[3]2017 Econ Cens SDS raw'!M500","v":227325},{"$f":"'[3]2017 Econ Cens SDS raw'!N500","v":2157359},{"$f":"'[3]2017 Econ Cens SDS raw'!X500","v":96538086},5.04,7.16,2017]
[{"$f":"'[2]2017 Econ Cens SDS'!B501","v":334412},{"$f":"'[2]2017 Econ Cens SDS'!C501","v":"Bare printed circuit board manufacturing"},{"$f":"'[3]2017 Econ Cens SDS raw'!AE501","v":32779},{"$f":"'[3]2017 Econ Cens SDS raw'!AF501","v":708888},{"$f":"'[3]2017 Econ Cens SDS raw'!AG501","v":2008424},{"$f":"'[3]2017 Econ Cens SDS raw'!M501","v":12534},{"$f":"'[3]2017 Econ Cens SDS raw'!N501","v":66907},{"$f":"'[3]2017 Econ Cens SDS raw'!X501","v":4472629},5.04,7.16,{"$f":"K3","v":2017}]
[{"$f":"'[2]2017 Econ Cens SDS'!B502","v":334413},{"$f":"'[2]2017 Econ Cens SDS'!C502","v":"Semiconductor and related device manufacturing"},{"$f":"'[3]2017 Econ Cens SDS raw'!AE502","v":122079},{"$f":"'[3]2017 Econ Cens SDS raw'!AF502","v":4743299},{"$f":"'[3]2017 Econ Cens SDS raw'!AG502","v":21710221},{"$f":"'[3]2017 Econ Cens SDS raw'!M502","v":176622},{"$f":"'[3]2017 Econ Cens SDS raw'!N502","v":1862910},{"$f":"'[3]2017 Econ Cens SDS raw'!X502","v":53052319},5.04,7.16,2017]
[{"$f":"'[2]2017 Econ Cens SDS'!B503","v":334416},{"$f":"'[2]2017 Econ Cens SDS'!C503","v":"Capacitor, resistor, coil, transformer, and other inductor manufacturing"},{"$f":"'[3]2017 Econ Cens SDS raw'!AE503","v":23773},{"$f":"'[3]2017 Econ Cens SDS raw'!AF503","v":453355},{"$f":"'[3]2017 Econ Cens SDS raw'!AG503","v":1698397},{"$f":"'[3]2017 Econ Cens SDS raw'!M503","v":4929},{"$f":"'[3]2017 Econ Cens SDS raw'!N503","v":32251},{"$f":"'[3]2017 Econ Cens SDS raw'!X503","v":3557761},5.04,7.16,2017]
[{"$f":"'[2]2017 Econ Cens SDS'!B504","v":334417},{"$f":"'[2]2017 Econ Cens SDS'!C504","v":"Electronic connector manufacturing"},{"$f":"'[3]2017 Econ Cens SDS raw'!AE504","v":25047},{"$f":"'[3]2017 Econ Cens SDS raw'!AF504","v":598058},{"$f":"'[3]2017 Econ Cens SDS raw'!AG504","v":2316186},{"$f":"'[3]2017 Econ Cens SDS raw'!M504","v":5572},{"$f":"'[3]2017 Econ Cens SDS raw'!N504","v":36389},{"$f":"'[3]2017 Econ Cens SDS raw'!X504","v":5765635},5.04,7.16,2017]
[{"$f":"'[2]2017 Econ Cens SDS'!B505","v":334418},{"$f":"'[2]2017 Econ Cens SDS'!C505","v":"Printed circuit assembly (electronic assembly) manufacturing"},{"$f":"'[3]2017 Econ Cens SDS raw'!AE505","v":58225},{"$f":"'[3]2017 Econ Cens SDS raw'!AF505","v":1178984},{"$f":"'[3]2017 Econ Cens SDS raw'!AG505","v":12249336},{"$f":"'[3]2017 Econ Cens SDS raw'!M505","v":13701},{"$f":"'[3]2017 Econ Cens SDS raw'!N505","v":82052},{"$f":"'[3]2017 Econ Cens SDS raw'!X505","v":17888932},5.04,7.16,2017]
[{"$f":"'[2]2017 Econ Cens SDS'!B506","v":334419},{"$f":"'[2]2017 Econ Cens SDS'!C506","v":"Other electronic component manufacturing"},{"$f":"'[3]2017 Econ Cens SDS raw'!AE506","v":62493},{"$f":"'[3]2017 Econ Cens SDS raw'!AF506","v":1537172},{"$f":"'[3]2017 Econ Cens SDS raw'!AG506","v":4394903},{"$f":"'[3]2017 Econ Cens SDS raw'!M506","v":13967},{"$f":"'[3]2017 Econ Cens SDS raw'!N506","v":76850},{"$f":"'[3]2017 Econ Cens SDS raw'!X506","v":11800810},5.04,7.16,2017]
[{"$f":"'[2]2017 Econ Cens SDS'!B507","v":3345},{"$f":"'[2]2017 Econ Cens SDS'!C507","v":"Navigational, measuring, electromedical, and control instruments manufacturing"},{"$f":"'[3]2017 Econ Cens SDS raw'!AE507","v":285719},{"$f":"'[3]2017 Econ Cens SDS raw'!AF507","v":8369757},{"$f":"'[3]2017 Econ Cens SDS raw'!AG507","v":54043871},{"$f":"'[3]2017 Econ Cens SDS raw'!M507","v":208588},{"$f":"'[3]2017 Econ Cens SDS raw'!N507","v":591272},{"$f":"'[3]2017 Econ Cens SDS raw'!X507","v":150348645},5.04,7.16,2017]
[{"$f":"'[2]2017 Econ Cens SDS'!B508","v":33451},{"$f":"'[2]2017 Econ Cens SDS'!C508","v":"Navigational, measuring, electromedical, and control instruments manufacturing"},{"$f":"'[3]2017 Econ Cens SDS raw'!AE508","v":285719},{"$f":"'[3]2017 Econ Cens SDS raw'!AF508","v":8369757},{"$f":"'[3]2017 Econ Cens SDS raw'!AG508","v":54043871},{"$f":"'[3]2017 Econ Cens SDS raw'!M508","v":208588},{"$f":"'[3]2017 Econ Cens SDS raw'!N508","v":591272},{"$f":"'[3]2017 Econ Cens SDS raw'!X508","v":150348645},5.04,7.16,2017]
[{"$f":"'[2]2017 Econ Cens SDS'!B509","v":334510},{"$f":"'[2]2017 Econ Cens SDS'!C509","v":"Electromedical and electrotherapeutic apparatus manufacturing"},{"$f":"'[3]2017 Econ Cens SDS raw'!AE509","v":61321},{"$f":"'[3]2017 Econ Cens SDS raw'!AF509","v":1596054},{"$f":"'[3]2017 Econ Cens SDS raw'!AG509","v":11297519},{"$f":"'[3]2017 Econ Cens SDS raw'!M509","v":21602},{"$f":"'[3]2017 Econ Cens SDS raw'!N509","v":85846},{"$f":"'[3]2017 Econ Cens SDS raw'!X509","v":30733325},5.04,7.16,2017]
[{"$f":"'[2]2017 Econ Cens SDS'!B510","v":334511},{"$f":"'[2]2017 Econ Cens SDS'!C510","v":"Search, detection, navigation, guidance, aeronautical, and nautical system and instrument manufacturing"},{"$f":"'[3]2017 Econ Cens SDS raw'!AE510","v":71328},{"$f":"'[3]2017 Econ Cens SDS raw'!AF510","v":2527770},{"$f":"'[3]2017 Econ Cens SDS raw'!AG510","v":16081965},{"$f":"'[3]2017 Econ Cens SDS raw'!M510","v":118833},{"$f":"'[3]2017 Econ Cens SDS raw'!N510","v":233096},{"$f":"'[3]2017 Econ Cens SDS raw'!X510","v":51956741},5.04,7.16,2017]
[{"$f":"'[2]2017 Econ Cens SDS'!B511","v":334512},{"$f":"'[2]2017 Econ Cens SDS'!C511","v":"Automatic environmental control manufacturing for residential, commercial, and appliance use"},{"$f":"'[3]2017 Econ Cens SDS raw'!AE511","v":9413},{"$f":"'[3]2017 Econ Cens SDS raw'!AF511","v":218416},{"$f":"'[3]2017 Econ Cens SDS raw'!AG511","v":1336584},{"$f":"'[3]2017 Econ Cens SDS raw'!M511","v":3301},{"$f":"'[3]2017 Econ Cens SDS raw'!N511","v":12634},{"$f":"'[3]2017 Econ Cens SDS raw'!X511","v":3033888},5.04,7.16,2017]
[{"$f":"'[2]2017 Econ Cens SDS'!B512","v":334513},{"$f":"'[2]2017 Econ Cens SDS'!C512","v":"Instruments and related products manufacturing for measuring, displaying, and controlling industrial process variables"},{"$f":"'[3]2017 Econ Cens SDS raw'!AE512","v":31301},{"$f":"'[3]2017 Econ Cens SDS raw'!AF512","v":774524},{"$f":"'[3]2017 Econ Cens SDS raw'!AG512","v":3646606},{"$f":"'[3]2017 Econ Cens SDS raw'!M512","v":6920},{"$f":"'[3]2017 Econ Cens SDS raw'!N512","v":38056},{"$f":"'[3]2017 Econ Cens SDS raw'!X512","v":10740274},5.04,7.16,2017]
[{"$f":"'[2]2017 Econ Cens SDS'!B513","v":334514},{"$f":"'[2]2017 Econ Cens SDS'!C513","v":"Totalizing fluid meter and counting device manufacturing"},{"$f":"'[3]2017 Econ Cens SDS raw'!AE513","v":12855},{"$f":"'[3]2017 Econ Cens SDS raw'!AF513","v":308020},{"$f":"'[3]2017 Econ Cens SDS raw'!AG513","v":2500804},{"$f":"'[3]2017 Econ Cens SDS raw'!M513","v":4218},{"$f":"'[3]2017 Econ Cens SDS raw'!N513","v":20326},{"$f":"'[3]2017 Econ Cens SDS raw'!X513","v":5635841},5.04,7.16,2017]
[{"$f":"'[2]2017 Econ Cens SDS'!B514","v":334515},{"$f":"'[2]2017 Econ Cens SDS'!C514","v":"Instrument manufacturing for measuring and testing electricity and electrical systems"},{"$f":"'[3]2017 Econ Cens SDS raw'!AE514","v":23946},{"$f":"'[3]2017 Econ Cens SDS raw'!AF514","v":703586},{"$f":"'[3]2017 Econ Cens SDS raw'!AG514","v":4602095},{"$f":"'[3]2017 Econ Cens SDS raw'!M514","v":6146},{"$f":"'[3]2017 Econ Cens SDS raw'!N514","v":43542},{"$f":"'[3]2017 Econ Cens SDS raw'!X514","v":11321914},5.04,7.16,2017]
[{"$f":"'[2]2017 Econ Cens SDS'!B515","v":334516},{"$f":"'[2]2017 Econ Cens SDS'!C515","v":"Analytical laboratory instrument manufacturing"},{"$f":"'[3]2017 Econ Cens SDS raw'!AE515","v":35013},{"$f":"'[3]2017 Econ Cens SDS raw'!AF515","v":1061293},{"$f":"'[3]2017 Econ Cens SDS raw'!AG515","v":6563849},{"$f":"'[3]2017 Econ Cens SDS raw'!M515","v":29060},{"$f":"'[3]2017 Econ Cens SDS raw'!N515","v":67194},{"$f":"'[3]2017 Econ Cens SDS raw'!X515","v":16084263},5.04,7.16,2017]
[{"$f":"'[2]2017 Econ Cens SDS'!B516","v":334517},{"$f":"'[2]2017 Econ Cens SDS'!C516","v":"Irradiation apparatus manufacturing"},{"$f":"'[3]2017 Econ Cens SDS raw'!AE516","v":11793},{"$f":"'[3]2017 Econ Cens SDS raw'!AF516","v":419277},{"$f":"'[3]2017 Econ Cens SDS raw'!AG516","v":3228103},{"$f":"'[3]2017 Econ Cens SDS raw'!M516","v":5542},{"$f":"'[3]2017 Econ Cens SDS raw'!N516","v":47051},{"$f":"'[3]2017 Econ Cens SDS raw'!X516","v":9103261},5.04,7.16,2017]
[{"$f":"'[2]2017 Econ Cens SDS'!B517","v":334519},{"$f":"'[2]2017 Econ Cens SDS'!C517","v":"Other measuring and controlling device manufacturing"},{"$f":"'[3]2017 Econ Cens SDS raw'!AE517","v":28749},{"$f":"'[3]2017 Econ Cens SDS raw'!AF517","v":760817},{"$f":"'[3]2017 Econ Cens SDS raw'!AG517","v":4786346},{"$f":"'[3]2017 Econ Cens SDS raw'!M517","v":12966},{"$f":"'[3]2017 Econ Cens SDS raw'!N517","v":43527},{"$f":"'[3]2017 Econ Cens SDS raw'!X517","v":11739138},5.04,7.16,2017]
[{"$f":"'[2]2017 Econ Cens SDS'!B518","v":3346},{"$f":"'[2]2017 Econ Cens SDS'!C518","v":"Manufacturing and reproducing magnetic and optical media"},{"$f":"'[3]2017 Econ Cens SDS raw'!AE518","v":7359},{"$f":"'[3]2017 Econ Cens SDS raw'!AF518","v":184171},{"$f":"'[3]2017 Econ Cens SDS raw'!AG518","v":852248},{"$f":"'[3]2017 Econ Cens SDS raw'!M518","v":3359},{"$f":"'[3]2017 Econ Cens SDS raw'!N518","v":19788},{"$f":"'[3]2017 Econ Cens SDS raw'!X518","v":1790288},5.04,7.16,2017]
[{"$f":"'[2]2017 Econ Cens SDS'!B519","v":33461},{"$f":"'[2]2017 Econ Cens SDS'!C519","v":"Manufacturing and reproducing magnetic and optical media"},{"$f":"'[3]2017 Econ Cens SDS raw'!AE519","v":7359},{"$f":"'[3]2017 Econ Cens SDS raw'!AF519","v":184171},{"$f":"'[3]2017 Econ Cens SDS raw'!AG519","v":852248},{"$f":"'[3]2017 Econ Cens SDS raw'!M519","v":3359},{"$f":"'[3]2017 Econ Cens SDS raw'!N519","v":19788},{"$f":"'[3]2017 Econ Cens SDS raw'!X519","v":1790288},5.04,7.16,2017]
[{"$f":"'[2]2017 Econ Cens SDS'!B520","v":334613},{"$f":"'[2]2017 Econ Cens SDS'!C520","v":"Blank magnetic and optical recording media manufacturing"},{"$f":"'[3]2017 Econ Cens SDS raw'!AE520","v":503},{"$f":"'[3]2017 Econ Cens SDS raw'!AF520","v":15178},{"$f":"'[3]2017 Econ Cens SDS raw'!AG520","v":"D"},{"$f":"'[3]2017 Econ Cens SDS raw'!M520","v":152},{"$f":"'[3]2017 Econ Cens SDS raw'!N520","v":"D"},{"$f":"'[3]2017 Econ Cens SDS raw'!X520","v":372738},5.04,7.16,2017]
[{"$f":"'[2]2017 Econ Cens SDS'!B521","v":334614},{"$f":"'[2]2017 Econ Cens SDS'!C521","v":"Software and other prerecorded compact disc, tape, and record reproducing"},{"$f":"'[3]2017 Econ Cens SDS raw'!AE521","v":6856},{"$f":"'[3]2017 Econ Cens SDS raw'!AF521","v":168993},{"$f":"'[3]2017 Econ Cens SDS raw'!AG521","v":"D"},{"$f":"'[3]2017 Econ Cens SDS raw'!M521","v":3207},{"$f":"'[3]2017 Econ Cens SDS raw'!N521","v":"D"},{"$f":"'[3]2017 Econ Cens SDS raw'!X521","v":1417550},5.04,7.16,2017]
[{"$f":"'[2]2017 Econ Cens SDS'!B522","v":335},{"$f":"'[2]2017 Econ Cens SDS'!C522","v":"Electrical equipment, appliance, and component manufacturing"},{"$f":"'[3]2017 Econ Cens SDS raw'!AE522","v":440282},{"$f":"'[3]2017 Econ Cens SDS raw'!AF522","v":10021924},{"$f":"'[3]2017 Econ Cens SDS raw'!AG522","v":62243705},{"$f":"'[3]2017 Econ Cens SDS raw'!M522","v":256842},{"$f":"'[3]2017 Econ Cens SDS raw'!N522","v":744689},{"$f":"'[3]2017 Econ Cens SDS raw'!X522","v":122359544},2.4299999999999997,7.93,2017]
[{"$f":"'[2]2017 Econ Cens SDS'!B523","v":3351},{"$f":"'[2]2017 Econ Cens SDS'!C523","v":"Electric lighting equipment manufacturing"},{"$f":"'[3]2017 Econ Cens SDS raw'!AE523","v":49169},{"$f":"'[3]2017 Econ Cens SDS raw'!AF523","v":1002752},{"$f":"'[3]2017 Econ Cens SDS raw'!AG523","v":5273012},{"$f":"'[3]2017 Econ Cens SDS raw'!M523","v":26452},{"$f":"'[3]2017 Econ Cens SDS raw'!N523","v":57288},{"$f":"'[3]2017 Econ Cens SDS raw'!X523","v":12418051},2.4299999999999997,7.93,2017]
[{"$f":"'[2]2017 Econ Cens SDS'!B524","v":33511},{"$f":"'[2]2017 Econ Cens SDS'!C524","v":"Electric lamp bulb and part manufacturing"},{"$f":"'[3]2017 Econ Cens SDS raw'!AE524","v":5770},{"$f":"'[3]2017 Econ Cens SDS raw'!AF524","v":143034},{"$f":"'[3]2017 Econ Cens SDS raw'!AG524","v":657506},{"$f":"'[3]2017 Econ Cens SDS raw'!M524","v":6386},{"$f":"'[3]2017 Econ Cens SDS raw'!N524","v":12658},{"$f":"'[3]2017 Econ Cens SDS raw'!X524","v":1540426},2.4299999999999997,7.93,2017]
[{"$f":"'[2]2017 Econ Cens SDS'!B525","v":335110},{"$f":"'[2]2017 Econ Cens SDS'!C525","v":"Electric lamp bulb and part manufacturing"},{"$f":"'[3]2017 Econ Cens SDS raw'!AE525","v":5770},{"$f":"'[3]2017 Econ Cens SDS raw'!AF525","v":143034},{"$f":"'[3]2017 Econ Cens SDS raw'!AG525","v":657506},{"$f":"'[3]2017 Econ Cens SDS raw'!M525","v":6386},{"$f":"'[3]2017 Econ Cens SDS raw'!N525","v":12658},{"$f":"'[3]2017 Econ Cens SDS raw'!X525","v":1540426},2.4299999999999997,7.93,2017]
[{"$f":"'[2]2017 Econ Cens SDS'!B526","v":33512},{"$f":"'[2]2017 Econ Cens SDS'!C526","v":"Lighting fixture manufacturing"},{"$f":"'[3]2017 Econ Cens SDS raw'!AE526","v":43399},{"$f":"'[3]2017 Econ Cens SDS raw'!AF526","v":859718},{"$f":"'[3]2017 Econ Cens SDS raw'!AG526","v":4615506},{"$f":"'[3]2017 Econ Cens SDS raw'!M526","v":20066},{"$f":"'[3]2017 Econ Cens SDS raw'!N526","v":44630},{"$f":"'[3]2017 Econ Cens SDS raw'!X526","v":10877625},2.4299999999999997,7.93,2017]
[{"$f":"'[2]2017 Econ Cens SDS'!B527","v":335121},{"$f":"'[2]2017 Econ Cens SDS'!C527","v":"Residential electric lighting fixture manufacturing"},{"$f":"'[3]2017 Econ Cens SDS raw'!AE527","v":8539},{"$f":"'[3]2017 Econ Cens SDS raw'!AF527","v":158410},{"$f":"'[3]2017 Econ Cens SDS raw'!AG527","v":679370},{"$f":"'[3]2017 Econ Cens SDS raw'!M527","v":5878},{"$f":"'[3]2017 Econ Cens SDS raw'!N527","v":8448},{"$f":"'[3]2017 Econ Cens SDS raw'!X527","v":1414233},2.4299999999999997,7.93,2017]
[{"$f":"'[2]2017 Econ Cens SDS'!B528","v":335122},{"$f":"'[2]2017 Econ Cens SDS'!C528","v":"Commercial, industrial, and institutional electric lighting fixture manufacturing"},{"$f":"'[3]2017 Econ Cens SDS raw'!AE528","v":22071},{"$f":"'[3]2017 Econ Cens SDS raw'!AF528","v":453780},{"$f":"'[3]2017 Econ Cens SDS raw'!AG528","v":2361571},{"$f":"'[3]2017 Econ Cens SDS raw'!M528","v":8797},{"$f":"'[3]2017 Econ Cens SDS raw'!N528","v":20626},{"$f":"'[3]2017 Econ Cens SDS raw'!X528","v":5836768},2.4299999999999997,7.93,2017]
[{"$f":"'[2]2017 Econ Cens SDS'!B529","v":335129},{"$f":"'[2]2017 Econ Cens SDS'!C529","v":"Other lighting equipment manufacturing"},{"$f":"'[3]2017 Econ Cens SDS raw'!AE529","v":12789},{"$f":"'[3]2017 Econ Cens SDS raw'!AF529","v":247528},{"$f":"'[3]2017 Econ Cens SDS raw'!AG529","v":1574565},{"$f":"'[3]2017 Econ Cens SDS raw'!M529","v":5391},{"$f":"'[3]2017 Econ Cens SDS raw'!N529","v":15556},{"$f":"'[3]2017 Econ Cens SDS raw'!X529","v":3626624},2.4299999999999997,7.93,2017]
[{"$f":"'[2]2017 Econ Cens SDS'!B530","v":3352},{"$f":"'[2]2017 Econ Cens SDS'!C530","v":"Household appliance manufacturing"},{"$f":"'[3]2017 Econ Cens SDS raw'!AE530","v":85415},{"$f":"'[3]2017 Econ Cens SDS raw'!AF530","v":1799328},{"$f":"'[3]2017 Econ Cens SDS raw'!AG530","v":12134482},{"$f":"'[3]2017 Econ Cens SDS raw'!M530","v":21761},{"$f":"'[3]2017 Econ Cens SDS raw'!N530","v":96502},{"$f":"'[3]2017 Econ Cens SDS raw'!X530","v":22487293},2.4299999999999997,7.93,2017]
[{"$f":"'[2]2017 Econ Cens SDS'!B531","v":33521},{"$f":"'[2]2017 Econ Cens SDS'!C531","v":"Small electrical appliance manufacturing"},{"$f":"'[3]2017 Econ Cens SDS raw'!AE531","v":13347},{"$f":"'[3]2017 Econ Cens SDS raw'!AF531","v":243744},{"$f":"'[3]2017 Econ Cens SDS raw'!AG531","v":1875304},{"$f":"'[3]2017 Econ Cens SDS raw'!M531","v":2375},{"$f":"'[3]2017 Econ Cens SDS raw'!N531","v":12832},{"$f":"'[3]2017 Econ Cens SDS raw'!X531","v":3772269},2.4299999999999997,7.93,2017]
[{"$f":"'[2]2017 Econ Cens SDS'!B532","v":335210},{"$f":"'[2]2017 Econ Cens SDS'!C532","v":"Small electrical appliance manufacturing"},{"$f":"'[3]2017 Econ Cens SDS raw'!AE532","v":13347},{"$f":"'[3]2017 Econ Cens SDS raw'!AF532","v":243744},{"$f":"'[3]2017 Econ Cens SDS raw'!AG532","v":1875304},{"$f":"'[3]2017 Econ Cens SDS raw'!M532","v":2375},{"$f":"'[3]2017 Econ Cens SDS raw'!N532","v":12832},{"$f":"'[3]2017 Econ Cens SDS raw'!X532","v":3772269},2.4299999999999997,7.93,2017]
[{"$f":"'[2]2017 Econ Cens SDS'!B533","v":33522},{"$f":"'[2]2017 Econ Cens SDS'!C533","v":"Major household appliance manufacturing"},{"$f":"'[3]2017 Econ Cens SDS raw'!AE533","v":72068},{"$f":"'[3]2017 Econ Cens SDS raw'!AF533","v":1555584},{"$f":"'[3]2017 Econ Cens SDS raw'!AG533","v":10259178},{"$f":"'[3]2017 Econ Cens SDS raw'!M533","v":19386},{"$f":"'[3]2017 Econ Cens SDS raw'!N533","v":83670},{"$f":"'[3]2017 Econ Cens SDS raw'!X533","v":18715024},2.4299999999999997,7.93,2017]
[{"$f":"'[2]2017 Econ Cens SDS'!B534","v":335220},{"$f":"'[2]2017 Econ Cens SDS'!C534","v":"Major household appliance manufacturing"},{"$f":"'[3]2017 Econ Cens SDS raw'!AE534","v":72068},{"$f":"'[3]2017 Econ Cens SDS raw'!AF534","v":1555584},{"$f":"'[3]2017 Econ Cens SDS raw'!AG534","v":10259178},{"$f":"'[3]2017 Econ Cens SDS raw'!M534","v":19386},{"$f":"'[3]2017 Econ Cens SDS raw'!N534","v":83670},{"$f":"'[3]2017 Econ Cens SDS raw'!X534","v":18715024},2.4299999999999997,7.93,2017]
[{"$f":"'[2]2017 Econ Cens SDS'!B535","v":3353},{"$f":"'[2]2017 Econ Cens SDS'!C535","v":"Electrical equipment manufacturing"},{"$f":"'[3]2017 Econ Cens SDS raw'!AE535","v":140066},{"$f":"'[3]2017 Econ Cens SDS raw'!AF535","v":3250401},{"$f":"'[3]2017 Econ Cens SDS raw'!AG535","v":19442328},{"$f":"'[3]2017 Econ Cens SDS raw'!M535","v":50431},{"$f":"'[3]2017 Econ Cens SDS raw'!N535","v":160319},{"$f":"'[3]2017 Econ Cens SDS raw'!X535","v":37770793},2.4299999999999997,7.93,2017]
[{"$f":"'[2]2017 Econ Cens SDS'!B536","v":33531},{"$f":"'[2]2017 Econ Cens SDS'!C536","v":"Electrical equipment manufacturing"},{"$f":"'[3]2017 Econ Cens SDS raw'!AE536","v":140066},{"$f":"'[3]2017 Econ Cens SDS raw'!AF536","v":3250401},{"$f":"'[3]2017 Econ Cens SDS raw'!AG536","v":19442328},{"$f":"'[3]2017 Econ Cens SDS raw'!M536","v":50431},{"$f":"'[3]2017 Econ Cens SDS raw'!N536","v":160319},{"$f":"'[3]2017 Econ Cens SDS raw'!X536","v":37770793},2.4299999999999997,7.93,2017]
[{"$f":"'[2]2017 Econ Cens SDS'!B537","v":335311},{"$f":"'[2]2017 Econ Cens SDS'!C537","v":"Power, distribution, and specialty transformer manufacturing"},{"$f":"'[3]2017 Econ Cens SDS raw'!AE537","v":27120},{"$f":"'[3]2017 Econ Cens SDS raw'!AF537","v":565526},{"$f":"'[3]2017 Econ Cens SDS raw'!AG537","v":2749443},{"$f":"'[3]2017 Econ Cens SDS raw'!M537","v":15458},{"$f":"'[3]2017 Econ Cens SDS raw'!N537","v":38180},{"$f":"'[3]2017 Econ Cens SDS raw'!X537","v":5254009},2.4299999999999997,7.93,2017]
[{"$f":"'[2]2017 Econ Cens SDS'!B538","v":335312},{"$f":"'[2]2017 Econ Cens SDS'!C538","v":"Motor and generator manufacturing"},{"$f":"'[3]2017 Econ Cens SDS raw'!AE538","v":36971},{"$f":"'[3]2017 Econ Cens SDS raw'!AF538","v":850668},{"$f":"'[3]2017 Econ Cens SDS raw'!AG538","v":5630520},{"$f":"'[3]2017 Econ Cens SDS raw'!M538","v":15535},{"$f":"'[3]2017 Econ Cens SDS raw'!N538","v":45587},{"$f":"'[3]2017 Econ Cens SDS raw'!X538","v":9922301},2.4299999999999997,7.93,2017]
[{"$f":"'[2]2017 Econ Cens SDS'!B539","v":335313},{"$f":"'[2]2017 Econ Cens SDS'!C539","v":"Switchgear and switchboard apparatus manufacturing"},{"$f":"'[3]2017 Econ Cens SDS raw'!AE539","v":38555},{"$f":"'[3]2017 Econ Cens SDS raw'!AF539","v":924778},{"$f":"'[3]2017 Econ Cens SDS raw'!AG539","v":5723809},{"$f":"'[3]2017 Econ Cens SDS raw'!M539","v":13143},{"$f":"'[3]2017 Econ Cens SDS raw'!N539","v":38328},{"$f":"'[3]2017 Econ Cens SDS raw'!X539","v":11897928},2.4299999999999997,7.93,2017]
[{"$f":"'[2]2017 Econ Cens SDS'!B540","v":335314},{"$f":"'[2]2017 Econ Cens SDS'!C540","v":"Relay and industrial control manufacturing"},{"$f":"'[3]2017 Econ Cens SDS raw'!AE540","v":37420},{"$f":"'[3]2017 Econ Cens SDS raw'!AF540","v":909429},{"$f":"'[3]2017 Econ Cens SDS raw'!AG540","v":5338556},{"$f":"'[3]2017 Econ Cens SDS raw'!M540","v":6295},{"$f":"'[3]2017 Econ Cens SDS raw'!N540","v":38224},{"$f":"'[3]2017 Econ Cens SDS raw'!X540","v":10696555},2.4299999999999997,7.93,2017]
[{"$f":"'[2]2017 Econ Cens SDS'!B541","v":3359},{"$f":"'[2]2017 Econ Cens SDS'!C541","v":"Other electrical equipment and component manufacturing"},{"$f":"'[3]2017 Econ Cens SDS raw'!AE541","v":165632},{"$f":"'[3]2017 Econ Cens SDS raw'!AF541","v":3969443},{"$f":"'[3]2017 Econ Cens SDS raw'!AG541","v":25393883},{"$f":"'[3]2017 Econ Cens SDS raw'!M541","v":158198},{"$f":"'[3]2017 Econ Cens SDS raw'!N541","v":430580},{"$f":"'[3]2017 Econ Cens SDS raw'!X541","v":49683407},2.4299999999999997,7.93,2017]
[{"$f":"'[2]2017 Econ Cens SDS'!B542","v":33591},{"$f":"'[2]2017 Econ Cens SDS'!C542","v":"Battery manufacturing"},{"$f":"'[3]2017 Econ Cens SDS raw'!AE542","v":34748},{"$f":"'[3]2017 Econ Cens SDS raw'!AF542","v":913780},{"$f":"'[3]2017 Econ Cens SDS raw'!AG542","v":5646444},{"$f":"'[3]2017 Econ Cens SDS raw'!M542","v":79676},{"$f":"'[3]2017 Econ Cens SDS raw'!N542","v":120025},{"$f":"'[3]2017 Econ Cens SDS raw'!X542","v":9525281},2.4299999999999997,7.93,2017]
[{"$f":"'[2]2017 Econ Cens SDS'!B543","v":335911},{"$f":"'[2]2017 Econ Cens SDS'!C543","v":"Storage battery manufacturing"},{"$f":"'[3]2017 Econ Cens SDS raw'!AE543","v":26490},{"$f":"'[3]2017 Econ Cens SDS raw'!AF543","v":695352},{"$f":"'[3]2017 Econ Cens SDS raw'!AG543","v":4398975},{"$f":"'[3]2017 Econ Cens SDS raw'!M543","v":75424},{"$f":"'[3]2017 Econ Cens SDS raw'!N543","v":93466},{"$f":"'[3]2017 Econ Cens SDS raw'!X543","v":7455153},2.4299999999999997,7.93,2017]
[{"$f":"'[2]2017 Econ Cens SDS'!B544","v":335912},{"$f":"'[2]2017 Econ Cens SDS'!C544","v":"Primary battery manufacturing"},{"$f":"'[3]2017 Econ Cens SDS raw'!AE544","v":8258},{"$f":"'[3]2017 Econ Cens SDS raw'!AF544","v":218428},{"$f":"'[3]2017 Econ Cens SDS raw'!AG544","v":1247469},{"$f":"'[3]2017 Econ Cens SDS raw'!M544","v":4252},{"$f":"'[3]2017 Econ Cens SDS raw'!N544","v":26559},{"$f":"'[3]2017 Econ Cens SDS raw'!X544","v":2070128},2.4299999999999997,7.93,2017]
[{"$f":"'[2]2017 Econ Cens SDS'!B545","v":33592},{"$f":"'[2]2017 Econ Cens SDS'!C545","v":"Communication and energy wire and cable manufacturing"},{"$f":"'[3]2017 Econ Cens SDS raw'!AE545","v":33069},{"$f":"'[3]2017 Econ Cens SDS raw'!AF545","v":769779},{"$f":"'[3]2017 Econ Cens SDS raw'!AG545","v":6885766},{"$f":"'[3]2017 Econ Cens SDS raw'!M545","v":8709},{"$f":"'[3]2017 Econ Cens SDS raw'!N545","v":71500},{"$f":"'[3]2017 Econ Cens SDS raw'!X545","v":11123032},2.4299999999999997,7.93,2017]
[{"$f":"'[2]2017 Econ Cens SDS'!B546","v":335921},{"$f":"'[2]2017 Econ Cens SDS'!C546","v":"Fiber optic cable manufacturing"},{"$f":"'[3]2017 Econ Cens SDS raw'!AE546","v":9468},{"$f":"'[3]2017 Econ Cens SDS raw'!AF546","v":213737},{"$f":"'[3]2017 Econ Cens SDS raw'!AG546","v":1529816},{"$f":"'[3]2017 Econ Cens SDS raw'!M546","v":2045},{"$f":"'[3]2017 Econ Cens SDS raw'!N546","v":15096},{"$f":"'[3]2017 Econ Cens SDS raw'!X546","v":2884384},2.4299999999999997,7.93,2017]
[{"$f":"'[2]2017 Econ Cens SDS'!B547","v":335929},{"$f":"'[2]2017 Econ Cens SDS'!C547","v":"Other communication and energy wire manufacturing"},{"$f":"'[3]2017 Econ Cens SDS raw'!AE547","v":23601},{"$f":"'[3]2017 Econ Cens SDS raw'!AF547","v":556042},{"$f":"'[3]2017 Econ Cens SDS raw'!AG547","v":5355950},{"$f":"'[3]2017 Econ Cens SDS raw'!M547","v":6664},{"$f":"'[3]2017 Econ Cens SDS raw'!N547","v":56404},{"$f":"'[3]2017 Econ Cens SDS raw'!X547","v":8238648},2.4299999999999997,7.93,2017]
[{"$f":"'[2]2017 Econ Cens SDS'!B548","v":33593},{"$f":"'[2]2017 Econ Cens SDS'!C548","v":"Wiring device manufacturing"},{"$f":"'[3]2017 Econ Cens SDS raw'!AE548","v":55266},{"$f":"'[3]2017 Econ Cens SDS raw'!AF548","v":1170214},{"$f":"'[3]2017 Econ Cens SDS raw'!AG548","v":6514737},{"$f":"'[3]2017 Econ Cens SDS raw'!M548","v":22043},{"$f":"'[3]2017 Econ Cens SDS raw'!N548","v":94526},{"$f":"'[3]2017 Econ Cens SDS raw'!X548","v":15184774},2.4299999999999997,7.93,2017]
[{"$f":"'[2]2017 Econ Cens SDS'!B549","v":335931},{"$f":"'[2]2017 Econ Cens SDS'!C549","v":"Current-carrying wiring device manufacturing"},{"$f":"'[3]2017 Econ Cens SDS raw'!AE549","v":35017},{"$f":"'[3]2017 Econ Cens SDS raw'!AF549","v":720570},{"$f":"'[3]2017 Econ Cens SDS raw'!AG549","v":3957994},{"$f":"'[3]2017 Econ Cens SDS raw'!M549","v":7607},{"$f":"'[3]2017 Econ Cens SDS raw'!N549","v":46132},{"$f":"'[3]2017 Econ Cens SDS raw'!X549","v":9057352},2.4299999999999997,7.93,2017]
[{"$f":"'[2]2017 Econ Cens SDS'!B550","v":335932},{"$f":"'[2]2017 Econ Cens SDS'!C550","v":"Noncurrent-carrying wiring device manufacturing"},{"$f":"'[3]2017 Econ Cens SDS raw'!AE550","v":20249},{"$f":"'[3]2017 Econ Cens SDS raw'!AF550","v":449644},{"$f":"'[3]2017 Econ Cens SDS raw'!AG550","v":2556743},{"$f":"'[3]2017 Econ Cens SDS raw'!M550","v":14436},{"$f":"'[3]2017 Econ Cens SDS raw'!N550","v":48394},{"$f":"'[3]2017 Econ Cens SDS raw'!X550","v":6127422},2.4299999999999997,7.93,2017]
[{"$f":"'[2]2017 Econ Cens SDS'!B551","v":33599},{"$f":"'[2]2017 Econ Cens SDS'!C551","v":"All other electrical equipment and component manufacturing"},{"$f":"'[3]2017 Econ Cens SDS raw'!AE551","v":42549},{"$f":"'[3]2017 Econ Cens SDS raw'!AF551","v":1115670},{"$f":"'[3]2017 Econ Cens SDS raw'!AG551","v":6346936},{"$f":"'[3]2017 Econ Cens SDS raw'!M551","v":47770},{"$f":"'[3]2017 Econ Cens SDS raw'!N551","v":144529},{"$f":"'[3]2017 Econ Cens SDS raw'!X551","v":13850320},2.4299999999999997,7.93,2017]
[{"$f":"'[2]2017 Econ Cens SDS'!B552","v":335991},{"$f":"'[2]2017 Econ Cens SDS'!C552","v":"Carbon and graphite product manufacturing"},{"$f":"'[3]2017 Econ Cens SDS raw'!AE552","v":12061},{"$f":"'[3]2017 Econ Cens SDS raw'!AF552","v":344537},{"$f":"'[3]2017 Econ Cens SDS raw'!AG552","v":1619716},{"$f":"'[3]2017 Econ Cens SDS raw'!M552","v":38356},{"$f":"'[3]2017 Econ Cens SDS raw'!N552","v":83977},{"$f":"'[3]2017 Econ Cens SDS raw'!X552","v":3185311},2.4299999999999997,7.93,2017]
[{"$f":"'[2]2017 Econ Cens SDS'!B553","v":335999},{"$f":"'[2]2017 Econ Cens SDS'!C553","v":"All other miscellaneous electrical equipment and component manufacturing"},{"$f":"'[3]2017 Econ Cens SDS raw'!AE553","v":30488},{"$f":"'[3]2017 Econ Cens SDS raw'!AF553","v":771133},{"$f":"'[3]2017 Econ Cens SDS raw'!AG553","v":4727220},{"$f":"'[3]2017 Econ Cens SDS raw'!M553","v":9414},{"$f":"'[3]2017 Econ Cens SDS raw'!N553","v":60552},{"$f":"'[3]2017 Econ Cens SDS raw'!X553","v":10665009},2.4299999999999997,7.93,2017]
[{"$f":"'[2]2017 Econ Cens SDS'!B554","v":336},{"$f":"'[2]2017 Econ Cens SDS'!C554","v":"Transportation equipment manufacturing"},{"$f":"'[3]2017 Econ Cens SDS raw'!AE554","v":2129731},{"$f":"'[3]2017 Econ Cens SDS raw'!AF554","v":61346767},{"$f":"'[3]2017 Econ Cens SDS raw'!AG554","v":613327356},{"$f":"'[3]2017 Econ Cens SDS raw'!M554","v":948899},{"$f":"'[3]2017 Econ Cens SDS raw'!N554","v":3935384},{"$f":"'[3]2017 Econ Cens SDS raw'!X554","v":961932881},2.1999999999999997,6.5299999999999994,2017]
[{"$f":"'[2]2017 Econ Cens SDS'!B555","v":3361},{"$f":"'[2]2017 Econ Cens SDS'!C555","v":"Motor vehicle manufacturing"},{"$f":"'[3]2017 Econ Cens SDS raw'!AE555","v":345642},{"$f":"'[3]2017 Econ Cens SDS raw'!AF555","v":12600460},{"$f":"'[3]2017 Econ Cens SDS raw'!AG555","v":258471282},{"$f":"'[3]2017 Econ Cens SDS raw'!M555","v":212169},{"$f":"'[3]2017 Econ Cens SDS raw'!N555","v":611327},{"$f":"'[3]2017 Econ Cens SDS raw'!X555","v":338547979},2.1800000000000002,4.32,2017]
[{"$f":"'[2]2017 Econ Cens SDS'!B556","v":33611},{"$f":"'[2]2017 Econ Cens SDS'!C556","v":"Automobile and light duty motor vehicle manufacturing"},{"$f":"'[3]2017 Econ Cens SDS raw'!AE556","v":305506},{"$f":"'[3]2017 Econ Cens SDS raw'!AF556","v":11356610},{"$f":"'[3]2017 Econ Cens SDS raw'!AG556","v":239649572},{"$f":"'[3]2017 Econ Cens SDS raw'!M556","v":197738},{"$f":"'[3]2017 Econ Cens SDS raw'!N556","v":569172},{"$f":"'[3]2017 Econ Cens SDS raw'!X556","v":312871834},2.1800000000000002,4.32,2017]
[{"$f":"'[2]2017 Econ Cens SDS'!B557","v":336111},{"$f":"'[2]2017 Econ Cens SDS'!C557","v":"Automobile manufacturing"},{"$f":"'[3]2017 Econ Cens SDS raw'!AE557","v":142937},{"$f":"'[3]2017 Econ Cens SDS raw'!AF557","v":5249674},{"$f":"'[3]2017 Econ Cens SDS raw'!AG557","v":97788763},{"$f":"'[3]2017 Econ Cens SDS raw'!M557","v":"D"},{"$f":"'[3]2017 Econ Cens SDS raw'!N557","v":283481},{"$f":"'[3]2017 Econ Cens SDS raw'!X557","v":120486659},2.1800000000000002,4.32,2017]
[{"$f":"'[2]2017 Econ Cens SDS'!B558","v":336112},{"$f":"'[2]2017 Econ Cens SDS'!C558","v":"Light truck and utility vehicle manufacturing"},{"$f":"'[3]2017 Econ Cens SDS raw'!AE558","v":162569},{"$f":"'[3]2017 Econ Cens SDS raw'!AF558","v":6106936},{"$f":"'[3]2017 Econ Cens SDS raw'!AG558","v":141860809},{"$f":"'[3]2017 Econ Cens SDS raw'!M558","v":"D"},{"$f":"'[3]2017 Econ Cens SDS raw'!N558","v":285691},{"$f":"'[3]2017 Econ Cens SDS raw'!X558","v":192385175},2.1800000000000002,4.32,2017]
[{"$f":"'[2]2017 Econ Cens SDS'!B559","v":33612},{"$f":"'[2]2017 Econ Cens SDS'!C559","v":"Heavy duty truck manufacturing"},{"$f":"'[3]2017 Econ Cens SDS raw'!AE559","v":40136},{"$f":"'[3]2017 Econ Cens SDS raw'!AF559","v":1243850},{"$f":"'[3]2017 Econ Cens SDS raw'!AG559","v":18821710},{"$f":"'[3]2017 Econ Cens SDS raw'!M559","v":14431},{"$f":"'[3]2017 Econ Cens SDS raw'!N559","v":42155},{"$f":"'[3]2017 Econ Cens SDS raw'!X559","v":25676145},2.1800000000000002,4.32,2017]
[{"$f":"'[2]2017 Econ Cens SDS'!B560","v":336120},{"$f":"'[2]2017 Econ Cens SDS'!C560","v":"Heavy duty truck manufacturing"},{"$f":"'[3]2017 Econ Cens SDS raw'!AE560","v":40136},{"$f":"'[3]2017 Econ Cens SDS raw'!AF560","v":1243850},{"$f":"'[3]2017 Econ Cens SDS raw'!AG560","v":18821710},{"$f":"'[3]2017 Econ Cens SDS raw'!M560","v":14431},{"$f":"'[3]2017 Econ Cens SDS raw'!N560","v":42155},{"$f":"'[3]2017 Econ Cens SDS raw'!X560","v":25676145},2.1800000000000002,4.32,2017]
[{"$f":"'[2]2017 Econ Cens SDS'!B561","v":3362},{"$f":"'[2]2017 Econ Cens SDS'!C561","v":"Motor vehicle body and trailer manufacturing"},{"$f":"'[3]2017 Econ Cens SDS raw'!AE561","v":237103},{"$f":"'[3]2017 Econ Cens SDS raw'!AF561","v":5158719},{"$f":"'[3]2017 Econ Cens SDS raw'!AG561","v":30790643},{"$f":"'[3]2017 Econ Cens SDS raw'!M561","v":56872},{"$f":"'[3]2017 Econ Cens SDS raw'!N561","v":155857},{"$f":"'[3]2017 Econ Cens SDS raw'!X561","v":47858742},2.1800000000000002,4.32,2017]
[{"$f":"'[2]2017 Econ Cens SDS'!B562","v":33621},{"$f":"'[2]2017 Econ Cens SDS'!C562","v":"Motor vehicle body and trailer manufacturing"},{"$f":"'[3]2017 Econ Cens SDS raw'!AE562","v":237103},{"$f":"'[3]2017 Econ Cens SDS raw'!AF562","v":5158719},{"$f":"'[3]2017 Econ Cens SDS raw'!AG562","v":30790643},{"$f":"'[3]2017 Econ Cens SDS raw'!M562","v":56872},{"$f":"'[3]2017 Econ Cens SDS raw'!N562","v":155857},{"$f":"'[3]2017 Econ Cens SDS raw'!X562","v":47858742},2.1800000000000002,4.32,2017]
[{"$f":"'[2]2017 Econ Cens SDS'!B563","v":336211},{"$f":"'[2]2017 Econ Cens SDS'!C563","v":"Motor vehicle body manufacturing"},{"$f":"'[3]2017 Econ Cens SDS raw'!AE563","v":75041},{"$f":"'[3]2017 Econ Cens SDS raw'!AF563","v":1493348},{"$f":"'[3]2017 Econ Cens SDS raw'!AG563","v":9139201},{"$f":"'[3]2017 Econ Cens SDS raw'!M563","v":26681},{"$f":"'[3]2017 Econ Cens SDS raw'!N563","v":55804},{"$f":"'[3]2017 Econ Cens SDS raw'!X563","v":14480026},2.1800000000000002,4.32,2017]
[{"$f":"'[2]2017 Econ Cens SDS'!B564","v":336212},{"$f":"'[2]2017 Econ Cens SDS'!C564","v":"Truck trailer manufacturing"},{"$f":"'[3]2017 Econ Cens SDS raw'!AE564","v":56638},{"$f":"'[3]2017 Econ Cens SDS raw'!AF564","v":1157054},{"$f":"'[3]2017 Econ Cens SDS raw'!AG564","v":7079435},{"$f":"'[3]2017 Econ Cens SDS raw'!M564","v":12513},{"$f":"'[3]2017 Econ Cens SDS raw'!N564","v":39493},{"$f":"'[3]2017 Econ Cens SDS raw'!X564","v":10483640},2.1800000000000002,4.32,2017]
[{"$f":"'[2]2017 Econ Cens SDS'!B565","v":336213},{"$f":"'[2]2017 Econ Cens SDS'!C565","v":"Motor home manufacturing"},{"$f":"'[3]2017 Econ Cens SDS raw'!AE565","v":19184},{"$f":"'[3]2017 Econ Cens SDS raw'!AF565","v":457732},{"$f":"'[3]2017 Econ Cens SDS raw'!AG565","v":3726471},{"$f":"'[3]2017 Econ Cens SDS raw'!M565","v":3314},{"$f":"'[3]2017 Econ Cens SDS raw'!N565","v":11664},{"$f":"'[3]2017 Econ Cens SDS raw'!X565","v":5239663},2.1800000000000002,4.32,{"$f":"K67","v":2017}]
[{"$f":"'[2]2017 Econ Cens SDS'!B566","v":336214},{"$f":"'[2]2017 Econ Cens SDS'!C566","v":"Travel trailer and camper manufacturing"},{"$f":"'[3]2017 Econ Cens SDS raw'!AE566","v":86240},{"$f":"'[3]2017 Econ Cens SDS raw'!AF566","v":2050585},{"$f":"'[3]2017 Econ Cens SDS raw'!AG566","v":10845536},{"$f":"'[3]2017 Econ Cens SDS raw'!M566","v":14364},{"$f":"'[3]2017 Econ Cens SDS raw'!N566","v":48896},{"$f":"'[3]2017 Econ Cens SDS raw'!X566","v":17655413},2.1800000000000002,4.32,2017]
[{"$f":"'[2]2017 Econ Cens SDS'!B567","v":3363},{"$f":"'[2]2017 Econ Cens SDS'!C567","v":"Motor vehicle parts manufacturing"},{"$f":"'[3]2017 Econ Cens SDS raw'!AE567","v":854363},{"$f":"'[3]2017 Econ Cens SDS raw'!AF567","v":21057249},{"$f":"'[3]2017 Econ Cens SDS raw'!AG567","v":173858247},{"$f":"'[3]2017 Econ Cens SDS raw'!M567","v":359682},{"$f":"'[3]2017 Econ Cens SDS raw'!N567","v":1775167},{"$f":"'[3]2017 Econ Cens SDS raw'!X567","v":259625269},2.1800000000000002,4.32,2017]
[{"$f":"'[2]2017 Econ Cens SDS'!B568","v":33631},{"$f":"'[2]2017 Econ Cens SDS'!C568","v":"Motor vehicle gasoline engine and engine parts manufacturing"},{"$f":"'[3]2017 Econ Cens SDS raw'!AE568","v":97699},{"$f":"'[3]2017 Econ Cens SDS raw'!AF568","v":2703502},{"$f":"'[3]2017 Econ Cens SDS raw'!AG568","v":22901315},{"$f":"'[3]2017 Econ Cens SDS raw'!M568","v":46035},{"$f":"'[3]2017 Econ Cens SDS raw'!N568","v":240627},{"$f":"'[3]2017 Econ Cens SDS raw'!X568","v":34787624},2.1800000000000002,4.32,2017]
[{"$f":"'[2]2017 Econ Cens SDS'!B569","v":336310},{"$f":"'[2]2017 Econ Cens SDS'!C569","v":"Motor vehicle gasoline engine and engine parts manufacturing"},{"$f":"'[3]2017 Econ Cens SDS raw'!AE569","v":97699},{"$f":"'[3]2017 Econ Cens SDS raw'!AF569","v":2703502},{"$f":"'[3]2017 Econ Cens SDS raw'!AG569","v":22901315},{"$f":"'[3]2017 Econ Cens SDS raw'!M569","v":46035},{"$f":"'[3]2017 Econ Cens SDS raw'!N569","v":240627},{"$f":"'[3]2017 Econ Cens SDS raw'!X569","v":34787624},2.1800000000000002,4.32,2017]
[{"$f":"'[2]2017 Econ Cens SDS'!B570","v":33632},{"$f":"'[2]2017 Econ Cens SDS'!C570","v":"Motor vehicle electrical and electronic equipment manufacturing"},{"$f":"'[3]2017 Econ Cens SDS raw'!AE570","v":88780},{"$f":"'[3]2017 Econ Cens SDS raw'!AF570","v":2060424},{"$f":"'[3]2017 Econ Cens SDS raw'!AG570","v":17700761},{"$f":"'[3]2017 Econ Cens SDS raw'!M570","v":23810},{"$f":"'[3]2017 Econ Cens SDS raw'!N570","v":155013},{"$f":"'[3]2017 Econ Cens SDS raw'!X570","v":27052881},2.1800000000000002,4.32,2017]
[{"$f":"'[2]2017 Econ Cens SDS'!B571","v":336320},{"$f":"'[2]2017 Econ Cens SDS'!C571","v":"Motor vehicle electrical and electronic equipment manufacturing"},{"$f":"'[3]2017 Econ Cens SDS raw'!AE571","v":88780},{"$f":"'[3]2017 Econ Cens SDS raw'!AF571","v":2060424},{"$f":"'[3]2017 Econ Cens SDS raw'!AG571","v":17700761},{"$f":"'[3]2017 Econ Cens SDS raw'!M571","v":23810},{"$f":"'[3]2017 Econ Cens SDS raw'!N571","v":155013},{"$f":"'[3]2017 Econ Cens SDS raw'!X571","v":27052881},2.1800000000000002,4.32,2017]
[{"$f":"'[2]2017 Econ Cens SDS'!B572","v":33633},{"$f":"'[2]2017 Econ Cens SDS'!C572","v":"Motor vehicle steering and suspension components (except spring) manufacturing"},{"$f":"'[3]2017 Econ Cens SDS raw'!AE572","v":55736},{"$f":"'[3]2017 Econ Cens SDS raw'!AF572","v":1291193},{"$f":"'[3]2017 Econ Cens SDS raw'!AG572","v":10437121},{"$f":"'[3]2017 Econ Cens SDS raw'!M572","v":24809},{"$f":"'[3]2017 Econ Cens SDS raw'!N572","v":116298},{"$f":"'[3]2017 Econ Cens SDS raw'!X572","v":15795949},2.1800000000000002,4.32,2017]
[{"$f":"'[2]2017 Econ Cens SDS'!B573","v":336330},{"$f":"'[2]2017 Econ Cens SDS'!C573","v":"Motor vehicle steering and suspension components (except spring) manufacturing"},{"$f":"'[3]2017 Econ Cens SDS raw'!AE573","v":55736},{"$f":"'[3]2017 Econ Cens SDS raw'!AF573","v":1291193},{"$f":"'[3]2017 Econ Cens SDS raw'!AG573","v":10437121},{"$f":"'[3]2017 Econ Cens SDS raw'!M573","v":24809},{"$f":"'[3]2017 Econ Cens SDS raw'!N573","v":116298},{"$f":"'[3]2017 Econ Cens SDS raw'!X573","v":15795949},2.1800000000000002,4.32,2017]
[{"$f":"'[2]2017 Econ Cens SDS'!B574","v":33634},{"$f":"'[2]2017 Econ Cens SDS'!C574","v":"Motor vehicle brake system manufacturing"},{"$f":"'[3]2017 Econ Cens SDS raw'!AE574","v":35530},{"$f":"'[3]2017 Econ Cens SDS raw'!AF574","v":814758},{"$f":"'[3]2017 Econ Cens SDS raw'!AG574","v":7209907},{"$f":"'[3]2017 Econ Cens SDS raw'!M574","v":15096},{"$f":"'[3]2017 Econ Cens SDS raw'!N574","v":95387},{"$f":"'[3]2017 Econ Cens SDS raw'!X574","v":11442255},2.1800000000000002,4.32,2017]
[{"$f":"'[2]2017 Econ Cens SDS'!B575","v":336340},{"$f":"'[2]2017 Econ Cens SDS'!C575","v":"Motor vehicle brake system manufacturing"},{"$f":"'[3]2017 Econ Cens SDS raw'!AE575","v":35530},{"$f":"'[3]2017 Econ Cens SDS raw'!AF575","v":814758},{"$f":"'[3]2017 Econ Cens SDS raw'!AG575","v":7209907},{"$f":"'[3]2017 Econ Cens SDS raw'!M575","v":15096},{"$f":"'[3]2017 Econ Cens SDS raw'!N575","v":95387},{"$f":"'[3]2017 Econ Cens SDS raw'!X575","v":11442255},2.1800000000000002,4.32,2017]
[{"$f":"'[2]2017 Econ Cens SDS'!B576","v":33635},{"$f":"'[2]2017 Econ Cens SDS'!C576","v":"Motor vehicle transmission and power train parts manufacturing"},{"$f":"'[3]2017 Econ Cens SDS raw'!AE576","v":108281},{"$f":"'[3]2017 Econ Cens SDS raw'!AF576","v":3266233},{"$f":"'[3]2017 Econ Cens SDS raw'!AG576","v":26664760},{"$f":"'[3]2017 Econ Cens SDS raw'!M576","v":54048},{"$f":"'[3]2017 Econ Cens SDS raw'!N576","v":264504},{"$f":"'[3]2017 Econ Cens SDS raw'!X576","v":39865831},2.1800000000000002,4.32,2017]
[{"$f":"'[2]2017 Econ Cens SDS'!B577","v":336350},{"$f":"'[2]2017 Econ Cens SDS'!C577","v":"Motor vehicle transmission and power train parts manufacturing"},{"$f":"'[3]2017 Econ Cens SDS raw'!AE577","v":108281},{"$f":"'[3]2017 Econ Cens SDS raw'!AF577","v":3266233},{"$f":"'[3]2017 Econ Cens SDS raw'!AG577","v":26664760},{"$f":"'[3]2017 Econ Cens SDS raw'!M577","v":54048},{"$f":"'[3]2017 Econ Cens SDS raw'!N577","v":264504},{"$f":"'[3]2017 Econ Cens SDS raw'!X577","v":39865831},2.1800000000000002,4.32,2017]
[{"$f":"'[2]2017 Econ Cens SDS'!B578","v":33636},{"$f":"'[2]2017 Econ Cens SDS'!C578","v":"Motor vehicle seating and interior trim manufacturing"},{"$f":"'[3]2017 Econ Cens SDS raw'!AE578","v":101969},{"$f":"'[3]2017 Econ Cens SDS raw'!AF578","v":2181563},{"$f":"'[3]2017 Econ Cens SDS raw'!AG578","v":23321223},{"$f":"'[3]2017 Econ Cens SDS raw'!M578","v":30488},{"$f":"'[3]2017 Econ Cens SDS raw'!N578","v":231134},{"$f":"'[3]2017 Econ Cens SDS raw'!X578","v":32005974},2.1800000000000002,4.32,2017]
[{"$f":"'[2]2017 Econ Cens SDS'!B579","v":336360},{"$f":"'[2]2017 Econ Cens SDS'!C579","v":"Motor vehicle seating and interior trim manufacturing"},{"$f":"'[3]2017 Econ Cens SDS raw'!AE579","v":101969},{"$f":"'[3]2017 Econ Cens SDS raw'!AF579","v":2181563},{"$f":"'[3]2017 Econ Cens SDS raw'!AG579","v":23321223},{"$f":"'[3]2017 Econ Cens SDS raw'!M579","v":30488},{"$f":"'[3]2017 Econ Cens SDS raw'!N579","v":231134},{"$f":"'[3]2017 Econ Cens SDS raw'!X579","v":32005974},2.1800000000000002,4.32,2017]
[{"$f":"'[2]2017 Econ Cens SDS'!B580","v":33637},{"$f":"'[2]2017 Econ Cens SDS'!C580","v":"Motor vehicle metal stamping"},{"$f":"'[3]2017 Econ Cens SDS raw'!AE580","v":161049},{"$f":"'[3]2017 Econ Cens SDS raw'!AF580","v":4101141},{"$f":"'[3]2017 Econ Cens SDS raw'!AG580","v":23954380},{"$f":"'[3]2017 Econ Cens SDS raw'!M580","v":69330},{"$f":"'[3]2017 Econ Cens SDS raw'!N580","v":284166},{"$f":"'[3]2017 Econ Cens SDS raw'!X580","v":36692353},2.1800000000000002,4.32,2017]
[{"$f":"'[2]2017 Econ Cens SDS'!B581","v":336370},{"$f":"'[2]2017 Econ Cens SDS'!C581","v":"Motor vehicle metal stamping"},{"$f":"'[3]2017 Econ Cens SDS raw'!AE581","v":161049},{"$f":"'[3]2017 Econ Cens SDS raw'!AF581","v":4101141},{"$f":"'[3]2017 Econ Cens SDS raw'!AG581","v":23954380},{"$f":"'[3]2017 Econ Cens SDS raw'!M581","v":69330},{"$f":"'[3]2017 Econ Cens SDS raw'!N581","v":284166},{"$f":"'[3]2017 Econ Cens SDS raw'!X581","v":36692353},2.1800000000000002,4.32,2017]
[{"$f":"'[2]2017 Econ Cens SDS'!B582","v":33639},{"$f":"'[2]2017 Econ Cens SDS'!C582","v":"Other motor vehicle parts manufacturing"},{"$f":"'[3]2017 Econ Cens SDS raw'!AE582","v":205319},{"$f":"'[3]2017 Econ Cens SDS raw'!AF582","v":4638435},{"$f":"'[3]2017 Econ Cens SDS raw'!AG582","v":41668780},{"$f":"'[3]2017 Econ Cens SDS raw'!M582","v":96066},{"$f":"'[3]2017 Econ Cens SDS raw'!N582","v":388038},{"$f":"'[3]2017 Econ Cens SDS raw'!X582","v":61982402},2.1800000000000002,4.32,2017]
[{"$f":"'[2]2017 Econ Cens SDS'!B583","v":336390},{"$f":"'[2]2017 Econ Cens SDS'!C583","v":"Other motor vehicle parts manufacturing"},{"$f":"'[3]2017 Econ Cens SDS raw'!AE583","v":205319},{"$f":"'[3]2017 Econ Cens SDS raw'!AF583","v":4638435},{"$f":"'[3]2017 Econ Cens SDS raw'!AG583","v":41668780},{"$f":"'[3]2017 Econ Cens SDS raw'!M583","v":96066},{"$f":"'[3]2017 Econ Cens SDS raw'!N583","v":388038},{"$f":"'[3]2017 Econ Cens SDS raw'!X583","v":61982402},2.17,11.49,2017]
[{"$f":"'[2]2017 Econ Cens SDS'!B584","v":3364},{"$f":"'[2]2017 Econ Cens SDS'!C584","v":"Aerospace product and parts manufacturing"},{"$f":"'[3]2017 Econ Cens SDS raw'!AE584","v":429650},{"$f":"'[3]2017 Econ Cens SDS raw'!AF584","v":15714186},{"$f":"'[3]2017 Econ Cens SDS raw'!AG584","v":114098018},{"$f":"'[3]2017 Econ Cens SDS raw'!M584","v":214198},{"$f":"'[3]2017 Econ Cens SDS raw'!N584","v":1061087},{"$f":"'[3]2017 Econ Cens SDS raw'!X584","v":243956195},2.17,11.49,2017]
[{"$f":"'[2]2017 Econ Cens SDS'!B585","v":33641},{"$f":"'[2]2017 Econ Cens SDS'!C585","v":"Aerospace product and parts manufacturing"},{"$f":"'[3]2017 Econ Cens SDS raw'!AE585","v":429650},{"$f":"'[3]2017 Econ Cens SDS raw'!AF585","v":15714186},{"$f":"'[3]2017 Econ Cens SDS raw'!AG585","v":114098018},{"$f":"'[3]2017 Econ Cens SDS raw'!M585","v":214198},{"$f":"'[3]2017 Econ Cens SDS raw'!N585","v":1061087},{"$f":"'[3]2017 Econ Cens SDS raw'!X585","v":243956195},2.17,11.49,2017]
[{"$f":"'[2]2017 Econ Cens SDS'!B586","v":336411},{"$f":"'[2]2017 Econ Cens SDS'!C586","v":"Aircraft manufacturing"},{"$f":"'[3]2017 Econ Cens SDS raw'!AE586","v":176913},{"$f":"'[3]2017 Econ Cens SDS raw'!AF586","v":7012242},{"$f":"'[3]2017 Econ Cens SDS raw'!AG586","v":66637437},{"$f":"'[3]2017 Econ Cens SDS raw'!M586","v":79311},{"$f":"'[3]2017 Econ Cens SDS raw'!N586","v":525312},{"$f":"'[3]2017 Econ Cens SDS raw'!X586","v":144815375},2.17,11.49,2017]
[{"$f":"'[2]2017 Econ Cens SDS'!B587","v":336412},{"$f":"'[2]2017 Econ Cens SDS'!C587","v":"Aircraft engine and engine parts manufacturing"},{"$f":"'[3]2017 Econ Cens SDS raw'!AE587","v":75580},{"$f":"'[3]2017 Econ Cens SDS raw'!AF587","v":2332186},{"$f":"'[3]2017 Econ Cens SDS raw'!AG587","v":18573217},{"$f":"'[3]2017 Econ Cens SDS raw'!M587","v":36716},{"$f":"'[3]2017 Econ Cens SDS raw'!N587","v":163967},{"$f":"'[3]2017 Econ Cens SDS raw'!X587","v":36258210},2.17,11.49,2017]
[{"$f":"'[2]2017 Econ Cens SDS'!B588","v":336413},{"$f":"'[2]2017 Econ Cens SDS'!C588","v":"Other aircraft parts and auxiliary equipment manufacturing"},{"$f":"'[3]2017 Econ Cens SDS raw'!AE588","v":113857},{"$f":"'[3]2017 Econ Cens SDS raw'!AF588","v":3917821},{"$f":"'[3]2017 Econ Cens SDS raw'!AG588","v":16596957},{"$f":"'[3]2017 Econ Cens SDS raw'!M588","v":71540},{"$f":"'[3]2017 Econ Cens SDS raw'!N588","v":"D"},{"$f":"'[3]2017 Econ Cens SDS raw'!X588","v":36020839},2.17,11.49,2017]
[{"$f":"'[2]2017 Econ Cens SDS'!B589","v":336414},{"$f":"'[2]2017 Econ Cens SDS'!C589","v":"Guided missile and space vehicle manufacturing"},{"$f":"'[3]2017 Econ Cens SDS raw'!AE589","v":34821},{"$f":"'[3]2017 Econ Cens SDS raw'!AF589","v":1363131},{"$f":"'[3]2017 Econ Cens SDS raw'!AG589","v":"D"},{"$f":"'[3]2017 Econ Cens SDS raw'!M589","v":10815},{"$f":"'[3]2017 Econ Cens SDS raw'!N589","v":"D"},{"$f":"'[3]2017 Econ Cens SDS raw'!X589","v":17677574},2.17,11.49,2017]
[{"$f":"'[2]2017 Econ Cens SDS'!B590","v":336415},{"$f":"'[2]2017 Econ Cens SDS'!C590","v":"Guided missile and space vehicle propulsion unit and propulsion unit parts manufacturing"},{"$f":"'[3]2017 Econ Cens SDS raw'!AE590","v":23905},{"$f":"'[3]2017 Econ Cens SDS raw'!AF590","v":927168},{"$f":"'[3]2017 Econ Cens SDS raw'!AG590","v":4728890},{"$f":"'[3]2017 Econ Cens SDS raw'!M590","v":"D"},{"$f":"'[3]2017 Econ Cens SDS raw'!N590","v":34698},{"$f":"'[3]2017 Econ Cens SDS raw'!X590","v":8000827},2.17,11.49,2017]
[{"$f":"'[2]2017 Econ Cens SDS'!B591","v":336419},{"$f":"'[2]2017 Econ Cens SDS'!C591","v":"Other guided missile and space vehicle parts and auxiliary equipment manufacturing"},{"$f":"'[3]2017 Econ Cens SDS raw'!AE591","v":4574},{"$f":"'[3]2017 Econ Cens SDS raw'!AF591","v":161638},{"$f":"'[3]2017 Econ Cens SDS raw'!AG591","v":"D"},{"$f":"'[3]2017 Econ Cens SDS raw'!M591","v":"D"},{"$f":"'[3]2017 Econ Cens SDS raw'!N591","v":7258},{"$f":"'[3]2017 Econ Cens SDS raw'!X591","v":1183370},2.17,11.49,2017]
[{"$f":"'[2]2017 Econ Cens SDS'!B592","v":3365},{"$f":"'[2]2017 Econ Cens SDS'!C592","v":"Railroad rolling stock manufacturing"},{"$f":"'[3]2017 Econ Cens SDS raw'!AE592","v":40608},{"$f":"'[3]2017 Econ Cens SDS raw'!AF592","v":1141253},{"$f":"'[3]2017 Econ Cens SDS raw'!AG592","v":10797554},{"$f":"'[3]2017 Econ Cens SDS raw'!M592","v":33236},{"$f":"'[3]2017 Econ Cens SDS raw'!N592","v":71354},{"$f":"'[3]2017 Econ Cens SDS raw'!X592","v":15986225},{"$error":"#REF!"},{"$error":"#REF!"},2017]
[{"$f":"'[2]2017 Econ Cens SDS'!B593","v":33651},{"$f":"'[2]2017 Econ Cens SDS'!C593","v":"Railroad rolling stock manufacturing"},{"$f":"'[3]2017 Econ Cens SDS raw'!AE593","v":40608},{"$f":"'[3]2017 Econ Cens SDS raw'!AF593","v":1141253},{"$f":"'[3]2017 Econ Cens SDS raw'!AG593","v":10797554},{"$f":"'[3]2017 Econ Cens SDS raw'!M593","v":33236},{"$f":"'[3]2017 Econ Cens SDS raw'!N593","v":71354},{"$f":"'[3]2017 Econ Cens SDS raw'!X593","v":15986225},{"$error":"#REF!"},{"$error":"#REF!"},2017]
[{"$f":"'[2]2017 Econ Cens SDS'!B594","v":336510},{"$f":"'[2]2017 Econ Cens SDS'!C594","v":"Railroad rolling stock manufacturing"},{"$f":"'[3]2017 Econ Cens SDS raw'!AE594","v":40608},{"$f":"'[3]2017 Econ Cens SDS raw'!AF594","v":1141253},{"$f":"'[3]2017 Econ Cens SDS raw'!AG594","v":10797554},{"$f":"'[3]2017 Econ Cens SDS raw'!M594","v":33236},{"$f":"'[3]2017 Econ Cens SDS raw'!N594","v":71354},{"$f":"'[3]2017 Econ Cens SDS raw'!X594","v":15986225},{"$error":"#REF!"},{"$error":"#REF!"},2017]
[{"$f":"'[2]2017 Econ Cens SDS'!B595","v":3366},{"$f":"'[2]2017 Econ Cens SDS'!C595","v":"Ship and boat building"},{"$f":"'[3]2017 Econ Cens SDS raw'!AE595","v":178125},{"$f":"'[3]2017 Econ Cens SDS raw'!AF595","v":4616962},{"$f":"'[3]2017 Econ Cens SDS raw'!AG595","v":13373283},{"$f":"'[3]2017 Econ Cens SDS raw'!M595","v":52915},{"$f":"'[3]2017 Econ Cens SDS raw'!N595","v":199899},{"$f":"'[3]2017 Econ Cens SDS raw'!X595","v":34956845},{"$error":"#REF!"},{"$error":"#REF!"},2017]
[{"$f":"'[2]2017 Econ Cens SDS'!B596","v":33661},{"$f":"'[2]2017 Econ Cens SDS'!C596","v":"Ship and boat building"},{"$f":"'[3]2017 Econ Cens SDS raw'!AE596","v":178125},{"$f":"'[3]2017 Econ Cens SDS raw'!AF596","v":4616962},{"$f":"'[3]2017 Econ Cens SDS raw'!AG596","v":13373283},{"$f":"'[3]2017 Econ Cens SDS raw'!M596","v":52915},{"$f":"'[3]2017 Econ Cens SDS raw'!N596","v":199899},{"$f":"'[3]2017 Econ Cens SDS raw'!X596","v":34956845},{"$error":"#REF!"},{"$error":"#REF!"},2017]
[{"$f":"'[2]2017 Econ Cens SDS'!B597","v":336611},{"$f":"'[2]2017 Econ Cens SDS'!C597","v":"Ship building and repairing"},{"$f":"'[3]2017 Econ Cens SDS raw'!AE597","v":122491},{"$f":"'[3]2017 Econ Cens SDS raw'!AF597","v":3456356},{"$f":"'[3]2017 Econ Cens SDS raw'!AG597","v":7669506},{"$f":"'[3]2017 Econ Cens SDS raw'!M597","v":33315},{"$f":"'[3]2017 Econ Cens SDS raw'!N597","v":145572},{"$f":"'[3]2017 Econ Cens SDS raw'!X597","v":24699524},{"$error":"#REF!"},{"$error":"#REF!"},2017]
[{"$f":"'[2]2017 Econ Cens SDS'!B598","v":336612},{"$f":"'[2]2017 Econ Cens SDS'!C598","v":"Boat building"},{"$f":"'[3]2017 Econ Cens SDS raw'!AE598","v":55634},{"$f":"'[3]2017 Econ Cens SDS raw'!AF598","v":1160606},{"$f":"'[3]2017 Econ Cens SDS raw'!AG598","v":5703777},{"$f":"'[3]2017 Econ Cens SDS raw'!M598","v":19600},{"$f":"'[3]2017 Econ Cens SDS raw'!N598","v":54327},{"$f":"'[3]2017 Econ Cens SDS raw'!X598","v":10257321},{"$error":"#REF!"},{"$error":"#REF!"},2017]
[{"$f":"'[2]2017 Econ Cens SDS'!B599","v":3369},{"$f":"'[2]2017 Econ Cens SDS'!C599","v":"Other transportation equipment manufacturing"},{"$f":"'[3]2017 Econ Cens SDS raw'!AE599","v":44240},{"$f":"'[3]2017 Econ Cens SDS raw'!AF599","v":1057938},{"$f":"'[3]2017 Econ Cens SDS raw'!AG599","v":11938329},{"$f":"'[3]2017 Econ Cens SDS raw'!M599","v":19827},{"$f":"'[3]2017 Econ Cens SDS raw'!N599","v":60693},{"$f":"'[3]2017 Econ Cens SDS raw'!X599","v":21001626},{"$error":"#REF!"},{"$error":"#REF!"},2017]
[{"$f":"'[2]2017 Econ Cens SDS'!B600","v":33699},{"$f":"'[2]2017 Econ Cens SDS'!C600","v":"Other transportation equipment manufacturing"},{"$f":"'[3]2017 Econ Cens SDS raw'!AE600","v":44240},{"$f":"'[3]2017 Econ Cens SDS raw'!AF600","v":1057938},{"$f":"'[3]2017 Econ Cens SDS raw'!AG600","v":11938329},{"$f":"'[3]2017 Econ Cens SDS raw'!M600","v":19827},{"$f":"'[3]2017 Econ Cens SDS raw'!N600","v":60693},{"$f":"'[3]2017 Econ Cens SDS raw'!X600","v":21001626},{"$error":"#REF!"},{"$error":"#REF!"},2017]
[{"$f":"'[2]2017 Econ Cens SDS'!B601","v":336991},{"$f":"'[2]2017 Econ Cens SDS'!C601","v":"Motorcycle, bicycle, and parts manufacturing"},{"$f":"'[3]2017 Econ Cens SDS raw'!AE601","v":14552},{"$f":"'[3]2017 Econ Cens SDS raw'!AF601","v":339066},{"$f":"'[3]2017 Econ Cens SDS raw'!AG601","v":3057636},{"$f":"'[3]2017 Econ Cens SDS raw'!M601","v":6280},{"$f":"'[3]2017 Econ Cens SDS raw'!N601","v":18414},{"$f":"'[3]2017 Econ Cens SDS raw'!X601","v":6739673},{"$error":"#REF!"},{"$error":"#REF!"},2017]
[{"$f":"'[2]2017 Econ Cens SDS'!B602","v":336992},{"$f":"'[2]2017 Econ Cens SDS'!C602","v":"Military armored vehicle, tank, and tank component manufacturing"},{"$f":"'[3]2017 Econ Cens SDS raw'!AE602","v":12182},{"$f":"'[3]2017 Econ Cens SDS raw'!AF602","v":345377},{"$f":"'[3]2017 Econ Cens SDS raw'!AG602","v":3268037},{"$f":"'[3]2017 Econ Cens SDS raw'!M602","v":7037},{"$f":"'[3]2017 Econ Cens SDS raw'!N602","v":15178},{"$f":"'[3]2017 Econ Cens SDS raw'!X602","v":6152727},{"$error":"#REF!"},{"$error":"#REF!"},2017]
[{"$f":"'[2]2017 Econ Cens SDS'!B603","v":336999},{"$f":"'[2]2017 Econ Cens SDS'!C603","v":"All other transportation equipment manufacturing"},{"$f":"'[3]2017 Econ Cens SDS raw'!AE603","v":17506},{"$f":"'[3]2017 Econ Cens SDS raw'!AF603","v":373495},{"$f":"'[3]2017 Econ Cens SDS raw'!AG603","v":5612656},{"$f":"'[3]2017 Econ Cens SDS raw'!M603","v":6510},{"$f":"'[3]2017 Econ Cens SDS raw'!N603","v":27101},{"$f":"'[3]2017 Econ Cens SDS raw'!X603","v":8109226},{"$error":"#REF!"},{"$error":"#REF!"},2017]
[{"$f":"'[2]2017 Econ Cens SDS'!B604","v":337},{"$f":"'[2]2017 Econ Cens SDS'!C604","v":"Furniture and related product manufacturing"},{"$f":"'[3]2017 Econ Cens SDS raw'!AE604","v":521004},{"$f":"'[3]2017 Econ Cens SDS raw'!AF604","v":9685892},{"$f":"'[3]2017 Econ Cens SDS raw'!AG604","v":34907110},{"$f":"'[3]2017 Econ Cens SDS raw'!M604","v":176465},{"$f":"'[3]2017 Econ Cens SDS raw'!N604","v":459977},{"$f":"'[3]2017 Econ Cens SDS raw'!X604","v":74469092},2,8.3800000000000008,2017]
[{"$f":"'[2]2017 Econ Cens SDS'!B605","v":3371},{"$f":"'[2]2017 Econ Cens SDS'!C605","v":"Household and institutional furniture and kitchen cabinet manufacturing"},{"$f":"'[3]2017 Econ Cens SDS raw'!AE605","v":319014},{"$f":"'[3]2017 Econ Cens SDS raw'!AF605","v":5653394},{"$f":"'[3]2017 Econ Cens SDS raw'!AG605","v":17917768},{"$f":"'[3]2017 Econ Cens SDS raw'!M605","v":91475},{"$f":"'[3]2017 Econ Cens SDS raw'!N605","v":261554},{"$f":"'[3]2017 Econ Cens SDS raw'!X605","v":38570412},2,8.3800000000000008,2017]
[{"$f":"'[2]2017 Econ Cens SDS'!B606","v":33711},{"$f":"'[2]2017 Econ Cens SDS'!C606","v":"Wood kitchen cabinet and countertop manufacturing"},{"$f":"'[3]2017 Econ Cens SDS raw'!AE606","v":131633},{"$f":"'[3]2017 Econ Cens SDS raw'!AF606","v":2422728},{"$f":"'[3]2017 Econ Cens SDS raw'!AG606","v":5846785},{"$f":"'[3]2017 Econ Cens SDS raw'!M606","v":49921},{"$f":"'[3]2017 Econ Cens SDS raw'!N606","v":120760},{"$f":"'[3]2017 Econ Cens SDS raw'!X606","v":14302538},2,8.3800000000000008,2017]
[{"$f":"'[2]2017 Econ Cens SDS'!B607","v":337110},{"$f":"'[2]2017 Econ Cens SDS'!C607","v":"Wood kitchen cabinet and countertop manufacturing"},{"$f":"'[3]2017 Econ Cens SDS raw'!AE607","v":131633},{"$f":"'[3]2017 Econ Cens SDS raw'!AF607","v":2422728},{"$f":"'[3]2017 Econ Cens SDS raw'!AG607","v":5846785},{"$f":"'[3]2017 Econ Cens SDS raw'!M607","v":49921},{"$f":"'[3]2017 Econ Cens SDS raw'!N607","v":120760},{"$f":"'[3]2017 Econ Cens SDS raw'!X607","v":14302538},2,8.3800000000000008,2017]
[{"$f":"'[2]2017 Econ Cens SDS'!B608","v":33712},{"$f":"'[2]2017 Econ Cens SDS'!C608","v":"Household and institutional furniture manufacturing"},{"$f":"'[3]2017 Econ Cens SDS raw'!AE608","v":187381},{"$f":"'[3]2017 Econ Cens SDS raw'!AF608","v":3230666},{"$f":"'[3]2017 Econ Cens SDS raw'!AG608","v":12070983},{"$f":"'[3]2017 Econ Cens SDS raw'!M608","v":41554},{"$f":"'[3]2017 Econ Cens SDS raw'!N608","v":140794},{"$f":"'[3]2017 Econ Cens SDS raw'!X608","v":24267874},2,8.3800000000000008,2017]
[{"$f":"'[2]2017 Econ Cens SDS'!B609","v":337121},{"$f":"'[2]2017 Econ Cens SDS'!C609","v":"Upholstered household furniture manufacturing"},{"$f":"'[3]2017 Econ Cens SDS raw'!AE609","v":101576},{"$f":"'[3]2017 Econ Cens SDS raw'!AF609","v":1703531},{"$f":"'[3]2017 Econ Cens SDS raw'!AG609","v":6306138},{"$f":"'[3]2017 Econ Cens SDS raw'!M609","v":9639},{"$f":"'[3]2017 Econ Cens SDS raw'!N609","v":49011},{"$f":"'[3]2017 Econ Cens SDS raw'!X609","v":12369080},2,8.3800000000000008,2017]
[{"$f":"'[2]2017 Econ Cens SDS'!B610","v":337122},{"$f":"'[2]2017 Econ Cens SDS'!C610","v":"Nonupholstered wood household furniture manufacturing"},{"$f":"'[3]2017 Econ Cens SDS raw'!AE610","v":37382},{"$f":"'[3]2017 Econ Cens SDS raw'!AF610","v":623769},{"$f":"'[3]2017 Econ Cens SDS raw'!AG610","v":1816680},{"$f":"'[3]2017 Econ Cens SDS raw'!M610","v":11108},{"$f":"'[3]2017 Econ Cens SDS raw'!N610","v":37758},{"$f":"'[3]2017 Econ Cens SDS raw'!X610","v":3953074},2,8.3800000000000008,2017]
[{"$f":"'[2]2017 Econ Cens SDS'!B611","v":337124},{"$f":"'[2]2017 Econ Cens SDS'!C611","v":"Metal household furniture manufacturing"},{"$f":"'[3]2017 Econ Cens SDS raw'!AE611","v":12629},{"$f":"'[3]2017 Econ Cens SDS raw'!AF611","v":224909},{"$f":"'[3]2017 Econ Cens SDS raw'!AG611","v":1251707},{"$f":"'[3]2017 Econ Cens SDS raw'!M611","v":7679},{"$f":"'[3]2017 Econ Cens SDS raw'!N611","v":13729},{"$f":"'[3]2017 Econ Cens SDS raw'!X611","v":2194747},2,8.3800000000000008,2017]
[{"$f":"'[2]2017 Econ Cens SDS'!B612","v":337125},{"$f":"'[2]2017 Econ Cens SDS'!C612","v":"Household furniture (except wood and metal) manufacturing"},{"$f":"'[3]2017 Econ Cens SDS raw'!AE612","v":3705},{"$f":"'[3]2017 Econ Cens SDS raw'!AF612","v":59577},{"$f":"'[3]2017 Econ Cens SDS raw'!AG612","v":575757},{"$f":"'[3]2017 Econ Cens SDS raw'!M612","v":1109},{"$f":"'[3]2017 Econ Cens SDS raw'!N612","v":5894},{"$f":"'[3]2017 Econ Cens SDS raw'!X612","v":989493},2,8.3800000000000008,2017]
[{"$f":"'[2]2017 Econ Cens SDS'!B613","v":337127},{"$f":"'[2]2017 Econ Cens SDS'!C613","v":"Institutional furniture manufacturing"},{"$f":"'[3]2017 Econ Cens SDS raw'!AE613","v":32089},{"$f":"'[3]2017 Econ Cens SDS raw'!AF613","v":618880},{"$f":"'[3]2017 Econ Cens SDS raw'!AG613","v":2120701},{"$f":"'[3]2017 Econ Cens SDS raw'!M613","v":12019},{"$f":"'[3]2017 Econ Cens SDS raw'!N613","v":34402},{"$f":"'[3]2017 Econ Cens SDS raw'!X613","v":4761480},2,8.3800000000000008,2017]
[{"$f":"'[2]2017 Econ Cens SDS'!B614","v":3372},{"$f":"'[2]2017 Econ Cens SDS'!C614","v":"Office furniture (including fixtures) manufacturing"},{"$f":"'[3]2017 Econ Cens SDS raw'!AE614","v":154159},{"$f":"'[3]2017 Econ Cens SDS raw'!AF614","v":3149241},{"$f":"'[3]2017 Econ Cens SDS raw'!AG614","v":11040521},{"$f":"'[3]2017 Econ Cens SDS raw'!M614","v":71965},{"$f":"'[3]2017 Econ Cens SDS raw'!N614","v":168081},{"$f":"'[3]2017 Econ Cens SDS raw'!X614","v":25533026},2,8.3800000000000008,2017]
[{"$f":"'[2]2017 Econ Cens SDS'!B615","v":33721},{"$f":"'[2]2017 Econ Cens SDS'!C615","v":"Office furniture (including fixtures) manufacturing"},{"$f":"'[3]2017 Econ Cens SDS raw'!AE615","v":154159},{"$f":"'[3]2017 Econ Cens SDS raw'!AF615","v":3149241},{"$f":"'[3]2017 Econ Cens SDS raw'!AG615","v":11040521},{"$f":"'[3]2017 Econ Cens SDS raw'!M615","v":71965},{"$f":"'[3]2017 Econ Cens SDS raw'!N615","v":168081},{"$f":"'[3]2017 Econ Cens SDS raw'!X615","v":25533026},2,8.3800000000000008,2017]
[{"$f":"'[2]2017 Econ Cens SDS'!B616","v":337211},{"$f":"'[2]2017 Econ Cens SDS'!C616","v":"Wood office furniture manufacturing"},{"$f":"'[3]2017 Econ Cens SDS raw'!AE616","v":20769},{"$f":"'[3]2017 Econ Cens SDS raw'!AF616","v":366766},{"$f":"'[3]2017 Econ Cens SDS raw'!AG616","v":903278},{"$f":"'[3]2017 Econ Cens SDS raw'!M616","v":6873},{"$f":"'[3]2017 Econ Cens SDS raw'!N616","v":19876},{"$f":"'[3]2017 Econ Cens SDS raw'!X616","v":2576280},2,8.3800000000000008,2017]
[{"$f":"'[2]2017 Econ Cens SDS'!B617","v":337212},{"$f":"'[2]2017 Econ Cens SDS'!C617","v":"Custom architectural woodwork and millwork manufacturing"},{"$f":"'[3]2017 Econ Cens SDS raw'!AE617","v":57490},{"$f":"'[3]2017 Econ Cens SDS raw'!AF617","v":1284623},{"$f":"'[3]2017 Econ Cens SDS raw'!AG617","v":3109884},{"$f":"'[3]2017 Econ Cens SDS raw'!M617","v":24682},{"$f":"'[3]2017 Econ Cens SDS raw'!N617","v":50375},{"$f":"'[3]2017 Econ Cens SDS raw'!X617","v":7746613},2,8.3800000000000008,2017]
[{"$f":"'[2]2017 Econ Cens SDS'!B618","v":337214},{"$f":"'[2]2017 Econ Cens SDS'!C618","v":"Office furniture (except wood) manufacturing"},{"$f":"'[3]2017 Econ Cens SDS raw'!AE618","v":28061},{"$f":"'[3]2017 Econ Cens SDS raw'!AF618","v":605336},{"$f":"'[3]2017 Econ Cens SDS raw'!AG618","v":3560060},{"$f":"'[3]2017 Econ Cens SDS raw'!M618","v":13200},{"$f":"'[3]2017 Econ Cens SDS raw'!N618","v":37824},{"$f":"'[3]2017 Econ Cens SDS raw'!X618","v":7970007},2,8.3800000000000008,2017]
[{"$f":"'[2]2017 Econ Cens SDS'!B619","v":337215},{"$f":"'[2]2017 Econ Cens SDS'!C619","v":"Showcase, partition, shelving, and locker manufacturing"},{"$f":"'[3]2017 Econ Cens SDS raw'!AE619","v":47839},{"$f":"'[3]2017 Econ Cens SDS raw'!AF619","v":892516},{"$f":"'[3]2017 Econ Cens SDS raw'!AG619","v":3467299},{"$f":"'[3]2017 Econ Cens SDS raw'!M619","v":27210},{"$f":"'[3]2017 Econ Cens SDS raw'!N619","v":60006},{"$f":"'[3]2017 Econ Cens SDS raw'!X619","v":7240126},2,8.3800000000000008,2017]
[{"$f":"'[2]2017 Econ Cens SDS'!B620","v":3379},{"$f":"'[2]2017 Econ Cens SDS'!C620","v":"Other furniture related product manufacturing"},{"$f":"'[3]2017 Econ Cens SDS raw'!AE620","v":47831},{"$f":"'[3]2017 Econ Cens SDS raw'!AF620","v":883257},{"$f":"'[3]2017 Econ Cens SDS raw'!AG620","v":5948821},{"$f":"'[3]2017 Econ Cens SDS raw'!M620","v":13025},{"$f":"'[3]2017 Econ Cens SDS raw'!N620","v":30342},{"$f":"'[3]2017 Econ Cens SDS raw'!X620","v":10365654},2,8.3800000000000008,2017]
[{"$f":"'[2]2017 Econ Cens SDS'!B621","v":33791},{"$f":"'[2]2017 Econ Cens SDS'!C621","v":"Mattress manufacturing"},{"$f":"'[3]2017 Econ Cens SDS raw'!AE621","v":33114},{"$f":"'[3]2017 Econ Cens SDS raw'!AF621","v":627822},{"$f":"'[3]2017 Econ Cens SDS raw'!AG621","v":4758013},{"$f":"'[3]2017 Econ Cens SDS raw'!M621","v":10074},{"$f":"'[3]2017 Econ Cens SDS raw'!N621","v":20185},{"$f":"'[3]2017 Econ Cens SDS raw'!X621","v":7995675},2,8.3800000000000008,2017]
[{"$f":"'[2]2017 Econ Cens SDS'!B622","v":337910},{"$f":"'[2]2017 Econ Cens SDS'!C622","v":"Mattress manufacturing"},{"$f":"'[3]2017 Econ Cens SDS raw'!AE622","v":33114},{"$f":"'[3]2017 Econ Cens SDS raw'!AF622","v":627822},{"$f":"'[3]2017 Econ Cens SDS raw'!AG622","v":4758013},{"$f":"'[3]2017 Econ Cens SDS raw'!M622","v":10074},{"$f":"'[3]2017 Econ Cens SDS raw'!N622","v":20185},{"$f":"'[3]2017 Econ Cens SDS raw'!X622","v":7995675},2,8.3800000000000008,2017]
[{"$f":"'[2]2017 Econ Cens SDS'!B623","v":33792},{"$f":"'[2]2017 Econ Cens SDS'!C623","v":"Blind and shade manufacturing"},{"$f":"'[3]2017 Econ Cens SDS raw'!AE623","v":14717},{"$f":"'[3]2017 Econ Cens SDS raw'!AF623","v":255435},{"$f":"'[3]2017 Econ Cens SDS raw'!AG623","v":1190808},{"$f":"'[3]2017 Econ Cens SDS raw'!M623","v":2951},{"$f":"'[3]2017 Econ Cens SDS raw'!N623","v":10157},{"$f":"'[3]2017 Econ Cens SDS raw'!X623","v":2369979},2,8.3800000000000008,2017]
[{"$f":"'[2]2017 Econ Cens SDS'!B624","v":337920},{"$f":"'[2]2017 Econ Cens SDS'!C624","v":"Blind and shade manufacturing"},{"$f":"'[3]2017 Econ Cens SDS raw'!AE624","v":14717},{"$f":"'[3]2017 Econ Cens SDS raw'!AF624","v":255435},{"$f":"'[3]2017 Econ Cens SDS raw'!AG624","v":1190808},{"$f":"'[3]2017 Econ Cens SDS raw'!M624","v":2951},{"$f":"'[3]2017 Econ Cens SDS raw'!N624","v":10157},{"$f":"'[3]2017 Econ Cens SDS raw'!X624","v":2369979},2,8.3800000000000008,2017]
[{"$f":"'[2]2017 Econ Cens SDS'!B625","v":339},{"$f":"'[2]2017 Econ Cens SDS'!C625","v":"Miscellaneous manufacturing"},{"$f":"'[3]2017 Econ Cens SDS raw'!AE625","v":637748},{"$f":"'[3]2017 Econ Cens SDS raw'!AF625","v":13569486},{"$f":"'[3]2017 Econ Cens SDS raw'!AG625","v":55513010},{"$f":"'[3]2017 Econ Cens SDS raw'!M625","v":201928},{"$f":"'[3]2017 Econ Cens SDS raw'!N625","v":760118},{"$f":"'[3]2017 Econ Cens SDS raw'!X625","v":148413106},3.3000000000000003,10.5,2017]
[{"$f":"'[2]2017 Econ Cens SDS'!B626","v":3391},{"$f":"'[2]2017 Econ Cens SDS'!C626","v":"Medical equipment and supplies manufacturing"},{"$f":"'[3]2017 Econ Cens SDS raw'!AE626","v":322258},{"$f":"'[3]2017 Econ Cens SDS raw'!AF626","v":7132939},{"$f":"'[3]2017 Econ Cens SDS raw'!AG626","v":30694263},{"$f":"'[3]2017 Econ Cens SDS raw'!M626","v":71951},{"$f":"'[3]2017 Econ Cens SDS raw'!N626","v":381972},{"$f":"'[3]2017 Econ Cens SDS raw'!X626","v":88256390},3.3000000000000003,10.5,2017]
[{"$f":"'[2]2017 Econ Cens SDS'!B627","v":33911},{"$f":"'[2]2017 Econ Cens SDS'!C627","v":"Medical equipment and supplies manufacturing"},{"$f":"'[3]2017 Econ Cens SDS raw'!AE627","v":322258},{"$f":"'[3]2017 Econ Cens SDS raw'!AF627","v":7132939},{"$f":"'[3]2017 Econ Cens SDS raw'!AG627","v":30694263},{"$f":"'[3]2017 Econ Cens SDS raw'!M627","v":71951},{"$f":"'[3]2017 Econ Cens SDS raw'!N627","v":381972},{"$f":"'[3]2017 Econ Cens SDS raw'!X627","v":88256390},3.3000000000000003,10.5,2017]
[{"$f":"'[2]2017 Econ Cens SDS'!B628","v":339112},{"$f":"'[2]2017 Econ Cens SDS'!C628","v":"Surgical and medical instrument manufacturing"},{"$f":"'[3]2017 Econ Cens SDS raw'!AE628","v":132659},{"$f":"'[3]2017 Econ Cens SDS raw'!AF628","v":2993912},{"$f":"'[3]2017 Econ Cens SDS raw'!AG628","v":12956730},{"$f":"'[3]2017 Econ Cens SDS raw'!M628","v":35803},{"$f":"'[3]2017 Econ Cens SDS raw'!N628","v":184398},{"$f":"'[3]2017 Econ Cens SDS raw'!X628","v":39773374},3.3000000000000003,10.5,2017]
[{"$f":"'[2]2017 Econ Cens SDS'!B629","v":339113},{"$f":"'[2]2017 Econ Cens SDS'!C629","v":"Surgical appliance and supplies manufacturing"},{"$f":"'[3]2017 Econ Cens SDS raw'!AE629","v":87382},{"$f":"'[3]2017 Econ Cens SDS raw'!AF629","v":1882290},{"$f":"'[3]2017 Econ Cens SDS raw'!AG629","v":12752824},{"$f":"'[3]2017 Econ Cens SDS raw'!M629","v":22546},{"$f":"'[3]2017 Econ Cens SDS raw'!N629","v":114726},{"$f":"'[3]2017 Econ Cens SDS raw'!X629","v":32946614},3.3000000000000003,10.5,{"$f":"K131","v":2017}]
[{"$f":"'[2]2017 Econ Cens SDS'!B630","v":339114},{"$f":"'[2]2017 Econ Cens SDS'!C630","v":"Dental equipment and supplies manufacturing"},{"$f":"'[3]2017 Econ Cens SDS raw'!AE630","v":15673},{"$f":"'[3]2017 Econ Cens SDS raw'!AF630","v":350253},{"$f":"'[3]2017 Econ Cens SDS raw'!AG630","v":1388036},{"$f":"'[3]2017 Econ Cens SDS raw'!M630","v":1673},{"$f":"'[3]2017 Econ Cens SDS raw'!N630","v":15796},{"$f":"'[3]2017 Econ Cens SDS raw'!X630","v":4571225},3.3000000000000003,10.5,2017]
[{"$f":"'[2]2017 Econ Cens SDS'!B631","v":339115},{"$f":"'[2]2017 Econ Cens SDS'!C631","v":"Ophthalmic goods manufacturing"},{"$f":"'[3]2017 Econ Cens SDS raw'!AE631","v":30329},{"$f":"'[3]2017 Econ Cens SDS raw'!AF631","v":631082},{"$f":"'[3]2017 Econ Cens SDS raw'!AG631","v":2488464},{"$f":"'[3]2017 Econ Cens SDS raw'!M631","v":4570},{"$f":"'[3]2017 Econ Cens SDS raw'!N631","v":44086},{"$f":"'[3]2017 Econ Cens SDS raw'!X631","v":6136110},3.3000000000000003,10.5,2017]
[{"$f":"'[2]2017 Econ Cens SDS'!B632","v":339116},{"$f":"'[2]2017 Econ Cens SDS'!C632","v":"Dental laboratories"},{"$f":"'[3]2017 Econ Cens SDS raw'!AE632","v":56215},{"$f":"'[3]2017 Econ Cens SDS raw'!AF632","v":1275402},{"$f":"'[3]2017 Econ Cens SDS raw'!AG632","v":1108209},{"$f":"'[3]2017 Econ Cens SDS raw'!M632","v":7359},{"$f":"'[3]2017 Econ Cens SDS raw'!N632","v":22966},{"$f":"'[3]2017 Econ Cens SDS raw'!X632","v":4829067},3.3000000000000003,10.5,2017]
[{"$f":"'[2]2017 Econ Cens SDS'!B633","v":3399},{"$f":"'[2]2017 Econ Cens SDS'!C633","v":"Other miscellaneous manufacturing"},{"$f":"'[3]2017 Econ Cens SDS raw'!AE633","v":315490},{"$f":"'[3]2017 Econ Cens SDS raw'!AF633","v":6436547},{"$f":"'[3]2017 Econ Cens SDS raw'!AG633","v":24818747},{"$f":"'[3]2017 Econ Cens SDS raw'!M633","v":129977},{"$f":"'[3]2017 Econ Cens SDS raw'!N633","v":378146},{"$f":"'[3]2017 Econ Cens SDS raw'!X633","v":60156716},3.3000000000000003,10.5,2017]
[{"$f":"'[2]2017 Econ Cens SDS'!B634","v":33991},{"$f":"'[2]2017 Econ Cens SDS'!C634","v":"Jewelry and silverware manufacturing"},{"$f":"'[3]2017 Econ Cens SDS raw'!AE634","v":26295},{"$f":"'[3]2017 Econ Cens SDS raw'!AF634","v":542167},{"$f":"'[3]2017 Econ Cens SDS raw'!AG634","v":3429419},{"$f":"'[3]2017 Econ Cens SDS raw'!M634","v":5581},{"$f":"'[3]2017 Econ Cens SDS raw'!N634","v":20488},{"$f":"'[3]2017 Econ Cens SDS raw'!X634","v":7217704},3.3000000000000003,10.5,2017]
[{"$f":"'[2]2017 Econ Cens SDS'!B635","v":339910},{"$f":"'[2]2017 Econ Cens SDS'!C635","v":"Jewelry and silverware manufacturing"},{"$f":"'[3]2017 Econ Cens SDS raw'!AE635","v":26295},{"$f":"'[3]2017 Econ Cens SDS raw'!AF635","v":542167},{"$f":"'[3]2017 Econ Cens SDS raw'!AG635","v":3429419},{"$f":"'[3]2017 Econ Cens SDS raw'!M635","v":5581},{"$f":"'[3]2017 Econ Cens SDS raw'!N635","v":20488},{"$f":"'[3]2017 Econ Cens SDS raw'!X635","v":7217704},3.3000000000000003,10.5,2017]
[{"$f":"'[2]2017 Econ Cens SDS'!B636","v":33992},{"$f":"'[2]2017 Econ Cens SDS'!C636","v":"Sporting and athletic goods manufacturing"},{"$f":"'[3]2017 Econ Cens SDS raw'!AE636","v":42283},{"$f":"'[3]2017 Econ Cens SDS raw'!AF636","v":839838},{"$f":"'[3]2017 Econ Cens SDS raw'!AG636","v":4141404},{"$f":"'[3]2017 Econ Cens SDS raw'!M636","v":29198},{"$f":"'[3]2017 Econ Cens SDS raw'!N636","v":79947},{"$f":"'[3]2017 Econ Cens SDS raw'!X636","v":9971829},3.3000000000000003,10.5,2017]
[{"$f":"'[2]2017 Econ Cens SDS'!B637","v":339920},{"$f":"'[2]2017 Econ Cens SDS'!C637","v":"Sporting and athletic goods manufacturing"},{"$f":"'[3]2017 Econ Cens SDS raw'!AE637","v":42283},{"$f":"'[3]2017 Econ Cens SDS raw'!AF637","v":839838},{"$f":"'[3]2017 Econ Cens SDS raw'!AG637","v":4141404},{"$f":"'[3]2017 Econ Cens SDS raw'!M637","v":29198},{"$f":"'[3]2017 Econ Cens SDS raw'!N637","v":79947},{"$f":"'[3]2017 Econ Cens SDS raw'!X637","v":9971829},3.3000000000000003,10.5,2017]
[{"$f":"'[2]2017 Econ Cens SDS'!B638","v":33993},{"$f":"'[2]2017 Econ Cens SDS'!C638","v":"Doll, toy, and game manufacturing"},{"$f":"'[3]2017 Econ Cens SDS raw'!AE638","v":7289},{"$f":"'[3]2017 Econ Cens SDS raw'!AF638","v":155676},{"$f":"'[3]2017 Econ Cens SDS raw'!AG638","v":832189},{"$f":"'[3]2017 Econ Cens SDS raw'!M638","v":5365},{"$f":"'[3]2017 Econ Cens SDS raw'!N638","v":10958},{"$f":"'[3]2017 Econ Cens SDS raw'!X638","v":1724799},3.3000000000000003,10.5,2017]
[{"$f":"'[2]2017 Econ Cens SDS'!B639","v":339930},{"$f":"'[2]2017 Econ Cens SDS'!C639","v":"Doll, toy, and game manufacturing"},{"$f":"'[3]2017 Econ Cens SDS raw'!AE639","v":7289},{"$f":"'[3]2017 Econ Cens SDS raw'!AF639","v":155676},{"$f":"'[3]2017 Econ Cens SDS raw'!AG639","v":832189},{"$f":"'[3]2017 Econ Cens SDS raw'!M639","v":5365},{"$f":"'[3]2017 Econ Cens SDS raw'!N639","v":10958},{"$f":"'[3]2017 Econ Cens SDS raw'!X639","v":1724799},3.3000000000000003,10.5,2017]
[{"$f":"'[2]2017 Econ Cens SDS'!B640","v":33994},{"$f":"'[2]2017 Econ Cens SDS'!C640","v":"Office supplies (except paper) manufacturing"},{"$f":"'[3]2017 Econ Cens SDS raw'!AE640","v":12579},{"$f":"'[3]2017 Econ Cens SDS raw'!AF640","v":225639},{"$f":"'[3]2017 Econ Cens SDS raw'!AG640","v":1498761},{"$f":"'[3]2017 Econ Cens SDS raw'!M640","v":4626},{"$f":"'[3]2017 Econ Cens SDS raw'!N640","v":17438},{"$f":"'[3]2017 Econ Cens SDS raw'!X640","v":2966601},3.3000000000000003,10.5,2017]
[{"$f":"'[2]2017 Econ Cens SDS'!B641","v":339940},{"$f":"'[2]2017 Econ Cens SDS'!C641","v":"Office supplies (except paper) manufacturing"},{"$f":"'[3]2017 Econ Cens SDS raw'!AE641","v":12579},{"$f":"'[3]2017 Econ Cens SDS raw'!AF641","v":225639},{"$f":"'[3]2017 Econ Cens SDS raw'!AG641","v":1498761},{"$f":"'[3]2017 Econ Cens SDS raw'!M641","v":4626},{"$f":"'[3]2017 Econ Cens SDS raw'!N641","v":17438},{"$f":"'[3]2017 Econ Cens SDS raw'!X641","v":2966601},3.3000000000000003,10.5,2017]
[{"$f":"'[2]2017 Econ Cens SDS'!B642","v":33995},{"$f":"'[2]2017 Econ Cens SDS'!C642","v":"Sign manufacturing"},{"$f":"'[3]2017 Econ Cens SDS raw'!AE642","v":84471},{"$f":"'[3]2017 Econ Cens SDS raw'!AF642","v":1748043},{"$f":"'[3]2017 Econ Cens SDS raw'!AG642","v":4758661},{"$f":"'[3]2017 Econ Cens SDS raw'!M642","v":25086},{"$f":"'[3]2017 Econ Cens SDS raw'!N642","v":59278},{"$f":"'[3]2017 Econ Cens SDS raw'!X642","v":12520264},3.3000000000000003,10.5,2017]
[{"$f":"'[2]2017 Econ Cens SDS'!B643","v":339950},{"$f":"'[2]2017 Econ Cens SDS'!C643","v":"Sign manufacturing"},{"$f":"'[3]2017 Econ Cens SDS raw'!AE643","v":84471},{"$f":"'[3]2017 Econ Cens SDS raw'!AF643","v":1748043},{"$f":"'[3]2017 Econ Cens SDS raw'!AG643","v":4758661},{"$f":"'[3]2017 Econ Cens SDS raw'!M643","v":25086},{"$f":"'[3]2017 Econ Cens SDS raw'!N643","v":59278},{"$f":"'[3]2017 Econ Cens SDS raw'!X643","v":12520264},3.3000000000000003,10.5,2017]
[{"$f":"'[2]2017 Econ Cens SDS'!B644","v":33999},{"$f":"'[2]2017 Econ Cens SDS'!C644","v":"All other miscellaneous manufacturing"},{"$f":"'[3]2017 Econ Cens SDS raw'!AE644","v":142573},{"$f":"'[3]2017 Econ Cens SDS raw'!AF644","v":2925184},{"$f":"'[3]2017 Econ Cens SDS raw'!AG644","v":10158313},{"$f":"'[3]2017 Econ Cens SDS raw'!M644","v":60121},{"$f":"'[3]2017 Econ Cens SDS raw'!N644","v":190037},{"$f":"'[3]2017 Econ Cens SDS raw'!X644","v":25755519},3.3000000000000003,10.5,2017]
[{"$f":"'[2]2017 Econ Cens SDS'!B645","v":339991},{"$f":"'[2]2017 Econ Cens SDS'!C645","v":"Gasket, packing, and sealing device manufacturing"},{"$f":"'[3]2017 Econ Cens SDS raw'!AE645","v":38915},{"$f":"'[3]2017 Econ Cens SDS raw'!AF645","v":862826},{"$f":"'[3]2017 Econ Cens SDS raw'!AG645","v":2903366},{"$f":"'[3]2017 Econ Cens SDS raw'!M645","v":23705},{"$f":"'[3]2017 Econ Cens SDS raw'!N645","v":79225},{"$f":"'[3]2017 Econ Cens SDS raw'!X645","v":6965067},3.3000000000000003,10.5,2017]
[{"$f":"'[2]2017 Econ Cens SDS'!B646","v":339992},{"$f":"'[2]2017 Econ Cens SDS'!C646","v":"Musical instrument manufacturing"},{"$f":"'[3]2017 Econ Cens SDS raw'!AE646","v":16797},{"$f":"'[3]2017 Econ Cens SDS raw'!AF646","v":322218},{"$f":"'[3]2017 Econ Cens SDS raw'!AG646","v":656193},{"$f":"'[3]2017 Econ Cens SDS raw'!M646","v":6977},{"$f":"'[3]2017 Econ Cens SDS raw'!N646","v":16551},{"$f":"'[3]2017 Econ Cens SDS raw'!X646","v":1989981},3.3000000000000003,10.5,2017]
[{"$f":"'[2]2017 Econ Cens SDS'!B647","v":339993},{"$f":"'[2]2017 Econ Cens SDS'!C647","v":"Fastener, button, needle, and pin manufacturing"},{"$f":"'[3]2017 Econ Cens SDS raw'!AE647","v":5150},{"$f":"'[3]2017 Econ Cens SDS raw'!AF647","v":104058},{"$f":"'[3]2017 Econ Cens SDS raw'!AG647","v":394632},{"$f":"'[3]2017 Econ Cens SDS raw'!M647","v":6027},{"$f":"'[3]2017 Econ Cens SDS raw'!N647","v":14076},{"$f":"'[3]2017 Econ Cens SDS raw'!X647","v":938380},3.3000000000000003,10.5,2017]
[{"$f":"'[2]2017 Econ Cens SDS'!B648","v":339994},{"$f":"'[2]2017 Econ Cens SDS'!C648","v":"Broom, brush, and mop manufacturing"},{"$f":"'[3]2017 Econ Cens SDS raw'!AE648","v":14433},{"$f":"'[3]2017 Econ Cens SDS raw'!AF648","v":243308},{"$f":"'[3]2017 Econ Cens SDS raw'!AG648","v":1376671},{"$f":"'[3]2017 Econ Cens SDS raw'!M648","v":2145},{"$f":"'[3]2017 Econ Cens SDS raw'!N648","v":20792},{"$f":"'[3]2017 Econ Cens SDS raw'!X648","v":2865312},3.3000000000000003,10.5,2017]
[{"$f":"'[2]2017 Econ Cens SDS'!B649","v":339995},{"$f":"'[2]2017 Econ Cens SDS'!C649","v":"Burial casket manufacturing"},{"$f":"'[3]2017 Econ Cens SDS raw'!AE649","v":4647},{"$f":"'[3]2017 Econ Cens SDS raw'!AF649","v":84168},{"$f":"'[3]2017 Econ Cens SDS raw'!AG649","v":272428},{"$f":"'[3]2017 Econ Cens SDS raw'!M649","v":1587},{"$f":"'[3]2017 Econ Cens SDS raw'!N649","v":7794},{"$f":"'[3]2017 Econ Cens SDS raw'!X649","v":562413},3.3000000000000003,10.5,2017]
[{"$f":"'[2]2017 Econ Cens SDS'!B650","v":339999},{"$f":"'[2]2017 Econ Cens SDS'!C650","v":"All other miscellaneous manufacturing"},{"$f":"'[3]2017 Econ Cens SDS raw'!AE650","v":62631},{"$f":"'[3]2017 Econ Cens SDS raw'!AF650","v":1308606},{"$f":"'[3]2017 Econ Cens SDS raw'!AG650","v":4555023},{"$f":"'[3]2017 Econ Cens SDS raw'!M650","v":19680},{"$f":"'[3]2017 Econ Cens SDS raw'!N650","v":51599},{"$f":"'[3]2017 Econ Cens SDS raw'!X650","v":12434366},3.3000000000000003,10.5,2017]

{"sheet":"2018 Econ Census Data","index":161,"n_rows":650,"n_cols":11,"rows_kept":650,"cut":false,"hidden":false,"merged":[]}
["2017 NAICS code","Meaning of NAICS code","Production workers annual hours (1,000)","Production workers annual wages ($1,000)","Total cost of materials ($1,000)","Cost of purchased fuels consumed ($1,000)","Cost of purchased electricity ($1,000)","Sales, value of shipments, or revenue ($1,000)","Depreciation","Operating Income","Year"]
[]
["31-33","Manufacturing",16162235,405759893,3301381002,33458648,51361641,5890662939,3,8.24,2018]
[311,"Food manufacturing",2371404,48779572,483552782,3486863,5633505,784628928,2.4500000000000002,7.19,2018]
[3111,"Animal food manufacturing",78536,1938238,38839555,191231,340811,57501604,2.4500000000000002,7.19,2018]
[31111,"Animal food manufacturing",78536,1938238,38839555,191231,340811,57501604,2.4500000000000002,7.19,2018]
[311111,"Dog and cat food manufacturing",43858,1017881,13362978,72224,126447,24016497,2.4500000000000002,7.19,2018]
[311119,"Other animal food manufacturing",34679,920357,25476577,119007,214364,33485107,2.4500000000000002,7.19,2018]
[3112,"Grain and oilseed milling",84755,2203011,62624165,654162,842058,84964542,2.65,20.5,2018]
[31121,"Flour milling and malt manufacturing",30467,697896,11450441,70087,235196,17360773,2.4500000000000002,7.19,2018]
[311211,"Flour milling",20646,493717,8298473,33208,166006,12386440,2.4500000000000002,7.19,2018]
[311212,"Rice milling",8443,168295,2358957,"N.A.",48954,3731579,2.4500000000000002,7.19,2018]
[311213,"Malt manufacturing",1378,35884,793012,"N.A.",20236,1242754,2.4500000000000002,7.19,2018]
[31122,"Starch and vegetable fats and oils manufacturing",31817,852819,45498717,524818,518635,57301743,2.4500000000000002,7.19,2018]
[311221,"Wet corn milling",9179,297300,6192245,255367,278390,10204049,2.4500000000000002,7.19,2018]
[311224,"Soybean and other oilseed processing",12919,336999,32354358,244961,205032,37863862,2.4500000000000002,7.19,2018]
[311225,"Fats and oils refining and blending",9720,218520,6952115,24490,35214,9233832,2.4500000000000002,7.19,2018]
[31123,"Breakfast cereal manufacturing",22471,652296,5675007,59256,88227,10302026,2.4500000000000002,7.19,2018]
[311230,"Breakfast cereal manufacturing",22471,652296,5675007,59256,88227,10302026,2.4500000000000002,7.19,2018]
[3113,"Sugar and confectionery product manufacturing",114923,2616042,20963911,402810,344149,37529887,2.4500000000000002,7.19,2018]
[31131,"Sugar manufacturing",25531,584062,6995276,317220,129018,10527211,2.4500000000000002,7.19,2018]
[311313,"Beet sugar manufacturing",12439,266766,2221318,199628,"N.A.",3805287,2.4500000000000002,7.19,2018]
[311314,"Cane sugar manufacturing",13092,317296,4773958,117592,"N.A.",6721924,2.4500000000000002,7.19,2018]
[31134,"Nonchocolate confectionery manufacturing",29564,699201,4868820,38663,98876,9976279,2.4500000000000002,7.19,2018]
[311340,"Nonchocolate confectionery manufacturing",29564,699201,4868820,38663,98876,9976279,2.4500000000000002,7.19,2018]
[31135,"Chocolate and chocolate confectionery manufacturing",59828,1332780,9099814,46927,116255,17026397,2.4500000000000002,7.19,2018]
[311351,"Chocolate and confectionery manufacturing from cacao beans",12307,327890,2818305,9793,34784,4293393,2.4500000000000002,7.19,2018]
[311352,"Confectionery manufacturing from purchased chocolate",47520,1004890,6281509,37134,81470,12733004,2.4500000000000002,7.19,2018]
[3114,"Fruit and vegetable preserving and specialty food manufacturing",262699,5795498,38226244,476653,682356,72910628,2.4500000000000002,7.19,2018]
[31141,"Frozen food manufacturing",145314,3067632,17518194,169957,368553,33063624,2.4500000000000002,7.19,2018]
[311411,"Frozen fruit, juice, and vegetable manufacturing",51475,970416,6107452,99989,160044,12341323,2.4500000000000002,7.19,2018]
[311412,"Frozen specialty food manufacturing",93839,2097216,11410742,69969,208508,20722300,2.4500000000000002,7.19,2018]
[31142,"Fruit and vegetable canning, pickling, and drying",117385,2727866,20708051,306695,313803,39847004,2.4500000000000002,7.19,2018]
[311421,"Fruit and vegetable canning",75916,1825677,14445018,209618,213421,25485944,2.4500000000000002,7.19,2018]
[311422,"Specialty canning",18236,413664,2741311,34467,38061,7674523,2.4500000000000002,7.19,2018]
[311423,"Dried and dehydrated food manufacturing",23233,488525,3521721,62610,62321,6686537,2.4500000000000002,7.19,2018]
[3115,"Dairy product manufacturing",225067,5619210,79124249,407702,794790,117489124,2.4500000000000002,7.19,2018]
[31151,"Dairy product (except frozen) manufacturing",193105,4863366,74167376,393082,706796,109150310,2.4500000000000002,7.19,2018]
[311511,"Fluid milk manufacturing",68174,1947125,24870815,126915,259365,37241102,2.4500000000000002,7.19,2018]
[311512,"Creamery butter manufacturing",6466,145473,5564061,"N.A.",35282,7070513,2.4500000000000002,7.19,2018]
[311513,"Cheese manufacturing",94396,2067574,34826737,154448,307279,47630519,2.4500000000000002,7.19,2018]
[311514,"Dry, condensed, and evaporated dairy product manufacturing",24070,703194,8905763,"N.A.",104870,17208177,2.4500000000000002,7.19,2018]
[31152,"Ice cream and frozen dessert manufacturing",31962,755844,4956874,14620,87995,8338813,2.4500000000000002,7.19,2018]
[311520,"Ice cream and frozen dessert manufacturing",31962,755844,4956874,14620,87995,8338813,2.4500000000000002,7.19,2018]
[3116,"Animal slaughtering and processing",879417,15684567,147338254,590963,1351787,215808363,2.4500000000000002,7.19,2018]
[31161,"Animal slaughtering and processing",879417,15684567,147338254,590963,1351787,215808363,2.4500000000000002,7.19,2018]
[311611,"Animal (except poultry) slaughtering",271775,5301928,70673524,167992,363060,93512927,2.4500000000000002,7.19,2018]
[311612,"Meat processed from carcasses",183635,3731349,36755454,119764,402035,53250394,2.4500000000000002,7.19,2018]
[311613,"Rendering and meat byproduct processing",12744,325824,2508069,144648,82156,4628121,2.4500000000000002,7.19,2018]
[311615,"Poultry processing",411263,6325465,37401206,158559,504536,64416921,2.4500000000000002,7.19,2018]
[3117,"Seafood product preparation and packaging",51724,1003382,8743692,129106,85002,13461709,2.4500000000000002,7.19,2018]
[31171,"Seafood product preparation and packaging",51724,1003382,8743692,129106,85002,13461709,2.4500000000000002,7.19,2018]
[311710,"Seafood product preparation and packaging",51724,1003382,8743692,129106,85002,13461709,2.4500000000000002,7.19,2018]
[3118,"Bakeries and tortilla manufacturing",353579,6999204,29431653,313440,609567,69365384,2.4500000000000002,7.19,2018]
[31181,"Bread and bakery product manufacturing",253136,4922871,16331790,225136,401014,43067835,2.4500000000000002,7.19,2018]
[311811,"Retail bakeries",63369,984439,1506668,39933,54072,4727667,2.4500000000000002,7.19,2018]
[311812,"Commercial bakeries",153949,3286307,11787669,162037,287061,32037945,2.4500000000000002,7.19,2018]
[311813,"Frozen cakes, pies, and other pastries manufacturing",35818,652124,3037453,23167,59881,6302223,2.4500000000000002,7.19,2018]
[31182,"Cookie, cracker, and pasta manufacturing",69046,1576246,11213141,63138,165980,22062927,2.4500000000000002,7.19,2018]
[311821,"Cookie and cracker manufacturing",42135,908735,4455119,37951,65702,10744799,2.4500000000000002,7.19,2018]
[311824,"Dry pasta, dough, and flour mixes manufacturing from purchased flour",26910,667511,6758022,25187,100279,11318128,2.4500000000000002,7.19,2018]
[31183,"Tortilla manufacturing",31397,500087,1886722,25165,42573,4234623,2.4500000000000002,7.19,2018]
[311830,"Tortilla manufacturing",31397,500087,1886722,25165,42573,4234623,2.4500000000000002,7.19,2018]
[3119,"Other food manufacturing",320704,6920419,58261059,320797,582983,115597688,2.4500000000000002,7.19,2018]
[31191,"Snack food manufacturing",91981,2235028,18811944,130614,174260,39306282,2.4500000000000002,7.19,2018]
[311911,"Roasted nuts and peanut butter manufacturing",29278,583207,11495864,33795,82268,14912299,2.4500000000000002,7.19,2018]
[311919,"Other snack food manufacturing",62703,1651821,7316081,96820,91991,24393983,2.4500000000000002,7.19,2018]
[31192,"Coffee and tea manufacturing",24258,525211,7734193,25637,41738,12447557,2.4500000000000002,7.19,2018]
[311920,"Coffee and tea manufacturing",24258,525211,7734193,25637,41738,12447557,2.4500000000000002,7.19,2018]
[31193,"Flavoring syrup and concentrate manufacturing",9819,231677,3145401,16863,31501,11241110,2.4500000000000002,7.19,2018]
[311930,"Flavoring syrup and concentrate manufacturing",9819,231677,3145401,16863,31501,11241110,2.4500000000000002,7.19,2018]
[31194,"Seasoning and dressing manufacturing",55050,1414743,11819120,45090,106828,22804904,2.4500000000000002,7.19,2018]
[311941,"Mayonnaise, dressing, and other prepared sauce manufacturing",27351,686293,5433938,21826,57056,9994742,2.4500000000000002,7.19,2018]
[311942,"Spice and extract manufacturing",27699,728450,6385182,23264,49771,12810162,2.4500000000000002,7.19,2018]
[31199,"All other food manufacturing",139596,2513760,16750400,102593,228658,29797835,2.4500000000000002,7.19,2018]
[311991,"Perishable prepared food manufacturing",99767,1677822,9811858,46592,116466,17301725,2.4500000000000002,7.19,2018]
[311999,"All other miscellaneous food manufacturing",39828,835938,6938543,56001,112192,12496109,2.4500000000000002,7.19,2018]
[312,"Beverage and tobacco product manufacturing",237896,6309000,59171726,405435,847435,156130798,2.65,20.5,2018]
[3121,"Beverage manufacturing",219742,5785178,51366665,369939,783669,108884165,2.65,20.5,2018]
[31211,"Soft drink and ice manufacturing",101102,2715046,28489715,180518,427088,44179085,2.65,20.5,2018]
[312111,"Soft drink manufacturing",83609,2261604,25884190,141721,259658,37254605,2.65,20.5,2018]
[312112,"Bottled water manufacturing",13687,377759,2444839,22878,121959,6041665,2.65,20.5,2018]
[312113,"Ice manufacturing",3806,75683,160686,15919,45470,882815,2.65,20.5,2018]
[31212,"Breweries",65175,1670423,10542374,120211,206577,30834473,2.65,20.5,2018]
[312120,"Breweries",65175,1670423,10542374,120211,206577,30834473,2.65,20.5,2018]
[31213,"Wineries",37909,979526,8315520,39393,120059,20682375,2.65,20.5,2018]
[312130,"Wineries",37909,979526,8315520,39393,120059,20682375,2.65,20.5,2018]
[31214,"Distilleries",15556,420184,4019056,29817,29945,13188232,2.65,20.5,2018]
[312140,"Distilleries",15556,420184,4019056,29817,29945,13188232,2.65,20.5,2018]
[3122,"Tobacco manufacturing",18154,523822,7805061,35496,63766,47246633,2.65,20.5,2018]
[31223,"Tobacco manufacturing",18154,523822,7805061,35496,63766,47246633,2.65,20.5,2018]
[312230,"Tobacco manufacturing",18154,523822,7805061,35496,63766,47246633,2.65,20.5,2018]
[313,"Textile mills",147494,2717322,16188646,184137,610555,27811403,3.17,5.37,2018]
[3131,"Fiber, yarn, and thread mills",38694,658236,4746364,27374,215522,6886303,3.17,5.37,2018]
[31311,"Fiber, yarn, and thread mills",38694,658236,4746364,27374,215522,6886303,3.17,5.37,2018]
[313110,"Fiber, yarn, and thread mills",38694,658236,4746364,27374,215522,6886303,3.17,5.37,2018]
[3132,"Fabric mills",69001,1314789,6903312,86358,281643,13296725,3.17,5.37,2018]
[31321,"Broadwoven fabric mills",27128,479203,2334557,18670,92694,3818540,3.17,5.37,2018]
[313210,"Broadwoven fabric mills",27128,479203,2334557,18670,92694,3818540,3.17,5.37,2018]
[31322,"Narrow fabric mills and schiffli machine embroidery",7586,133108,398982,10377,11803,946351,3.17,5.37,2018]
[313220,"Narrow fabric mills and schiffli machine embroidery",7586,133108,398982,10377,11803,946351,3.17,5.37,2018]
[31323,"Nonwoven fabric mills",24413,541284,3415811,45835,157613,7154664,3.17,5.37,2018]
[313230,"Nonwoven fabric mills",24413,541284,3415811,45835,157613,7154664,3.17,5.37,2018]
[31324,"Knit fabric mills",9874,161195,753962,11477,19533,1377170,3.17,5.37,2018]
[313240,"Knit fabric mills",9874,161195,753962,11477,19533,1377170,3.17,5.37,2018]
[3133,"Textile and fabric finishing and fabric coating mills",39798,744296,4538969,70404,113390,7628374,3.17,5.37,2018]
[31331,"Textile and fabric finishing mills",29534,529257,2949676,56799,91249,5059911,3.17,5.37,2018]
[313310,"Textile and fabric finishing mills",29534,529257,2949676,56799,91249,5059911,3.17,5.37,2018]
[31332,"Fabric coating mills",10265,215040,1589293,13606,22141,2568463,3.17,5.37,2018]
[313320,"Fabric coating mills",10265,215040,1589293,13606,22141,2568463,3.17,5.37,2018]
[314,"Textile product mills",147631,2540741,11904645,71138,205930,22658822,3.17,5.37,2018]
[3141,"Textile furnishings mills",71970,1196565,7322938,42151,103566,12855628,3.17,5.37,2018]
[31411,"Carpet and rug mills",45384,785746,5554570,35249,90512,9232905,3.17,5.37,2018]
[314110,"Carpet and rug mills",45384,785746,5554570,35249,90512,9232905,3.17,5.37,2018]
[31412,"Curtain and linen mills",26586,410818,1768368,6902,13053,3622723,3.17,5.37,2018]
[314120,"Curtain and linen mills",26586,410818,1768368,6902,13053,3622723,3.17,5.37,2018]
[3149,"Other textile product mills",75662,1344177,4581707,28987,102364,9803194,3.17,5.37,2018]
[31491,"Textile bag and canvas mills",24947,436743,1492883,6869,20298,3197758,3.17,5.37,2018]
[314910,"Textile bag and canvas mills",24947,436743,1492883,6869,20298,3197758,3.17,5.37,2018]
[31499,"All other textile product mills",50715,907434,3088824,22118,82067,6605435,3.17,5.37,2018]
[314994,"Rope, cordage, twine, tire cord, and tire fabric mills",8763,194895,971613,7797,43951,1670285,3.17,5.37,2018]
[314999,"All other miscellaneous textile product mills",41951,712539,2117211,14321,38116,4935150,3.17,5.37,2018]
[315,"Apparel manufacturing",110338,1698748,4291527,23220,55919,9740308,2.3800000000000003,10.100000000000001,2018]
[3151,"Apparel knitting mills",16373,224460,586720,6388,23876,1180860,2.3800000000000003,10.100000000000001,2018]
[31511,"Hosiery and sock mills",13038,177929,443091,5802,22386,929643,2.3800000000000003,10.100000000000001,2018]
[315110,"Hosiery and sock mills",13038,177929,443091,5802,22386,929643,2.3800000000000003,10.100000000000001,2018]
[31519,"Other apparel knitting mills",3335,46531,143630,586,1490,251217,2.3800000000000003,10.100000000000001,2018]
[315190,"Other apparel knitting mills",3335,46531,143630,586,1490,251217,2.3800000000000003,10.100000000000001,2018]
[3152,"Cut and sew apparel manufacturing",83355,1329151,3236228,14563,26362,7493817,2.3800000000000003,10.100000000000001,2018]
[31521,"Cut and sew apparel contractors",34861,533580,724097,6829,9056,1930194,2.3800000000000003,10.100000000000001,2018]
[315210,"Cut and sew apparel contractors",34861,533580,724097,6829,9056,1930194,2.3800000000000003,10.100000000000001,2018]
[31522,"Men's and boys' cut and sew apparel manufacturing",22672,313013,657809,3561,7269,1556926,2.3800000000000003,10.100000000000001,2018]
[315220,"Men's and boys' cut and sew apparel manufacturing",22672,313013,657809,3561,7269,1556926,2.3800000000000003,10.100000000000001,2018]
[31524,"Women's, girls', and infants' cut and sew apparel manufacturing",15983,336323,1410449,3040,5466,2839408,2.3800000000000003,10.100000000000001,2018]
[315240,"Women's, girls', and infants' cut and sew apparel manufacturing",15983,336323,1410449,3040,5466,2839408,2.3800000000000003,10.100000000000001,2018]
[31528,"Other cut and sew apparel manufacturing",9839,146235,443873,1134,4571,1167290,2.3800000000000003,10.100000000000001,2018]
[315280,"Other cut and sew apparel manufacturing",9839,146235,443873,1134,4571,1167290,2.3800000000000003,10.100000000000001,2018]
[3159,"Apparel accessories and other apparel manufacturing",10610,145137,468579,2269,5681,1065631,2.3800000000000003,10.100000000000001,2018]
[31599,"Apparel accessories and other apparel manufacturing",10610,145137,468579,2269,5681,1065631,2.3800000000000003,10.100000000000001,2018]
[315990,"Apparel accessories and other apparel manufacturing",10610,145137,468579,2269,5681,1065631,2.3800000000000003,10.100000000000001,2018]
[316,"Leather and allied product manufacturing",36509,640065,2477274,9003,29000,4601292,2.3800000000000003,10.100000000000001,2018]
[3161,"Leather and hide tanning and finishing",5501,98117,854400,4605,9379,1270784,2.3800000000000003,10.100000000000001,2018]
[31611,"Leather and hide tanning and finishing",5501,98117,854400,4605,9379,1270784,2.3800000000000003,10.100000000000001,2018]
[316110,"Leather and hide tanning and finishing",5501,98117,854400,4605,9379,1270784,2.3800000000000003,10.100000000000001,2018]
[3162,"Footwear manufacturing",17063,302570,950158,2239,12050,1768800,2.3800000000000003,10.100000000000001,2018]
[31621,"Footwear manufacturing",17063,302570,950158,2239,12050,1768800,2.3800000000000003,10.100000000000001,2018]
[316210,"Footwear manufacturing",17063,302570,950158,2239,12050,1768800,2.3800000000000003,10.100000000000001,2018]
[3169,"Other leather and allied product manufacturing",13945,239378,672716,2159,7571,1561708,2.3800000000000003,10.100000000000001,2018]
[31699,"Other leather and allied product manufacturing",13945,239378,672716,2159,7571,1561708,2.3800000000000003,10.100000000000001,2018]
[316992,"Women's handbag and purse manufacturing",2252,39697,143580,130,"N.A.",355393,2.3800000000000003,10.100000000000001,2018]
[316998,"All other leather good and allied product manufacturing",11693,199681,529136,2029,"N.A.",1206315,2.3800000000000003,10.100000000000001,2018]
[321,"Wood product manufacturing",620461,12641588,64415001,736504,1616328,114213352,2.87,7.7399999999999993,2018]
[3211,"Sawmills and wood preservation",147208,3393606,21018564,256574,601657,34996566,2.87,7.7399999999999993,2018]
[32111,"Sawmills and wood preservation",147208,3393606,21018564,256574,601657,34996566,2.87,7.7399999999999993,2018]
[321113,"Sawmills",131119,3066566,15566840,223616,571393,28101457,2.87,7.7399999999999993,2018]
[321114,"Wood preservation",16089,327040,5451724,32958,30264,6895109,2.87,7.7399999999999993,2018]
[3212,"Veneer, plywood, and engineered wood product manufacturing",117422,2584621,14086553,212446,513867,25287893,2.87,7.7399999999999993,2018]
[32121,"Veneer, plywood, and engineered wood product manufacturing",117422,2584621,14086553,212446,513867,25287893,2.87,7.7399999999999993,2018]
[321211,"Hardwood veneer and plywood manufacturing",19171,353889,2007262,13346,42642,3131686,2.87,7.7399999999999993,2018]
[321212,"Softwood veneer and plywood manufacturing",22947,552246,2446117,47090,92407,4321137,2.87,7.7399999999999993,2018]
[321213,"Engineered wood member (except truss) manufacturing",9552,223686,1812892,12424,39941,2578066,2.87,7.7399999999999993,2018]
[321214,"Truss manufacturing",43184,843697,3889465,18151,35756,7161813,2.87,7.7399999999999993,2018]
[321219,"Reconstituted wood product manufacturing",22568,611102,3930817,121435,303121,8095191,2.87,7.7399999999999993,2018]
[3219,"Other wood product manufacturing",355830,6663362,29309884,267484,500804,53928894,2.87,7.7399999999999993,2018]
[32191,"Millwork",153253,3096419,14234303,119089,265794,26670178,2.87,7.7399999999999993,2018]
[321911,"Wood window and door manufacturing",76709,1624895,6073936,40220,104674,13283582,2.87,7.7399999999999993,2018]
[321912,"Cut stock, resawing lumber, and planing",31666,600714,3763834,37687,74403,6002482,2.87,7.7399999999999993,2018]
[321918,"Other millwork (including flooring)",44879,870810,4396532,41182,86717,7384114,2.87,7.7399999999999993,2018]
[32192,"Wood container and pallet manufacturing",87510,1467061,5662213,60212,83096,10154220,2.87,7.7399999999999993,2018]
[321920,"Wood container and pallet manufacturing",87510,1467061,5662213,60212,83096,10154220,2.87,7.7399999999999993,2018]
[32199,"All other wood product manufacturing",115067,2099882,9413368,88182,151914,17104495,2.87,7.7399999999999993,2018]
[321991,"Manufactured home (mobile home) manufacturing",39958,703684,2825494,14721,11574,4832708,2.87,7.7399999999999993,2018]
[321992,"Prefabricated wood building manufacturing",23415,452090,2523426,16740,15827,4328457,2.87,7.7399999999999993,2018]
[321999,"All other miscellaneous wood product manufacturing",51694,944108,4064448,56721,124513,7943329,2.87,7.7399999999999993,2018]
[322,"Paper manufacturing",542617,15008662,104723089,3428605,3246186,191414905,4.67,8.51,2018]
[3221,"Pulp, paper, and paperboard mills",165149,5829662,35221287,2896214,2219747,77886570,4.67,8.51,2018]
[32211,"Pulp mills",16802,627728,3310431,288989,134752,6837884,4.67,8.51,2018]
[322110,"Pulp mills",16802,627728,3310431,288989,134752,6837884,4.67,8.51,2018]
[32212,"Paper mills",82176,2768392,16748161,1037616,1094679,36751599,4.67,8.51,2018]
[322121,"Paper (except newsprint) mills",80336,2697313,"N.A.","N.A.",891145,35717353,4.67,8.51,2018]
[322122,"Newsprint mills",1840,71079,"N.A.","N.A.",203534,1034246,4.67,8.51,2018]
[32213,"Paperboard mills",66170,2433542,15162696,1569609,990317,34297086,4.67,8.51,2018]
[322130,"Paperboard mills",66170,2433542,15162696,1569609,990317,34297086,4.67,8.51,2018]
[3222,"Converted paper product manufacturing",377469,9179000,69501802,532391,1026438,113528335,4.67,8.51,2018]
[32221,"Paperboard container manufacturing",226929,5523824,43736679,242847,522104,67556104,4.67,8.51,2018]
[322211,"Corrugated and solid fiber box manufacturing",117016,2957986,25558718,167815,261046,38757486,4.67,8.51,2018]
[322212,"Folding paperboard box manufacturing",79205,1899087,13884001,57604,181181,21239697,4.67,8.51,2018]
[322219,"Other paperboard container manufacturing",30708,666751,4293961,17428,79877,7558921,4.67,8.51,2018]
[32222,"Paper bag and coated and treated paper manufacturing",75225,1930018,12987022,197873,257401,23345495,4.67,8.51,2018]
[322220,"Paper bag and coated and treated paper manufacturing",75225,1930018,12987022,197873,257401,23345495,4.67,8.51,2018]
[32223,"Stationery product manufacturing",24344,517898,3777305,5956,51093,5789792,4.67,8.51,2018]
[322230,"Stationery product manufacturing",24344,517898,3777305,5956,51093,5789792,4.67,8.51,2018]
[32229,"Other converted paper product manufacturing",50970,1207260,9000796,85715,195840,16836945,4.67,8.51,2018]
[322291,"Sanitary paper product manufacturing",28129,739423,6666389,51440,118736,12092257,4.67,8.51,2018]
[322299,"All other converted paper product manufacturing",22841,467837,2334407,34275,77104,4744688,4.67,8.51,2018]
[323,"Printing and related support activities",568709,13098385,33812291,269357,908957,83310469,3.66,5.89,2018]
[3231,"Printing and related support activities",568709,13098385,33812291,269357,908957,83310469,3.66,5.89,2018]
[32311,"Printing",537526,12422051,33039560,264334,882646,80394828,3.66,5.89,2018]
[323111,"Commercial printing (except screen and books)",422327,10195653,27240344,224092,743058,66990907,3.66,5.89,2018]
[323113,"Commercial screen printing",78255,1379396,3896810,27928,65132,8869763,3.66,5.89,2018]
[323117,"Books printing",36945,847002,1902406,12314,74457,4534159,3.66,5.89,2018]
[32312,"Support activities for printing",31183,676334,772731,5023,26311,2915640,3.66,5.89,2018]
[323120,"Support activities for printing",31183,676334,772731,5023,26311,2915640,3.66,5.89,2018]
[324,"Petroleum and coal products manufacturing",158251,6657061,530691562,5528483,3205380,672627047,3.9,3.7699999999999996,2018]
[3241,"Petroleum and coal products manufacturing",158251,6657061,530691562,5528483,3205380,672627047,3.9,3.7699999999999996,2018]
[32411,"Petroleum refineries",92990,4657669,500971002,5003658,2841133,624724725,3.9,3.7699999999999996,2018]
[324110,"Petroleum refineries",92990,4657669,500971002,5003658,2841133,624724725,3.9,3.7699999999999996,2018]
[32412,"Asphalt paving, roofing, and saturated materials manufacturing",41581,1251968,14957882,405207,272394,24935817,3.9,3.7699999999999996,2018]
[324121,"Asphalt paving mixture and block manufacturing",25431,761547,9007982,344249,198854,13919254,3.9,3.7699999999999996,2018]
[324122,"Asphalt shingle and coating materials manufacturing",16150,490421,5949900,60958,73540,11016563,3.9,3.7699999999999996,2018]
[32419,"Other petroleum and coal products manufacturing",23681,747424,14762678,119617,91853,22966505,3.9,3.7699999999999996,2018]
[324191,"Petroleum lubricating oil and grease manufacturing",17589,557534,11996942,67656,65250,18425065,3.9,3.7699999999999996,2018]
[324199,"All other petroleum and coal products manufacturing",6091,189890,2765736,51962,26603,4541440,3.9,3.7699999999999996,2018]
[325,"Chemical manufacturing",952209,31574798,351486114,9543324,8665178,758063316,3.49,13.120000000000001,2018]
[3251,"Basic chemical manufacturing",195046,7711996,128715819,6406837,4450106,230686282,4.79,7.59,2018]
[32511,"Petrochemical manufacturing",13339,747887,33719294,1834408,400389,58821513,4.79,7.59,2018]
[325110,"Petrochemical manufacturing",13339,747887,33719294,1834408,400389,58821513,4.79,7.59,2018]
[32512,"Industrial gas manufacturing",15747,541420,2831925,355682,736402,8825127,4.79,7.59,2018]
[325120,"Industrial gas manufacturing",15747,541420,2831925,355682,736402,8825127,4.79,7.59,2018]
[32513,"Synthetic dye and pigment manufacturing",9603,357594,3139035,78349,111130,6095878,4.79,7.59,2018]
[325130,"Synthetic dye and pigment manufacturing",9603,357594,3139035,78349,111130,6095878,4.79,7.59,2018]
[32518,"Other basic inorganic chemical manufacturing",51599,1969592,13719293,1030570,1388045,34869685,4.79,7.59,2018]
[325180,"Other basic inorganic chemical manufacturing",51599,1969592,13719293,1030570,1388045,34869685,4.79,7.59,2018]
[32519,"Other basic organic chemical manufacturing",104758,4095503,75306271,3107828,1814140,122074079,4.79,7.59,2018]
[325193,"Ethyl alcohol manufacturing",18809,547642,25591658,1411548,758718,31366652,4.79,7.59,2018]
[325194,"Cyclic crude, intermediate, and gum and wood chemical manufacturing",7098,259201,3229751,67858,106198,6173853,4.79,7.59,2018]
[325199,"All other basic organic chemical manufacturing",78851,3288660,46484863,1628423,949224,84533574,4.79,7.59,2018]
[3252,"Resin, synthetic rubber, and artificial synthetic fibers and filaments manufacturing",132466,4504362,68683315,1840602,1895038,109692840,4.79,7.59,2018]
[32521,"Resin and synthetic rubber manufacturing",111520,4027808,64836315,1748353,1750040,103249131,4.79,7.59,2018]
[325211,"Plastics material and resin manufacturing",98362,3576832,59719844,1639717,1652818,94852760,4.79,7.59,2018]
[325212,"Synthetic rubber manufacturing",13158,450977,5116471,108637,97222,8396371,4.79,7.59,2018]
[32522,"Artificial and synthetic fibers and filaments manufacturing",20946,476553,3846999,92249,144998,6443709,4.79,7.59,2018]
[325220,"Artificial and synthetic fibers and filaments manufacturing",20946,476553,3846999,92249,144998,6443709,4.79,7.59,2018]
[3253,"Pesticide, fertilizer, and other agricultural chemical manufacturing",44973,1378120,15551949,409655,455551,32589952,3.7699999999999996,12.21,2018]
[32531,"Fertilizer manufacturing",30028,949043,8310248,343478,371941,17982488,3.7699999999999996,12.21,2018]
[325311,"Nitrogenous fertilizer manufacturing",7917,317221,2296285,285564,233073,6980879,3.7699999999999996,12.21,2018]
[325312,"Phosphatic fertilizer manufacturing",10366,375102,3301086,"N.A.",113335,6073654,3.7699999999999996,12.21,2018]
[325314,"Fertilizer (mixing only) manufacturing",11745,256720,2712877,"N.A.",25533,4927955,3.7699999999999996,12.21,2018]
[32532,"Pesticide and other agricultural chemical manufacturing",14945,429077,7241701,66176,83610,14607464,3.7699999999999996,12.21,2018]
[325320,"Pesticide and other agricultural chemical manufacturing",14945,429077,7241701,66176,83610,14607464,3.7699999999999996,12.21,2018]
[3254,"Pharmaceutical and medicine manufacturing",275547,9779116,56370880,354167,889529,209256454,2.65,16.39,2018]
[32541,"Pharmaceutical and medicine manufacturing",275547,9779116,56370880,354167,889529,209256454,2.65,16.39,2018]
[325411,"Medicinal and botanical manufacturing",31470,980212,4597903,"N.A.",94476,11992741,2.65,16.39,2018]
[325412,"Pharmaceutical preparation manufacturing",154316,5097548,36628352,175768,531493,153347176,2.65,16.39,2018]
[325413,"In-vitro diagnostic substance manufacturing",25254,817979,4736712,14932,52253,13392570,2.65,16.39,2018]
[325414,"Biological product (except diagnostic) manufacturing",64507,2883377,10407913,"N.A.",211307,30523968,2.65,16.39,2018]
[3255,"Paint, coating, and adhesive manufacturing",75354,2137346,21820867,99990,221457,43059295,3.7699999999999996,12.21,2018]
[32551,"Paint and coating manufacturing",44850,1284586,14198888,46806,118170,27352252,3.7699999999999996,12.21,2018]
[325510,"Paint and coating manufacturing",44850,1284586,14198888,46806,118170,27352252,3.7699999999999996,12.21,2018]
[32552,"Adhesive manufacturing",30504,852760,7621979,53183,103287,15707044,3.7699999999999996,12.21,2018]
[325520,"Adhesive manufacturing",30504,852760,7621979,53183,103287,15707044,3.7699999999999996,12.21,2018]
[3256,"Soap, cleaning compound, and toilet preparation manufacturing",124109,3249537,34766246,197021,315626,85185672,3.7699999999999996,12.21,2018]
[32561,"Soap and cleaning compound manufacturing",62836,1703288,15643294,151709,206662,38887393,3.7699999999999996,12.21,2018]
[325611,"Soap and other detergent manufacturing",37580,966322,8526310,29948,89950,24795711,3.7699999999999996,12.21,2018]
[325612,"Polish and other sanitation good manufacturing",17691,434443,2995937,14848,65416,6518700,3.7699999999999996,12.21,2018]
[325613,"Surface active agent manufacturing",7565,302522,4121047,106912,51295,7572981,3.7699999999999996,12.21,2018]
[32562,"Toilet preparation manufacturing",61273,1546249,19122952,45312,108964,46298279,3.7699999999999996,12.21,2018]
[325620,"Toilet preparation manufacturing",61273,1546249,19122952,45312,108964,46298279,3.7699999999999996,12.21,2018]
[3259,"Other chemical product and preparation manufacturing",104714,2814322,25577039,235051,437872,47592820,3.7699999999999996,12.21,2018]
[32591,"Printing ink manufacturing",11398,318958,2822201,7700,31278,4678660,3.7699999999999996,12.21,2018]
[325910,"Printing ink manufacturing",11398,318958,2822201,7700,31278,4678660,3.7699999999999996,12.21,2018]
[32592,"Explosives manufacturing",9782,246737,1100776,31529,23959,2726787,3.7699999999999996,12.21,2018]
[325920,"Explosives manufacturing",9782,246737,1100776,31529,23959,2726787,3.7699999999999996,12.21,2018]
[32599,"All other chemical product and preparation manufacturing",83534,2248627,21654062,195822,382635,40187373,3.7699999999999996,12.21,2018]
[325991,"Custom compounding of purchased resins",25203,600089,7857566,28594,147354,11493397,3.7699999999999996,12.21,2018]
[325992,"Photographic film, paper, plate, and chemical manufacturing",10557,272459,3230106,31817,52080,5961791,3.7699999999999996,12.21,2018]
[325998,"All other miscellaneous chemical product and preparation manufacturing",47774,1376079,10566391,135411,183201,22732184,3.7699999999999996,12.21,2018]
[326,"Plastics and rubber products manufacturing",1168043,25145177,127173879,832149,3885221,251621105,3.25,8.98,2018]
[3261,"Plastics product manufacturing",960120,19907208,103117762,611676,3316664,204595253,3.25,8.98,2018]
[32611,"Plastics packaging materials and unlaminated film and sheet manufacturing",158117,3596423,23455408,130376,671046,41022197,3.25,8.98,2018]
[326111,"Plastics bag and pouch manufacturing",55140,1091408,6144832,24346,171354,11281340,3.25,8.98,2018]
[326112,"Plastics packaging film and sheet (including laminated) manufacturing",52424,1319247,8327762,48592,207559,13838626,3.25,8.98,2018]
[326113,"Unlaminated plastics film and sheet (except packaging) manufacturing",50553,1185767,8982814,57438,292134,15902231,3.25,8.98,2018]
[32612,"Plastics pipe, pipe fitting, and unlaminated profile shape manufacturing",61705,1405504,9479469,46507,307133,20808328,3.25,8.98,2018]
[326121,"Unlaminated plastics profile shape manufacturing",26133,598939,2819566,20738,95969,8477168,3.25,8.98,2018]
[326122,"Plastics pipe and pipe fitting manufacturing",35571,806565,6659902,25769,211164,12331160,3.25,8.98,2018]
[32613,"Laminated plastics plate, sheet (except packaging), and shape manufacturing",17622,395617,1857530,21944,48150,4314372,3.25,8.98,2018]
[326130,"Laminated plastics plate, sheet (except packaging), and shape manufacturing",17622,395617,1857530,21944,48150,4314372,3.25,8.98,2018]
[32614,"Polystyrene foam product manufacturing",46534,843106,5269733,61054,129376,9487292,3.25,8.98,2018]
[326140,"Polystyrene foam product manufacturing",46534,843106,5269733,61054,129376,9487292,3.25,8.98,2018]
[32615,"Urethane and other foam product (except polystyrene) manufacturing",48374,939457,6249826,36788,81619,11448404,3.25,8.98,2018]
[326150,"Urethane and other foam product (except polystyrene) manufacturing",48374,939457,6249826,36788,81619,11448404,3.25,8.98,2018]
[32616,"Plastics bottle manufacturing",48328,1101295,6451624,26177,379035,11317480,3.25,8.98,2018]
[326160,"Plastics bottle manufacturing",48328,1101295,6451624,26177,379035,11317480,3.25,8.98,2018]
[32619,"Other plastics product manufacturing",579442,11625807,50354173,288830,1700305,106197180,3.25,8.98,2018]
[326191,"Plastics plumbing fixture manufacturing",28667,505031,1996847,12124,33505,4718632,3.25,8.98,2018]
[326199,"All other plastics product manufacturing",550775,11120776,48357325,276706,1666800,101478548,3.25,8.98,2018]
[3262,"Rubber product manufacturing",207923,5237969,24056117,220474,568557,47025852,3.25,8.98,2018]
[32621,"Tire manufacturing",86873,2501203,11351863,128000,283123,22378411,3.25,8.98,2018]
[326211,"Tire manufacturing (except retreading)",77450,2332954,10447019,117896,264286,20757693,3.25,8.98,2018]
[326212,"Tire retreading",9423,168249,904845,10103,18838,1620718,3.25,8.98,2018]
[32622,"Rubber and plastics hoses and belting manufacturing",30614,681347,2929157,21706,57163,5730931,3.25,8.98,2018]
[326220,"Rubber and plastics hoses and belting manufacturing",30614,681347,2929157,21706,57163,5730931,3.25,8.98,2018]
[32629,"Other rubber product manufacturing",90436,2055419,9775097,70768,228271,18916510,3.25,8.98,2018]
[326291,"Rubber product manufacturing for mechanical use",46206,1044326,4401536,28436,101021,8310117,3.25,8.98,2018]
[326299,"All other rubber product manufacturing",44230,1011093,5373561,42333,127250,10606393,3.25,8.98,2018]
[327,"Nonmetallic mineral product manufacturing",616191,15270707,56593150,2506238,2626296,130152791,6.35,8.6999999999999993,2018]
[3271,"Clay product and refractory manufacturing",52752,1102466,3026964,170548,155740,8374143,6.35,8.6999999999999993,2018]
[32711,"Pottery, ceramics, and plumbing fixture manufacturing",19209,371235,691813,21853,35105,2444074,6.35,8.6999999999999993,2018]
[327110,"Pottery, ceramics, and plumbing fixture manufacturing",19209,371235,691813,21853,35105,2444074,6.35,8.6999999999999993,2018]
[32712,"Clay building material and refractories manufacturing",33543,731230,2335152,148695,120635,5930068,6.35,8.6999999999999993,2018]
[327120,"Clay building material and refractories manufacturing",33543,731230,2335152,148695,120635,5930068,6.35,8.6999999999999993,2018]
[3272,"Glass and glass product manufacturing",150948,3665628,11262827,474358,806085,27649065,6.35,8.6999999999999993,2018]
[32721,"Glass and glass product manufacturing",150948,3665628,11262827,474358,806085,27649065,6.35,8.6999999999999993,2018]
[327211,"Flat glass manufacturing",21198,448082,1795532,146491,111940,4358026,6.35,8.6999999999999993,2018]
[327212,"Other pressed and blown glass and glassware manufacturing",23159,584899,1523634,102611,141764,3960443,6.35,8.6999999999999993,2018]
[327213,"Glass container manufacturing",22961,760566,1595349,170957,248770,4626329,6.35,8.6999999999999993,2018]
[327215,"Glass product manufacturing made of purchased glass",83630,1872082,6348313,54299,303611,14704266,6.35,8.6999999999999993,2018]
[3273,"Cement and concrete product manufacturing",283272,7166900,28566204,986721,914430,61478758,6.35,8.6999999999999993,2018]
[32731,"Cement manufacturing",29277,808108,2935490,643982,597608,8531996,6.35,8.6999999999999993,2018]
[327310,"Cement manufacturing",29277,808108,2935490,643982,597608,8531996,6.35,8.6999999999999993,2018]
[32732,"Ready-mix concrete manufacturing",134719,3676136,17257908,239288,165090,32360283,6.35,8.6999999999999993,2018]
[327320,"Ready-mix concrete manufacturing",134719,3676136,17257908,239288,165090,32360283,6.35,8.6999999999999993,2018]
[32733,"Concrete pipe, brick, and block manufacturing",34509,738070,2755577,39281,58296,6836693,6.35,8.6999999999999993,2018]
[327331,"Concrete block and brick manufacturing",20817,498091,1949623,30355,41155,4852420,6.35,8.6999999999999993,2018]
[327332,"Concrete pipe manufacturing",13693,239979,805954,8926,17141,1984273,6.35,8.6999999999999993,2018]
[32739,"Other concrete product manufacturing",84766,1944586,5617230,64170,93436,13749786,6.35,8.6999999999999993,2018]
[327390,"Other concrete product manufacturing",84766,1944586,5617230,64170,93436,13749786,6.35,8.6999999999999993,2018]
[3274,"Lime and gypsum product manufacturing",25115,757874,3857223,564815,216677,8429492,6.35,8.6999999999999993,2018]
[32741,"Lime manufacturing",8034,262179,1138392,348717,108066,2394609,6.35,8.6999999999999993,2018]
[327410,"Lime manufacturing",8034,262179,1138392,348717,108066,2394609,6.35,8.6999999999999993,2018]
[32742,"Gypsum product manufacturing",17081,495695,2718831,216098,108611,6034883,6.35,8.6999999999999993,2018]
[327420,"Gypsum product manufacturing",17081,495695,2718831,216098,108611,6034883,6.35,8.6999999999999993,2018]
[3279,"Other nonmetallic mineral product manufacturing",104103,2577839,9879932,309797,533364,24221333,6.35,8.6999999999999993,2018]
[32791,"Abrasive product manufacturing",13867,386418,1370587,23602,55221,4468104,6.35,8.6999999999999993,2018]
[327910,"Abrasive product manufacturing",13867,386418,1370587,23602,55221,4468104,6.35,8.6999999999999993,2018]
[32799,"All other nonmetallic mineral product manufacturing",90237,2191421,8509345,286194,478143,19753229,6.35,8.6999999999999993,2018]
[327991,"Cut stone and stone product manufacturing",37070,824418,2179339,20701,36907,5092606,6.35,8.6999999999999993,2018]
[327992,"Ground or treated mineral and earth manufacturing",12636,352459,1915864,102328,167214,4050708,6.35,8.6999999999999993,2018]
[327993,"Mineral wool manufacturing",23316,652880,2426859,110124,210468,6113064,6.35,8.6999999999999993,2018]
[327999,"All other miscellaneous nonmetallic mineral product manufacturing",17215,361664,1987283,53041,63554,4496851,6.35,8.6999999999999993,2018]
[331,"Primary metal manufacturing",610452,17251436,160646136,2488739,5622760,253346894,3.2399999999999998,7.4399999999999995,2018]
[3311,"Iron and steel mills and ferroalloy manufacturing",148407,5710912,66761881,1469530,2761839,102481444,3,7.7299999999999995,2018]
[33111,"Iron and steel mills and ferroalloy manufacturing",148407,5710912,66761881,1469530,2761839,102481444,3,7.7299999999999995,2018]
[331110,"Iron and steel mills and ferroalloy manufacturing",148407,5710912,66761881,1469530,2761839,102481444,3,7.7299999999999995,2018]
[3312,"Steel product manufacturing from purchased steel",82937,2025919,16950934,128876,357794,27449719,3,7.7299999999999995,2018]
[33121,"Iron and steel pipe and tube manufacturing from purchased steel",44054,1138962,8555381,65267,195189,14097369,3,7.7299999999999995,2018]
[331210,"Iron and steel pipe and tube manufacturing from purchased steel",44054,1138962,8555381,65267,195189,14097369,3,7.7299999999999995,2018]
[33122,"Rolling and drawing of purchased steel",38883,886958,8395552,63609,162604,13352349,3,7.7299999999999995,2018]
[331221,"Rolled steel shape manufacturing",15043,372070,4345007,32464,69872,6895195,3,7.7299999999999995,2018]
[331222,"Steel wire drawing",23840,514887,4050545,31145,92733,6457155,3,7.7299999999999995,2018]
[3313,"Alumina and aluminum production and processing",98736,2602170,28085116,430115,1083734,41954199,3.66,5.66,2018]
[33131,"Alumina and aluminum production and processing",98736,2602170,28085116,430115,1083734,41954199,3.66,5.66,2018]
[331313,"Alumina refining and primary aluminum production",6665,214919,2309395,108540,482361,3268798,3.66,5.66,2018]
[331314,"Secondary smelting and alloying of aluminum",10907,255396,5295952,"N.A.",53415,6420817,3.66,5.66,2018]
[331315,"Aluminum sheet, plate, and foil manufacturing",30204,1045976,12057383,"N.A.",392489,19014383,3.66,5.66,2018]
[331318,"Other aluminum rolling, drawing, and extruding",50961,1085879,8422385,74619,155469,13250201,3.66,5.66,2018]
[3314,"Nonferrous metal (except aluminum) production and processing",88260,2341359,34565739,213113,630704,50088944,3.66,5.66,2018]
[33141,"Nonferrous metal (except aluminum) smelting and refining",12170,367422,8070074,62554,255641,12214243,3.66,5.66,2018]
[331410,"Nonferrous metal (except aluminum) smelting and refining",12170,367422,8070074,62554,255641,12214243,3.66,5.66,2018]
[33142,"Copper rolling, drawing, extruding, and alloying",39805,958354,18110705,51711,176923,23491897,3.66,5.66,2018]
[331420,"Copper rolling, drawing, extruding, and alloying",39805,958354,18110705,51711,176923,23491897,3.66,5.66,2018]
[33149,"Nonferrous metal (except copper and aluminum) rolling, drawing, extruding, and alloying",36284,1015583,8384960,98848,198139,14382804,3.66,5.66,2018]
[331491,"Nonferrous metal (except copper and aluminum) rolling, drawing, extruding, and alloying",21786,645809,3791270,46787,105130,6700827,3.66,5.66,2018]
[331492,"Secondary smelting, refining, and alloying of nonferrous metal (except copper and aluminum)",14498,369774,4593690,52061,93009,7681977,3.66,5.66,2018]
[3315,"Foundries",192113,4571076,14282467,247105,788689,31372589,3.2,11.06,2018]
[33151,"Ferrous metal foundries",107224,2595394,8556769,128844,524026,18130155,3.2,11.06,2018]
[331511,"Iron foundries",62578,1517360,5321015,70944,354569,10576243,3.2,11.06,2018]
[331512,"Steel investment foundries",25371,602367,1529594,21581,67006,3936978,3.2,11.06,2018]
[331513,"Steel foundries (except investment)",19274,475666,1706161,36319,102451,3616934,3.2,11.06,2018]
[33152,"Nonferrous metal foundries",84889,1975682,5725697,118261,264663,13242434,3.2,11.06,2018]
[331523,"Nonferrous metal die-casting foundries",49245,1168465,3225971,71888,158570,7475756,3.2,11.06,2018]
[331524,"Aluminum foundries (except die-casting)",20649,496818,1313674,34432,66252,3029973,3.2,11.06,2018]
[331529,"Other nonferrous metal foundries (except die-casting)",14995,310399,1186052,11941,39841,2736705,3.2,11.06,2018]
[332,"Fabricated metal product manufacturing",2041609,50255286,170685092,1241022,3577446,372868338,2.8400000000000003,9.0499999999999989,2018]
[3321,"Forging and stamping",152041,3830643,18388029,176693,483172,33553806,2.8400000000000003,9.0499999999999989,2018]
[33211,"Forging and stamping",152041,3830643,18388029,176693,483172,33553806,2.8400000000000003,9.0499999999999989,2018]
[332111,"Iron and steel forging",32028,870890,5591121,82038,175033,9215121,2.8400000000000003,9.0499999999999989,2018]
[332112,"Nonferrous forging",9251,251048,1542777,11185,34162,2512202,2.8400000000000003,9.0499999999999989,2018]
[332114,"Custom roll forming",23970,624274,4507765,29002,88509,7507600,2.8400000000000003,9.0499999999999989,2018]
[332117,"Powder metallurgy part manufacturing",15239,338535,1068834,18437,55993,2442749,2.8400000000000003,9.0499999999999989,2018]
[332119,"Metal crown, closure, and other metal stamping (except automotive)",71554,1745896,5677531,36032,129476,11876134,2.8400000000000003,9.0499999999999989,2018]
[3322,"Cutlery and handtool manufacturing",48085,1129177,3755883,39061,80510,9996673,2.8400000000000003,9.0499999999999989,2018]
[33221,"Cutlery and handtool manufacturing",48085,1129177,3755883,39061,80510,9996673,2.8400000000000003,9.0499999999999989,2018]
[332215,"Metal kitchen cookware, utensil, cutlery, and flatware (except precious) manufacturing",9259,241008,1070898,17607,19468,3316427,2.8400000000000003,9.0499999999999989,2018]
[332216,"Saw blade and handtool manufacturing",38826,888169,2684985,21454,61042,6680246,2.8400000000000003,9.0499999999999989,2018]
[3323,"Architectural and structural metals manufacturing",513172,12034814,48816700,204766,572624,97709710,2.8400000000000003,9.0499999999999989,2018]
[33231,"Plate work and fabricated structural product manufacturing",237875,5955528,27156145,104814,287719,51929701,2.8400000000000003,9.0499999999999989,2018]
[332311,"Prefabricated metal building and component manufacturing",33753,729431,4735180,11809,32716,8477497,2.8400000000000003,9.0499999999999989,2018]
[332312,"Fabricated structural metal manufacturing",145453,3824929,18702979,65852,180973,35249029,2.8400000000000003,9.0499999999999989,2018]
[332313,"Plate work manufacturing",58669,1401167,3717986,27153,74030,8203174,2.8400000000000003,9.0499999999999989,2018]
[33232,"Ornamental and architectural metal products manufacturing",275297,6079286,21660555,99952,284905,45780009,2.8400000000000003,9.0499999999999989,2018]
[332321,"Metal window and door manufacturing",74177,1536580,6604719,21833,80639,12961188,2.8400000000000003,9.0499999999999989,2018]
[332322,"Sheet metal work manufacturing",152323,3485531,11791334,59669,165722,24949297,2.8400000000000003,9.0499999999999989,2018]
[332323,"Ornamental and architectural metal work manufacturing",48797,1057175,3264502,18451,38545,7869524,2.8400000000000003,9.0499999999999989,2018]
[3324,"Boiler, tank, and shipping container manufacturing",126870,3648622,20880893,101922,351193,36409625,2.8400000000000003,9.0499999999999989,2018]
[33241,"Power boiler and heat exchanger manufacturing",31224,893162,3638367,12637,45132,7627472,2.8400000000000003,9.0499999999999989,2018]
[332410,"Power boiler and heat exchanger manufacturing",31224,893162,3638367,12637,45132,7627472,2.8400000000000003,9.0499999999999989,2018]
[33242,"Metal tank (heavy gauge) manufacturing",48777,1405651,4713661,30641,67030,9709523,2.8400000000000003,9.0499999999999989,2018]
[332420,"Metal tank (heavy gauge) manufacturing",48777,1405651,4713661,30641,67030,9709523,2.8400000000000003,9.0499999999999989,2018]
[33243,"Metal can, box, and other metal container (light gauge) manufacturing",46869,1349809,12528866,58644,239030,19072630,2.8400000000000003,9.0499999999999989,2018]
[332431,"Metal can manufacturing",29855,984792,10755367,38053,214259,15783927,2.8400000000000003,9.0499999999999989,2018]
[332439,"Other metal container manufacturing",17014,365017,1773499,20591,24772,3288704,2.8400000000000003,9.0499999999999989,2018]
[3325,"Hardware manufacturing",38677,853863,4093249,13636,58009,9129923,2.8400000000000003,9.0499999999999989,2018]
[33251,"Hardware manufacturing",38677,853863,4093249,13636,58009,9129923,2.8400000000000003,9.0499999999999989,2018]
[332510,"Hardware manufacturing",38677,853863,4093249,13636,58009,9129923,2.8400000000000003,9.0499999999999989,2018]
[3326,"Spring and wire product manufacturing",57892,1263781,4753923,30473,91707,10003275,2.8400000000000003,9.0499999999999989,2018]
[33261,"Spring and wire product manufacturing",57892,1263781,4753923,30473,91707,10003275,2.8400000000000003,9.0499999999999989,2018]
[332613,"Spring manufacturing",28946,634290,2066062,13820,46112,4457221,2.8400000000000003,9.0499999999999989,2018]
[332618,"Other fabricated wire product manufacturing",28946,629491,2687861,16653,45595,5546054,2.8400000000000003,9.0499999999999989,2018]
[3327,"Machine shops; turned product; and screw, nut, and bolt manufacturing",558109,14503816,27314430,194666,793626,72630014,2.8400000000000003,9.0499999999999989,2018]
[33271,"Machine shops",340199,8955063,14157926,116498,420399,40573201,2.8400000000000003,9.0499999999999989,2018]
[332710,"Machine shops",340199,8955063,14157926,116498,420399,40573201,2.8400000000000003,9.0499999999999989,2018]
[33272,"Turned product and screw, nut, and bolt manufacturing",217910,5548752,13156504,78168,373227,32056813,2.8400000000000003,9.0499999999999989,2018]
[332721,"Precision turned product manufacturing",161268,4078138,7837284,45750,254290,20724133,2.8400000000000003,9.0499999999999989,2018]
[332722,"Bolt, nut, screw, rivet, and washer manufacturing",56642,1470614,5319220,32418,118937,11332679,2.8400000000000003,9.0499999999999989,2018]
[3328,"Coating, engraving, heat treating, and allied activities",192274,4238966,10729453,309169,554450,28269324,2.8400000000000003,9.0499999999999989,2018]
[33281,"Coating, engraving, heat treating, and allied activities",192274,4238966,10729453,309169,554450,28269324,2.8400000000000003,9.0499999999999989,2018]
[332811,"Metal heat treating",33859,820834,2030080,98602,164910,5690041,2.8400000000000003,9.0499999999999989,2018]
[332812,"Metal coating, engraving (except jewelry and silverware), and allied services to manufacturers",83310,1836387,6210816,120074,207811,14937169,2.8400000000000003,9.0499999999999989,2018]
[332813,"Electroplating, plating, polishing, anodizing, and coloring",75105,1581745,2488557,90493,181729,7642114,2.8400000000000003,9.0499999999999989,2018]
[3329,"Other fabricated metal product manufacturing",354489,8751604,31952532,170636,592157,75165988,2.8400000000000003,9.0499999999999989,2018]
[33291,"Metal valve manufacturing",129250,3324051,14623946,42526,207668,33251101,2.8400000000000003,9.0499999999999989,2018]
[332911,"Industrial valve manufacturing",48821,1238295,5266048,17156,82947,12733114,2.8400000000000003,9.0499999999999989,2018]
[332912,"Fluid power valve and hose fitting manufacturing",51220,1402971,5324709,11386,73999,11254158,2.8400000000000003,9.0499999999999989,2018]
[332913,"Plumbing fixture fitting and trim manufacturing",13619,291763,2372247,4313,14386,5263599,2.8400000000000003,9.0499999999999989,2018]
[332919,"Other metal valve and pipe fitting manufacturing",15589,391022,1660942,9671,36335,4000231,2.8400000000000003,9.0499999999999989,2018]
[33299,"All other fabricated metal product manufacturing",225239,5427553,17328586,128110,384489,41914886,2.8400000000000003,9.0499999999999989,2018]
[332991,"Ball and roller bearing manufacturing",32645,836690,2609697,23020,97904,6431827,2.8400000000000003,9.0499999999999989,2018]
[332992,"Small arms ammunition manufacturing",21124,500539,1664294,"N.A.",31559,3959592,2.8400000000000003,9.0499999999999989,2018]
[332993,"Ammunition (except small arms) manufacturing",10194,307770,605504,16229,30997,3242498,2.8400000000000003,9.0499999999999989,2018]
[332994,"Small arms, ordnance, and ordnance accessories manufacturing",25329,624493,2805923,"N.A.",33004,6120498,2.8400000000000003,9.0499999999999989,2018]
[332996,"Fabricated pipe and pipe fitting manufacturing",42834,1004816,2976500,17512,45457,6844150,2.8400000000000003,9.0499999999999989,2018]
[332999,"All other miscellaneous fabricated metal product manufacturing",93111,2153245,6666669,53026,145568,15316320,2.8400000000000003,9.0499999999999989,2018]
[333,"Machinery manufacturing",1294034,34110766,200717544,592666,2044796,390434595,2.5700000000000003,7.7399999999999993,2018]
[3331,"Agriculture, construction, and mining machinery manufacturing",239286,6236101,54423398,147393,425821,92101680,2.5700000000000003,7.7399999999999993,2018]
[33311,"Agricultural implement manufacturing",98213,2194036,22662853,56293,156115,36727796,2.5700000000000003,7.7399999999999993,2018]
[333111,"Farm machinery and equipment manufacturing",71233,1721076,17235250,46610,126725,28939188,2.5700000000000003,7.7399999999999993,2018]
[333112,"Lawn and garden tractor and home lawn and garden equipment manufacturing",26980,472960,5427603,9683,29390,7788608,2.5700000000000003,7.7399999999999993,2018]
[33312,"Construction machinery manufacturing",78157,2141178,19370426,53295,148452,34815997,2.5700000000000003,7.7399999999999993,2018]
[333120,"Construction machinery manufacturing",78157,2141178,19370426,53295,148452,34815997,2.5700000000000003,7.7399999999999993,2018]
[33313,"Mining and oil and gas field machinery manufacturing",62916,1900886,12390118,37804,121254,20557887,2.5700000000000003,7.7399999999999993,2018]
[333131,"Mining machinery and equipment manufacturing",19102,458281,2930476,13693,37511,4981177,2.5700000000000003,7.7399999999999993,2018]
[333132,"Oil and gas field machinery and equipment manufacturing",43813,1442605,9459643,24111,83743,15576710,2.5700000000000003,7.7399999999999993,2018]
[3332,"Industrial machinery manufacturing",119211,3464823,17249964,50958,199469,36273308,2.5700000000000003,7.7399999999999993,2018]
[33324,"Industrial machinery manufacturing",119211,3464823,17249964,50958,199469,36273308,2.5700000000000003,7.7399999999999993,2018]
[333241,"Food product machinery manufacturing",21604,570204,2665392,7796,23889,5690589,2.5700000000000003,7.7399999999999993,2018]
[333242,"Semiconductor machinery manufacturing",15844,559870,4759258,4249,58773,9358428,2.5700000000000003,7.7399999999999993,2018]
[333243,"Sawmill, woodworking, and paper machinery manufacturing",14328,401183,1687923,8407,22986,3700737,2.5700000000000003,7.7399999999999993,2018]
[333244,"Printing machinery and equipment manufacturing",6611,191822,989597,3342,14470,1804592,2.5700000000000003,7.7399999999999993,2018]
[333249,"Other industrial machinery manufacturing",60825,1741745,7147793,27164,79350,15718961,2.5700000000000003,7.7399999999999993,2018]
[3333,"Commercial and service industry machinery manufacturing",81303,2151777,11925266,36157,129070,26360338,2.5700000000000003,7.7399999999999993,2018]
[33331,"Commercial and service industry machinery manufacturing",81303,2151777,11925266,36157,"N.A.",26360338,2.5700000000000003,7.7399999999999993,2018]
[333314,"Optical instrument and lens manufacturing",17466,610840,2171720,10261,41467,4902505,2.5700000000000003,7.7399999999999993,2018]
[333316,"Photographic and photocopying equipment manufacturing",3094,81811,439444,819,4164,1268084,2.5700000000000003,7.7399999999999993,2018]
[333318,"Other commercial and service industry machinery manufacturing",60743,1459125,9314103,25077,"N.A.",20189749,2.5700000000000003,7.7399999999999993,2018]
[3334,"Ventilation, heating, air-conditioning, and commercial refrigeration equipment manufacturing",175189,3761153,21200908,69368,197001,44149565,2.5700000000000003,7.7399999999999993,2018]
[33341,"Ventilation, heating, air-conditioning, and commercial refrigeration equipment manufacturing",175189,3761153,21200908,69368,197001,44149565,2.5700000000000003,7.7399999999999993,2018]
[333413,"Industrial and commercial fan and blower and air purification equipment manufacturing",34869,643055,2822473,13710,36180,6136820,2.5700000000000003,7.7399999999999993,2018]
[333414,"Heating equipment (except warm air furnaces) manufacturing",17222,381370,2043571,14103,30102,4590194,2.5700000000000003,7.7399999999999993,2018]
[333415,"Air-conditioning and warm air heating equipment and commercial and industrial refrigeration equipment manufacturing",123098,2736728,16334864,41555,130719,33422551,2.5700000000000003,7.7399999999999993,2018]
[3335,"Metalworking machinery manufacturing",204435,5590547,13061517,75541,321860,33371316,2.5700000000000003,7.7399999999999993,2018]
[33351,"Metalworking machinery manufacturing",204435,5590547,13061517,75541,321860,33371316,2.5700000000000003,7.7399999999999993,2018]
[333511,"Industrial mold manufacturing",52897,1381704,2277183,24601,93367,6617590,2.5700000000000003,7.7399999999999993,2018]
[333514,"Special die and tool, die set, jig, and fixture manufacturing",64280,1836317,3705270,21289,101031,9326310,2.5700000000000003,7.7399999999999993,2018]
[333515,"Cutting tool and machine tool accessory manufacturing",37643,966135,2006549,13127,71355,5599267,2.5700000000000003,7.7399999999999993,2018]
[333517,"Machine tool manufacturing",34133,897598,3496117,9989,37338,8249223,2.5700000000000003,7.7399999999999993,2018]
[333519,"Rolling mill and other metalworking machinery manufacturing",15482,508793,1576397,6535,18769,3578926,2.5700000000000003,7.7399999999999993,2018]
[3336,"Engine, turbine, and power transmission equipment manufacturing",123654,3314274,27371673,70001,259818,47930754,2.5700000000000003,7.7399999999999993,2018]
[33361,"Engine, turbine, and power transmission equipment manufacturing",123654,3314274,27371673,70001,259818,47930754,2.5700000000000003,7.7399999999999993,2018]
[333611,"Turbine and turbine generator set units manufacturing",30121,1032876,4085410,17805,62974,10532008,2.5700000000000003,7.7399999999999993,2018]
[333612,"Speed changer, industrial high-speed drive, and gear manufacturing",16157,436601,1650281,7930,29444,3481561,2.5700000000000003,7.7399999999999993,2018]
[333613,"Mechanical power transmission equipment manufacturing",22058,529530,2271947,10628,43940,4905701,2.5700000000000003,7.7399999999999993,2018]
[333618,"Other engine equipment manufacturing",55318,1315266,19364036,33638,123460,29011484,2.5700000000000003,7.7399999999999993,2018]
[3339,"Other general purpose machinery manufacturing",350957,9592091,55484817,143247,511756,110247635,2.5700000000000003,7.7399999999999993,2018]
[33391,"Pump and compressor manufacturing",67337,1817683,13434936,29847,121576,28520137,2.5700000000000003,7.7399999999999993,2018]
[333912,"Air and gas compressor manufacturing",23189,590318,5599924,9041,39458,9791855,2.5700000000000003,7.7399999999999993,2018]
[333914,"Measuring, dispensing, and other pumping equipment manufacturing",44149,1227365,7835012,20806,82119,18728282,2.5700000000000003,7.7399999999999993,2018]
[33392,"Material handling equipment manufacturing",113149,3111556,18203107,44327,124649,32462132,2.5700000000000003,7.7399999999999993,2018]
[333921,"Elevator and moving stairway manufacturing",11853,244972,1931782,5998,13165,3346156,2.5700000000000003,7.7399999999999993,2018]
[333922,"Conveyor and conveying equipment manufacturing",41508,1170765,5230894,13869,53295,10412597,2.5700000000000003,7.7399999999999993,2018]
[333923,"Overhead traveling crane, hoist, and monorail system manufacturing",23538,664905,4066888,13234,20326,7979416,2.5700000000000003,7.7399999999999993,2018]
[333924,"Industrial truck, trailer, and stacker machinery manufacturing",36250,1030913,6973543,11226,37863,10723964,2.5700000000000003,7.7399999999999993,2018]
[33399,"All other general purpose machinery manufacturing",170470,4662853,23846775,69074,265531,49265366,2.5700000000000003,7.7399999999999993,2018]
[333991,"Power-driven handtool manufacturing",8554,241459,1904900,3442,17672,3512335,2.5700000000000003,7.7399999999999993,2018]
[333992,"Welding and soldering equipment manufacturing",16970,446725,2630645,11986,30558,5613234,2.5700000000000003,7.7399999999999993,2018]
[333993,"Packaging machinery manufacturing",22801,596619,3444765,8023,23111,7137563,2.5700000000000003,7.7399999999999993,2018]
[333994,"Industrial process furnace and oven manufacturing",13273,313949,1148514,5095,16931,2652572,2.5700000000000003,7.7399999999999993,2018]
[333995,"Fluid power cylinder and actuator manufacturing",29508,922449,3978403,9022,46440,7620851,2.5700000000000003,7.7399999999999993,2018]
[333996,"Fluid power pump and motor manufacturing",14450,428050,2683972,5075,27562,4582620,2.5700000000000003,7.7399999999999993,2018]
[333997,"Scale and balance manufacturing",3417,82325,593431,1193,3789,1040825,2.5700000000000003,7.7399999999999993,2018]
[333999,"All other miscellaneous general purpose machinery manufacturing",61498,1631278,7462146,25237,99466,17105365,2.5700000000000003,7.7399999999999993,2018]
[334,"Computer and electronic product manufacturing",700135,21435220,137304091,446386,2855284,315840774,35.099999999999994,9.9,2018]
[3341,"Computer and peripheral equipment manufacturing",29964,779841,12144967,10516,93680,21123188,23.200000000000003,13.209999999999999,2018]
[33411,"Computer and peripheral equipment manufacturing",29964,779841,12144967,10516,93680,21123188,23.200000000000003,13.209999999999999,2018]
[334111,"Electronic computer manufacturing",10377,264229,7373761,"N.A.",40786,9639065,23.200000000000003,13.209999999999999,2018]
[334112,"Computer storage device manufacturing",5036,131809,2275890,"N.A.",31956,4836867,23.200000000000003,13.209999999999999,2018]
[334118,"Computer terminal and other computer peripheral equipment manufacturing",14552,383803,2495317,4760,20937,6647256,23.200000000000003,13.209999999999999,2018]
[3342,"Communications equipment manufacturing",65823,2331415,16198869,22978,117211,35320148,2.64,8.61,2018]
[33421,"Telephone apparatus manufacturing",9308,322729,2450994,3485,25501,4359709,2.64,8.61,2018]
[334210,"Telephone apparatus manufacturing",9308,322729,2450994,3485,25501,4359709,2.64,8.61,2018]
[33422,"Radio and television broadcasting and wireless communications equipment manufacturing",46530,1778591,12194135,15885,81536,26841246,2.64,8.61,2018]
[334220,"Radio and television broadcasting and wireless communications equipment manufacturing",46530,1778591,12194135,15885,81536,26841246,2.64,8.61,2018]
[33429,"Other communications equipment manufacturing",9985,230095,1553739,3608,10174,4119193,2.64,8.61,2018]
[334290,"Other communications equipment manufacturing",9985,230095,1553739,3608,10174,4119193,2.64,8.61,2018]
[3343,"Audio and video equipment manufacturing",9521,201077,1448052,2851,9310,3201791,4.63,8.1,2018]
[33431,"Audio and video equipment manufacturing",9521,201077,1448052,2851,9310,3201791,4.63,8.1,2018]
[334310,"Audio and video equipment manufacturing",9521,201077,1448052,2851,9310,3201791,4.63,8.1,2018]
[3344,"Semiconductor and other electronic component manufacturing",290160,8942978,46931999,193855,1993596,100501987,4.63,8.1,2018]
[33441,"Semiconductor and other electronic component manufacturing",290160,8942978,46931999,193855,1993596,100501987,4.63,8.1,2018]
[334412,"Bare printed circuit board manufacturing",30843,781805,1956470,14073,61336,4487517,4.63,8.1,2018]
[334413,"Semiconductor and related device manufacturing",91764,4218478,20911539,138664,1707610,52713572,4.63,8.1,2018]
[334416,"Capacitor, resistor, coil, transformer, and other inductor manufacturing",25304,503844,1908889,4664,34777,4170472,4.63,8.1,2018]
[334417,"Electronic connector manufacturing",22959,651853,2383924,6409,35329,5637260,4.63,8.1,2018]
[334418,"Printed circuit assembly (electronic assembly) manufacturing",57913,1244925,14664532,13847,74276,20501877,4.63,8.1,2018]
[334419,"Other electronic component manufacturing",61377,1542073,5106645,16198,80267,12991288,4.63,8.1,2018]
[3345,"Navigational, measuring, electromedical, and control instruments manufacturing",296503,8958051,59795230,212210,622673,153997706,4.63,8.1,2018]
[33451,"Navigational, measuring, electromedical, and control instruments manufacturing",296503,8958051,59795230,212210,622673,153997706,4.63,8.1,2018]
[334510,"Electromedical and electrotherapeutic apparatus manufacturing",69830,1985836,13323446,23801,97741,34564459,4.63,8.1,2018]
[334511,"Search, detection, navigation, guidance, aeronautical, and nautical system and instrument manufacturing",75099,2689475,19386952,105441,239700,50864972,4.63,8.1,2018]
[334512,"Automatic environmental control manufacturing for residential, commercial, and appliance use",9430,222665,1329929,4075,12840,3066956,4.63,8.1,2018]
[334513,"Instruments and related products manufacturing for measuring, displaying, and controlling industrial process variables",32642,850638,3886080,7939,41207,11167064,4.63,8.1,2018]
[334514,"Totalizing fluid meter and counting device manufacturing",11757,270455,2522454,4301,21589,5391724,4.63,8.1,2018]
[334515,"Instrument manufacturing for measuring and testing electricity and electrical systems",23315,706633,3981103,10443,45244,11436218,4.63,8.1,2018]
[334516,"Analytical laboratory instrument manufacturing",32118,1005132,6896889,32412,69349,16265049,4.63,8.1,2018]
[334517,"Irradiation apparatus manufacturing",10256,391751,3221130,8174,48450,7988633,4.63,8.1,2018]
[334519,"Other measuring and controlling device manufacturing",32056,835465,5247246,15624,46552,13252630,4.63,8.1,2018]
[3346,"Manufacturing and reproducing magnetic and optical media",8164,221858,784974,3976,18814,1695953,4.63,8.1,2018]
[33461,"Manufacturing and reproducing magnetic and optical media",8164,221858,784974,3976,18814,1695953,4.63,8.1,2018]
[334613,"Blank magnetic and optical recording media manufacturing",733,19157,"N.A.","N.A.",1777,338641,4.63,8.1,2018]
[334614,"Software and other prerecorded compact disc, tape, and record reproducing",7431,202701,"N.A.","N.A.",17036,1357312,4.63,8.1,2018]
[335,"Electrical equipment, appliance, and component manufacturing",450796,10400359,65906375,267177,784040,129719356,2.33,8.19,2018]
[3351,"Electric lighting equipment manufacturing",49150,1064089,6224885,27928,58498,14264428,2.33,8.19,2018]
[33511,"Electric lamp bulb and part manufacturing",6654,195328,1037745,9227,10903,1753121,2.33,8.19,2018]
[335110,"Electric lamp bulb and part manufacturing",6654,195328,1037745,9227,10903,1753121,2.33,8.19,2018]
[33512,"Lighting fixture manufacturing",42496,868762,5187140,18701,47594,12511307,2.33,8.19,2018]
[335121,"Residential electric lighting fixture manufacturing",8492,156726,815758,5131,8502,2016360,2.33,8.19,2018]
[335122,"Commercial, industrial, and institutional electric lighting fixture manufacturing",21621,460435,2305746,8160,20002,5586609,2.33,8.19,2018]
[335129,"Other lighting equipment manufacturing",12383,251601,2065636,5411,19090,4908339,2.33,8.19,2018]
[3352,"Household appliance manufacturing",87167,1807125,12396479,29239,124870,23383498,2.33,8.19,2018]
[33521,"Small electrical appliance manufacturing",14500,244458,1929474,2343,14036,3832454,2.33,8.19,2018]
[335210,"Small electrical appliance manufacturing",14500,244458,1929474,2343,14036,3832454,2.33,8.19,2018]
[33522,"Major household appliance manufacturing",72667,1562667,10467005,26896,110834,19551044,2.33,8.19,2018]
[335220,"Major household appliance manufacturing",72667,1562667,10467005,26896,110834,19551044,2.33,8.19,2018]
[3353,"Electrical equipment manufacturing",135963,3230187,21205005,52243,162486,40073183,2.33,8.19,2018]
[33531,"Electrical equipment manufacturing",135963,3230187,21205005,52243,162486,40073183,2.33,8.19,2018]
[335311,"Power, distribution, and specialty transformer manufacturing",26809,544755,2955320,18023,39638,5625040,2.33,8.19,2018]
[335312,"Motor and generator manufacturing",36369,897051,6484684,12617,47510,10803246,2.33,8.19,2018]
[335313,"Switchgear and switchboard apparatus manufacturing",38090,918031,6578768,14048,35223,13122376,2.33,8.19,2018]
[335314,"Relay and industrial control manufacturing",34694,870350,5186233,7555,40115,10522522,2.33,8.19,2018]
[3359,"Other electrical equipment and component manufacturing",178516,4298957,26080006,157767,438186,51998246,2.33,8.19,2018]
[33591,"Battery manufacturing",41044,1027935,5512384,76018,108853,10046411,2.33,8.19,2018]
[335911,"Storage battery manufacturing",33800,811190,4099163,71259,77662,7771803,2.33,8.19,2018]
[335912,"Primary battery manufacturing",7245,216745,1413220,4760,31191,2274608,2.33,8.19,2018]
[33592,"Communication and energy wire and cable manufacturing",33355,766935,7055806,9287,75032,11242243,2.33,8.19,2018]
[335921,"Fiber optic cable manufacturing",9278,215566,1570768,2399,15766,2901202,2.33,8.19,2018]
[335929,"Other communication and energy wire manufacturing",24077,551369,5485038,6888,59266,8341041,2.33,8.19,2018]
[33593,"Wiring device manufacturing",54846,1154773,6463458,21929,97284,14674785,2.33,8.19,2018]
[335931,"Current-carrying wiring device manufacturing",34980,710719,3978949,8306,50174,8939202,2.33,8.19,2018]
[335932,"Noncurrent-carrying wiring device manufacturing",19866,444054,2484509,13624,47109,5735583,2.33,8.19,2018]
[33599,"All other electrical equipment and component manufacturing",49271,1349314,7048358,50533,157018,16034807,2.33,8.19,2018]
[335991,"Carbon and graphite product manufacturing",13635,397522,2100568,41041,91692,4467726,2.33,8.19,2018]
[335999,"All other miscellaneous electrical equipment and component manufacturing",35636,951792,4947790,9492,65326,11567081,2.33,8.19,2018]
[336,"Transportation equipment manufacturing",2210191,65990235,628113377,999735,3730067,989981398,2.15,5.66,2018]
[3361,"Motor vehicle manufacturing",370166,13200131,267254932,236662,585677,347588886,2.1399999999999997,3.1399999999999997,2018]
[33611,"Automobile and light duty motor vehicle manufacturing",319082,11679637,243479398,220663,543502,315171307,2.1399999999999997,3.1399999999999997,2018]
[336111,"Automobile manufacturing",125576,4763863,88533051,"N.A.",246488,108323824,2.1399999999999997,3.1399999999999997,2018]
[336112,"Light truck and utility vehicle manufacturing",193506,6915774,154946347,"N.A. ",297014,206847483,2.1399999999999997,3.1399999999999997,2018]
[33612,"Heavy duty truck manufacturing",51084,1520493,23775534,16000,42175,32417580,2.1399999999999997,3.1399999999999997,2018]
[336120,"Heavy duty truck manufacturing",51084,1520493,23775534,16000,42175,32417580,2.1399999999999997,3.1399999999999997,2018]
[3362,"Motor vehicle body and trailer manufacturing",239229,5552370,33252145,63191,161316,50808643,2.1399999999999997,3.1399999999999997,2018]
[33621,"Motor vehicle body and trailer manufacturing",239229,5552370,33252145,63191,161316,50808643,2.1399999999999997,3.1399999999999997,2018]
[336211,"Motor vehicle body manufacturing",74723,1694107,9559307,29854,54256,15297208,2.1399999999999997,3.1399999999999997,2018]
[336212,"Truck trailer manufacturing",57924,1262516,8426715,14003,46707,12069497,2.1399999999999997,3.1399999999999997,2018]
[336213,"Motor home manufacturing",19333,434283,3692268,"N. A.",11039,5178109,2.1399999999999997,3.1399999999999997,2018]
[336214,"Travel trailer and camper manufacturing",87249,2161464,11573855,"N.A.",49314,18263830,2.1399999999999997,3.1399999999999997,2018]
[3363,"Motor vehicle parts manufacturing",893193,22303292,181988776,376977,1718162,270159142,2.1399999999999997,3.1399999999999997,2018]
[33631,"Motor vehicle gasoline engine and engine parts manufacturing",101144,2915328,27896930,52311,257532,40184391,2.1399999999999997,3.1399999999999997,2018]
[336310,"Motor vehicle gasoline engine and engine parts manufacturing",101144,2915328,27896930,52311,257532,40184391,2.1399999999999997,3.1399999999999997,2018]
[33632,"Motor vehicle electrical and electronic equipment manufacturing",80124,1831673,15252946,20841,136633,24009763,2.1399999999999997,3.1399999999999997,2018]
[336320,"Motor vehicle electrical and electronic equipment manufacturing",80124,1831673,15252946,20841,136633,24009763,2.1399999999999997,3.1399999999999997,2018]
[33633,"Motor vehicle steering and suspension components (except spring) manufacturing",54663,1206516,10625164,25671,119949,15805193,2.1399999999999997,3.1399999999999997,2018]
[336330,"Motor vehicle steering and suspension components (except spring) manufacturing",54663,1206516,10625164,25671,119949,15805193,2.1399999999999997,3.1399999999999997,2018]
[33634,"Motor vehicle brake system manufacturing",36356,810624,7954249,14844,96373,12239697,2.1399999999999997,3.1399999999999997,2018]
[336340,"Motor vehicle brake system manufacturing",36356,810624,7954249,14844,96373,12239697,2.1399999999999997,3.1399999999999997,2018]
[33635,"Motor vehicle transmission and power train parts manufacturing",117385,3423131,29689990,63910,277854,42689314,2.1399999999999997,3.1399999999999997,2018]
[336350,"Motor vehicle transmission and power train parts manufacturing",117385,3423131,29689990,63910,277854,42689314,2.1399999999999997,3.1399999999999997,2018]
[33636,"Motor vehicle seating and interior trim manufacturing",105607,2458438,21550101,31007,133791,30128783,2.1399999999999997,3.1399999999999997,2018]
[336360,"Motor vehicle seating and interior trim manufacturing",105607,2458438,21550101,31007,133791,30128783,2.1399999999999997,3.1399999999999997,2018]
[33637,"Motor vehicle metal stamping",168305,4322730,25055239,71795,304661,38327693,2.1399999999999997,3.1399999999999997,2018]
[336370,"Motor vehicle metal stamping",168305,4322730,25055239,71795,304661,38327693,2.1399999999999997,3.1399999999999997,2018]
[33639,"Other motor vehicle parts manufacturing",229608,5334852,43964156,96600,391368,66774309,2.1399999999999997,3.1399999999999997,2018]
[336390,"Other motor vehicle parts manufacturing",229608,5334852,43964156,96600,391368,66774309,2.1399999999999997,3.1399999999999997,2018]
[3364,"Aerospace product and parts manufacturing",451013,17916623,107861089,213843,940612,251069099,2.11,11.27,2018]
[33641,"Aerospace product and parts manufacturing",451013,17916623,107861089,213843,940612,251069099,2.11,11.27,2018]
[336411,"Aircraft manufacturing",172030,7234366,60577712,"N.A.",390347,151871578,2.11,11.27,2018]
[336412,"Aircraft engine and engine parts manufacturing",98803,3668365,15446107,48903,164937,37430241,2.11,11.27,2018]
[336413,"Other aircraft parts and auxiliary equipment manufacturing",121977,4389920,18114422,"N.A.",272044,35132420,2.11,11.27,2018]
[336414,"Guided missile and space vehicle manufacturing",33520,1673140,7731399,"N.A.","N.A.",17901865,2.11,11.27,2018]
[336415,"Guided missile and space vehicle propulsion unit and propulsion unit parts manufacturing",19812,791867,5293881,11001,"N.A.",7468132,2.11,11.27,2018]
[336419,"Other guided missile and space vehicle parts and auxiliary equipment manufacturing",4872,158966,697568,"N.A.","N.A.",1264864,2.11,11.27,2018]
[3365,"Railroad rolling stock manufacturing",36954,1127450,8530881,26854,61174,12729207,0,0,2018]
[33651,"Railroad rolling stock manufacturing",36954,1127450,8530881,26854,61174,12729207,0,0,2018]
[336510,"Railroad rolling stock manufacturing",36954,1127450,8530881,26854,61174,12729207,0,0,2018]
[3366,"Ship and boat building",177256,4863649,16246241,57846,204825,36373643,0,0,2018]
[33661,"Ship and boat building",177256,4863649,16246241,57846,204825,36373643,0,0,2018]
[336611,"Ship building and repairing",119020,3547981,9667395,37465,149237,25084918,0,0,2018]
[336612,"Boat building",58237,1315668,6578846,20381,55588,11288725,0,0,2018]
[3369,"Other transportation equipment manufacturing",42380,1026721,12979314,24362,58302,21252778,0,0,2018]
[33699,"Other transportation equipment manufacturing",42380,1026721,12979314,24362,58302,21252778,0,0,2018]
[336991,"Motorcycle, bicycle, and parts manufacturing",13568,310282,3530656,4637,17194,6610926,0,0,2018]
[336992,"Military armored vehicle, tank, and tank component manufacturing",11335,335833,3496020,12387,15138,6034328,0,0,2018]
[336999,"All other transportation equipment manufacturing",17477,380606,5952638,7339,25969,8607525,0,0,2018]
[337,"Furniture and related product manufacturing",540902,10385430,35472970,179510,472143,77755883,2.4699999999999998,7.99,2018]
[3371,"Household and institutional furniture and kitchen cabinet manufacturing",323822,5995332,18348576,92542,264132,40207945,2.4699999999999998,7.99,2018]
[33711,"Wood kitchen cabinet and countertop manufacturing",136504,2558755,5987686,49401,125789,15245502,2.4699999999999998,7.99,2018]
[337110,"Wood kitchen cabinet and countertop manufacturing",136504,2558755,5987686,49401,125789,15245502,2.4699999999999998,7.99,2018]
[33712,"Household and institutional furniture manufacturing",187318,3436576,12360890,43141,138343,24962443,2.4699999999999998,7.99,2018]
[337121,"Upholstered household furniture manufacturing",101073,1828242,6696555,10355,48229,12714344,2.4699999999999998,7.99,2018]
[337122,"Nonupholstered wood household furniture manufacturing",36276,645829,1695213,11062,33961,3831632,2.4699999999999998,7.99,2018]
[337124,"Metal household furniture manufacturing",13908,271451,1283268,7975,13618,2301944,2.4699999999999998,7.99,2018]
[337125,"Household furniture (except wood and metal) manufacturing",3981,60486,597547,1412,8138,1107612,2.4699999999999998,7.99,2018]
[337127,"Institutional furniture manufacturing",32081,630569,2088308,12337,34397,5006913,2.4699999999999998,7.99,2018]
[3372,"Office furniture (including fixtures) manufacturing",168691,3543374,12256396,78382,184091,28131184,2.4699999999999998,7.99,2018]
[33721,"Office furniture (including fixtures) manufacturing",168691,3543374,12256396,78382,184091,28131184,2.4699999999999998,7.99,2018]
[337211,"Wood office furniture manufacturing",21991,384525,1063110,7350,21689,2751696,2.4699999999999998,7.99,2018]
[337212,"Custom architectural woodwork and millwork manufacturing",61006,1366884,3553951,29258,56105,8901052,2.4699999999999998,7.99,2018]
[337214,"Office furniture (except wood) manufacturing",36404,790175,3544914,13426,39320,8034399,2.4699999999999998,7.99,2018]
[337215,"Showcase, partition, shelving, and locker manufacturing",49290,1001791,4094421,28348,66976,8444037,2.4699999999999998,7.99,2018]
[3379,"Other furniture related product manufacturing",48389,846724,4867998,8586,23921,9416754,2.4699999999999998,7.99,2018]
[33791,"Mattress manufacturing",35514,595783,3740579,5983,14620,7061471,2.4699999999999998,7.99,2018]
[337910,"Mattress manufacturing",35514,595783,3740579,5983,14620,7061471,2.4699999999999998,7.99,2018]
[33792,"Blind and shade manufacturing",12874,250940,1127419,2602,9300,2355283,2.4699999999999998,7.99,2018]
[337920,"Blind and shade manufacturing",12874,250940,1127419,2602,9300,2355283,2.4699999999999998,7.99,2018]
[339,"Miscellaneous manufacturing",636362,13849336,56053731,218954,739214,153741167,3.2800000000000002,10.68,2018]
[3391,"Medical equipment and supplies manufacturing",323153,7424680,30450261,78519,365248,92023378,3.2800000000000002,10.68,2018]
[33911,"Medical equipment and supplies manufacturing",323153,7424680,30450261,78519,365248,92023378,3.2800000000000002,10.68,2018]
[339112,"Surgical and medical instrument manufacturing",138346,3256872,13266103,39052,179695,41481657,3.2800000000000002,10.68,2018]
[339113,"Surgical appliance and supplies manufacturing",87140,1954823,12343784,24595,102932,34552907,3.2800000000000002,10.68,2018]
[339114,"Dental equipment and supplies manufacturing",14351,339589,1323790,1618,15702,4473628,3.2800000000000002,10.68,2018]
[339115,"Ophthalmic goods manufacturing",28676,618205,2382588,4556,44792,6397805,3.2800000000000002,10.68,2018]
[339116,"Dental laboratories",54640,1255192,1133995,8698,22126,5117382,3.2800000000000002,10.68,2018]
[3399,"Other miscellaneous manufacturing",313210,6424656,25603470,140435,373966,61717790,3.2800000000000002,10.68,2018]
[33991,"Jewelry and silverware manufacturing",24103,514959,3448830,6480,18540,7415583,3.2800000000000002,10.68,2018]
[339910,"Jewelry and silverware manufacturing",24103,514959,3448830,6480,18540,7415583,3.2800000000000002,10.68,2018]
[33992,"Sporting and athletic goods manufacturing",43489,829146,4386834,28733,76402,10312941,3.2800000000000002,10.68,2018]
[339920,"Sporting and athletic goods manufacturing",43489,829146,4386834,28733,76402,10312941,3.2800000000000002,10.68,2018]
[33993,"Doll, toy, and game manufacturing",7057,155821,742620,5307,10415,1524687,3.2800000000000002,10.68,2018]
[339930,"Doll, toy, and game manufacturing",7057,155821,742620,5307,10415,1524687,3.2800000000000002,10.68,2018]
[33994,"Office supplies (except paper) manufacturing",12902,247369,1519663,5584,16338,3063089,3.2800000000000002,10.68,2018]
[339940,"Office supplies (except paper) manufacturing",12902,247369,1519663,5584,16338,3063089,3.2800000000000002,10.68,2018]
[33995,"Sign manufacturing",85230,1767419,4998876,26088,60127,12649262,3.2800000000000002,10.68,2018]
[339950,"Sign manufacturing",85230,1767419,4998876,26088,60127,12649262,3.2800000000000002,10.68,2018]
[33999,"All other miscellaneous manufacturing",140428,2909942,10506647,68243,192144,26752227,3.2800000000000002,10.68,2018]
[339991,"Gasket, packing, and sealing device manufacturing",41403,856295,2934021,24187,79156,7114382,3.2800000000000002,10.68,2018]
[339992,"Musical instrument manufacturing",15979,326540,713441,8552,16803,2133658,3.2800000000000002,10.68,2018]
[339993,"Fastener, button, needle, and pin manufacturing",4800,102409,429878,5911,14990,966167,3.2800000000000002,10.68,2018]
[339994,"Broom, brush, and mop manufacturing",14388,235333,1452644,2503,21087,2960285,3.2800000000000002,10.68,2018]
[339995,"Burial casket manufacturing",4293,88812,305517,6899,7845,678450,3.2800000000000002,10.68,2018]
[339999,"All other miscellaneous manufacturing",59566,1300553,4671147,20192,52264,12899285,3.2800000000000002,10.68,2018]

{"sheet":"2019 Econ Census Data","index":162,"n_rows":649,"n_cols":11,"rows_kept":649,"cut":false,"hidden":false,"merged":[]}
["2017 NAICS code","Meaning of NAICS code","Production workers annual hours (1,000)","Production workers annual wages ($1,000)","Total cost of materials ($1,000)","Cost of purchased fuels consumed ($1,000)","Cost of purchased electricity ($1,000)","Sales, value of shipments, or revenue ($1,000)","Depreciation","Operating Income","Year"]
[]
["31-33","Manufacturing",16041273,410478536,3180441183,32030407,50357309,5731187355,2.44,7.76,2019]
[311,"Food manufacturing",2375000,49934879,485135354,3415623,5681498,794130354,2.58,7.71,2019]
[3111,"Animal food manufacturing",81842,1976962,35377543,193005,345531,56457309,2.58,7.71,2019]
[31111,"Animal food manufacturing",81842,1976962,35377543,193005,345531,56457309,2.58,7.71,2019]
[311111,"Dog and cat food manufacturing",44276,1020835,12908453,72337,123643,23494350,2.58,7.71,2019]
[311119,"Other animal food manufacturing",37566,956128,22469090,120668,221889,32962958,2.58,7.71,2019]
[3112,"Grain and oilseed milling",81327,2194770,59449142,621251,840885,81901050,2.58,7.71,2019]
[31121,"Flour milling and malt manufacturing",28721,697701,11858616,70337,244576,17754174,2.58,7.71,2019]
[311211,"Flour milling",19171,485163,8562790,31653,175686,12704645,2.58,7.71,2019]
[311212,"Rice milling",8280,178961,2584327,"N.A.",51652,3925965,2.58,7.71,2019]
[311213,"Malt manufacturing",1270,33576,711499,"N.A.",17239,1123564,2.58,7.71,2019]
[31122,"Starch and vegetable fats and oils manufacturing",33238,911467,42165341,496054,519938,54061476,2.58,7.71,2019]
[311221,"Wet corn milling",9204,302569,6021788,236480,273814,10013478,2.58,7.71,2019]
[311224,"Soybean and other oilseed processing",14830,379967,29306610,235127,211327,34930367,2.58,7.71,2019]
[311225,"Fats and oils refining and blending",9203,228931,6836944,24447,34797,9117630,2.58,7.71,2019]
[31123,"Breakfast cereal manufacturing",19368,585602,5425185,54860,76371,10085401,2.58,7.71,2019]
[311230,"Breakfast cereal manufacturing",19368,585602,5425185,54860,76371,10085401,2.58,7.71,2019]
[3113,"Sugar and confectionery product manufacturing",119080,2681294,21838315,380110,349257,38868977,2.58,7.71,2019]
[31131,"Sugar manufacturing",26032,596411,7015219,289566,118958,10454730,2.58,7.71,2019]
[311313,"Beet sugar manufacturing",12398,279660,2111926,170640,"N.A.",3840502,2.58,7.71,2019]
[311314,"Cane sugar manufacturing",13634,316751,4903293,118926,"N.A.",6614228,2.58,7.71,2019]
[31134,"Nonchocolate confectionery manufacturing",31432,701187,5129164,39591,103263,10622228,2.58,7.71,2019]
[311340,"Nonchocolate confectionery manufacturing",31432,701187,5129164,39591,103263,10622228,2.58,7.71,2019]
[31135,"Chocolate and chocolate confectionery manufacturing",61616,1383697,9693932,50953,127036,17792019,2.58,7.71,2019]
[311351,"Chocolate and confectionery manufacturing from cacao beans",12938,334405,3274403,11908,41831,4609031,2.58,7.71,2019]
[311352,"Confectionery manufacturing from purchased chocolate",48678,1049292,6419529,39045,85205,13182988,2.58,7.71,2019]
[3114,"Fruit and vegetable preserving and specialty food manufacturing",263192,5629959,38258987,482317,679635,72528590,2.58,7.71,2019]
[31141,"Frozen food manufacturing",141246,2870119,16998551,165345,362997,32394644,2.58,7.71,2019]
[311411,"Frozen fruit, juice, and vegetable manufacturing",50694,964098,6192448,101314,164732,12628357,2.58,7.71,2019]
[311412,"Frozen specialty food manufacturing",90552,1906021,10806102,64031,198265,19766288,2.58,7.71,2019]
[31142,"Fruit and vegetable canning, pickling, and drying",121946,2759840,21260437,316973,316638,40133946,2.58,7.71,2019]
[311421,"Fruit and vegetable canning",78687,1836446,14910683,221086,219800,25280171,2.58,7.71,2019]
[311422,"Specialty canning",21132,436773,3035850,36347,39610,8250605,2.58,7.71,2019]
[311423,"Dried and dehydrated food manufacturing",22126,486621,3313903,59539,57228,6603171,2.58,7.71,2019]
[3115,"Dairy product manufacturing",227397,5753775,82270314,422577,797543,122059508,2.58,7.71,2019]
[31151,"Dairy product (except frozen) manufacturing",193091,4942872,77249650,402826,705675,113939076,2.58,7.71,2019]
[311511,"Fluid milk manufacturing",67597,1947748,25043511,120498,254938,38185509,2.58,7.71,2019]
[311512,"Creamery butter manufacturing",6639,153591,5787400,32739,37670,7154917,2.58,7.71,2019]
[311513,"Cheese manufacturing",92872,2133455,37663192,169764,310155,51536790,2.58,7.71,2019]
[311514,"Dry, condensed, and evaporated dairy product manufacturing",25982,708078,8755546,79826,102913,17061860,2.58,7.71,2019]
[31152,"Ice cream and frozen dessert manufacturing",34306,810903,5020664,19750,91868,8120431,2.58,7.71,2019]
[311520,"Ice cream and frozen dessert manufacturing",34306,810903,5020664,19750,91868,8120431,2.58,7.71,2019]
[3116,"Animal slaughtering and processing",885400,16472791,151844652,577783,1374360,220160989,2.58,7.71,2019]
[31161,"Animal slaughtering and processing",885400,16472791,151844652,577783,1374360,220160989,2.58,7.71,2019]
[311611,"Animal (except poultry) slaughtering",269420,5670673,73297856,173164,379732,96486633,2.58,7.71,2019]
[311612,"Meat processed from carcasses",185978,3861448,37583655,117013,393579,54305849,2.58,7.71,2019]
[311613,"Rendering and meat byproduct processing",13688,338863,2465310,133397,78397,4453182,2.58,7.71,2019]
[311615,"Poultry processing",416314,6601806,38497832,154209,522652,64915324,2.58,7.71,2019]
[3117,"Seafood product preparation and packaging",56406,1046638,8803333,136025,86704,13659961,2.58,7.71,2019]
[31171,"Seafood product preparation and packaging",56406,1046638,8803333,136025,86704,13659961,2.58,7.71,2019]
[311710,"Seafood product preparation and packaging",56406,1046638,8803333,136025,86704,13659961,2.58,7.71,2019]
[3118,"Bakeries and tortilla manufacturing",353494,7396010,28986410,293069,615902,70841573,2.58,7.71,2019]
[31181,"Bread and bakery product manufacturing",253753,5186434,16356469,210580,405306,43497296,2.58,7.71,2019]
[311811,"Retail bakeries",68603,1131011,1573294,37390,57388,5215028,2.58,7.71,2019]
[311812,"Commercial bakeries",149409,3421118,11853253,153376,288128,32105653,2.58,7.71,2019]
[311813,"Frozen cakes, pies, and other pastries manufacturing",35741,634305,2929922,19814,59789,6176615,2.58,7.71,2019]
[31182,"Cookie, cracker, and pasta manufacturing",68336,1623815,10932712,61851,167477,22814429,2.58,7.71,2019]
[311821,"Cookie and cracker manufacturing",40572,899661,4326782,34948,63656,10870816,2.58,7.71,2019]
[311824,"Dry pasta, dough, and flour mixes manufacturing from purchased flour",27764,724154,6605930,26903,103821,11943613,2.58,7.71,2019]
[31183,"Tortilla manufacturing",31406,585761,1697229,20639,43119,4529848,2.58,7.71,2019]
[311830,"Tortilla manufacturing",31406,585761,1697229,20639,43119,4529848,2.58,7.71,2019]
[3119,"Other food manufacturing",306863,6782680,58306657,309486,591681,117652397,2.58,7.71,2019]
[31191,"Snack food manufacturing",88011,2126650,18593564,129719,172349,39516951,2.58,7.71,2019]
[311911,"Roasted nuts and peanut butter manufacturing",28449,540259,"N.A.","N.A.","N.A.",14727387,2.58,7.71,2019]
[311919,"Other snack food manufacturing",59562,1586392,"N.A.","N.A.","N.A.",24789563,2.58,7.71,2019]
[31192,"Coffee and tea manufacturing",23616,515335,7273904,23664,39539,11709169,2.58,7.71,2019]
[311920,"Coffee and tea manufacturing",23616,515335,7273904,23664,39539,11709169,2.58,7.71,2019]
[31193,"Flavoring syrup and concentrate manufacturing",10159,225881,3195609,18022,33657,11632748,2.58,7.71,2019]
[311930,"Flavoring syrup and concentrate manufacturing",10159,225881,3195609,18022,33657,11632748,2.58,7.71,2019]
[31194,"Seasoning and dressing manufacturing",56675,1429445,12039315,41678,108194,23968735,2.58,7.71,2019]
[311941,"Mayonnaise, dressing, and other prepared sauce manufacturing",31054,734700,5833504,21601,56006,10891765,2.58,7.71,2019]
[311942,"Spice and extract manufacturing",25620,694745,6205811,20077,52188,13076970,2.58,7.71,2019]
[31199,"All other food manufacturing",128402,2485369,17204265,96403,237943,30824796,2.58,7.71,2019]
[311991,"Perishable prepared food manufacturing",85187,1554274,10141525,41613,125078,17765461,2.58,7.71,2019]
[311999,"All other miscellaneous food manufacturing",43215,931095,7062740,54790,112865,13059334,2.58,7.71,2019]
[312,"Beverage and tobacco product manufacturing",238628,6502665,59023537,404145,835281,155269138,2.73,21,2019]
[3121,"Beverage manufacturing",221778,5933085,52287591,373686,775315,108966863,2.73,21,2019]
[31211,"Soft drink and ice manufacturing",100973,2672634,29808266,190673,426560,45135154,2.73,21,2019]
[312111,"Soft drink manufacturing",81946,2249394,26658240,153155,258568,37600683,2.73,21,2019]
[312112,"Bottled water manufacturing",15662,350991,2991964,22931,125445,6624027,2.73,21,2019]
[312113,"Ice manufacturing",3365,72249,158062,14587,42547,910444,2.73,21,2019]
[31212,"Breweries",66022,1753989,10206085,112159,200618,29901830,2.73,21,2019]
[312120,"Breweries",66022,1753989,10206085,112159,200618,29901830,2.73,21,2019]
[31213,"Wineries",38122,1036232,8164383,36778,113010,19694266,2.73,21,2019]
[312130,"Wineries",38122,1036232,8164383,36778,113010,19694266,2.73,21,2019]
[31214,"Distilleries",16661,470230,4108857,34076,35127,14235613,2.73,21,2019]
[312140,"Distilleries",16661,470230,4108857,34076,35127,14235613,2.73,21,2019]
[3122,"Tobacco manufacturing",16850,569580,6735946,30460,59966,46302275,2.73,21,2019]
[31223,"Tobacco manufacturing",16850,569580,6735946,30460,59966,46302275,2.73,21,2019]
[312230,"Tobacco manufacturing",16850,569580,6735946,30460,59966,46302275,2.73,21,2019]
[313,"Textile mills",142818,2653817,15343004,172609,608192,27062230,3.56,4.42,2019]
[3131,"Fiber, yarn, and thread mills",36686,627838,4329833,22636,209191,6440047,3.56,4.42,2019]
[31311,"Fiber, yarn, and thread mills",36686,627838,4329833,22636,209191,6440047,3.56,4.42,2019]
[313110,"Fiber, yarn, and thread mills",36686,627838,4329833,22636,209191,6440047,3.56,4.42,2019]
[3132,"Fabric mills",66634,1288687,6635834,76192,285854,13115864,3.56,4.42,2019]
[31321,"Broadwoven fabric mills",25038,449626,2177169,16549,85346,3697567,3.56,4.42,2019]
[313210,"Broadwoven fabric mills",25038,449626,2177169,16549,85346,3697567,3.56,4.42,2019]
[31322,"Narrow fabric mills and schiffli machine embroidery",8111,136228,407111,7483,12359,972255,3.56,4.42,2019]
[313220,"Narrow fabric mills and schiffli machine embroidery",8111,136228,407111,7483,12359,972255,3.56,4.42,2019]
[31323,"Nonwoven fabric mills",24614,555050,3396791,41863,169698,7162040,3.56,4.42,2019]
[313230,"Nonwoven fabric mills",24614,555050,3396791,41863,169698,7162040,3.56,4.42,2019]
[31324,"Knit fabric mills",8870,147783,654762,10297,18451,1284002,3.56,4.42,2019]
[313240,"Knit fabric mills",8870,147783,654762,10297,18451,1284002,3.56,4.42,2019]
[3133,"Textile and fabric finishing and fabric coating mills",39498,737292,4377337,73781,113146,7506319,3.56,4.42,2019]
[31331,"Textile and fabric finishing mills",29021,518102,2829688,61115,90428,4981903,3.56,4.42,2019]
[313310,"Textile and fabric finishing mills",29021,518102,2829688,61115,90428,4981903,3.56,4.42,2019]
[31332,"Fabric coating mills",10478,219190,1547649,12666,22718,2524416,3.56,4.42,2019]
[313320,"Fabric coating mills",10478,219190,1547649,12666,22718,2524416,3.56,4.42,2019]
[314,"Textile product mills",147257,2519481,11642184,64652,210408,22894642,3.56,4.42,2019]
[3141,"Textile furnishings mills",69010,1149210,6801186,35843,101612,12449799,3.56,4.42,2019]
[31411,"Carpet and rug mills",41833,738276,5197580,29158,88982,8818740,3.56,4.42,2019]
[314110,"Carpet and rug mills",41833,738276,5197580,29158,88982,8818740,3.56,4.42,2019]
[31412,"Curtain and linen mills",27177,410934,1603607,6685,12630,3631058,3.56,4.42,2019]
[314120,"Curtain and linen mills",27177,410934,1603607,6685,12630,3631058,3.56,4.42,2019]
[3149,"Other textile product mills",78247,1370271,4840998,28809,108796,10444843,3.56,4.42,2019]
[31491,"Textile bag and canvas mills",27293,457461,1713081,7107,25565,3840860,3.56,4.42,2019]
[314910,"Textile bag and canvas mills",27293,457461,1713081,7107,25565,3840860,3.56,4.42,2019]
[31499,"All other textile product mills",50955,912809,3127917,21702,83231,6603983,3.56,4.42,2019]
[314994,"Rope, cordage, twine, tire cord, and tire fabric mills",9693,211100,1016121,8172,43975,1716999,3.56,4.42,2019]
[314999,"All other miscellaneous textile product mills",41261,701710,2111796,13530,39256,4886984,3.56,4.42,2019]
[315,"Apparel manufacturing",104101,1685168,4413066,19547,53409,9970683,2.4899999999999998,10.190000000000001,2019]
[3151,"Apparel knitting mills",15455,212830,542280,6849,23003,1091018,2.4899999999999998,10.190000000000001,2019]
[31511,"Hosiery and sock mills",12789,174715,417655,6313,21587,859919,2.4899999999999998,10.190000000000001,2019]
[315110,"Hosiery and sock mills",12789,174715,417655,6313,21587,859919,2.4899999999999998,10.190000000000001,2019]
[31519,"Other apparel knitting mills",2666,38115,124624,536,1416,231100,2.4899999999999998,10.190000000000001,2019]
[315190,"Other apparel knitting mills",2666,38115,124624,536,1416,231100,2.4899999999999998,10.190000000000001,2019]
[3152,"Cut and sew apparel manufacturing",77967,1327544,3415183,10392,25051,7848193,2.4899999999999998,10.190000000000001,2019]
[31521,"Cut and sew apparel contractors",31072,532392,852601,3636,8387,2148161,2.4899999999999998,10.190000000000001,2019]
[315210,"Cut and sew apparel contractors",31072,532392,852601,3636,8387,2148161,2.4899999999999998,10.190000000000001,2019]
[31522,"Men's and boys' cut and sew apparel manufacturing",22818,312793,755025,3766,7138,1617964,2.4899999999999998,10.190000000000001,2019]
[315220,"Men's and boys' cut and sew apparel manufacturing",22818,312793,755025,3766,7138,1617964,2.4899999999999998,10.190000000000001,2019]
[31524,"Women's, girls', and infants' cut and sew apparel manufacturing",15265,333773,1382206,2049,5093,2952721,2.4899999999999998,10.190000000000001,2019]
[315240,"Women's, girls', and infants' cut and sew apparel manufacturing",15265,333773,1382206,2049,5093,2952721,2.4899999999999998,10.190000000000001,2019]
[31528,"Other cut and sew apparel manufacturing",8812,148585,425351,942,4433,1129347,2.4899999999999998,10.190000000000001,2019]
[315280,"Other cut and sew apparel manufacturing",8812,148585,425351,942,4433,1129347,2.4899999999999998,10.190000000000001,2019]
[3159,"Apparel accessories and other apparel manufacturing",10679,144794,455603,2305,5355,1031472,2.4899999999999998,10.190000000000001,2019]
[31599,"Apparel accessories and other apparel manufacturing",10679,144794,455603,2305,5355,1031472,2.4899999999999998,10.190000000000001,2019]
[315990,"Apparel accessories and other apparel manufacturing",10679,144794,455603,2305,5355,1031472,2.4899999999999998,10.190000000000001,2019]
[316,"Leather and allied product manufacturing",36674,626518,2308524,8653,29759,4458106,2.4899999999999998,10.190000000000001,2019]
[3161,"Leather and hide tanning and finishing",5318,98010,717080,"N.A.",9105,1124181,2.4899999999999998,10.190000000000001,2019]
[31611,"Leather and hide tanning and finishing",5318,98010,717080,"N.A.",9105,1124181,2.4899999999999998,10.190000000000001,2019]
[316110,"Leather and hide tanning and finishing",5318,98010,717080,"N.A.",9105,1124181,2.4899999999999998,10.190000000000001,2019]
[3162,"Footwear manufacturing",17575,309621,940674,"N.A.",12660,1798934,2.4899999999999998,10.190000000000001,2019]
[31621,"Footwear manufacturing",17575,309621,940674,"N.A.",12660,1798934,2.4899999999999998,10.190000000000001,2019]
[316210,"Footwear manufacturing",17575,309621,940674,"N.A.",12660,1798934,2.4899999999999998,10.190000000000001,2019]
[3169,"Other leather and allied product manufacturing",13780,218887,650771,1709,7995,1534992,2.4899999999999998,10.190000000000001,2019]
[31699,"Other leather and allied product manufacturing",13780,218887,650771,1709,7995,1534992,2.4899999999999998,10.190000000000001,2019]
[316992,"Women's handbag and purse manufacturing",2536,42620,"N.A.","N.A.",1415,387969,2.4899999999999998,10.190000000000001,2019]
[316998,"All other leather good and allied product manufacturing",11244,176267,"N.A.","N.A.",6579,1147023,2.4899999999999998,10.190000000000001,2019]
[321,"Wood product manufacturing",615733,12859710,60281776,778844,1515110,106437913,3.1300000000000003,7.76,2019]
[3211,"Sawmills and wood preservation",147525,3476249,19350323,256934,579740,30516140,3.1300000000000003,7.76,2019]
[32111,"Sawmills and wood preservation",147525,3476249,19350323,256934,579740,30516140,3.1300000000000003,7.76,2019]
[321113,"Sawmills",130868,3126769,14180054,223985,546580,23810050,3.1300000000000003,7.76,2019]
[321114,"Wood preservation",16657,349480,5170269,32949,33159,6706090,3.1300000000000003,7.76,2019]
[3212,"Veneer, plywood, and engineered wood product manufacturing",116540,2576436,13552590,279284,432317,23221656,3.1300000000000003,7.76,2019]
[32121,"Veneer, plywood, and engineered wood product manufacturing",116540,2576436,13552590,279284,432317,23221656,3.1300000000000003,7.76,2019]
[321211,"Hardwood veneer and plywood manufacturing",17695,333717,1859742,13832,34629,2823035,3.1300000000000003,7.76,2019]
[321212,"Softwood veneer and plywood manufacturing",23428,548880,2063888,43186,82677,3407397,3.1300000000000003,7.76,2019]
[321213,"Engineered wood member (except truss) manufacturing",8606,221559,1528269,12070,27799,2604966,3.1300000000000003,7.76,2019]
[321214,"Truss manufacturing",45758,882190,3738888,18729,35186,7703694,3.1300000000000003,7.76,2019]
[321219,"Reconstituted wood product manufacturing",21053,590089,4361803,191467,252025,6682564,3.1300000000000003,7.76,2019]
[3219,"Other wood product manufacturing",351669,6807025,27378864,242625,503054,52700118,3.1300000000000003,7.76,2019]
[32191,"Millwork",154204,3188205,13325718,112707,269659,26181144,3.1300000000000003,7.76,2019]
[321911,"Wood window and door manufacturing",75217,1620492,6065548,36942,97906,13559877,3.1300000000000003,7.76,2019]
[321912,"Cut stock, resawing lumber, and planing",31186,631991,3262916,34848,78410,5554342,3.1300000000000003,7.76,2019]
[321918,"Other millwork (including flooring)",47801,935721,3997254,40918,93343,7066925,3.1300000000000003,7.76,2019]
[32192,"Wood container and pallet manufacturing",85296,1509152,5571643,57309,90340,10421102,3.1300000000000003,7.76,2019]
[321920,"Wood container and pallet manufacturing",85296,1509152,5571643,57309,90340,10421102,3.1300000000000003,7.76,2019]
[32199,"All other wood product manufacturing",112169,2109668,8481503,72609,143054,16097872,3.1300000000000003,7.76,2019]
[321991,"Manufactured home (mobile home) manufacturing",37995,629086,2339620,8072,10078,4309238,3.1300000000000003,7.76,2019]
[321992,"Prefabricated wood building manufacturing",23127,506699,2361543,17149,15322,4378347,3.1300000000000003,7.76,2019]
[321999,"All other miscellaneous wood product manufacturing",51047,973882,3780339,47387,117655,7410287,3.1300000000000003,7.76,2019]
[322,"Paper manufacturing",536368,15426595,104633551,3495442,3241279,190414595,4.8599999999999994,8.3800000000000008,2019]
[3221,"Pulp, paper, and paperboard mills",162880,5900240,34390821,2823550,2164913,76296960,4.8599999999999994,8.3800000000000008,2019]
[32211,"Pulp mills",17433,695467,3562449,283993,150417,6961533,4.8599999999999994,8.3800000000000008,2019]
[322110,"Pulp mills",17433,695467,3562449,283993,150417,6961533,4.8599999999999994,8.3800000000000008,2019]
[32212,"Paper mills",81715,2817262,16875394,995082,1100196,37357531,4.8599999999999994,8.3800000000000008,2019]
[322121,"Paper (except newsprint) mills",79930,2748357,"N.A.","N.A.",897735,36450178,4.8599999999999994,8.3800000000000008,2019]
[322122,"Newsprint mills",1785,68905,"N.A.","N.A.",202461,907353,4.8599999999999994,8.3800000000000008,2019]
[32213,"Paperboard mills",63731,2387512,13952978,1544476,914300,31977896,4.8599999999999994,8.3800000000000008,2019]
[322130,"Paperboard mills",63731,2387512,13952978,1544476,914300,31977896,4.8599999999999994,8.3800000000000008,2019]
[3222,"Converted paper product manufacturing",373488,9526355,70242730,671892,1076366,114117635,4.8599999999999994,8.3800000000000008,2019]
[32221,"Paperboard container manufacturing",225841,5692273,44433314,414181,556502,66748660,4.8599999999999994,8.3800000000000008,2019]
[322211,"Corrugated and solid fiber box manufacturing",110117,2925796,24791048,314393,261092,35980822,4.8599999999999994,8.3800000000000008,2019]
[322212,"Folding paperboard box manufacturing",85756,2075037,15286448,82420,216992,23044691,4.8599999999999994,8.3800000000000008,2019]
[322219,"Other paperboard container manufacturing",29968,691440,4355818,17369,78419,7723147,4.8599999999999994,8.3800000000000008,2019]
[32222,"Paper bag and coated and treated paper manufacturing",75779,2058140,13418779,169081,247739,22811706,4.8599999999999994,8.3800000000000008,2019]
[322220,"Paper bag and coated and treated paper manufacturing",75779,2058140,13418779,169081,247739,22811706,4.8599999999999994,8.3800000000000008,2019]
[32223,"Stationery product manufacturing",24647,528916,3834133,6234,47165,5940763,4.8599999999999994,8.3800000000000008,2019]
[322230,"Stationery product manufacturing",24647,528916,3834133,6234,47165,5940763,4.8599999999999994,8.3800000000000008,2019]
[32229,"Other converted paper product manufacturing",47221,1247027,8556504,82396,224960,18616506,4.8599999999999994,8.3800000000000008,2019]
[322291,"Sanitary paper product manufacturing",25244,741413,6207839,51525,119169,13423292,4.8599999999999994,8.3800000000000008,2019]
[322299,"All other converted paper product manufacturing",21977,505614,2348665,30871,105791,5193214,4.8599999999999994,8.3800000000000008,2019]
[323,"Printing and related support activities",543678,12703313,32997406,273451,880014,81224810,3.5900000000000003,4.07,2019]
[3231,"Printing and related support activities",543678,12703313,32997406,273451,880014,81224810,3.5900000000000003,4.07,2019]
[32311,"Printing",513864,12049581,32259897,268572,854293,78395241,3.5900000000000003,4.07,2019]
[323111,"Commercial printing (except screen and books)",403830,9900704,26622730,235800,721788,65143886,3.5900000000000003,4.07,2019]
[323113,"Commercial screen printing",74900,1354971,3766683,22401,66061,8979334,3.5900000000000003,4.07,2019]
[323117,"Books printing",35134,793905,1870484,10371,66444,4272021,3.5900000000000003,4.07,2019]
[32312,"Support activities for printing",29815,653732,737508,4880,25720,2829569,3.5900000000000003,4.07,2019]
[323120,"Support activities for printing",29815,653732,737508,4880,25720,2829569,3.5900000000000003,4.07,2019]
[324,"Petroleum and coal products manufacturing",156377,6718360,468714177,5027303,3022981,595704415,3.82,2.21,2019]
[3241,"Petroleum and coal products manufacturing",156377,6718360,468714177,5027303,3022981,595704415,3.82,2.21,2019]
[32411,"Petroleum refineries",89799,4594810,439261954,4561863,2657734,547390227,3.82,2.21,2019]
[324110,"Petroleum refineries",89799,4594810,439261954,4561863,2657734,547390227,3.82,2.21,2019]
[32412,"Asphalt paving, roofing, and saturated materials manufacturing",42907,1365747,15127864,356994,277004,25521087,3.82,2.21,2019]
[324121,"Asphalt paving mixture and block manufacturing",27050,871559,8994897,296346,202774,14350659,3.82,2.21,2019]
[324122,"Asphalt shingle and coating materials manufacturing",15857,494187,6132967,60648,74230,11170428,3.82,2.21,2019]
[32419,"Other petroleum and coal products manufacturing",23671,757803,14324360,108446,88243,22793100,3.82,2.21,2019]
[324191,"Petroleum lubricating oil and grease manufacturing",17633,565246,11533827,62753,63623,18056257,3.82,2.21,2019]
[324199,"All other petroleum and coal products manufacturing",6038,192557,2790533,45693,24619,4736843,3.82,2.21,2019]
[325,"Chemical manufacturing",951055,32231339,322881007,8726628,8512449,720177553,3.65,12.68,2019]
[3251,"Basic chemical manufacturing",188894,7708860,114766720,5733612,4258679,206315456,5.67,7.42,2019]
[32511,"Petrochemical manufacturing",13287,778249,28720404,1627823,373029,47971340,5.67,7.42,2019]
[325110,"Petrochemical manufacturing",13287,778249,28720404,1627823,373029,47971340,5.67,7.42,2019]
[32512,"Industrial gas manufacturing",13991,564045,2988948,396525,804854,9389785,5.67,7.42,2019]
[325120,"Industrial gas manufacturing",13991,564045,2988948,396525,804854,9389785,5.67,7.42,2019]
[32513,"Synthetic dye and pigment manufacturing",9523,350406,2935484,44341,99104,5575602,5.67,7.42,2019]
[325130,"Synthetic dye and pigment manufacturing",9523,350406,2935484,44341,99104,5575602,5.67,7.42,2019]
[32518,"Other basic inorganic chemical manufacturing",49737,1943093,12680711,905812,1326280,32096238,5.67,7.42,2019]
[325180,"Other basic inorganic chemical manufacturing",49737,1943093,12680711,905812,1326280,32096238,5.67,7.42,2019]
[32519,"Other basic organic chemical manufacturing",102356,4073067,67441173,2759111,1655412,111282491,5.67,7.42,2019]
[325193,"Ethyl alcohol manufacturing",17834,540870,25617355,1294525,711371,30953980,5.67,7.42,2019]
[325194,"Cyclic crude, intermediate, and gum and wood chemical manufacturing",7115,262897,2514274,58629,92975,5185494,5.67,7.42,2019]
[325199,"All other basic organic chemical manufacturing",77407,3269301,39309544,1405957,851065,75143017,5.67,7.42,2019]
[3252,"Resin, synthetic rubber, and artificial synthetic fibers and filaments manufacturing",130006,4604568,59918703,1720326,1906724,95740455,5.67,7.42,2019]
[32521,"Resin and synthetic rubber manufacturing",109430,4121289,56406842,1639017,1762205,89562402,5.67,7.42,2019]
[325211,"Plastics material and resin manufacturing",96813,3663227,52058733,1535605,1674912,81673471,5.67,7.42,2019]
[325212,"Synthetic rubber manufacturing",12617,458062,4348109,103412,87293,7888930,5.67,7.42,2019]
[32522,"Artificial and synthetic fibers and filaments manufacturing",20576,483279,3511861,81309,144519,6178053,5.67,7.42,2019]
[325220,"Artificial and synthetic fibers and filaments manufacturing",20576,483279,3511861,81309,144519,6178053,5.67,7.42,2019]
[3253,"Pesticide, fertilizer, and other agricultural chemical manufacturing",46026,1458872,15101330,391136,487109,31464541,4.03,10.050000000000001,2019]
[32531,"Fertilizer manufacturing",32264,1042818,8245438,329757,406210,17939367,4.03,10.050000000000001,2019]
[325311,"Nitrogenous fertilizer manufacturing",9126,352677,2214992,271582,222570,7381366,4.03,10.050000000000001,2019]
[325312,"Phosphatic fertilizer manufacturing",11216,424051,3236114,39701,156818,5676311,4.03,10.050000000000001,2019]
[325314,"Fertilizer (mixing only) manufacturing",11922,266090,2794332,18474,26822,4881690,4.03,10.050000000000001,2019]
[32532,"Pesticide and other agricultural chemical manufacturing",13762,416054,6855892,61379,80899,13525174,4.03,10.050000000000001,2019]
[325320,"Pesticide and other agricultural chemical manufacturing",13762,416054,6855892,61379,80899,13525174,4.03,10.050000000000001,2019]
[3254,"Pharmaceutical and medicine manufacturing",283153,10101066,54917333,352316,898780,210743538,2.54,15.659999999999998,2019]
[32541,"Pharmaceutical and medicine manufacturing",283153,10101066,54917333,352316,898780,210743538,2.54,15.659999999999998,2019]
[325411,"Medicinal and botanical manufacturing",32413,1036563,5029746,42874,86335,12564756,2.54,15.659999999999998,2019]
[325412,"Pharmaceutical preparation manufacturing",153666,5217358,33658645,166620,515894,150852948,2.54,15.659999999999998,2019]
[325413,"In-vitro diagnostic substance manufacturing",25233,774586,4999693,16349,56320,13823668,2.54,15.659999999999998,2019]
[325414,"Biological product (except diagnostic) manufacturing",71840,3072558,11229249,126474,240231,33502166,2.54,15.659999999999998,2019]
[3255,"Paint, coating, and adhesive manufacturing",73994,2101862,21029452,90609,215333,41983991,4.03,10.050000000000001,2019]
[32551,"Paint and coating manufacturing",43873,1269304,13681987,43094,111562,26439617,4.03,10.050000000000001,2019]
[325510,"Paint and coating manufacturing",43873,1269304,13681987,43094,111562,26439617,4.03,10.050000000000001,2019]
[32552,"Adhesive manufacturing",30121,832558,7347464,47515,103771,15544375,4.03,10.050000000000001,2019]
[325520,"Adhesive manufacturing",30121,832558,7347464,47515,103771,15544375,4.03,10.050000000000001,2019]
[3256,"Soap, cleaning compound, and toilet preparation manufacturing",126821,3453447,33598400,203274,318488,89253806,4.03,10.050000000000001,2019]
[32561,"Soap and cleaning compound manufacturing",66967,1852402,15709381,155604,202202,41408440,4.03,10.050000000000001,2019]
[325611,"Soap and other detergent manufacturing",41056,1121016,8733071,41540,83534,26237319,4.03,10.050000000000001,2019]
[325612,"Polish and other sanitation good manufacturing",18351,442975,3312281,14852,71426,7405965,4.03,10.050000000000001,2019]
[325613,"Surface active agent manufacturing",7560,288411,3664028,99212,47242,7765156,4.03,10.050000000000001,2019]
[32562,"Toilet preparation manufacturing",59854,1601045,17889019,47670,116286,47845366,4.03,10.050000000000001,2019]
[325620,"Toilet preparation manufacturing",59854,1601045,17889019,47670,116286,47845366,4.03,10.050000000000001,2019]
[3259,"Other chemical product and preparation manufacturing",102161,2802664,23549070,235356,427335,44675766,4.03,10.050000000000001,2019]
[32591,"Printing ink manufacturing",11124,311663,2798340,9173,31506,4670029,4.03,10.050000000000001,2019]
[325910,"Printing ink manufacturing",11124,311663,2798340,9173,31506,4670029,4.03,10.050000000000001,2019]
[32592,"Explosives manufacturing",10236,260576,1181596,36917,30158,2631421,4.03,10.050000000000001,2019]
[325920,"Explosives manufacturing",10236,260576,1181596,36917,30158,2631421,4.03,10.050000000000001,2019]
[32599,"All other chemical product and preparation manufacturing",80801,2230426,19569134,189267,365671,37374316,4.03,10.050000000000001,2019]
[325991,"Custom compounding of purchased resins",24530,600678,7073133,25655,138327,10509052,4.03,10.050000000000001,2019]
[325992,"Photographic film, paper, plate, and chemical manufacturing",8379,244548,2694112,30087,53154,5260046,4.03,10.050000000000001,2019]
[325998,"All other miscellaneous chemical product and preparation manufacturing",47892,1385200,9801889,133525,174190,21605218,4.03,10.050000000000001,2019]
[326,"Plastics and rubber products manufacturing",1167632,25971852,122595690,815081,3770754,246579623,3.4799999999999995,8.5,2019]
[3261,"Plastics product manufacturing",953481,20656925,99823317,612134,3217993,201195394,3.4799999999999995,8.5,2019]
[32611,"Plastics packaging materials and unlaminated film and sheet manufacturing",152430,3799597,22163812,129755,654731,39599228,3.4799999999999995,8.5,2019]
[326111,"Plastics bag and pouch manufacturing",54535,1165420,6155082,27740,184056,11787160,3.4799999999999995,8.5,2019]
[326112,"Plastics packaging film and sheet (including laminated) manufacturing",50561,1396702,7961999,46887,211336,13245719,3.4799999999999995,8.5,2019]
[326113,"Unlaminated plastics film and sheet (except packaging) manufacturing",47335,1237475,8046731,55127,259340,14566350,3.4799999999999995,8.5,2019]
[32612,"Plastics pipe, pipe fitting, and unlaminated profile shape manufacturing",63462,1412255,9206937,42250,299163,20282706,3.4799999999999995,8.5,2019]
[326121,"Unlaminated plastics profile shape manufacturing",26846,600083,2791723,18313,88234,8798252,3.4799999999999995,8.5,2019]
[326122,"Plastics pipe and pipe fitting manufacturing",36616,812172,6415214,23937,210929,11484454,3.4799999999999995,8.5,2019]
[32613,"Laminated plastics plate, sheet (except packaging), and shape manufacturing",18961,419204,1919566,21747,49018,4384415,3.4799999999999995,8.5,2019]
[326130,"Laminated plastics plate, sheet (except packaging), and shape manufacturing",18961,419204,1919566,21747,49018,4384415,3.4799999999999995,8.5,2019]
[32614,"Polystyrene foam product manufacturing",44268,888705,5061914,56164,128163,9764478,3.4799999999999995,8.5,2019]
[326140,"Polystyrene foam product manufacturing",44268,888705,5061914,56164,128163,9764478,3.4799999999999995,8.5,2019]
[32615,"Urethane and other foam product (except polystyrene) manufacturing",47190,921705,5791418,33950,73423,11478657,3.4799999999999995,8.5,2019]
[326150,"Urethane and other foam product (except polystyrene) manufacturing",47190,921705,5791418,33950,73423,11478657,3.4799999999999995,8.5,2019]
[32616,"Plastics bottle manufacturing",50438,1175087,6199984,28957,369187,11548292,3.4799999999999995,8.5,2019]
[326160,"Plastics bottle manufacturing",50438,1175087,6199984,28957,369187,11548292,3.4799999999999995,8.5,2019]
[32619,"Other plastics product manufacturing",576730,12040373,49479685,299311,1644309,104137618,3.4799999999999995,8.5,2019]
[326191,"Plastics plumbing fixture manufacturing",27781,483917,1910933,13242,31894,4743870,3.4799999999999995,8.5,2019]
[326199,"All other plastics product manufacturing",548949,11556456,47568752,286069,1612415,99393749,3.4799999999999995,8.5,2019]
[3262,"Rubber product manufacturing",214151,5314927,22772373,202947,552761,45384229,3.4799999999999995,8.5,2019]
[32621,"Tire manufacturing",92820,2584184,10415248,115138,271614,21266612,3.4799999999999995,8.5,2019]
[326211,"Tire manufacturing (except retreading)",84039,2414477,9577112,104715,256049,19710562,3.4799999999999995,8.5,2019]
[326212,"Tire retreading",8780,169706,838137,10424,15565,1556050,3.4799999999999995,8.5,2019]
[32622,"Rubber and plastics hoses and belting manufacturing",28856,661653,2551033,20384,52328,5484339,3.4799999999999995,8.5,2019]
[326220,"Rubber and plastics hoses and belting manufacturing",28856,661653,2551033,20384,52328,5484339,3.4799999999999995,8.5,2019]
[32629,"Other rubber product manufacturing",92476,2069090,9806092,67424,228819,18633279,3.4799999999999995,8.5,2019]
[326291,"Rubber product manufacturing for mechanical use",46878,1023387,4223041,26108,95184,7859584,3.4799999999999995,8.5,2019]
[326299,"All other rubber product manufacturing",45598,1045703,5583052,41317,133635,10773695,3.4799999999999995,8.5,2019]
[327,"Nonmetallic mineral product manufacturing",598024,15119290,56479418,2495261,2595550,130435611,6.94,6.21,2019]
[3271,"Clay product and refractory manufacturing",51233,1084062,2897341,160626,147307,8124973,6.94,6.21,2019]
[32711,"Pottery, ceramics, and plumbing fixture manufacturing",19113,378812,699983,19165,31922,2491658,6.94,6.21,2019]
[327110,"Pottery, ceramics, and plumbing fixture manufacturing",19113,378812,699983,19165,31922,2491658,6.94,6.21,2019]
[32712,"Clay building material and refractories manufacturing",32120,705250,2197358,141461,115386,5633316,6.94,6.21,2019]
[327120,"Clay building material and refractories manufacturing",32120,705250,2197358,141461,115386,5633316,6.94,6.21,2019]
[3272,"Glass and glass product manufacturing",149191,3573689,10861685,438076,775136,27570836,6.94,6.21,2019]
[32721,"Glass and glass product manufacturing",149191,3573689,10861685,438076,775136,27570836,6.94,6.21,2019]
[327211,"Flat glass manufacturing",18589,401137,1647012,147110,109249,4167237,6.94,6.21,2019]
[327212,"Other pressed and blown glass and glassware manufacturing",20655,553897,1361989,86610,120922,3744550,6.94,6.21,2019]
[327213,"Glass container manufacturing",23128,779441,1464294,146546,234484,4724037,6.94,6.21,2019]
[327215,"Glass product manufacturing made of purchased glass",86819,1839213,6388389,57810,310480,14935012,6.94,6.21,2019]
[3273,"Cement and concrete product manufacturing",268256,7132888,28579370,1049124,940379,61570731,6.94,6.21,2019]
[32731,"Cement manufacturing",28372,810065,3123118,683125,618357,9018680,6.94,6.21,2019]
[327310,"Cement manufacturing",28372,810065,3123118,683125,618357,9018680,6.94,6.21,2019]
[32732,"Ready-mix concrete manufacturing",132639,3795688,17836362,245879,168382,33075657,6.94,6.21,2019]
[327320,"Ready-mix concrete manufacturing",132639,3795688,17836362,245879,168382,33075657,6.94,6.21,2019]
[32733,"Concrete pipe, brick, and block manufacturing",31439,732988,2593030,40915,57552,6401779,6.94,6.21,2019]
[327331,"Concrete block and brick manufacturing",20273,498388,1912974,29362,40849,4686965,6.94,6.21,2019]
[327332,"Concrete pipe manufacturing",11165,234600,680056,11553,16703,1714814,6.94,6.21,2019]
[32739,"Other concrete product manufacturing",75807,1794146,5026860,79206,96089,13074615,6.94,6.21,2019]
[327390,"Other concrete product manufacturing",75807,1794146,5026860,79206,96089,13074615,6.94,6.21,2019]
[3274,"Lime and gypsum product manufacturing",25578,791993,3784806,541309,213929,7985048,6.94,6.21,2019]
[32741,"Lime manufacturing",8114,270645,1184168,343978,107870,2464063,6.94,6.21,2019]
[327410,"Lime manufacturing",8114,270645,1184168,343978,107870,2464063,6.94,6.21,2019]
[32742,"Gypsum product manufacturing",17465,521348,2600638,197331,106059,5520985,6.94,6.21,2019]
[327420,"Gypsum product manufacturing",17465,521348,2600638,197331,106059,5520985,6.94,6.21,2019]
[3279,"Other nonmetallic mineral product manufacturing",103765,2536658,10356217,306125,518799,25184022,6.94,6.21,2019]
[32791,"Abrasive product manufacturing",13352,371359,1227444,22918,50180,3976328,6.94,6.21,2019]
[327910,"Abrasive product manufacturing",13352,371359,1227444,22918,50180,3976328,6.94,6.21,2019]
[32799,"All other nonmetallic mineral product manufacturing",90414,2165299,9128773,283207,468619,21207694,6.94,6.21,2019]
[327991,"Cut stone and stone product manufacturing",35506,814637,2258230,19462,33631,5194024,6.94,6.21,2019]
[327992,"Ground or treated mineral and earth manufacturing",11843,319476,2013583,102995,148291,4283333,6.94,6.21,2019]
[327993,"Mineral wool manufacturing",23934,630986,2629900,104621,223557,6710059,6.94,6.21,2019]
[327999,"All other miscellaneous nonmetallic mineral product manufacturing",19132,400199,2227060,56129,63141,5020277,6.94,6.21,2019]
[331,"Primary metal manufacturing",607651,17358165,153458086,2435127,5323173,239991457,3.56,4.1500000000000004,2019]
[3311,"Iron and steel mills and ferroalloy manufacturing",152570,5644952,62843573,1451124,2551447,93718306,3.29,4.03,2019]
[33111,"Iron and steel mills and ferroalloy manufacturing",152570,5644952,62843573,1451124,2551447,93718306,3.29,4.03,2019]
[331110,"Iron and steel mills and ferroalloy manufacturing",152570,5644952,62843573,1451124,2551447,93718306,3.29,4.03,2019]
[3312,"Steel product manufacturing from purchased steel",81814,2043192,17207183,130975,346779,26922193,3.29,4.03,2019]
[33121,"Iron and steel pipe and tube manufacturing from purchased steel",43842,1177490,8948348,63544,185295,14056067,3.29,4.03,2019]
[331210,"Iron and steel pipe and tube manufacturing from purchased steel",43842,1177490,8948348,63544,185295,14056067,3.29,4.03,2019]
[33122,"Rolling and drawing of purchased steel",37972,865702,8258835,67431,161484,12866127,3.29,4.03,2019]
[331221,"Rolled steel shape manufacturing",14702,365642,4100257,34169,70015,6385427,3.29,4.03,2019]
[331222,"Steel wire drawing",23270,500060,4158578,33262,91469,6480700,3.29,4.03,2019]
[3313,"Alumina and aluminum production and processing",97672,2655477,25036999,415411,1030108,38438493,4.08,3.88,2019]
[33131,"Alumina and aluminum production and processing",97672,2655477,25036999,415411,1030108,38438493,4.08,3.88,2019]
[331313,"Alumina refining and primary aluminum production",6755,223198,2079941,104262,446967,2953336,4.08,3.88,2019]
[331314,"Secondary smelting and alloying of aluminum",9943,246913,4541107,77391,47138,5760506,4.08,3.88,2019]
[331315,"Aluminum sheet, plate, and foil manufacturing",30929,1095930,10883718,"N.A.",391582,17516660,4.08,3.88,2019]
[331318,"Other aluminum rolling, drawing, and extruding",50045,1089436,7532233,"N.A.",144421,12207992,4.08,3.88,2019]
[3314,"Nonferrous metal (except aluminum) production and processing",88828,2420788,34644701,212539,615235,50721367,4.08,3.88,2019]
[33141,"Nonferrous metal (except aluminum) smelting and refining",12468,377488,8574378,66316,245033,13445154,4.08,3.88,2019]
[331410,"Nonferrous metal (except aluminum) smelting and refining",12468,377488,8574378,66316,245033,13445154,4.08,3.88,2019]
[33142,"Copper rolling, drawing, extruding, and alloying",39472,977564,17203221,49172,170733,22246914,4.08,3.88,2019]
[331420,"Copper rolling, drawing, extruding, and alloying",39472,977564,17203221,49172,170733,22246914,4.08,3.88,2019]
[33149,"Nonferrous metal (except copper and aluminum) rolling, drawing, extruding, and alloying",36887,1065735,8867102,97052,199470,15029299,4.08,3.88,2019]
[331491,"Nonferrous metal (except copper and aluminum) rolling, drawing, extruding, and alloying",22728,693504,4105307,44731,110328,7250536,4.08,3.88,2019]
[331492,"Secondary smelting, refining, and alloying of nonferrous metal (except copper and aluminum)",14159,372231,4761794,52321,89142,7778764,4.08,3.88,2019]
[3315,"Foundries",186767,4593756,13725630,225079,779603,30191097,3.35,10.83,2019]
[33151,"Ferrous metal foundries",105871,2628071,8349315,115917,509527,17824632,3.35,10.83,2019]
[331511,"Iron foundries",60303,1466882,5025344,64577,338126,10073033,3.35,10.83,2019]
[331512,"Steel investment foundries",26457,693296,1645840,25741,71226,4098134,3.35,10.83,2019]
[331513,"Steel foundries (except investment)",19111,467893,1678131,25600,100175,3653465,3.35,10.83,2019]
[33152,"Nonferrous metal foundries",80896,1965686,5376316,109161,270076,12366466,3.35,10.83,2019]
[331523,"Nonferrous metal die-casting foundries",46185,1148646,3070875,65462,167803,6913381,3.35,10.83,2019]
[331524,"Aluminum foundries (except die-casting)",19175,493730,1024537,29574,59513,2465746,3.35,10.83,2019]
[331529,"Other nonferrous metal foundries (except die-casting)",15536,323310,1280903,14126,42759,2987339,3.35,10.83,2019]
[332,"Fabricated metal product manufacturing",2041235,50708257,170297205,1235391,3528489,376020320,3.6999999999999997,10.050000000000001,2019]
[3321,"Forging and stamping",150802,3785559,17976852,175166,466123,33166341,3.6999999999999997,10.050000000000001,2019]
[33211,"Forging and stamping",150802,3785559,17976852,175166,466123,33166341,3.6999999999999997,10.050000000000001,2019]
[332111,"Iron and steel forging",31580,861523,5294778,81849,170403,8816403,3.6999999999999997,10.050000000000001,2019]
[332112,"Nonferrous forging",8926,246646,1745672,"N.A.",38264,2715451,3.6999999999999997,10.050000000000001,2019]
[332114,"Custom roll forming",24762,623486,4360338,27981,84247,7424446,3.6999999999999997,10.050000000000001,2019]
[332117,"Powder metallurgy part manufacturing",15149,330522,999189,"N.A.",57331,2316202,3.6999999999999997,10.050000000000001,2019]
[332119,"Metal crown, closure, and other metal stamping (except automotive)",70384,1723382,5576875,36791,115878,11893838,3.6999999999999997,10.050000000000001,2019]
[3322,"Cutlery and handtool manufacturing",47643,1134446,3684781,33273,80340,9952926,3.6999999999999997,10.050000000000001,2019]
[33221,"Cutlery and handtool manufacturing",47643,1134446,3684781,33273,80340,9952926,3.6999999999999997,10.050000000000001,2019]
[332215,"Metal kitchen cookware, utensil, cutlery, and flatware (except precious) manufacturing",9235,233212,961595,15130,18354,3110168,3.6999999999999997,10.050000000000001,2019]
[332216,"Saw blade and handtool manufacturing",38408,901234,2723187,18143,61986,6842759,3.6999999999999997,10.050000000000001,2019]
[3323,"Architectural and structural metals manufacturing",516390,12206970,48441151,204157,553387,100323468,3.6999999999999997,10.050000000000001,2019]
[33231,"Plate work and fabricated structural product manufacturing",238881,5996930,26888313,102952,274509,53181976,3.6999999999999997,10.050000000000001,2019]
[332311,"Prefabricated metal building and component manufacturing",33659,788700,4840638,11293,33561,8723846,3.6999999999999997,10.050000000000001,2019]
[332312,"Fabricated structural metal manufacturing",147248,3799206,18332626,64871,168816,36224788,3.6999999999999997,10.050000000000001,2019]
[332313,"Plate work manufacturing",57974,1409024,3715049,26789,72132,8233343,3.6999999999999997,10.050000000000001,2019]
[33232,"Ornamental and architectural metal products manufacturing",277508,6210040,21552838,101204,278878,47141491,3.6999999999999997,10.050000000000001,2019]
[332321,"Metal window and door manufacturing",70476,1529955,7118360,26159,82330,13801085,3.6999999999999997,10.050000000000001,2019]
[332322,"Sheet metal work manufacturing",156940,3588104,11316264,57421,158039,25372731,3.6999999999999997,10.050000000000001,2019]
[332323,"Ornamental and architectural metal work manufacturing",50093,1091981,3118215,17625,38509,7967675,3.6999999999999997,10.050000000000001,2019]
[3324,"Boiler, tank, and shipping container manufacturing",132040,3799506,21417354,101006,355573,37570331,3.6999999999999997,10.050000000000001,2019]
[33241,"Power boiler and heat exchanger manufacturing",31402,928710,3870234,12230,47285,8142809,3.6999999999999997,10.050000000000001,2019]
[332410,"Power boiler and heat exchanger manufacturing",31402,928710,3870234,12230,47285,8142809,3.6999999999999997,10.050000000000001,2019]
[33242,"Metal tank (heavy gauge) manufacturing",52301,1470688,4796738,29996,63278,10060964,3.6999999999999997,10.050000000000001,2019]
[332420,"Metal tank (heavy gauge) manufacturing",52301,1470688,4796738,29996,63278,10060964,3.6999999999999997,10.050000000000001,2019]
[33243,"Metal can, box, and other metal container (light gauge) manufacturing",48338,1400108,12750382,58780,245011,19366558,3.6999999999999997,10.050000000000001,2019]
[332431,"Metal can manufacturing",32179,1053723,10975836,38853,219106,16120136,3.6999999999999997,10.050000000000001,2019]
[332439,"Other metal container manufacturing",16159,346385,1774546,19927,25905,3246421,3.6999999999999997,10.050000000000001,2019]
[3325,"Hardware manufacturing",38427,854169,3956724,13085,53983,9145253,3.6999999999999997,10.050000000000001,2019]
[33251,"Hardware manufacturing",38427,854169,3956724,13085,53983,9145253,3.6999999999999997,10.050000000000001,2019]
[332510,"Hardware manufacturing",38427,854169,3956724,13085,53983,9145253,3.6999999999999997,10.050000000000001,2019]
[3326,"Spring and wire product manufacturing",54837,1197444,4689496,31980,87686,9889443,3.6999999999999997,10.050000000000001,2019]
[33261,"Spring and wire product manufacturing",54837,1197444,4689496,31980,87686,9889443,3.6999999999999997,10.050000000000001,2019]
[332613,"Spring manufacturing",28487,602346,2127156,15397,45098,4610704,3.6999999999999997,10.050000000000001,2019]
[332618,"Other fabricated wire product manufacturing",26350,595098,2562339,16583,42588,5278739,3.6999999999999997,10.050000000000001,2019]
[3327,"Machine shops; turned product; and screw, nut, and bolt manufacturing",557158,14621727,26573222,204729,774317,71304307,3.6999999999999997,10.050000000000001,2019]
[33271,"Machine shops",338008,8988224,13577203,125454,409582,39263509,3.6999999999999997,10.050000000000001,2019]
[332710,"Machine shops",338008,8988224,13577203,125454,409582,39263509,3.6999999999999997,10.050000000000001,2019]
[33272,"Turned product and screw, nut, and bolt manufacturing",219151,5633503,12996020,79275,364735,32040797,3.6999999999999997,10.050000000000001,2019]
[332721,"Precision turned product manufacturing",163073,4148497,7567393,47959,247285,20594211,3.6999999999999997,10.050000000000001,2019]
[332722,"Bolt, nut, screw, rivet, and washer manufacturing",56078,1485006,5428626,31316,117451,11446587,3.6999999999999997,10.050000000000001,2019]
[3328,"Coating, engraving, heat treating, and allied activities",193154,4369612,10905236,311775,579252,28289690,3.6999999999999997,10.050000000000001,2019]
[33281,"Coating, engraving, heat treating, and allied activities",193154,4369612,10905236,311775,579252,28289690,3.6999999999999997,10.050000000000001,2019]
[332811,"Metal heat treating",33478,829967,2118793,99501,179780,5469595,3.6999999999999997,10.050000000000001,2019]
[332812,"Metal coating, engraving (except jewelry and silverware), and allied services to manufacturers",81868,1892302,6196533,125436,223479,15114050,3.6999999999999997,10.050000000000001,2019]
[332813,"Electroplating, plating, polishing, anodizing, and coloring",77808,1647342,2589911,86838,175993,7706045,3.6999999999999997,10.050000000000001,2019]
[3329,"Other fabricated metal product manufacturing",350783,8738823,32652388,160220,577828,76378561,3.6999999999999997,10.050000000000001,2019]
[33291,"Metal valve manufacturing",127687,3302941,14802641,37455,199185,33543924,3.6999999999999997,10.050000000000001,2019]
[332911,"Industrial valve manufacturing",46212,1167608,4975218,13788,81413,12205854,3.6999999999999997,10.050000000000001,2019]
[332912,"Fluid power valve and hose fitting manufacturing",52099,1448847,5409743,9046,69388,11819102,3.6999999999999997,10.050000000000001,2019]
[332913,"Plumbing fixture fitting and trim manufacturing",13002,291657,2666358,4913,15396,5418502,3.6999999999999997,10.050000000000001,2019]
[332919,"Other metal valve and pipe fitting manufacturing",16374,394829,1751322,9708,32988,4100465,3.6999999999999997,10.050000000000001,2019]
[33299,"All other fabricated metal product manufacturing",223097,5435881,17849747,122765,378643,42834637,3.6999999999999997,10.050000000000001,2019]
[332991,"Ball and roller bearing manufacturing",30259,785911,2436806,18838,91186,6047388,3.6999999999999997,10.050000000000001,2019]
[332992,"Small arms ammunition manufacturing",18754,463554,2001293,"N.A.",32195,4248008,3.6999999999999997,10.050000000000001,2019]
[332993,"Ammunition (except small arms) manufacturing",11385,349657,650061,"N.A.",33473,3580840,3.6999999999999997,10.050000000000001,2019]
[332994,"Small arms, ordnance, and ordnance accessories manufacturing",24592,579780,2952520,6962,35303,6647847,3.6999999999999997,10.050000000000001,2019]
[332996,"Fabricated pipe and pipe fitting manufacturing",40191,1019151,3035945,18831,46620,6945074,3.6999999999999997,10.050000000000001,2019]
[332999,"All other miscellaneous fabricated metal product manufacturing",97916,2237829,6773121,51033,139866,15365479,3.6999999999999997,10.050000000000001,2019]
[333,"Machinery manufacturing",1292537,34545053,201068216,584746,2021989,392665511,2.67,8.25,2019]
[3331,"Agriculture, construction, and mining machinery manufacturing",244595,6339571,55407820,153336,433899,94487242,2.67,8.25,2019]
[33311,"Agricultural implement manufacturing",102496,2188151,22377779,63456,157191,38586165,2.67,8.25,2019]
[333111,"Farm machinery and equipment manufacturing",74644,1696798,16797338,52012,126115,30385299,2.67,8.25,2019]
[333112,"Lawn and garden tractor and home lawn and garden equipment manufacturing",27852,491353,5580440,11444,31076,8200866,2.67,8.25,2019]
[33312,"Construction machinery manufacturing",80069,2254474,20821933,52702,158002,36099826,2.67,8.25,2019]
[333120,"Construction machinery manufacturing",80069,2254474,20821933,52702,158002,36099826,2.67,8.25,2019]
[33313,"Mining and oil and gas field machinery manufacturing",62030,1896945,12208109,37178,118706,19801250,2.67,8.25,2019]
[333131,"Mining machinery and equipment manufacturing",19920,467800,3402145,16116,36264,5256975,2.67,8.25,2019]
[333132,"Oil and gas field machinery and equipment manufacturing",42110,1429145,8805964,21062,82442,14544275,2.67,8.25,2019]
[3332,"Industrial machinery manufacturing",117559,3515342,16799572,49713,202961,36118217,2.67,8.25,2019]
[33324,"Industrial machinery manufacturing",117559,3515342,16799572,49713,202961,36118217,2.67,8.25,2019]
[333241,"Food product machinery manufacturing",21213,585659,2712307,7480,22133,5879908,2.67,8.25,2019]
[333242,"Semiconductor machinery manufacturing",16631,577556,4666761,5534,57481,9267109,2.67,8.25,2019]
[333243,"Sawmill, woodworking, and paper machinery manufacturing",13555,404270,1746836,7996,25111,3678474,2.67,8.25,2019]
[333244,"Printing machinery and equipment manufacturing",5962,181913,854771,3564,13616,1644228,2.67,8.25,2019]
[333249,"Other industrial machinery manufacturing",60198,1765944,6818897,25139,84621,15648497,2.67,8.25,2019]
[3333,"Commercial and service industry machinery manufacturing",80360,2185865,11813704,34626,120572,26096141,2.67,8.25,2019]
[33331,"Commercial and service industry machinery manufacturing",80360,2185865,11813704,34626,120572,26096141,2.67,8.25,2019]
[333314,"Optical instrument and lens manufacturing",18149,633683,2263920,9843,43019,4951627,2.67,8.25,2019]
[333316,"Photographic and photocopying equipment manufacturing",2940,79575,409731,949,4825,1103542,2.67,8.25,2019]
[333318,"Other commercial and service industry machinery manufacturing",59271,1472608,9140053,23834,72728,20040973,2.67,8.25,2019]
[3334,"Ventilation, heating, air-conditioning, and commercial refrigeration equipment manufacturing",177903,3868070,22042432,64769,188461,45452113,2.67,8.25,2019]
[33341,"Ventilation, heating, air-conditioning, and commercial refrigeration equipment manufacturing",177903,3868070,22042432,64769,188461,45452113,2.67,8.25,2019]
[333413,"Industrial and commercial fan and blower and air purification equipment manufacturing",31956,667595,2942460,14575,37723,6340784,2.67,8.25,2019]
[333414,"Heating equipment (except warm air furnaces) manufacturing",18560,382895,2132544,11930,33452,4916817,2.67,8.25,2019]
[333415,"Air-conditioning and warm air heating equipment and commercial and industrial refrigeration equipment manufacturing",127386,2817581,16967428,38264,117286,34194512,2.67,8.25,2019]
[3335,"Metalworking machinery manufacturing",198501,5468722,12088607,64944,293646,31773695,2.67,8.25,2019]
[33351,"Metalworking machinery manufacturing",198501,5468722,12088607,64944,293646,31773695,2.67,8.25,2019]
[333511,"Industrial mold manufacturing",50513,1359165,2080445,15556,79976,6094083,2.67,8.25,2019]
[333514,"Special die and tool, die set, jig, and fixture manufacturing",61543,1777326,3276823,19107,87345,8646876,2.67,8.25,2019]
[333515,"Cutting tool and machine tool accessory manufacturing",36403,906632,1966829,13775,71388,5510256,2.67,8.25,2019]
[333517,"Machine tool manufacturing",33902,887906,3236342,9655,36144,8013804,2.67,8.25,2019]
[333519,"Rolling mill and other metalworking machinery manufacturing",16139,537693,1528167,6851,18793,3508675,2.67,8.25,2019]
[3336,"Engine, turbine, and power transmission equipment manufacturing",120105,3284461,25826398,66463,268449,46434684,2.67,8.25,2019]
[33361,"Engine, turbine, and power transmission equipment manufacturing",120105,3284461,25826398,66463,268449,46434684,2.67,8.25,2019]
[333611,"Turbine and turbine generator set units manufacturing",27987,1013379,3588927,15080,61272,9523824,2.67,8.25,2019]
[333612,"Speed changer, industrial high-speed drive, and gear manufacturing",16607,445731,1463013,6078,30803,3231049,2.67,8.25,2019]
[333613,"Mechanical power transmission equipment manufacturing",21385,547064,2374854,11510,47545,5350097,2.67,8.25,2019]
[333618,"Other engine equipment manufacturing",54126,1278288,18399605,33797,128830,28329713,2.67,8.25,2019]
[3339,"Other general purpose machinery manufacturing",353514,9883022,57089683,150894,514000,112303419,2.67,8.25,2019]
[33391,"Pump and compressor manufacturing",63696,1824716,13515794,29079,121017,28626337,2.67,8.25,2019]
[333912,"Air and gas compressor manufacturing",23045,595064,5988514,9828,41784,10319277,2.67,8.25,2019]
[333914,"Measuring, dispensing, and other pumping equipment manufacturing",40651,1229651,7527280,19251,79233,18307059,2.67,8.25,2019]
[33392,"Material handling equipment manufacturing",115545,3230668,18696295,51591,124902,33417999,2.67,8.25,2019]
[333921,"Elevator and moving stairway manufacturing",11539,248244,2168489,6387,14215,3709132,2.67,8.25,2019]
[333922,"Conveyor and conveying equipment manufacturing",40445,1196024,5311459,13846,51940,10328217,2.67,8.25,2019]
[333923,"Overhead traveling crane, hoist, and monorail system manufacturing",27464,743152,4387134,19816,20459,8153258,2.67,8.25,2019]
[333924,"Industrial truck, trailer, and stacker machinery manufacturing",36097,1043248,6829213,11543,38288,11227392,2.67,8.25,2019]
[33399,"All other general purpose machinery manufacturing",174273,4827638,24877594,70224,268081,50259084,2.67,8.25,2019]
[333991,"Power-driven handtool manufacturing",8597,239586,2057411,3886,18208,3710095,2.67,8.25,2019]
[333992,"Welding and soldering equipment manufacturing",15458,443183,2930888,11864,31592,5646958,2.67,8.25,2019]
[333993,"Packaging machinery manufacturing",24884,681193,3901335,7211,23429,7716297,2.67,8.25,2019]
[333994,"Industrial process furnace and oven manufacturing",11897,303485,1227355,5314,18111,2730767,2.67,8.25,2019]
[333995,"Fluid power cylinder and actuator manufacturing",30721,945934,3938959,9159,44894,7541115,2.67,8.25,2019]
[333996,"Fluid power pump and motor manufacturing",13997,376487,2321703,3561,29309,4208599,2.67,8.25,2019]
[333997,"Scale and balance manufacturing",3821,84006,693711,1551,4512,1147390,2.67,8.25,2019]
[333999,"All other miscellaneous general purpose machinery manufacturing",64899,1753764,7806232,27679,98027,17557863,2.67,8.25,2019]
[334,"Computer and electronic product manufacturing",700337,21513196,136256283,431697,2850324,316432431,3.5700000000000003,9.3000000000000007,2019]
[3341,"Computer and peripheral equipment manufacturing",28900,750071,10898616,13226,89196,20684871,2.41,9.48,2019]
[33411,"Computer and peripheral equipment manufacturing",28900,750071,10898616,13226,89196,20684871,2.41,9.48,2019]
[334111,"Electronic computer manufacturing",10162,265467,6383059,"N.A.",39530,8841955,2.41,9.48,2019]
[334112,"Computer storage device manufacturing",4916,137140,2278659,"N.A.",30453,5874052,2.41,9.48,2019]
[334118,"Computer terminal and other computer peripheral equipment manufacturing",13821,347464,2236899,4892,19213,5968864,2.41,9.48,2019]
[3342,"Communications equipment manufacturing",63366,2315210,15981235,21189,118321,35466020,2.48,11.65,2019]
[33421,"Telephone apparatus manufacturing",6888,232611,2535453,3932,24553,4467467,2.48,11.65,2019]
[334210,"Telephone apparatus manufacturing",6888,232611,2535453,3932,24553,4467467,2.48,11.65,2019]
[33422,"Radio and television broadcasting and wireless communications equipment manufacturing",46324,1851064,11983915,14326,84039,26859934,2.48,11.65,2019]
[334220,"Radio and television broadcasting and wireless communications equipment manufacturing",46324,1851064,11983915,14326,84039,26859934,2.48,11.65,2019]
[33429,"Other communications equipment manufacturing",10154,231535,1461867,2931,9729,4138619,2.48,11.65,2019]
[334290,"Other communications equipment manufacturing",10154,231535,1461867,2931,9729,4138619,2.48,11.65,2019]
[3343,"Audio and video equipment manufacturing",10757,216529,1414740,3005,9761,3133006,4.79,8.23,2019]
[33431,"Audio and video equipment manufacturing",10757,216529,1414740,3005,9761,3133006,4.79,8.23,2019]
[334310,"Audio and video equipment manufacturing",10757,216529,1414740,3005,9761,3133006,4.79,8.23,2019]
[3344,"Semiconductor and other electronic component manufacturing",293344,8885438,46303661,180900,1997499,99116244,4.79,8.23,2019]
[33441,"Semiconductor and other electronic component manufacturing",293344,8885438,46303661,180900,1997499,99116244,4.79,8.23,2019]
[334412,"Bare printed circuit board manufacturing",30838,776984,1841033,12071,66435,4466397,4.79,8.23,2019]
[334413,"Semiconductor and related device manufacturing",92038,4081937,20519521,129642,1711309,51087649,4.79,8.23,2019]
[334416,"Capacitor, resistor, coil, transformer, and other inductor manufacturing",25454,527771,1798794,4466,31054,4108400,4.79,8.23,2019]
[334417,"Electronic connector manufacturing",23434,656822,2651035,5482,36380,5911869,4.79,8.23,2019]
[334418,"Printed circuit assembly (electronic assembly) manufacturing",60754,1312923,14756907,15419,72943,21222185,4.79,8.23,2019]
[334419,"Other electronic component manufacturing",60825,1529002,4736371,13821,79378,12319745,4.79,8.23,2019]
[3345,"Navigational, measuring, electromedical, and control instruments manufacturing",296564,9165711,60992139,210529,618778,156605381,4.79,8.23,2019]
[33451,"Navigational, measuring, electromedical, and control instruments manufacturing",296564,9165711,60992139,210529,618778,156605381,4.79,8.23,2019]
[334510,"Electromedical and electrotherapeutic apparatus manufacturing",67091,1923831,13321063,24289,96069,34590108,4.79,8.23,2019]
[334511,"Search, detection, navigation, guidance, aeronautical, and nautical system and instrument manufacturing",79225,3034718,20379426,110422,241381,53216235,4.79,8.23,2019]
[334512,"Automatic environmental control manufacturing for residential, commercial, and appliance use",10176,224632,1413022,4383,13471,3118383,4.79,8.23,2019]
[334513,"Instruments and related products manufacturing for measuring, displaying, and controlling industrial process variables",30722,778568,3848027,7486,39661,11198844,4.79,8.23,2019]
[334514,"Totalizing fluid meter and counting device manufacturing",11599,269739,2482995,3988,20521,5272031,4.79,8.23,2019]
[334515,"Instrument manufacturing for measuring and testing electricity and electrical systems",21172,666411,4098776,10451,44511,11204200,4.79,8.23,2019]
[334516,"Analytical laboratory instrument manufacturing",32813,945644,6742501,29254,70248,16461739,4.79,8.23,2019]
[334517,"Irradiation apparatus manufacturing",10738,407323,3323882,7030,47226,8403052,4.79,8.23,2019]
[334519,"Other measuring and controlling device manufacturing",33027,914847,5382446,13226,45690,13140788,4.79,8.23,2019]
[3346,"Manufacturing and reproducing magnetic and optical media",7407,180236,665892,2849,16768,1426909,4.79,8.23,2019]
[33461,"Manufacturing and reproducing magnetic and optical media",7407,180236,665892,2849,16768,1426909,4.79,8.23,2019]
[334613,"Blank magnetic and optical recording media manufacturing",531,14512,"N.A.","N.A.","N.A.",349575,4.79,8.23,2019]
[334614,"Software and other prerecorded compact disc, tape, and record reproducing",6876,165724,"N.A.","N.A.","N.A.",1077335,4.79,8.23,2019]
[335,"Electrical equipment, appliance, and component manufacturing",456498,10574743,67836951,271938,797971,133314764,2.6599999999999997,7.99,2019]
[3351,"Electric lighting equipment manufacturing",47584,1020215,6594605,29947,62731,14124568,2.6599999999999997,7.99,2019]
[33511,"Electric lamp bulb and part manufacturing",5506,158661,739250,6453,9926,1293907,2.6599999999999997,7.99,2019]
[335110,"Electric lamp bulb and part manufacturing",5506,158661,739250,6453,9926,1293907,2.6599999999999997,7.99,2019]
[33512,"Lighting fixture manufacturing",42079,861554,5855355,23493,52805,12830660,2.6599999999999997,7.99,2019]
[335121,"Residential electric lighting fixture manufacturing",8269,154734,936394,6613,8882,2169078,2.6599999999999997,7.99,2019]
[335122,"Commercial, industrial, and institutional electric lighting fixture manufacturing",21173,443380,2840404,10957,24623,5832612,2.6599999999999997,7.99,2019]
[335129,"Other lighting equipment manufacturing",12636,263440,2078557,5923,19300,4828970,2.6599999999999997,7.99,2019]
[3352,"Household appliance manufacturing",87814,1838965,12695828,28365,123865,24308639,2.6599999999999997,7.99,2019]
[33521,"Small electrical appliance manufacturing",14024,245434,1910758,2787,13250,3792037,2.6599999999999997,7.99,2019]
[335210,"Small electrical appliance manufacturing",14024,245434,1910758,2787,13250,3792037,2.6599999999999997,7.99,2019]
[33522,"Major household appliance manufacturing",73790,1593531,10785070,25578,110615,20516602,2.6599999999999997,7.99,2019]
[335220,"Major household appliance manufacturing",73790,1593531,10785070,25578,110615,20516602,2.6599999999999997,7.99,2019]
[3353,"Electrical equipment manufacturing",139450,3334304,22370283,54267,175974,42339870,2.6599999999999997,7.99,2019]
[33531,"Electrical equipment manufacturing",139450,3334304,22370283,54267,175974,42339870,2.6599999999999997,7.99,2019]
[335311,"Power, distribution, and specialty transformer manufacturing",28579,604399,3023563,19534,43772,6236452,2.6599999999999997,7.99,2019]
[335312,"Motor and generator manufacturing",36047,864222,7673618,16099,59531,12234845,2.6599999999999997,7.99,2019]
[335313,"Switchgear and switchboard apparatus manufacturing",38921,916681,6320183,11905,32651,13028725,2.6599999999999997,7.99,2019]
[335314,"Relay and industrial control manufacturing",35903,949003,5352920,6728,40021,10839848,2.6599999999999997,7.99,2019]
[3359,"Other electrical equipment and component manufacturing",181650,4381258,26176235,159359,435402,52541687,2.6599999999999997,7.99,2019]
[33591,"Battery manufacturing",40398,968384,5370501,75794,103857,9568897,2.6599999999999997,7.99,2019]
[335911,"Storage battery manufacturing",33401,760944,3996752,70886,76123,7455914,2.6599999999999997,7.99,2019]
[335912,"Primary battery manufacturing",6997,207440,1373749,4908,27734,2112983,2.6599999999999997,7.99,2019]
[33592,"Communication and energy wire and cable manufacturing",35687,819504,7255596,9146,77926,11695633,2.6599999999999997,7.99,2019]
[335921,"Fiber optic cable manufacturing",9027,219988,1658905,2620,16365,3103731,2.6599999999999997,7.99,2019]
[335929,"Other communication and energy wire manufacturing",26660,599516,5596691,6526,61561,8591902,2.6599999999999997,7.99,2019]
[33593,"Wiring device manufacturing",53210,1162724,6051565,22042,95154,13988655,2.6599999999999997,7.99,2019]
[335931,"Current-carrying wiring device manufacturing",33834,723230,3702311,9069,49736,8349821,2.6599999999999997,7.99,2019]
[335932,"Noncurrent-carrying wiring device manufacturing",19376,439495,2349254,12974,45418,5638834,2.6599999999999997,7.99,2019]
[33599,"All other electrical equipment and component manufacturing",52354,1430646,7498574,52377,158464,17288503,2.6599999999999997,7.99,2019]
[335991,"Carbon and graphite product manufacturing",13549,415089,2173142,40889,96380,4893423,2.6599999999999997,7.99,2019]
[335999,"All other miscellaneous electrical equipment and component manufacturing",38805,1015558,5325431,11487,62084,12395080,2.6599999999999997,7.99,2019]
[336,"Transportation equipment manufacturing",2157954,66334737,614138199,995976,3681014,957475988,2.35,5.57,2019]
[3361,"Motor vehicle manufacturing",370389,13572495,265322462,224764,587555,343796250,2.31,3.2099999999999995,2019]
[33611,"Automobile and light duty motor vehicle manufacturing",320759,12052643,239986529,209233,545316,310009660,2.31,3.2099999999999995,2019]
[336111,"Automobile manufacturing",119946,4702572,84725324,"N.A.",235473,104485057,2.31,3.2099999999999995,2019]
[336112,"Light truck and utility vehicle manufacturing",200813,7350071,155261205,"N. A.",309843,205524603,2.31,3.2099999999999995,2019]
[33612,"Heavy duty truck manufacturing",49630,1519851,25335933,15531,42240,33786591,2.31,3.2099999999999995,2019]
[336120,"Heavy duty truck manufacturing",49630,1519851,25335933,15531,42240,33786591,2.31,3.2099999999999995,2019]
[3362,"Motor vehicle body and trailer manufacturing",219629,5254224,31741554,61586,155923,49257888,2.31,3.2099999999999995,2019]
[33621,"Motor vehicle body and trailer manufacturing",219629,5254224,31741554,61586,155923,49257888,2.31,3.2099999999999995,2019]
[336211,"Motor vehicle body manufacturing",67762,1671757,9774277,27676,55801,16004626,2.31,3.2099999999999995,2019]
[336212,"Truck trailer manufacturing",53885,1226371,8234655,12991,46609,12167118,2.31,3.2099999999999995,2019]
[336213,"Motor home manufacturing",16362,386295,3245669,3985,9802,4581679,2.31,3.2099999999999995,2019]
[336214,"Travel trailer and camper manufacturing",81620,1969801,10486953,16935,43712,16504465,2.31,3.2099999999999995,2019]
[3363,"Motor vehicle parts manufacturing",858161,21878562,176394077,379798,1671560,260073140,2.31,3.2099999999999995,2019]
[33631,"Motor vehicle gasoline engine and engine parts manufacturing",96376,2892494,25888499,42946,235485,37228166,2.31,3.2099999999999995,2019]
[336310,"Motor vehicle gasoline engine and engine parts manufacturing",96376,2892494,25888499,42946,235485,37228166,2.31,3.2099999999999995,2019]
[33632,"Motor vehicle electrical and electronic equipment manufacturing",77683,1809262,15222270,20972,133976,23886585,2.31,3.2099999999999995,2019]
[336320,"Motor vehicle electrical and electronic equipment manufacturing",77683,1809262,15222270,20972,133976,23886585,2.31,3.2099999999999995,2019]
[33633,"Motor vehicle steering and suspension components (except spring) manufacturing",52284,1229670,10233743,22557,118860,15272994,2.31,3.2099999999999995,2019]
[336330,"Motor vehicle steering and suspension components (except spring) manufacturing",52284,1229670,10233743,22557,118860,15272994,2.31,3.2099999999999995,2019]
[33634,"Motor vehicle brake system manufacturing",34317,763300,7483206,13063,98149,11632509,2.31,3.2099999999999995,2019]
[336340,"Motor vehicle brake system manufacturing",34317,763300,7483206,13063,98149,11632509,2.31,3.2099999999999995,2019]
[33635,"Motor vehicle transmission and power train parts manufacturing",115262,3364418,29234155,67310,273429,42076172,2.31,3.2099999999999995,2019]
[336350,"Motor vehicle transmission and power train parts manufacturing",115262,3364418,29234155,67310,273429,42076172,2.31,3.2099999999999995,2019]
[33636,"Motor vehicle seating and interior trim manufacturing",103047,2462345,21077381,33646,147166,29131727,2.31,3.2099999999999995,2019]
[336360,"Motor vehicle seating and interior trim manufacturing",103047,2462345,21077381,33646,147166,29131727,2.31,3.2099999999999995,2019]
[33637,"Motor vehicle metal stamping",157385,4216000,24216087,75895,294797,36677433,2.31,3.2099999999999995,2019]
[336370,"Motor vehicle metal stamping",157385,4216000,24216087,75895,294797,36677433,2.31,3.2099999999999995,2019]
[33639,"Other motor vehicle parts manufacturing",221807,5141074,43038736,103410,369697,64167554,2.31,3.2099999999999995,2019]
[336390,"Other motor vehicle parts manufacturing",221807,5141074,43038736,103410,369697,64167554,2.31,3.2099999999999995,2019]
[3364,"Aerospace product and parts manufacturing",455823,18666051,103002405,218825,905614,234511676,2.37,11.219999999999999,2019]
[33641,"Aerospace product and parts manufacturing",455823,18666051,103002405,218825,905614,234511676,2.37,11.219999999999999,2019]
[336411,"Aircraft manufacturing",173315,7605404,51894460,60672,320926,130082732,2.37,11.219999999999999,2019]
[336412,"Aircraft engine and engine parts manufacturing",100634,3890986,16109374,50524,175498,40158495,2.37,11.219999999999999,2019]
[336413,"Other aircraft parts and auxiliary equipment manufacturing",123601,4535757,20916051,"N.A.",290497,37144701,2.37,11.219999999999999,2019]
[336414,"Guided missile and space vehicle manufacturing",31802,1607263,7596288,"N.A.","N.A.",17688983,2.37,11.219999999999999,2019]
[336415,"Guided missile and space vehicle propulsion unit and propulsion unit parts manufacturing",21454,860446,5697435,"N.A.","N.A.",8028184,2.37,11.219999999999999,2019]
[336419,"Other guided missile and space vehicle parts and auxiliary equipment manufacturing",5017,166194,788796,2208,"N.A.",1408583,2.37,11.219999999999999,2019]
[3365,"Railroad rolling stock manufacturing",36647,1210374,7825676,27051,62758,11764411,0,0,2019]
[33651,"Railroad rolling stock manufacturing",36647,1210374,7825676,27051,62758,11764411,0,0,2019]
[336510,"Railroad rolling stock manufacturing",36647,1210374,7825676,27051,62758,11764411,0,0,2019]
[3366,"Ship and boat building",173722,4646009,16682939,56546,229150,36830733,0,0,2019]
[33661,"Ship and boat building",173722,4646009,16682939,56546,229150,36830733,0,0,2019]
[336611,"Ship building and repairing",120177,3395913,10764672,37974,178459,26554897,0,0,2019]
[336612,"Boat building",53544,1250096,5918267,18572,50692,10275836,0,0,2019]
[33699,"Other transportation equipment manufacturing",43583,1107022,13169086,27406,68454,21241890,0,0,2019]
[336991,"Motorcycle, bicycle, and parts manufacturing",13197,308347,3030511,4879,17519,6216801,0,0,2019]
[336992,"Military armored vehicle, tank, and tank component manufacturing",13138,389942,3369604,12578,14997,5960001,0,0,2019]
[336999,"All other transportation equipment manufacturing",17247,408733,6768970,9949,35937,9065087,0,0,2019]
[337,"Furniture and related product manufacturing",520015,10269137,33485353,162820,453173,75525551,2.17,8.19,2019]
[3371,"Household and institutional furniture and kitchen cabinet manufacturing",308818,5933066,17325774,84644,254482,37978465,2.17,8.19,2019]
[33711,"Wood kitchen cabinet and countertop manufacturing",131188,2544982,5720329,44968,119409,14224367,2.17,8.19,2019]
[337110,"Wood kitchen cabinet and countertop manufacturing",131188,2544982,5720329,44968,119409,14224367,2.17,8.19,2019]
[33712,"Household and institutional furniture manufacturing",177630,3388084,11605445,39676,135073,23754098,2.17,8.19,2019]
[337121,"Upholstered household furniture manufacturing",94302,1831254,6123770,10260,46698,11964222,2.17,8.19,2019]
[337122,"Nonupholstered wood household furniture manufacturing",33578,559322,1584422,10255,32566,3505233,2.17,8.19,2019]
[337124,"Metal household furniture manufacturing",13895,271120,1244716,7772,14353,2300549,2.17,8.19,2019]
[337125,"Household furniture (except wood and metal) manufacturing",3686,60912,574372,1236,7612,1027129,2.17,8.19,2019]
[337127,"Institutional furniture manufacturing",32170,665477,2078166,10153,33843,4956965,2.17,8.19,2019]
[3372,"Office furniture (including fixtures) manufacturing",165674,3474303,11536243,70948,174924,28166490,2.17,8.19,2019]
[33721,"Office furniture (including fixtures) manufacturing",165674,3474303,11536243,70948,174924,28166490,2.17,8.19,2019]
[337211,"Wood office furniture manufacturing",24220,423706,1083172,6910,19885,3205319,2.17,8.19,2019]
[337212,"Custom architectural woodwork and millwork manufacturing",59078,1365112,3464922,22808,54923,8772859,2.17,8.19,2019]
[337214,"Office furniture (except wood) manufacturing",37649,755861,3712410,13444,37610,8854452,2.17,8.19,2019]
[337215,"Showcase, partition, shelving, and locker manufacturing",44727,929623,3275740,27785,62506,7333860,2.17,8.19,2019]
[3379,"Other furniture related product manufacturing",45523,861768,4623336,7228,23767,9380596,2.17,8.19,2019]
[33791,"Mattress manufacturing",32495,583232,3616337,5161,13508,7177489,2.17,8.19,2019]
[337910,"Mattress manufacturing",32495,583232,3616337,5161,13508,7177489,2.17,8.19,2019]
[33792,"Blind and shade manufacturing",13028,278535,1006999,2067,10259,2203107,2.17,8.19,2019]
[337920,"Blind and shade manufacturing",13028,278535,1006999,2067,10259,2203107,2.17,8.19,2019]
[339,"Miscellaneous manufacturing",651700,14222262,57452196,215472,744494,155001660,2.9000000000000004,8.73,2019]
[3391,"Medical equipment and supplies manufacturing",334814,7645131,31037616,73473,370237,91887978,2.9000000000000004,8.73,2019]
[33911,"Medical equipment and supplies manufacturing",334814,7645131,31037616,73473,370237,91887978,2.9000000000000004,8.73,2019]
[339112,"Surgical and medical instrument manufacturing",148683,3435692,13390538,33411,176576,40736615,2.9000000000000004,8.73,2019]
[339113,"Surgical appliance and supplies manufacturing",86556,1945386,12546722,26172,105774,34698542,2.9000000000000004,8.73,2019]
[339114,"Dental equipment and supplies manufacturing",14583,352557,1353649,1786,16967,4604575,2.9000000000000004,8.73,2019]
[339115,"Ophthalmic goods manufacturing",29813,623526,2544317,4792,48619,6691088,2.9000000000000004,8.73,2019]
[339116,"Dental laboratories",55179,1287970,1202390,7310,22300,5157158,2.9000000000000004,8.73,2019]
[3399,"Other miscellaneous manufacturing",316886,6577132,26414580,141999,374256,63113681,2.9000000000000004,8.73,2019]
[33991,"Jewelry and silverware manufacturing",24183,514086,3461330,7010,19065,7327432,2.9000000000000004,8.73,2019]
[339910,"Jewelry and silverware manufacturing",24183,514086,3461330,7010,19065,7327432,2.9000000000000004,8.73,2019]
[33992,"Sporting and athletic goods manufacturing",42233,825592,4472904,29189,77682,10712885,2.9000000000000004,8.73,2019]
[339920,"Sporting and athletic goods manufacturing",42233,825592,4472904,29189,77682,10712885,2.9000000000000004,8.73,2019]
[33993,"Doll, toy, and game manufacturing",7095,164346,735083,4748,10196,1406871,2.9000000000000004,8.73,2019]
[339930,"Doll, toy, and game manufacturing",7095,164346,735083,4748,10196,1406871,2.9000000000000004,8.73,2019]
[33994,"Office supplies (except paper) manufacturing",13828,271109,1780100,5405,17960,3336081,2.9000000000000004,8.73,2019]
[339940,"Office supplies (except paper) manufacturing",13828,271109,1780100,5405,17960,3336081,2.9000000000000004,8.73,2019]
[33995,"Sign manufacturing",85826,1802171,5376717,24745,62975,13255100,2.9000000000000004,8.73,2019]
[339950,"Sign manufacturing",85826,1802171,5376717,24745,62975,13255100,2.9000000000000004,8.73,2019]
[33999,"All other miscellaneous manufacturing",143722,2999828,10588446,70902,186380,27075312,2.9000000000000004,8.73,2019]
[339991,"Gasket, packing, and sealing device manufacturing",40528,867181,2849553,26329,76800,6861945,2.9000000000000004,8.73,2019]
[339992,"Musical instrument manufacturing",15861,339317,729452,7080,17585,2180081,2.9000000000000004,8.73,2019]
[339993,"Fastener, button, needle, and pin manufacturing",5202,111551,444594,6075,14967,983598,2.9000000000000004,8.73,2019]
[339994,"Broom, brush, and mop manufacturing",14372,240018,1367413,2284,20805,3001834,2.9000000000000004,8.73,2019]
[339995,"Burial casket manufacturing",4007,75935,276664,6410,7018,596927,2.9000000000000004,8.73,2019]
[339999,"All other miscellaneous manufacturing",63752,1365826,4920771,22725,49205,13450927,2.9000000000000004,8.73,2019]

{"sheet":"2020 Econ Census Data","index":163,"n_rows":649,"n_cols":11,"rows_kept":649,"cut":false,"hidden":false,"merged":[]}
["2017 NAICS code (NAICS2017)","Meaning of NAICS code (NAICS2017_LABEL)","Production workers annual hours (1,000) (HOURS)","Production workers annual wages ($1,000) (PAYANPW)","Total cost of materials ($1,000) (CSTMTOT)","Cost of purchased fuels consumed ($1,000) (CSTFU)","Cost of purchased electricity ($1,000) (CSTELEC)","Sales, value of shipments, or revenue ($1,000) (RCPTOT)","Deprecition","Operating Income","Year (YEAR)"]
[]
["31-33","Manufacturing",15156366,400409983,2833295173,27376175,46799312,5221325198,3.79,7.16,2020]
[311,"Food manufacturing",2408952,53398480,502612435,3347997,5852761,827131870,2.61,8.24,2020]
[3111,"Animal food manufacturing",89828,2088591,36760452,188514,373598,59882543,2.61,8.24,2020]
[31111,"Animal food manufacturing",89828,2088591,36760452,188514,373598,59882543,2.61,8.24,2020]
[311111,"Dog and cat food manufacturing",50993,1100115,13730326,64486,137818,25609378,2.61,8.24,2020]
[311119,"Other animal food manufacturing",38835,988477,23030126,124027,235781,34273165,2.61,8.24,2020]
[3112,"Grain and oilseed milling",82428,2385964,66548268,653082,850719,88595112,2.61,8.24,2020]
[31121,"Flour milling and malt manufacturing",29884,792651,12211889,75339,251661,19095196,2.61,8.24,2020]
[311211,"Flour milling",19647,541053,8715093,36289,181654,13554405,2.61,8.24,2020]
[311212,"Rice milling",8987,216570,2881462,"NA",54767,4585306,2.61,8.24,2020]
[311213,"Malt manufacturing",1250,35028,615334,"NA",15239,955485,2.61,8.24,2020]
[31122,"Starch and vegetable fats and oils manufacturing",33978,968087,48611345,531889,519148,58760041,2.61,8.24,2020]
[311221,"Wet corn milling",9370,299072,6106006,269468,269510,10019662,2.61,8.24,2020]
[311224,"Soybean and other oilseed processing",14772,434269,35540557,244527,213992,39950034,2.61,8.24,2020]
[311225,"Fats and oils refining and blending",9837,234746,6964782,17894,35646,8790345,2.61,8.24,2020]
[31123,"Breakfast cereal manufacturing",18566,625226,5725034,45854,79910,10739876,2.61,8.24,2020]
[311230,"Breakfast cereal manufacturing",18566,625226,5725034,45854,79910,10739876,2.61,8.24,2020]
[3113,"Sugar and confectionery product manufacturing",119521,2724558,21864880,371233,339095,38983986,2.61,8.24,2020]
[31131,"Sugar manufacturing",27204,631268,7177564,285312,121169,10819321,2.61,8.24,2020]
[311313,"Beet sugar manufacturing",13309,312326,2260537,165054,"NA",3708142,2.61,8.24,2020]
[311314,"Cane sugar manufacturing",13895,318942,4917027,120258,"NA",7111179,2.61,8.24,2020]
[31134,"Nonchocolate confectionery manufacturing",31496,760754,5297638,35852,96535,10715787,2.61,8.24,2020]
[311340,"Nonchocolate confectionery manufacturing",31496,760754,5297638,35852,96535,10715787,2.61,8.24,2020]
[31135,"Chocolate and chocolate confectionery manufacturing",60821,1332536,9389678,50069,121391,17448879,2.61,8.24,2020]
[311351,"Chocolate and confectionery manufacturing from cacao beans",12384,341338,3200457,11601,41850,4500224,2.61,8.24,2020]
[311352,"Confectionery manufacturing from purchased chocolate",48437,991198,6189220,38469,79541,12948655,2.61,8.24,2020]
[3114,"Fruit and vegetable preserving and specialty food manufacturing",264287,5904859,40343621,469403,712870,76583045,2.61,8.24,2020]
[31141,"Frozen food manufacturing",143763,3028608,18465051,157458,382512,33898774,2.61,8.24,2020]
[311411,"Frozen fruit, juice, and vegetable manufacturing",54102,1059025,7799221,99426,180847,14753618,2.61,8.24,2020]
[311412,"Frozen specialty food manufacturing",89661,1969583,10665830,58033,201665,19145156,2.61,8.24,2020]
[31142,"Fruit and vegetable canning, pickling, and drying",120523,2876252,21878570,311945,330358,42684271,2.61,8.24,2020]
[311421,"Fruit and vegetable canning",78760,1918732,15109636,213022,225653,26751570,2.61,8.24,2020]
[311422,"Specialty canning",21865,447150,3185428,35867,42000,8720331,2.61,8.24,2020]
[311423,"Dried and dehydrated food manufacturing",19899,510370,3583506,63056,62705,7212370,2.61,8.24,2020]
[3115,"Dairy product manufacturing",230498,6106168,87121256,410803,817437,129287957,2.61,8.24,2020]
[31151,"Dairy product (except frozen) manufacturing",195239,5265787,81898092,390282,725395,120516066,2.61,8.24,2020]
[311511,"Fluid milk manufacturing",67359,1986463,24439007,118034,256544,38173148,2.61,8.24,2020]
[311512,"Creamery butter manufacturing",6995,159751,4789196,30922,37458,6252809,2.61,8.24,2020]
[311513,"Cheese manufacturing",94293,2352140,43640903,164253,325232,59100638,2.61,8.24,2020]
[311514,"Dry, condensed, and evaporated dairy product manufacturing",26593,767433,9028987,77072,106161,16989470,2.61,8.24,2020]
[31152,"Ice cream and frozen dessert manufacturing",35258,840380,5223163,20521,92042,8771891,2.61,8.24,2020]
[311520,"Ice cream and frozen dessert manufacturing",35258,840380,5223163,20521,92042,8771891,2.61,8.24,2020]
[3116,"Animal slaughtering and processing",939497,18763987,153692513,545409,1456881,227896148,2.61,8.24,2020]
[31161,"Animal slaughtering and processing",939497,18763987,153692513,545409,1456881,227896148,2.61,8.24,2020]
[311611,"Animal (except poultry) slaughtering",295899,6561453,69697947,148604,385237,96613115,2.61,8.24,2020]
[311612,"Meat processed from carcasses",194486,4314486,39764509,114721,417994,58119659,2.61,8.24,2020]
[311613,"Rendering and meat byproduct processing",14979,364317,2284448,124531,81705,4593015,2.61,8.24,2020]
[311615,"Poultry processing",434133,7523730,41945609,157553,571945,68570358,2.61,8.24,2020]
[3117,"Seafood product preparation and packaging",50653,980020,7916899,116488,76420,13186175,2.61,8.24,2020]
[31171,"Seafood product preparation and packaging",50653,980020,7916899,116488,76420,13186175,2.61,8.24,2020]
[311710,"Seafood product preparation and packaging",50653,980020,7916899,116488,76420,13186175,2.61,8.24,2020]
[3118,"Bakeries and tortilla manufacturing",336278,7345639,29625417,287642,606185,72738831,2.61,8.24,2020]
[31181,"Bread and bakery product manufacturing",235422,4949541,16018591,201379,383877,43491708,2.61,8.24,2020]
[311811,"Retail bakeries",62129,1056022,1588744,34076,57510,5021855,2.61,8.24,2020]
[311812,"Commercial bakeries",140223,3264232,11713806,148126,270915,32897442,2.61,8.24,2020]
[311813,"Frozen cakes, pies, and other pastries manufacturing",33071,629288,2716041,19177,55452,5572411,2.61,8.24,2020]
[31182,"Cookie, cracker, and pasta manufacturing",70026,1778175,11797090,66296,177711,24560467,2.61,8.24,2020]
[311821,"Cookie and cracker manufacturing",40328,929985,4536290,36313,64022,11340803,2.61,8.24,2020]
[311824,"Dry pasta, dough, and flour mixes manufacturing from purchased flour",29698,848190,7260801,29983,113689,13219664,2.61,8.24,2020]
[31183,"Tortilla manufacturing",30829,617923,1809735,19967,44597,4686657,2.61,8.24,2020]
[311830,"Tortilla manufacturing",30829,617923,1809735,19967,44597,4686657,2.61,8.24,2020]
[3119,"Other food manufacturing",295962,7098694,58739130,305423,619556,119978072,2.61,8.24,2020]
[31191,"Snack food manufacturing",78528,2236450,18528991,130611,181247,40392575,2.61,8.24,2020]
[311911,"Roasted nuts and peanut butter manufacturing",26342,552988,11701171,38236,90319,14724234,2.61,8.24,2020]
[311919,"Other snack food manufacturing",52186,1683462,6827820,92375,90928,25668340,2.61,8.24,2020]
[31192,"Coffee and tea manufacturing",23477,541135,7414278,24553,40646,11808374,2.61,8.24,2020]
[311920,"Coffee and tea manufacturing",23477,541135,7414278,24553,40646,11808374,2.61,8.24,2020]
[31193,"Flavoring syrup and concentrate manufacturing",10348,237961,3186994,15313,32646,11463026,2.61,8.24,2020]
[311930,"Flavoring syrup and concentrate manufacturing",10348,237961,3186994,15313,32646,11463026,2.61,8.24,2020]
[31194,"Seasoning and dressing manufacturing",60541,1604170,12696530,45085,116338,25281177,2.61,8.24,2020]
[311941,"Mayonnaise, dressing, and other prepared sauce manufacturing",33350,799526,6385424,22532,63865,11580180,2.61,8.24,2020]
[311942,"Spice and extract manufacturing",27190,804643,6311105,22554,52473,13700997,2.61,8.24,2020]
[31199,"All other food manufacturing",123069,2478979,16912337,89860,248679,31032920,2.61,8.24,2020]
[311991,"Perishable prepared food manufacturing",81775,1529481,10114487,39865,144163,18405491,2.61,8.24,2020]
[311999,"All other miscellaneous food manufacturing",41293,949498,6797850,49995,104516,12627429,2.61,8.24,2020]
[312,"Beverage and tobacco product manufacturing",226696,6682609,58056544,374710,846306,156041470,2.91,21.88,2020]
[3121,"Beverage manufacturing",211728,6108365,51103394,346763,790270,105997028,2.91,21.88,2020]
[31211,"Soft drink and ice manufacturing",89004,2760340,27984468,171222,428455,44416236,2.91,21.88,2020]
[312111,"Soft drink manufacturing",69327,2337520,24690907,133130,251949,36792963,2.91,21.88,2020]
[312112,"Bottled water manufacturing",16615,355884,3098371,21417,123004,6699749,2.91,21.88,2020]
[312113,"Ice manufacturing",3063,66936,195190,16674,53502,923524,2.91,21.88,2020]
[31212,"Breweries",66423,1729818,9537320,104704,197782,27091747,2.91,21.88,2020]
[312120,"Breweries",66423,1729818,9537320,104704,197782,27091747,2.91,21.88,2020]
[31213,"Wineries",37886,1039363,9007405,39258,125136,19818753,2.91,21.88,2020]
[312130,"Wineries",37886,1039363,9007405,39258,125136,19818753,2.91,21.88,2020]
[31214,"Distilleries",18414,578843,4574201,31579,38897,14670293,2.91,21.88,2020]
[312140,"Distilleries",18414,578843,4574201,31579,38897,14670293,2.91,21.88,2020]
[3122,"Tobacco manufacturing",14968,574244,6953149,27948,56036,50044442,2.91,21.88,2020]
[31223,"Tobacco manufacturing",14968,574244,6953149,27948,56036,50044442,2.91,21.88,2020]
[312230,"Tobacco manufacturing",14968,574244,6953149,27948,56036,50044442,2.91,21.88,2020]
[313,"Textile mills",123689,2384687,13784551,157471,526357,24530810,4.05,5.01,2020]
[3131,"Fiber, yarn, and thread mills",30491,544862,3652374,21404,186307,5539319,4.05,5.01,2020]
[31311,"Fiber, yarn, and thread mills",30491,544862,3652374,21404,186307,5539319,4.05,5.01,2020]
[313110,"Fiber, yarn, and thread mills",30491,544862,3652374,21404,186307,5539319,4.05,5.01,2020]
[3132,"Fabric mills",60465,1193033,6193463,74237,237111,12283251,4.05,5.01,2020]
[31321,"Broadwoven fabric mills",21725,389045,1713006,12724,72550,3096835,4.05,5.01,2020]
[313210,"Broadwoven fabric mills",21725,389045,1713006,12724,72550,3096835,4.05,5.01,2020]
[31322,"Narrow fabric mills and schiffli machine embroidery",7329,131489,352201,6067,10951,871784,4.05,5.01,2020]
[313220,"Narrow fabric mills and schiffli machine embroidery",7329,131489,352201,6067,10951,871784,4.05,5.01,2020]
[31323,"Nonwoven fabric mills",23599,539483,3528439,45475,138290,7106471,4.05,5.01,2020]
[313230,"Nonwoven fabric mills",23599,539483,3528439,45475,138290,7106471,4.05,5.01,2020]
[31324,"Knit fabric mills",7813,133016,599816,9970,15319,1208162,4.05,5.01,2020]
[313240,"Knit fabric mills",7813,133016,599816,9970,15319,1208162,4.05,5.01,2020]
[3133,"Textile and fabric finishing and fabric coating mills",32732,646792,3938714,61831,102940,6708240,4.05,5.01,2020]
[31331,"Textile and fabric finishing mills",23334,434066,2523873,50610,82501,4405489,4.05,5.01,2020]
[313310,"Textile and fabric finishing mills",23334,434066,2523873,50610,82501,4405489,4.05,5.01,2020]
[31332,"Fabric coating mills",9398,212725,1414841,11220,20438,2302752,4.05,5.01,2020]
[313320,"Fabric coating mills",9398,212725,1414841,11220,20438,2302752,4.05,5.01,2020]
[314,"Textile product mills",137100,2412258,10599862,54462,187656,21285675,4.05,5.01,2020]
[3141,"Textile furnishings mills",63758,1098045,6145269,31076,95071,11590823,4.05,5.01,2020]
[31411,"Carpet and rug mills",37278,699396,4597233,25092,82705,8046055,4.05,5.01,2020]
[314110,"Carpet and rug mills",37278,699396,4597233,25092,82705,8046055,4.05,5.01,2020]
[31412,"Curtain and linen mills",26479,398649,1548036,5984,12366,3544768,4.05,5.01,2020]
[314120,"Curtain and linen mills",26479,398649,1548036,5984,12366,3544768,4.05,5.01,2020]
[3149,"Other textile product mills",73342,1314213,4454594,23386,92585,9694852,4.05,5.01,2020]
[31491,"Textile bag and canvas mills",26747,485899,1783911,6313,24663,3831712,4.05,5.01,2020]
[314910,"Textile bag and canvas mills",26747,485899,1783911,6313,24663,3831712,4.05,5.01,2020]
[31499,"All other textile product mills",46595,828314,2670682,17074,67922,5863140,4.05,5.01,2020]
[314994,"Rope, cordage, twine, tire cord, and tire fabric mills",8994,191391,822504,6786,33943,1467599,4.05,5.01,2020]
[314999,"All other miscellaneous textile product mills",37602,636923,1848178,10287,33979,4395541,4.05,5.01,2020]
[315,"Apparel manufacturing",87872,1402555,3738818,18702,49209,8428376,2.85,6.28,2020]
[3151,"Apparel knitting mills",12486,179363,456456,4526,20793,909032,2.85,6.28,2020]
[31511,"Hosiery and sock mills",9763,141174,350479,4034,19451,696055,2.85,6.28,2020]
[315110,"Hosiery and sock mills",9763,141174,350479,4034,19451,696055,2.85,6.28,2020]
[31519,"Other apparel knitting mills",2722,38189,105976,493,1343,212977,2.85,6.28,2020]
[315190,"Other apparel knitting mills",2722,38189,105976,493,1343,212977,2.85,6.28,2020]
[3152,"Cut and sew apparel manufacturing",65716,1092103,2863977,11370,23156,6594224,2.85,6.28,2020]
[31521,"Cut and sew apparel contractors",27495,453579,738596,3925,8223,1797210,2.85,6.28,2020]
[315210,"Cut and sew apparel contractors",27495,453579,738596,3925,8223,1797210,2.85,6.28,2020]
[31522,"Men's and boys' cut and sew apparel manufacturing",20076,273555,760066,4231,6274,1597590,2.85,6.28,2020]
[315220,"Men's and boys' cut and sew apparel manufacturing",20076,273555,760066,4231,6274,1597590,2.85,6.28,2020]
[31524,"Women's, girls', and infants' cut and sew apparel manufacturing",11071,252084,1072212,2050,5316,2350277,2.85,6.28,2020]
[315240,"Women's, girls', and infants' cut and sew apparel manufacturing",11071,252084,1072212,2050,5316,2350277,2.85,6.28,2020]
[31528,"Other cut and sew apparel manufacturing",7074,112885,293103,1163,3342,849148,2.85,6.28,2020]
[315280,"Other cut and sew apparel manufacturing",7074,112885,293103,1163,3342,849148,2.85,6.28,2020]
[3159,"Apparel accessories and other apparel manufacturing",9671,131090,418386,2806,5260,925120,2.85,6.28,2020]
[31599,"Apparel accessories and other apparel manufacturing",9671,131090,418386,2806,5260,925120,2.85,6.28,2020]
[315990,"Apparel accessories and other apparel manufacturing",9671,131090,418386,2806,5260,925120,2.85,6.28,2020]
[316,"Leather and allied product manufacturing",34020,585456,1932620,6456,27912,4008962,2.85,6.28,2020]
[3161,"Leather and hide tanning and finishing",5195,104289,509443,3026,9028,894471,2.85,6.28,2020]
[31611,"Leather and hide tanning and finishing",5195,104289,509443,3026,9028,894471,2.85,6.28,2020]
[316110,"Leather and hide tanning and finishing",5195,104289,509443,3026,9028,894471,2.85,6.28,2020]
[3162,"Footwear manufacturing",15931,266423,806736,1716,11295,1551676,2.85,6.28,2020]
[31621,"Footwear manufacturing",15931,266423,806736,1716,11295,1551676,2.85,6.28,2020]
[316210,"Footwear manufacturing",15931,266423,806736,1716,11295,1551676,2.85,6.28,2020]
[3169,"Other leather and allied product manufacturing",12894,214744,616441,1714,7589,1562815,2.85,6.28,2020]
[31699,"Other leather and allied product manufacturing",12894,214744,616441,1714,7589,1562815,2.85,6.28,2020]
[316992,"Women's handbag and purse manufacturing",1661,35475,124453,119,"NA",314873,2.85,6.28,2020]
[316998,"All other leather good and allied product manufacturing",11233,179269,491988,1595,"NA",1247942,2.85,6.28,2020]
[321,"Wood product manufacturing",614218,13012289,63016576,698597,1520452,117714840,2.91,10,2020]
[3211,"Sawmills and wood preservation",146925,3415258,20484946,216190,592580,37280622,2.91,10,2020]
[32111,"Sawmills and wood preservation",146925,3415258,20484946,216190,592580,37280622,2.91,10,2020]
[321113,"Sawmills",130910,3079649,14093059,184425,555941,29169429,2.91,10,2020]
[321114,"Wood preservation",16015,335609,6391887,31764,36640,8111194,2.91,10,2020]
[3212,"Veneer, plywood, and engineered wood product manufacturing",112720,2526679,13724314,247361,411321,25334005,2.91,10,2020]
[32121,"Veneer, plywood, and engineered wood product manufacturing",112720,2526679,13724314,247361,411321,25334005,2.91,10,2020]
[321211,"Hardwood veneer and plywood manufacturing",16668,317662,1608488,9670,30128,2594682,2.91,10,2020]
[321212,"Softwood veneer and plywood manufacturing",22165,534908,2044772,41110,77271,3915323,2.91,10,2020]
[321213,"Engineered wood member (except truss) manufacturing",8593,225450,1712944,7947,28534,2719725,2.91,10,2020]
[321214,"Truss manufacturing",44951,859370,4015596,12993,31387,8108330,2.91,10,2020]
[321219,"Reconstituted wood product manufacturing",20344,589290,4342514,175641,244002,7995945,2.91,10,2020]
[3219,"Other wood product manufacturing",354572,7070351,28807316,235046,516551,55100212,2.91,10,2020]
[32191,"Millwork",153949,3242069,14507931,109398,266862,28104001,2.91,10,2020]
[321911,"Wood window and door manufacturing",72789,1628138,6357704,31447,100149,14110107,2.91,10,2020]
[321912,"Cut stock, resawing lumber, and planing",33104,658828,4121193,36505,81172,6467986,2.91,10,2020]
[321918,"Other millwork (including flooring)",48056,955103,4029035,41446,85541,7525907,2.91,10,2020]
[32192,"Wood container and pallet manufacturing",89907,1667740,5147554,53305,95165,9982311,2.91,10,2020]
[321920,"Wood container and pallet manufacturing",89907,1667740,5147554,53305,95165,9982311,2.91,10,2020]
[32199,"All other wood product manufacturing",110717,2160542,9151832,72343,154524,17013901,2.91,10,2020]
[321991,"Manufactured home (mobile home) manufacturing",38534,650191,2705976,10269,9561,4872808,2.91,10,2020]
[321992,"Prefabricated wood building manufacturing",24115,554771,2500174,17998,15403,4718102,2.91,10,2020]
[321999,"All other miscellaneous wood product manufacturing",48068,955580,3945682,44076,129560,7422991,2.91,10,2020]
[322,"Paper manufacturing",512401,15237908,97958490,2869968,2860054,180343878,5.05,8.89,2020]
[3221,"Pulp, paper, and paperboard mills",155375,5718224,30486613,2385851,1848177,68531659,5.05,8.89,2020]
[32211,"Pulp mills",15955,655726,3032929,274774,125125,5988854,5.05,8.89,2020]
[322110,"Pulp mills",15955,655726,3032929,274774,125125,5988854,5.05,8.89,2020]
[32212,"Paper mills",74881,2508466,13743814,753269,842057,33049338,5.05,8.89,2020]
[322121,"Paper (except newsprint) mills",73595,2461355,13305418,"NA","NA",32447030,5.05,8.89,2020]
[322122,"Newsprint mills",1286,47111,438396,"NA","NA",602308,5.05,8.89,2020]
[32213,"Paperboard mills",64540,2554032,13709870,1357808,880995,29493466,5.05,8.89,2020]
[322130,"Paperboard mills",64540,2554032,13709870,1357808,880995,29493466,5.05,8.89,2020]
[3222,"Converted paper product manufacturing",357025,9519684,67471877,484117,1011877,111812219,5.05,8.89,2020]
[32221,"Paperboard container manufacturing",218549,5793202,43191994,223090,503392,67138927,5.05,8.89,2020]
[322211,"Corrugated and solid fiber box manufacturing",104162,2978927,23432683,142718,240076,35850218,5.05,8.89,2020]
[322212,"Folding paperboard box manufacturing",85608,2145452,15365048,66660,187320,23691142,5.05,8.89,2020]
[322219,"Other paperboard container manufacturing",28779,668822,4394263,13712,75996,7597567,5.05,8.89,2020]
[32222,"Paper bag and coated and treated paper manufacturing",69738,1973598,12665300,173645,246735,21823098,5.05,8.89,2020]
[322220,"Paper bag and coated and treated paper manufacturing",69738,1973598,12665300,173645,246735,21823098,5.05,8.89,2020]
[32223,"Stationery product manufacturing",22736,498679,3302179,5257,45278,5071107,5.05,8.89,2020]
[322230,"Stationery product manufacturing",22736,498679,3302179,5257,45278,5071107,5.05,8.89,2020]
[32229,"Other converted paper product manufacturing",46002,1254205,8312405,82125,216471,17779087,5.05,8.89,2020]
[322291,"Sanitary paper product manufacturing",25106,744394,6049263,52839,118445,13032923,5.05,8.89,2020]
[322299,"All other converted paper product manufacturing",20897,509811,2263141,29286,98027,4746164,5.05,8.89,2020]
[323,"Printing and related support activities",475272,11521561,30671255,221195,772882,74427773,3.91,2.74,2020]
[3231,"Printing and related support activities",475272,11521561,30671255,221195,772882,74427773,3.91,2.74,2020]
[32311,"Printing",448904,10907765,29914726,216403,747405,71786165,3.91,2.74,2020]
[323111,"Commercial printing (except screen and books)",353784,9029654,24962869,189332,632902,60207908,3.91,2.74,2020]
[323113,"Commercial screen printing",64837,1177390,3401455,20561,61107,7665359,3.91,2.74,2020]
[323117,"Books printing",30282,700721,1550402,6510,53396,3912897,3.91,2.74,2020]
[32312,"Support activities for printing",26369,613796,756529,4791,25477,2641609,3.91,2.74,2020]
[323120,"Support activities for printing",26369,613796,756529,4791,25477,2641609,3.91,2.74,2020]
[324,"Petroleum and coal products manufacturing",150595,6650886,289796886,3867116,2543853,361887968,6.26,-2.59,2020]
[3241,"Petroleum and coal products manufacturing",150595,6650886,289796886,3867116,2543853,361887968,6.26,-2.59,2020]
[32411,"Petroleum refineries",86691,4525629,263685468,3465631,2207844,315318029,6.26,-2.59,2020]
[324110,"Petroleum refineries",86691,4525629,263685468,3465631,2207844,315318029,6.26,-2.59,2020]
[32412,"Asphalt paving, roofing, and saturated materials manufacturing",40971,1336108,14559657,313079,258210,26478893,6.26,-2.59,2020]
[324121,"Asphalt paving mixture and block manufacturing",25744,853509,8130985,261235,185230,14005316,6.26,-2.59,2020]
[324122,"Asphalt shingle and coating materials manufacturing",15227,482599,6428672,51844,72981,12473578,6.26,-2.59,2020]
[32419,"Other petroleum and coal products manufacturing",22932,789149,11551761,88406,77799,20091047,6.26,-2.59,2020]
[324191,"Petroleum lubricating oil and grease manufacturing",16902,581753,9523375,47217,53056,16712365,6.26,-2.59,2020]
[324199,"All other petroleum and coal products manufacturing",6030,207396,2028386,41189,24743,3378682,6.26,-2.59,2020]
[325,"Chemical manufacturing",945260,33261652,297442840,7308670,7849667,696045646,3.81,11.96,2020]
[3251,"Basic chemical manufacturing",188483,7809778,94268120,4654255,3826098,178465995,6.62,5.96,2020]
[32511,"Petrochemical manufacturing",13958,813761,19315642,1318026,325947,37740890,6.62,5.96,2020]
[325110,"Petrochemical manufacturing",13958,813761,19315642,1318026,325947,37740890,6.62,5.96,2020]
[32512,"Industrial gas manufacturing",14288,555035,3060097,378253,809546,10359355,6.62,5.96,2020]
[325120,"Industrial gas manufacturing",14288,555035,3060097,378253,809546,10359355,6.62,5.96,2020]
[32513,"Synthetic dye and pigment manufacturing",10082,352195,2764905,37357,98575,5260673,6.62,5.96,2020]
[325130,"Synthetic dye and pigment manufacturing",10082,352195,2764905,37357,98575,5260673,6.62,5.96,2020]
[32518,"Other basic inorganic chemical manufacturing",51908,2044914,11035520,680405,1083535,28489860,6.62,5.96,2020]
[325180,"Other basic inorganic chemical manufacturing",51908,2044914,11035520,680405,1083535,28489860,6.62,5.96,2020]
[32519,"Other basic organic chemical manufacturing",98248,4043872,58091956,2240214,1508494,96615217,6.62,5.96,2020]
[325193,"Ethyl alcohol manufacturing",16453,551331,21437460,1013470,615557,27432429,6.62,5.96,2020]
[325194,"Cyclic crude, intermediate, and gum and wood chemical manufacturing",7067,265381,2289074,54500,86692,4898393,6.62,5.96,2020]
[325199,"All other basic organic chemical manufacturing",74728,3227161,34365421,1172244,806246,64284395,6.62,5.96,2020]
[3252,"Resin, synthetic rubber, and artificial synthetic fibers and filaments manufacturing",122402,4558771,53369076,1373165,1602465,87874688,6.62,5.96,2020]
[32521,"Resin and synthetic rubber manufacturing",104223,4123812,50604398,1306921,1476474,82830351,6.62,5.96,2020]
[325211,"Plastics material and resin manufacturing",91655,3623510,46995923,1220746,1393775,76186303,6.62,5.96,2020]
[325212,"Synthetic rubber manufacturing",12569,500301,3608475,86175,82699,6644048,6.62,5.96,2020]
[32522,"Artificial and synthetic fibers and filaments manufacturing",18179,434959,2764678,66244,125991,5044337,6.62,5.96,2020]
[325220,"Artificial and synthetic fibers and filaments manufacturing",18179,434959,2764678,66244,125991,5044337,6.62,5.96,2020]
[3253,"Pesticide, fertilizer, and other agricultural chemical manufacturing",46560,1518398,14925646,404637,487287,32438486,4.13,11.29,2020]
[32531,"Fertilizer manufacturing",32289,1069150,8423393,346149,406285,18738555,4.13,11.29,2020]
[325311,"Nitrogenous fertilizer manufacturing",10229,413409,2650153,292966,239856,8535129,4.13,11.29,2020]
[325312,"Phosphatic fertilizer manufacturing",10842,395277,3015114,33716,137936,5287007,4.13,11.29,2020]
[325314,"Fertilizer (mixing only) manufacturing",11218,260464,2758126,19467,28494,4916419,4.13,11.29,2020]
[32532,"Pesticide and other agricultural chemical manufacturing",14271,449247,6502253,58488,81001,13699931,4.13,11.29,2020]
[325320,"Pesticide and other agricultural chemical manufacturing",14271,449247,6502253,58488,81001,13699931,4.13,11.29,2020]
[3254,"Pharmaceutical and medicine manufacturing",288041,10947653,61188378,389234,1008870,231284130,2.4500000000000002,14.86,2020]
[32541,"Pharmaceutical and medicine manufacturing",288041,10947653,61188378,389234,1008870,231284130,2.4500000000000002,14.86,2020]
[325411,"Medicinal and botanical manufacturing",33195,1060903,5154249,"NA",87452,13129474,2.4500000000000002,14.86,2020]
[325412,"Pharmaceutical preparation manufacturing",154210,5515698,34500804,176514,519429,154718035,2.4500000000000002,14.86,2020]
[325413,"In-vitro diagnostic substance manufacturing",26612,948767,4995276,16656,54899,16627821,2.4500000000000002,14.86,2020]
[325414,"Biological product (except diagnostic) manufacturing",74024,3422285,16538049,"NA",347090,46808800,2.4500000000000002,14.86,2020]
[3255,"Paint, coating, and adhesive manufacturing",71545,2109095,19579018,83803,198021,40026824,4.13,11.29,2020]
[32551,"Paint and coating manufacturing",43486,1295376,13125542,39318,105019,26134719,4.13,11.29,2020]
[325510,"Paint and coating manufacturing",43486,1295376,13125542,39318,105019,26134719,4.13,11.29,2020]
[32552,"Adhesive manufacturing",28060,813719,6453475,44485,93002,13892105,4.13,11.29,2020]
[325520,"Adhesive manufacturing",28060,813719,6453475,44485,93002,13892105,4.13,11.29,2020]
[3256,"Soap, cleaning compound, and toilet preparation manufacturing",129020,3570123,32552465,176067,307866,83345265,4.13,11.29,2020]
[32561,"Soap and cleaning compound manufacturing",69716,1962820,16122494,137161,205113,41950204,4.13,11.29,2020]
[325611,"Soap and other detergent manufacturing",43069,1191182,9156336,32208,94390,26474282,4.13,11.29,2020]
[325612,"Polish and other sanitation good manufacturing",19481,485242,3729098,14836,69710,8367260,4.13,11.29,2020]
[325613,"Surface active agent manufacturing",7166,286396,3237061,90116,41013,7108662,4.13,11.29,2020]
[32562,"Toilet preparation manufacturing",59304,1607303,16429971,38906,102753,41395061,4.13,11.29,2020]
[325620,"Toilet preparation manufacturing",59304,1607303,16429971,38906,102753,41395061,4.13,11.29,2020]
[3259,"Other chemical product and preparation manufacturing",99209,2747835,21560137,227510,419061,42610258,4.13,11.29,2020]
[32591,"Printing ink manufacturing",10816,297825,2694329,8735,30947,4202582,4.13,11.29,2020]
[325910,"Printing ink manufacturing",10816,297825,2694329,8735,30947,4202582,4.13,11.29,2020]
[32592,"Explosives manufacturing",9503,228311,1304808,39623,30298,2957499,4.13,11.29,2020]
[325920,"Explosives manufacturing",9503,228311,1304808,39623,30298,2957499,4.13,11.29,2020]
[32599,"All other chemical product and preparation manufacturing",78889,2221699,17561000,179152,357816,35450178,4.13,11.29,2020]
[325991,"Custom compounding of purchased resins",23861,577206,5935900,20996,120250,9325720,4.13,11.29,2020]
[325992,"Photographic film, paper, plate, and chemical manufacturing",7304,223761,2142580,29444,49343,4293874,4.13,11.29,2020]
[325998,"All other miscellaneous chemical product and preparation manufacturing",47724,1420732,9482521,128711,188223,21830584,4.13,11.29,2020]
[326,"Plastics and rubber products manufacturing",1132899,26005060,117671329,765066,3595951,235403970,4.04,7.86,2020]
[3261,"Plastics product manufacturing",940673,21130956,99285118,614232,3113826,196457648,4.04,7.86,2020]
[32611,"Plastics packaging materials and unlaminated film and sheet manufacturing",157014,4096851,22422555,141730,649617,39765292,4.04,7.86,2020]
[326111,"Plastics bag and pouch manufacturing",60352,1344306,6916919,44754,187056,12948777,4.04,7.86,2020]
[326112,"Plastics packaging film and sheet (including laminated) manufacturing",51442,1467434,7949599,49662,210855,13587851,4.04,7.86,2020]
[326113,"Unlaminated plastics film and sheet (except packaging) manufacturing",45220,1285110,7556036,47314,251706,13228664,4.04,7.86,2020]
[32612,"Plastics pipe, pipe fitting, and unlaminated profile shape manufacturing",63727,1471843,8660647,41428,282624,19504132,4.04,7.86,2020]
[326121,"Unlaminated plastics profile shape manufacturing",26683,647144,2617710,17819,81715,8309334,4.04,7.86,2020]
[326122,"Plastics pipe and pipe fitting manufacturing",37043,824700,6042937,23609,200909,11194798,4.04,7.86,2020]
[32613,"Laminated plastics plate, sheet (except packaging), and shape manufacturing",16915,383519,1819923,24659,46736,3887315,4.04,7.86,2020]
[326130,"Laminated plastics plate, sheet (except packaging), and shape manufacturing",16915,383519,1819923,24659,46736,3887315,4.04,7.86,2020]
[32614,"Polystyrene foam product manufacturing",42154,855760,4934772,54258,127126,8972679,4.04,7.86,2020]
[326140,"Polystyrene foam product manufacturing",42154,855760,4934772,54258,127126,8972679,4.04,7.86,2020]
[32615,"Urethane and other foam product (except polystyrene) manufacturing",45905,901530,5472168,29593,68834,11189382,4.04,7.86,2020]
[326150,"Urethane and other foam product (except polystyrene) manufacturing",45905,901530,5472168,29593,68834,11189382,4.04,7.86,2020]
[32616,"Plastics bottle manufacturing",54098,1391307,6613855,41827,375369,12144202,4.04,7.86,2020]
[326160,"Plastics bottle manufacturing",54098,1391307,6613855,41827,375369,12144202,4.04,7.86,2020]
[32619,"Other plastics product manufacturing",560859,12030147,49361198,280736,1563521,100994647,4.04,7.86,2020]
[326191,"Plastics plumbing fixture manufacturing",27831,525001,2022278,13168,32873,4854085,4.04,7.86,2020]
[326199,"All other plastics product manufacturing",533028,11505146,47338920,267568,1530648,96140561,4.04,7.86,2020]
[3262,"Rubber product manufacturing",192227,4874104,18386211,150834,482125,38946322,4.04,7.86,2020]
[32621,"Tire manufacturing",80452,2345964,7687934,82485,219363,17317737,4.04,7.86,2020]
[326211,"Tire manufacturing (except retreading)",71760,2179194,6959409,73146,204407,15837682,4.04,7.86,2020]
[326212,"Tire retreading",8692,166770,728525,9339,14956,1480055,4.04,7.86,2020]
[32622,"Rubber and plastics hoses and belting manufacturing",28413,604037,2235790,15277,51133,5094815,4.04,7.86,2020]
[326220,"Rubber and plastics hoses and belting manufacturing",28413,604037,2235790,15277,51133,5094815,4.04,7.86,2020]
[32629,"Other rubber product manufacturing",83361,1924103,8462488,53073,211630,16533770,4.04,7.86,2020]
[326291,"Rubber product manufacturing for mechanical use",39427,871201,3475474,18600,85461,6760703,4.04,7.86,2020]
[326299,"All other rubber product manufacturing",43934,1052902,4987014,34473,126169,9773068,4.04,7.86,2020]
[327,"Nonmetallic mineral product manufacturing",594821,15400684,56921749,2302437,2564468,132980922,7.28,9.32,2020]
[3271,"Clay product and refractory manufacturing",48753,1002171,2813759,139944,136643,7582148,7.28,9.32,2020]
[32711,"Pottery, ceramics, and plumbing fixture manufacturing",18091,363518,737264,17883,31973,2438365,7.28,9.32,2020]
[327110,"Pottery, ceramics, and plumbing fixture manufacturing",18091,363518,737264,17883,31973,2438365,7.28,9.32,2020]
[327120,"Clay building material and refractories manufacturing",30662,638652,2076494,122061,104670,5143783,7.28,9.32,2020]
[3272,"Glass and glass product manufacturing",142126,3408853,10670304,392486,739742,26438919,7.28,9.32,2020]
[32721,"Glass and glass product manufacturing",142126,3408853,10670304,392486,739742,26438919,7.28,9.32,2020]
[327211,"Flat glass manufacturing",18871,425541,1672429,139894,119162,4080809,7.28,9.32,2020]
[327212,"Other pressed and blown glass and glassware manufacturing",17599,478103,1257481,70296,106728,3274687,7.28,9.32,2020]
[327213,"Glass container manufacturing",23551,711377,1417632,125366,214321,4446233,7.28,9.32,2020]
[327215,"Glass product manufacturing made of purchased glass",82106,1793831,6322762,56931,299532,14637190,7.28,9.32,2020]
[3273,"Cement and concrete product manufacturing",273619,7401950,28838968,985793,914170,63836222,7.28,9.32,2020]
[32731,"Cement manufacturing",26819,785063,3068212,626089,587777,8921608,7.28,9.32,2020]
[327310,"Cement manufacturing",26819,785063,3068212,626089,587777,8921608,7.28,9.32,2020]
[32732,"Ready-mix concrete manufacturing",139945,4033095,17992268,255405,168939,34223909,7.28,9.32,2020]
[327320,"Ready-mix concrete manufacturing",139945,4033095,17992268,255405,168939,34223909,7.28,9.32,2020]
[32733,"Concrete pipe, brick, and block manufacturing",29466,687275,2606309,39648,58213,6724338,7.28,9.32,2020]
[327331,"Concrete block and brick manufacturing",20060,491573,2036082,29236,43621,5121226,7.28,9.32,2020]
[327332,"Concrete pipe manufacturing",9406,195702,570227,10412,14592,1603112,7.28,9.32,2020]
[32739,"Other concrete product manufacturing",77389,1896517,5172180,64650,99241,13966367,7.28,9.32,2020]
[327390,"Other concrete product manufacturing",77389,1896517,5172180,64650,99241,13966367,7.28,9.32,2020]
[3274,"Lime and gypsum product manufacturing",25277,784327,3726152,461079,218306,8059433,7.28,9.32,2020]
[32741,"Lime manufacturing",7884,266738,1034875,285289,109691,2446551,7.28,9.32,2020]
[327410,"Lime manufacturing",7884,266738,1034875,285289,109691,2446551,7.28,9.32,2020]
[32742,"Gypsum product manufacturing",17394,517589,2691276,175790,108615,5612882,7.28,9.32,2020]
[327420,"Gypsum product manufacturing",17394,517589,2691276,175790,108615,5612882,7.28,9.32,2020]
[3279,"Other nonmetallic mineral product manufacturing",105046,2803384,10872567,323136,555607,27064200,7.28,9.32,2020]
[32791,"Abrasive product manufacturing",13356,367751,1068390,21688,46360,3394168,7.28,9.32,2020]
[327910,"Abrasive product manufacturing",13356,367751,1068390,21688,46360,3394168,7.28,9.32,2020]
[32799,"All other nonmetallic mineral product manufacturing",91690,2435632,9804176,301447,509247,23670033,7.28,9.32,2020]
[327991,"Cut stone and stone product manufacturing",34713,825636,2340524,20939,33337,5388124,7.28,9.32,2020]
[327992,"Ground or treated mineral and earth manufacturing",10264,338006,1801694,88677,113462,3991530,7.28,9.32,2020]
[327993,"Mineral wool manufacturing",30502,900300,3629592,145477,321313,9396319,7.28,9.32,2020]
[327999,"All other miscellaneous nonmetallic mineral product manufacturing",16211,371690,2032366,46354,41135,4894059,7.28,9.32,2020]
[331,"Primary metal manufacturing",523709,15525960,125895703,1886289,4397226,200918697,4.24,2.74,2020]
[3311,"Iron and steel mills and ferroalloy manufacturing",132521,5063124,49675082,1123294,2043502,74883475,4.07,2.42,2020]
[33111,"Iron and steel mills and ferroalloy manufacturing",132521,5063124,49675082,1123294,2043502,74883475,4.07,2.42,2020]
[331110,"Iron and steel mills and ferroalloy manufacturing",132521,5063124,49675082,1123294,2043502,74883475,4.07,2.42,2020]
[3312,"Steel product manufacturing from purchased steel",68440,1846665,13951527,99640,289672,22908888,4.07,2.42,2020]
[33121,"Iron and steel pipe and tube manufacturing from purchased steel",35366,1006209,7132487,46312,156194,11610268,4.07,2.42,2020]
[331210,"Iron and steel pipe and tube manufacturing from purchased steel",35366,1006209,7132487,46312,156194,11610268,4.07,2.42,2020]
[33122,"Rolling and drawing of purchased steel",33074,840456,6819040,53328,133478,11298620,4.07,2.42,2020]
[331221,"Rolled steel shape manufacturing",13990,373226,3395523,27811,60355,5515870,4.07,2.42,2020]
[331222,"Steel wire drawing",19084,467230,3423517,25517,73123,5782750,4.07,2.42,2020]
[3313,"Alumina and aluminum production and processing",86066,2403770,20316516,298062,852540,31467860,4.47,31.6,2020]
[33131,"Alumina and aluminum production and processing",86066,2403770,20316516,298062,852540,31467860,4.47,31.6,2020]
[331313,"Alumina refining and primary aluminum production",5840,195910,1697312,"NA",358297,2439363,4.47,31.6,2020]
[331314,"Secondary smelting and alloying of aluminum",6968,191437,3386085,67219,37287,4336176,4.47,31.6,2020]
[331315,"Aluminum sheet, plate, and foil manufacturing",28775,1002728,9206001,"NA",332136,14654638,4.47,31.6,2020]
[331318,"Other aluminum rolling, drawing, and extruding",44483,1013695,6027119,57244,124821,10037684,4.47,31.6,2020]
[3314,"Nonferrous metal (except aluminum) production and processing",80305,2257556,31190178,179920,551339,47149830,4.47,31.6,2020]
[33141,"Nonferrous metal (except aluminum) smelting and refining",11338,376403,7680645,50254,213681,12723685,4.47,31.6,2020]
[331410,"Nonferrous metal (except aluminum) smelting and refining",11338,376403,7680645,50254,213681,12723685,4.47,31.6,2020]
[33142,"Copper rolling, drawing, extruding, and alloying",36778,940019,16354765,48831,169945,21646771,4.47,31.6,2020]
[331420,"Copper rolling, drawing, extruding, and alloying",36778,940019,16354765,48831,169945,21646771,4.47,31.6,2020]
[33149,"Nonferrous metal (except copper and aluminum) rolling, drawing, extruding, and alloying",32190,941134,7154768,80834,167712,12779374,4.47,31.6,2020]
[331491,"Nonferrous metal (except copper and aluminum) rolling, drawing, extruding, and alloying",18914,584663,3222114,35556,87041,6063124,4.47,31.6,2020]
[331492,"Secondary smelting, refining, and alloying of nonferrous metal (except copper and aluminum)",13276,356471,3932654,45278,80672,6716250,4.47,31.6,2020]
[3315,"Foundries",156377,3954845,10762400,185373,660172,24508644,4.41,2.25,2020]
[33151,"Ferrous metal foundries",89096,2289397,6737640,97235,440405,14840638,4.41,2.25,2020]
[331511,"Iron foundries",52543,1284496,4198165,54880,293891,8584499,4.41,2.25,2020]
[331512,"Steel investment foundries",21745,614865,1262468,19594,59754,3351075,4.41,2.25,2020]
[331513,"Steel foundries (except investment)",14808,390036,1277008,22760,86760,2905064,4.41,2.25,2020]
[33152,"Nonferrous metal foundries",67281,1665448,4024759,88138,219767,9668006,4.41,2.25,2020]
[331523,"Nonferrous metal die-casting foundries",39149,970292,2386530,58895,143759,5513618,4.41,2.25,2020]
[331524,"Aluminum foundries (except die-casting)",16147,414203,680294,19797,40981,1961682,4.41,2.25,2020]
[331529,"Other nonferrous metal foundries (except die-casting)",11984,280953,957936,9446,35027,2192707,4.41,2.25,2020]
[332,"Fabricated metal product manufacturing",1887939,47933026,155012288,1109860,3252674,347335687,3.69,8.4499999999999993,2020]
[3321,"Forging and stamping",133373,3408459,14440435,144102,391902,27219198,3.69,8.4499999999999993,2020]
[33211,"Forging and stamping",133373,3408459,14440435,144102,391902,27219198,3.69,8.4499999999999993,2020]
[332111,"Iron and steel forging",24092,739281,3877346,62959,130979,6722816,3.69,8.4499999999999993,2020]
[332112,"Nonferrous forging",7396,187907,1228142,8654,30488,1951524,3.69,8.4499999999999993,2020]
[332114,"Custom roll forming",22483,562989,3752829,24688,72662,6175524,3.69,8.4499999999999993,2020]
[332117,"Powder metallurgy part manufacturing",13086,294541,805684,13157,51660,1941435,3.69,8.4499999999999993,2020]
[332119,"Metal crown, closure, and other metal stamping (except automotive)",66316,1623742,4776434,34644,106112,10427898,3.69,8.4499999999999993,2020]
[3322,"Cutlery and handtool manufacturing",43422,1074259,3648243,30696,77760,9724369,3.69,8.4499999999999993,2020]
[33221,"Cutlery and handtool manufacturing",43422,1074259,3648243,30696,77760,9724369,3.69,8.4499999999999993,2020]
[332215,"Metal kitchen cookware, utensil, cutlery, and flatware (except precious) manufacturing",8328,219834,1026358,15232,18350,3218357,3.69,8.4499999999999993,2020]
[332216,"Saw blade and handtool manufacturing",35093,854426,2621886,15464,59410,6506012,3.69,8.4499999999999993,2020]
[3323,"Architectural and structural metals manufacturing",502741,12079346,45056064,190798,530324,96325734,3.69,8.4499999999999993,2020]
[33231,"Plate work and fabricated structural product manufacturing",229490,5808545,23976230,92954,261883,49300926,3.69,8.4499999999999993,2020]
[332311,"Prefabricated metal building and component manufacturing",32845,803843,4675346,9784,30431,8466171,3.69,8.4499999999999993,2020]
[332312,"Fabricated structural metal manufacturing",142719,3684815,16143636,56403,162033,33650436,3.69,8.4499999999999993,2020]
[332313,"Plate work manufacturing",53926,1319887,3157247,26767,69419,7184319,3.69,8.4499999999999993,2020]
[33232,"Ornamental and architectural metal products manufacturing",273252,6270801,21079834,97844,268441,47024809,3.69,8.4499999999999993,2020]
[332321,"Metal window and door manufacturing",71140,1546029,6939240,24490,77935,14075302,3.69,8.4499999999999993,2020]
[332322,"Sheet metal work manufacturing",155737,3650039,11061286,57732,152515,25042994,3.69,8.4499999999999993,2020]
[332323,"Ornamental and architectural metal work manufacturing",46374,1074733,3079308,15622,37992,7906512,3.69,8.4499999999999993,2020]
[3324,"Boiler, tank, and shipping container manufacturing",125586,3681832,20491927,88614,351264,35519032,3.69,8.4499999999999993,2020]
[33241,"Power boiler and heat exchanger manufacturing",28770,872649,3345695,9798,42065,7293290,3.69,8.4499999999999993,2020]
[332410,"Power boiler and heat exchanger manufacturing",28770,872649,3345695,9798,42065,7293290,3.69,8.4499999999999993,2020]
[33242,"Metal tank (heavy gauge) manufacturing",45932,1315009,3941140,25827,55571,8385299,3.69,8.4499999999999993,2020]
[332420,"Metal tank (heavy gauge) manufacturing",45932,1315009,3941140,25827,55571,8385299,3.69,8.4499999999999993,2020]
[33243,"Metal can, box, and other metal container (light gauge) manufacturing",50885,1494175,13205091,52989,253629,19840444,3.69,8.4499999999999993,2020]
[332431,"Metal can manufacturing",34826,1140999,11545356,33117,228388,16742546,3.69,8.4499999999999993,2020]
[332439,"Other metal container manufacturing",16058,353176,1659736,19872,25241,3097897,3.69,8.4499999999999993,2020]
[3325,"Hardware manufacturing",36093,791564,3718975,12451,54773,8694931,3.69,8.4499999999999993,2020]
[33251,"Hardware manufacturing",36093,791564,3718975,12451,54773,8694931,3.69,8.4499999999999993,2020]
[332510,"Hardware manufacturing",36093,791564,3718975,12451,54773,8694931,3.69,8.4499999999999993,2020]
[3326,"Spring and wire product manufacturing",49055,1117374,4133551,28468,81009,9023239,3.69,8.4499999999999993,2020]
[33261,"Spring and wire product manufacturing",49055,1117374,4133551,28468,81009,9023239,3.69,8.4499999999999993,2020]
[332613,"Spring manufacturing",25110,552510,1811547,12131,39808,4037610,3.69,8.4499999999999993,2020]
[332618,"Other fabricated wire product manufacturing",23945,564864,2322004,16337,41201,4985628,3.69,8.4499999999999993,2020]
[3327,"Machine shops; turned product; and screw, nut, and bolt manufacturing",505759,13564141,22797711,186849,704910,62286800,3.69,8.4499999999999993,2020]
[33271,"Machine shops",311045,8432817,12155492,119674,389223,35499905,3.69,8.4499999999999993,2020]
[332710,"Machine shops",311045,8432817,12155492,119674,389223,35499905,3.69,8.4499999999999993,2020]
[33272,"Turned product and screw, nut, and bolt manufacturing",194714,5131324,10642219,67175,315687,26786896,3.69,8.4499999999999993,2020]
[332721,"Precision turned product manufacturing",143604,3751831,6240290,40649,216259,17309743,3.69,8.4499999999999993,2020]
[332722,"Bolt, nut, screw, rivet, and washer manufacturing",51110,1379493,4401929,26526,99429,9477153,3.69,8.4499999999999993,2020]
[3328,"Coating, engraving, heat treating, and allied activities",173617,4027169,9555880,267181,510714,24710245,3.69,8.4499999999999993,2020]
[33281,"Coating, engraving, heat treating, and allied activities",173617,4027169,9555880,267181,510714,24710245,3.69,8.4499999999999993,2020]
[332811,"Metal heat treating",26695,714069,1352309,82891,134657,4105185,3.69,8.4499999999999993,2020]
[332812,"Metal coating, engraving (except jewelry and silverware), and allied services to manufacturers",77561,1832570,5975815,111746,212690,13896455,3.69,8.4499999999999993,2020]
[332813,"Electroplating, plating, polishing, anodizing, and coloring",69361,1480530,2227756,72544,163368,6708605,3.69,8.4499999999999993,2020]
[3329,"Other fabricated metal product manufacturing",318293,8188882,31169503,160702,550017,73832139,3.69,8.4499999999999993,2020]
[33291,"Metal valve manufacturing",106472,2852834,12698758,34803,179082,29888662,3.69,8.4499999999999993,2020]
[332911,"Industrial valve manufacturing",39943,1069587,4365787,11868,77984,11144990,3.69,8.4499999999999993,2020]
[332912,"Fluid power valve and hose fitting manufacturing",39215,1130730,3974953,9088,56374,9446297,3.69,8.4499999999999993,2020]
[332913,"Plumbing fixture fitting and trim manufacturing",13054,306665,2669812,3848,14116,5448989,3.69,8.4499999999999993,2020]
[332919,"Other metal valve and pipe fitting manufacturing",14260,345852,1688206,9999,30608,3848387,3.69,8.4499999999999993,2020]
[33299,"All other fabricated metal product manufacturing",211821,5336047,18470745,125899,370935,43943477,3.69,8.4499999999999993,2020]
[332991,"Ball and roller bearing manufacturing",26369,685354,1859061,15267,74530,4939556,3.69,8.4499999999999993,2020]
[332992,"Small arms ammunition manufacturing",19831,519570,2199271,16244,33983,4847392,3.69,8.4499999999999993,2020]
[332993,"Ammunition (except small arms) manufacturing",13802,424613,902772,15980,34682,4138713,3.69,8.4499999999999993,2020]
[332994,"Small arms, ordnance, and ordnance accessories manufacturing",24826,656705,4020445,9612,44578,8831520,3.69,8.4499999999999993,2020]
[332996,"Fabricated pipe and pipe fitting manufacturing",33449,862232,2759527,15403,43107,5918991,3.69,8.4499999999999993,2020]
[332999,"All other miscellaneous fabricated metal product manufacturing",93543,2187574,6729669,53393,140055,15267306,3.69,8.4499999999999993,2020]
[333,"Machinery manufacturing",1200342,33039769,178590030,504081,1901513,355334738,3.15,6.94,2020]
[3331,"Agriculture, construction, and mining machinery manufacturing",223601,5772540,46937009,123081,396748,83586904,3.15,6.94,2020]
[33311,"Agricultural implement manufacturing",102308,2256144,21218584,57825,156938,37945108,3.15,6.94,2020]
[333111,"Farm machinery and equipment manufacturing",73881,1749770,15648141,47853,129096,29574100,3.15,6.94,2020]
[333112,"Lawn and garden tractor and home lawn and garden equipment manufacturing",28427,506374,5570443,9971,27842,8371008,3.15,6.94,2020]
[33312,"Construction machinery manufacturing",70625,1950356,16427961,34414,139744,30217265,3.15,6.94,2020]
[333120,"Construction machinery manufacturing",70625,1950356,16427961,34414,139744,30217265,3.15,6.94,2020]
[33313,"Mining and oil and gas field machinery manufacturing",50667,1566040,9290465,30843,100066,15424531,3.15,6.94,2020]
[333131,"Mining machinery and equipment manufacturing",19503,455537,2875788,13668,33577,4751837,3.15,6.94,2020]
[333132,"Oil and gas field machinery and equipment manufacturing",31164,1110503,6414677,17175,66489,10672694,3.15,6.94,2020]
[3332,"Industrial machinery manufacturing",112022,3381852,17183372,47810,197140,36069430,3.15,6.94,2020]
[33324,"Industrial machinery manufacturing",112022,3381852,17183372,47810,197140,36069430,3.15,6.94,2020]
[333241,"Food product machinery manufacturing",20989,591993,2332112,7505,21420,5607083,3.15,6.94,2020]
[333242,"Semiconductor machinery manufacturing",14398,549312,5269491,8615,59721,9798153,3.15,6.94,2020]
[333243,"Sawmill, woodworking, and paper machinery manufacturing",12834,409600,1550733,6761,24342,3418496,3.15,6.94,2020]
[333244,"Printing machinery and equipment manufacturing",5660,177059,869730,2884,12416,1635843,3.15,6.94,2020]
[333249,"Other industrial machinery manufacturing",58141,1653887,7161306,22045,79241,15609855,3.15,6.94,2020]
[3333,"Commercial and service industry machinery manufacturing",75608,2114100,10573327,34547,114410,23340405,3.15,6.94,2020]
[33331,"Commercial and service industry machinery manufacturing",75608,2114100,10573327,34547,114410,23340405,3.15,6.94,2020]
[333314,"Optical instrument and lens manufacturing",19583,651617,2398998,13635,49239,5211850,3.15,6.94,2020]
[333316,"Photographic and photocopying equipment manufacturing",2480,69778,334281,830,3257,828649,3.15,6.94,2020]
[333318,"Other commercial and service industry machinery manufacturing",53544,1392705,7840048,20081,61914,17299906,3.15,6.94,2020]
[3334,"Ventilation, heating, air-conditioning, and commercial refrigeration equipment manufacturing",184129,4159614,21248102,57697,176083,45787347,3.15,6.94,2020]
[33341,"Ventilation, heating, air-conditioning, and commercial refrigeration equipment manufacturing",184129,4159614,21248102,57697,176083,45787347,3.15,6.94,2020]
[333413,"Industrial and commercial fan and blower and air purification equipment manufacturing",32803,691452,2922180,14160,37078,6347680,3.15,6.94,2020]
[333414,"Heating equipment (except warm air furnaces) manufacturing",17838,394138,2049341,9406,22238,4900964,3.15,6.94,2020]
[333415,"Air-conditioning and warm air heating equipment and commercial and industrial refrigeration equipment manufacturing",133488,3074023,16276580,34131,116768,34538704,3.15,6.94,2020]
[3335,"Metalworking machinery manufacturing",176572,5127157,10742933,61741,304125,28191665,3.15,6.94,2020]
[33351,"Metalworking machinery manufacturing",176572,5127157,10742933,61741,304125,28191665,3.15,6.94,2020]
[333511,"Industrial mold manufacturing",46885,1302753,2035749,13998,85771,5885948,3.15,6.94,2020]
[333514,"Special die and tool, die set, jig, and fixture manufacturing",55274,1708805,2945157,20254,99441,7753912,3.15,6.94,2020]
[333515,"Cutting tool and machine tool accessory manufacturing",31565,803694,1576193,12323,66117,4518574,3.15,6.94,2020]
[333517,"Machine tool manufacturing",29255,849784,2871966,9811,36972,6987042,3.15,6.94,2020]
[333519,"Rolling mill and other metalworking machinery manufacturing",13593,462122,1313867,5355,15825,3046189,3.15,6.94,2020]
[3336,"Engine, turbine, and power transmission equipment manufacturing",100084,2878312,19698899,45642,235927,36499826,3.15,6.94,2020]
[33361,"Engine, turbine, and power transmission equipment manufacturing",100084,2878312,19698899,45642,235927,36499826,3.15,6.94,2020]
[333611,"Turbine and turbine generator set units manufacturing",27161,935143,3688575,10107,65644,9377032,3.15,6.94,2020]
[333612,"Speed changer, industrial high-speed drive, and gear manufacturing",14104,410279,1403909,5528,27166,3048652,3.15,6.94,2020]
[333613,"Mechanical power transmission equipment manufacturing",18384,451333,1744638,8400,41595,4253341,3.15,6.94,2020]
[333618,"Other engine equipment manufacturing",40435,1081556,12861778,21606,101522,19820800,3.15,6.94,2020]
[3339,"Other general purpose machinery manufacturing",328326,9606195,52206387,52206387,477080,101859161,3.15,6.94,2020]
[33391,"Pump and compressor manufacturing",55789,1788153,11942093,28243,109377,25272975,3.15,6.94,2020]
[333912,"Air and gas compressor manufacturing",19653,595871,4741729,7733,33649,8619309,3.15,6.94,2020]
[333914,"Measuring, dispensing, and other pumping equipment manufacturing",36135,1192282,7200364,20510,75728,16653667,3.15,6.94,2020]
[33392,"Material handling equipment manufacturing",108450,3032755,17401658,41690,116994,30409624,3.15,6.94,2020]
[333921,"Elevator and moving stairway manufacturing",10434,240562,1971992,4288,12252,3413964,3.15,6.94,2020]
[333922,"Conveyor and conveying equipment manufacturing",38012,1128958,5031546,13271,48561,9805953,3.15,6.94,2020]
[333923,"Overhead traveling crane, hoist, and monorail system manufacturing",26908,786737,4047545,13892,18390,7582325,3.15,6.94,2020]
[333924,"Industrial truck, trailer, and stacker machinery manufacturing",33096,876498,6350575,10239,37791,9607382,3.15,6.94,2020]
[33399,"All other general purpose machinery manufacturing",164087,4785287,22862636,63630,250709,46176562,3.15,6.94,2020]
[333991,"Power-driven handtool manufacturing",6298,214003,1898599,1908,14042,3520358,3.15,6.94,2020]
[333992,"Welding and soldering equipment manufacturing",14970,530721,2735319,10192,29456,4932371,3.15,6.94,2020]
[333993,"Packaging machinery manufacturing",23772,661178,3925518,6454,22708,7429275,3.15,6.94,2020]
[333994,"Industrial process furnace and oven manufacturing",10801,298282,1151652,3511,14628,2373814,3.15,6.94,2020]
[333995,"Fluid power cylinder and actuator manufacturing",28356,888794,2882902,6498,38313,6245344,3.15,6.94,2020]
[333996,"Fluid power pump and motor manufacturing",13527,384031,2127700,6306,24541,3962823,3.15,6.94,2020]
[333997,"Scale and balance manufacturing",2925,70032,615398,1127,4517,980933,3.15,6.94,2020]
[333999,"All other miscellaneous general purpose machinery manufacturing",63438,1738247,7525548,27634,102504,16731645,3.15,6.94,2020]
[334,"Computer and electronic product manufacturing",685932,21145174,136373440,422530,3002492,312276589,4.03,10,2020]
[3341,"Computer and peripheral equipment manufacturing",26571,701718,10443233,11536,78216,19270227,2.5499999999999998,8.61,2020]
[33411,"Computer and peripheral equipment manufacturing",26571,701718,10443233,11536,78216,19270227,2.5499999999999998,8.61,2020]
[334111,"Electronic computer manufacturing",9726,265964,6281226,"NA",35494,8636575,2.5499999999999998,8.61,2020]
[334112,"Computer storage device manufacturing",4705,127142,2153589,"NA",28596,5468917,2.5499999999999998,8.61,2020]
[334118,"Computer terminal and other computer peripheral equipment manufacturing",12140,308612,2008418,3363,14125,5164735,2.5499999999999998,8.61,2020]
[3342,"Communications equipment manufacturing",60679,2200867,17475829,18283,115371,34753292,2.42,14.48,2020]
[33421,"Telephone apparatus manufacturing",6881,218787,2517764,3329,22985,4232331,2.42,14.48,2020]
[334210,"Telephone apparatus manufacturing",6881,218787,2517764,3329,22985,4232331,2.42,14.48,2020]
[33422,"Radio and television broadcasting and wireless communications equipment manufacturing",44921,1758980,13479123,12191,82990,26507539,2.42,14.48,2020]
[334220,"Radio and television broadcasting and wireless communications equipment manufacturing",44921,1758980,13479123,12191,82990,26507539,2.42,14.48,2020]
[33429,"Other communications equipment manufacturing",8877,223099,1478943,2764,9396,4013422,2.42,14.48,2020]
[334290,"Other communications equipment manufacturing",8877,223099,1478943,2764,9396,4013422,2.42,14.48,2020]
[3343,"Audio and video equipment manufacturing",10906,216858,1442485,2942,9906,3238350,5.73,9.59,2020]
[33431,"Audio and video equipment manufacturing",10906,216858,1442485,2942,9906,3238350,5.73,9.59,2020]
[334310,"Audio and video equipment manufacturing",10906,216858,1442485,2942,9906,3238350,5.73,9.59,2020]
[3344,"Semiconductor and other electronic component manufacturing",290630,8877446,48661776,186610,2175743,100157593,5.73,9.59,2020]
[33441,"Semiconductor and other electronic component manufacturing",290630,8877446,48661776,186610,2175743,100157593,5.73,9.59,2020]
[334412,"Bare printed circuit board manufacturing",30854,792543,1806926,12468,61018,4385339,5.73,9.59,2020]
[334413,"Semiconductor and related device manufacturing",93569,4110069,23248656,132307,1899468,53605642,5.73,9.59,2020]
[334416,"Capacitor, resistor, coil, transformer, and other inductor manufacturing",24290,528004,1853094,5250,29135,3933133,5.73,9.59,2020]
[334417,"Electronic connector manufacturing",22238,644071,2538453,4901,37719,5571691,5.73,9.59,2020]
[334418,"Printed circuit assembly (electronic assembly) manufacturing",56489,1217676,14117857,14308,67960,20048966,5.73,9.59,2020]
[334419,"Other electronic component manufacturing",63191,1585083,5096790,17376,80443,12612822,5.73,9.59,2020]
[3345,"Navigational, measuring, electromedical, and control instruments manufacturing",290862,8990894,57916889,200052,612714,153837791,5.73,9.59,2020]
[33451,"Navigational, measuring, electromedical, and control instruments manufacturing",290862,8990894,57916889,200052,612714,153837791,5.73,9.59,2020]
[334510,"Electromedical and electrotherapeutic apparatus manufacturing",67896,2055205,13020956,24065,93506,35459847,5.73,9.59,2020]
[334511,"Search, detection, navigation, guidance, aeronautical, and nautical system and instrument manufacturing",80024,2978663,20401947,109227,225588,55713523,5.73,9.59,2020]
[334512,"Automatic environmental control manufacturing for residential, commercial, and appliance use",8760,190258,1116591,3968,9380,2496210,5.73,9.59,2020]
[334513,"Instruments and related products manufacturing for measuring, displaying, and controlling industrial process variables",28046,739583,3689113,6837,36382,10362362,5.73,9.59,2020]
[334514,"Totalizing fluid meter and counting device manufacturing",11969,268890,2111377,7010,21704,4400232,5.73,9.59,2020]
[334515,"Instrument manufacturing for measuring and testing electricity and electrical systems",20131,658366,3953392,13218,46014,10646306,5.73,9.59,2020]
[334516,"Analytical laboratory instrument manufacturing",35042,940527,5609402,18457,86020,15374916,5.73,9.59,2020]
[334517,"Irradiation apparatus manufacturing",10259,380298,3351654,6866,45572,8355906,5.73,9.59,2020]
[334519,"Other measuring and controlling device manufacturing",28735,779104,4662457,10403,48547,11028490,5.73,9.59,2020]
[3346,"Manufacturing and reproducing magnetic and optical media",6284,157391,433228,3106,10542,1019337,5.73,9.59,2020]
[33461,"Manufacturing and reproducing magnetic and optical media",6284,157391,433228,3106,10542,1019337,5.73,9.59,2020]
[334613,"Blank magnetic and optical recording media manufacturing",463,13076,"NA",219,"NA",260981,5.73,9.59,2020]
[334614,"Software and other prerecorded compact disc, tape, and record reproducing",5821,144314,"NA",2887,"NA",758355,5.73,9.59,2020]
[335,"Electrical equipment, appliance, and component manufacturing",423639,10583220,63984456,231506,696695,128341504,3.09,6.51,2020]
[3351,"Electric lighting equipment manufacturing",38224,858833,5548271,21179,51180,12128140,3.09,6.51,2020]
[33511,"Electric lamp bulb and part manufacturing",3349,101764,541657,3725,5741,1094370,3.09,6.51,2020]
[335110,"Electric lamp bulb and part manufacturing",3349,101764,541657,3725,5741,1094370,3.09,6.51,2020]
[33512,"Lighting fixture manufacturing",34875,757069,5006614,17454,45439,11033770,3.09,6.51,2020]
[335121,"Residential electric lighting fixture manufacturing",6399,134443,860716,5697,7687,1920532,3.09,6.51,2020]
[335122,"Commercial, industrial, and institutional electric lighting fixture manufacturing",16600,366362,2215447,6634,21814,4693544,3.09,6.51,2020]
[335129,"Other lighting equipment manufacturing",11876,256263,1930450,5122,15938,4419694,3.09,6.51,2020]
[3352,"Household appliance manufacturing",85213,2005602,12600289,21477,95428,25137430,3.09,6.51,2020]
[33521,"Small electrical appliance manufacturing",13341,254050,1888830,2055,10750,3704040,3.09,6.51,2020]
[335210,"Small electrical appliance manufacturing",13341,254050,1888830,2055,10750,3704040,3.09,6.51,2020]
[33522,"Major household appliance manufacturing",71872,1751552,10711459,19422,84678,21433390,3.09,6.51,2020]
[335220,"Major household appliance manufacturing",71872,1751552,10711459,19422,84678,21433390,3.09,6.51,2020]
[3353,"Electrical equipment manufacturing",132407,3417589,20594345,50999,158733,40154354,3.09,6.51,2020]
[33531,"Electrical equipment manufacturing",132407,3417589,20594345,50999,158733,40154354,3.09,6.51,2020]
[335311,"Power, distribution, and specialty transformer manufacturing",29600,666765,2841861,16991,39035,5893522,3.09,6.51,2020]
[335312,"Motor and generator manufacturing",32591,896270,6549151,14218,52369,10998139,3.09,6.51,2020]
[335313,"Switchgear and switchboard apparatus manufacturing",37942,939572,6328014,13270,32795,13261770,3.09,6.51,2020]
[335314,"Relay and industrial control manufacturing",32274,914982,4875319,6520,34534,10000923,3.09,6.51,2020]
[3359,"Other electrical equipment and component manufacturing",167795,4301196,25241551,137851,391354,50921581,3.09,6.51,2020]
[33591,"Battery manufacturing",36943,986606,4917806,57465,83316,8961225,3.09,6.51,2020]
[335911,"Storage battery manufacturing",28460,712046,3401926,53834,57006,6318837,3.09,6.51,2020]
[335912,"Primary battery manufacturing",8482,274560,1515880,3630,26310,2642388,3.09,6.51,2020]
[33592,"Communication and energy wire and cable manufacturing",32074,786095,7289209,9348,77187,11735176,3.09,6.51,2020]
[335921,"Fiber optic cable manufacturing",8279,210557,1761162,2795,16566,3263567,3.09,6.51,2020]
[335929,"Other communication and energy wire manufacturing",23795,575538,5528047,6553,60621,8471609,3.09,6.51,2020]
[33593,"Wiring device manufacturing",48415,1141915,5711396,24479,93998,13685008,3.09,6.51,2020]
[335931,"Current-carrying wiring device manufacturing",28893,652755,3258302,9631,50047,7617071,3.09,6.51,2020]
[335932,"Noncurrent-carrying wiring device manufacturing",19522,489160,2453094,14848,43951,6067937,3.09,6.51,2020]
[33599,"All other electrical equipment and component manufacturing",50363,1386581,7323140,46559,136853,16540171,3.09,6.51,2020]
[335991,"Carbon and graphite product manufacturing",13090,369620,1672076,31576,74132,3680767,3.09,6.51,2020]
[335999,"All other miscellaneous electrical equipment and component manufacturing",37272,1016961,5651065,14983,62722,12859404,3.09,6.51,2020]
[336,"Transportation equipment manufacturing",1903151,60958769,542580947,878260,3217436,821412329,2.99,2.66,2020]
[3361,"Motor vehicle manufacturing",285475,11426157,232567008,192084,523512,301957889,3.17,0.51,2020]
[33611,"Automobile and light duty motor vehicle manufacturing",247988,10235484,217239781,"NA",490791,280523574,3.17,0.51,2020]
[336111,"Automobile manufacturing",82747,3504046,71540533,"NA",206661,87118179,3.17,0.51,2020]
[336112,"Light truck and utility vehicle manufacturing",165241,6731438,145699248,"NA",284130,193405395,3.17,0.51,2020]
[33612,"Heavy duty truck manufacturing",37487,1190673,15327227,"NA",32721,21434315,3.17,0.51,2020]
[336120,"Heavy duty truck manufacturing",37487,1190673,15327227,"NA",32721,21434315,3.17,0.51,2020]
[3362,"Motor vehicle body and trailer manufacturing",209528,5626136,30891741,56694,140499,47490014,3.17,0.51,2020]
[33621,"Motor vehicle body and trailer manufacturing",209528,5626136,30891741,56694,140499,47490014,3.17,0.51,2020]
[336211,"Motor vehicle body manufacturing",61865,1614437,8749328,24373,48961,14532401,3.17,0.51,2020]
[336212,"Truck trailer manufacturing",49370,1179009,6470296,11994,39390,9899698,3.17,0.51,2020]
[336213,"Motor home manufacturing",13013,319169,2839441,3412,9605,3947071,3.17,0.51,2020]
[336214,"Travel trailer and camper manufacturing",85280,2513521,12832676,16915,42542,19110844,3.17,0.51,2020]
[3363,"Motor vehicle parts manufacturing",740517,19381657,148945599,340819,1450250,223171289,3.17,0.51,2020]
[33631,"Motor vehicle gasoline engine and engine parts manufacturing",96801,2793907,23249750,34625,213691,34117917,3.17,0.51,2020]
[336310,"Motor vehicle gasoline engine and engine parts manufacturing",96801,2793907,23249750,34625,213691,34117917,3.17,0.51,2020]
[33632,"Motor vehicle electrical and electronic equipment manufacturing",72225,1611369,12781330,16532,115887,20709756,3.17,0.51,2020]
[336320,"Motor vehicle electrical and electronic equipment manufacturing",72225,1611369,12781330,16532,115887,20709756,3.17,0.51,2020]
[33633,"Motor vehicle steering and suspension components (except spring) manufacturing",41970,985106,9023908,30399,88076,13003423,3.17,0.51,2020]
[336330,"Motor vehicle steering and suspension components (except spring) manufacturing",41970,985106,9023908,30399,88076,13003423,3.17,0.51,2020]
[33634,"Motor vehicle brake system manufacturing",24375,602638,5545019,11182,81559,8697261,3.17,0.51,2020]
[336340,"Motor vehicle brake system manufacturing",24375,602638,5545019,11182,81559,8697261,3.17,0.51,2020]
[33635,"Motor vehicle transmission and power train parts manufacturing",99095,2971165,25026032,56624,245729,36752028,3.17,0.51,2020]
[336350,"Motor vehicle transmission and power train parts manufacturing",99095,2971165,25026032,56624,245729,36752028,3.17,0.51,2020]
[33636,"Motor vehicle seating and interior trim manufacturing",88005,2217487,17756022,27378,122632,25037877,3.17,0.51,2020]
[336360,"Motor vehicle seating and interior trim manufacturing",88005,2217487,17756022,27378,122632,25037877,3.17,0.51,2020]
[33637,"Motor vehicle metal stamping",133721,3572119,18932837,60654,250909,30075436,3.17,0.51,2020]
[336370,"Motor vehicle metal stamping",133721,3572119,18932837,60654,250909,30075436,3.17,0.51,2020]
[33639,"Other motor vehicle parts manufacturing",184325,4627867,36630701,103427,331767,54777590,3.17,0.51,2020]
[336390,"Other motor vehicle parts manufacturing",184325,4627867,36630701,103427,331767,54777590,3.17,0.51,2020]
[3364,"Aerospace product and parts manufacturing",429050,17631820,94017263,180746,746230,182290774,2.8,5.7,2020]
[33641,"Aerospace product and parts manufacturing",429050,17631820,94017263,180746,746230,182290774,2.8,5.7,2020]
[336411,"Aircraft manufacturing",165552,7277809,47681221,45830,177009,88765120,2.8,5.7,2020]
[336412,"Aircraft engine and engine parts manufacturing",93265,3548913,14297515,41930,152287,35268970,2.8,5.7,2020]
[336413,"Other aircraft parts and auxiliary equipment manufacturing",110328,4024472,13702254,63776,256139,25996693,2.8,5.7,2020]
[336414,"Guided missile and space vehicle manufacturing",32294,1720267,12119883,"NA",124474,22026992,2.8,5.7,2020]
[336415,"Guided missile and space vehicle propulsion unit and propulsion unit parts manufacturing",22089,879999,5363080,"NA",26932,8623471,2.8,5.7,2020]
[336419,"Other guided missile and space vehicle parts and auxiliary equipment manufacturing",5524,180361,853309,2407,9389,1609528,2.8,5.7,2020]
[3365,"Railroad rolling stock manufacturing",36008,1035631,6201293,22137,46668,9163065,"  ",5.7,2020]
[33651,"Railroad rolling stock manufacturing",36008,1035631,6201293,22137,46668,9163065,2.8,5.7,2020]
[336510,"Railroad rolling stock manufacturing",36008,1035631,6201293,22137,46668,9163065,2.8,5.7,2020]
[3366,"Ship and boat building",161560,4740124,18640248,56746,245991,38418677,2.8,5.7,2020]
[33661,"Ship and boat building",161560,4740124,18640248,56746,245991,38418677,2.8,5.7,2020]
[336611,"Ship building and repairing",111199,3533755,12708188,39592,199342,27895963,2.8,5.7,2020]
[336612,"Boat building",50361,1206368,5932060,17154,46649,10522714,2.8,5.7,2020]
[3369,"Other transportation equipment manufacturing",41012,1117244,11317796,29034,64287,18920621,2.8,5.7,2020]
[33699,"Other transportation equipment manufacturing",41012,1117244,11317796,29034,64287,18920621,2.8,5.7,2020]
[336991,"Motorcycle, bicycle, and parts manufacturing",11085,236629,2239957,8519,17363,4611312,2.8,5.7,2020]
[336992,"Military armored vehicle, tank, and tank component manufacturing",14320,444874,3423872,12787,17084,6584295,2.8,5.7,2020]
[336999,"All other transportation equipment manufacturing",15607,435742,5653966,7728,29840,7725014,2.8,5.7,2020]
[337,"Furniture and related product manufacturing",482225,9824302,31366566,152190,427009,68998948,2.44,8.82,2020]
[3371,"Household and institutional furniture and kitchen cabinet manufacturing",287269,5705282,16500571,77596,237575,35758914,2.44,8.82,2020]
[33711,"Wood kitchen cabinet and countertop manufacturing",127030,2568731,5820841,40282,115432,14616426,2.44,8.82,2020]
[337110,"Wood kitchen cabinet and countertop manufacturing",127030,2568731,5820841,40282,115432,14616426,2.44,8.82,2020]
[33712,"Household and institutional furniture manufacturing",160239,3136550,10679730,37314,122143,21142488,2.44,8.82,2020]
[337121,"Upholstered household furniture manufacturing",88083,1718818,5384151,8754,41259,10444168,2.44,8.82,2020]
[337122,"Nonupholstered wood household furniture manufacturing",28437,526485,1497983,9340,29111,3111436,2.44,8.82,2020]
[337124,"Metal household furniture manufacturing",13413,242685,1114691,7095,9613,2190147,2.44,8.82,2020]
[337125,"Household furniture (except wood and metal) manufacturing",4050,81303,666862,2415,9091,1165155,2.44,8.82,2020]
[337127,"Institutional furniture manufacturing",26256,567260,2016043,9709,33069,4231582,2.44,8.82,2020]
[3372,"Office furniture (including fixtures) manufacturing",151262,3286753,9965067,66774,163853,23952769,2.44,8.82,2020]
[33721,"Office furniture (including fixtures) manufacturing",151262,3286753,9965067,66774,163853,23952769,2.44,8.82,2020]
[337211,"Wood office furniture manufacturing",19186,368846,950875,6594,19636,2514951,2.44,8.82,2020]
[337212,"Custom architectural woodwork and millwork manufacturing",52719,1209827,3063727,23983,53062,7712263,2.44,8.82,2020]
[337214,"Office furniture (except wood) manufacturing",38900,873984,3190275,12017,32871,7364468,2.44,8.82,2020]
[337215,"Showcase, partition, shelving, and locker manufacturing",40457,834095,2760191,24181,58284,6361087,2.44,8.82,2020]
[3379,"Other furniture related product manufacturing",43694,832267,4900927,7820,25581,9287265,2.44,8.82,2020]
[33791,"Mattress manufacturing",30681,572501,3821317,5542,14974,7029938,2.44,8.82,2020]
[337910,"Mattress manufacturing",30681,572501,3821317,5542,14974,7029938,2.44,8.82,2020]
[33792,"Blind and shade manufacturing",13013,259766,1079610,2278,10607,2257328,2.44,8.82,2020]
[337920,"Blind and shade manufacturing",13013,259766,1079610,2278,10607,2257328,2.44,8.82,2020]
[339,"Miscellaneous manufacturing",605635,13443680,55287789,198612,706739,146474543,3.61,9.0299999999999994,2020]
[3391,"Medical equipment and supplies manufacturing",316041,7289817,30299402,66898,368946,87691868,3.61,9.0299999999999994,2020]
[33911,"Medical equipment and supplies manufacturing",316041,7289817,30299402,66898,368946,87691868,3.61,9.0299999999999994,2020]
[339112,"Surgical and medical instrument manufacturing",137580,3148498,12167238,29917,167559,36271376,3.61,9.0299999999999994,2020]
[339113,"Surgical appliance and supplies manufacturing",87987,2036900,13181563,23193,108265,35733981,3.61,9.0299999999999994,2020]
[339114,"Dental equipment and supplies manufacturing",13727,333901,1251063,1591,17188,4260010,3.61,9.0299999999999994,2020]
[339115,"Ophthalmic goods manufacturing",27094,583769,2551243,4314,56521,6365592,3.61,9.0299999999999994,2020]
[339116,"Dental laboratories",49653,1186750,1148294,7882,19412,5060910,3.61,9.0299999999999994,2020]
[3399,"Other miscellaneous manufacturing",289595,6153863,24988387,131714,337794,58782675,3.61,9.0299999999999994,2020]
[33991,"Jewelry and silverware manufacturing",21074,433165,3149287,6872,17553,6199800,3.61,9.0299999999999994,2020]
[339910,"Jewelry and silverware manufacturing",21074,433165,3149287,6872,17553,6199800,3.61,9.0299999999999994,2020]
[33992,"Sporting and athletic goods manufacturing",40050,806174,4606131,33150,69850,10858780,3.61,9.0299999999999994,2020]
[339920,"Sporting and athletic goods manufacturing",40050,806174,4606131,33150,69850,10858780,3.61,9.0299999999999994,2020]
[33993,"Doll, toy, and game manufacturing",7140,164699,770272,3477,9194,1364837,3.61,9.0299999999999994,2020]
[339930,"Doll, toy, and game manufacturing",7140,164699,770272,3477,9194,1364837,3.61,9.0299999999999994,2020]
[33994,"Office supplies (except paper) manufacturing",11889,239540,1652656,4566,15937,3185858,3.61,9.0299999999999994,2020]
[339940,"Office supplies (except paper) manufacturing",11889,239540,1652656,4566,15937,3185858,3.61,9.0299999999999994,2020]
[33995,"Sign manufacturing",76332,1658203,4732739,21141,57792,11680366,3.61,9.0299999999999994,2020]
[339950,"Sign manufacturing",76332,1658203,4732739,21141,57792,11680366,3.61,9.0299999999999994,2020]
[33999,"All other miscellaneous manufacturing",133109,2852083,10077302,62509,167467,25493035,3.61,9.0299999999999994,2020]
[339991,"Gasket, packing, and sealing device manufacturing",36008,803672,2549782,22425,67822,6130335,3.61,9.0299999999999994,2020]
[339992,"Musical instrument manufacturing",15399,333039,625142,6522,16200,1983177,3.61,9.0299999999999994,2020]
[339993,"Fastener, button, needle, and pin manufacturing",4057,87020,312837,4367,11561,738578,3.61,9.0299999999999994,2020]
[339994,"Broom, brush, and mop manufacturing",12978,241238,1241381,1865,17147,2791394,3.61,9.0299999999999994,2020]
[339995,"Burial casket manufacturing",3773,76682,298355,6127,6685,630660,3.61,9.0299999999999994,2020]
[339999,"All other miscellaneous manufacturing",60893,1310432,5049805,21205,48051,13218892,3.61,9.0299999999999994,2020]

{"sheet":"NAICScostComparisons","index":164,"n_rows":9,"n_cols":17,"rows_kept":9,"cut":false,"hidden":false,"merged":[]}
[]
["31-33 Manufacturing"]
[null,2005,2006,2007,2008,2009,2010,2011,2012,2013,2014,2015,2016,2017,2018,2019,2020]
["Variable Costs (must total 100%)",1,1,"NAICS\n31-33",1,1,1,1,"NAICS\n31-33",1,1,1,1,1,1,1,1]
["Direct Materials",0.57440000000000002,0.58389999999999997,"is not",0.61909999999999998,0.57920000000000005,0.60850000000000004,0.6331,"is not",0.63529999999999998,0.63939999999999997,0.60719999999999996,0.59440000000000004,0.6038,0.60660000000000003,0.59799999999999998,0.58150000000000002]
["Direct Labor",7.5899999999999995E-2,7.3400000000000007E-2,"available",6.6299999999999998E-2,6.9599999999999995E-2,6.5500000000000003E-2,6.13E-2,"available",6.2600000000000003E-2,6.4399999999999999E-2,7.0300000000000001E-2,7.3700000000000002E-2,7.4999999999999997E-2,7.46E-2,7.7200000000000005E-2,8.2199999999999995E-2]
["Variable Overhead",0.34970000000000001,0.34260000000000002,"for this",0.31459999999999999,0.35120000000000001,0.32600000000000001,0.30559999999999998,"for this",0.30220000000000002,0.29630000000000001,0.32250000000000001,0.33189999999999997,0.32119999999999999,0.31879999999999997,0.32479999999999998,0.33629999999999999]
["Fixed Costs  ",2.9000000000000001E-2,2.76E-2,"year",2.7E-2,3.39E-2,2.9100000000000001E-2,2.5600000000000001E-2,"year",2.64E-2,2.7199999999999998E-2,3.04E-2,3.2000000000000001E-2,3.1399999999999997E-2,0.03,2.4400000000000002E-2,3.7900000000000003E-2]
["Operating Income ",6.5000000000000002E-2,7.0800000000000002E-2,0,5.6000000000000001E-2,5.5100000000000003E-2,7.2900000000000006E-2,7.4300000000000005E-2,0,7.4399999999999994E-2,7.8399999999999997E-2,8.0399999999999999E-2,8.1600000000000006E-2,8.09E-2,8.2400000000000001E-2,7.7600000000000002E-2,7.1599999999999997E-2]

{"sheet":"EnergyCostComparisons","index":169,"n_rows":9,"n_cols":17,"rows_kept":9,"cut":false,"hidden":false,"merged":[[8,0,8,4]]}
[]
["325211 Plastics material and resin manufacturing"]
[null,2005,2006,2007,2008,2009,2010,2011,2012,2013,2014,2015,2016,2017,2018,2019,2020]
["Fuels Consumed",3.2394261383547895E-2,2.6056230952345657E-2,2.3487267073585456E-2,2.5630544959086333E-2,1.9540532948247587E-2,1.8267334179674594E-2,1.604375031554538E-2,1.249428785699579E-2,1.6448640907466412E-2,1.7643439511219151E-2,1.5485471070719932E-2,1.7424563416768582E-2,1.7679462652404384E-2,1.7286971934185151E-2,1.8801759998665908E-2,1.6023168889032456E-2]
["Electricity",1.9411423606330313E-2,1.8151410489299174E-2,1.9262741623307839E-2,2.1978747522225783E-2,1.9562941649917238E-2,1.7077242096379671E-2,1.6192248460109266E-2,1.4094303762649625E-2,1.3775349807197043E-2,1.5371950387712739E-2,1.8819595875831117E-2,2.0631321284204703E-2,1.8323943658849193E-2,1.7425091267771229E-2,2.0507417886035478E-2,1.8294298910921034E-2]
["Fuels & Electricity",5.1805684989878212E-2,4.4207641441644831E-2,4.2750008696893299E-2,4.7609292481312113E-2,3.9103474598164822E-2,3.5344576276054265E-2,3.2235998775654646E-2,2.6588591619645413E-2,3.0223990714663453E-2,3.3015389898931893E-2,3.4305066946551048E-2,3.8055884700973285E-2,3.600340631125358E-2,3.4712063201956384E-2,3.9309177884701382E-2,3.431746779995349E-2]
[]
[]
["*The cost of fuels purchased for generation of heat or power excludes fuels that may be used as materials for production (e.g., natural gas feedstock for petrochemical production.\n"]